{"text_format":"1","workbook":"xlsx","n_sheets":48,"sheets":["Start","1. Sector","2. Description","3. Query","4. Data","5. TNC Parameters","5. UD1 Parameters","5. UD2 Parameters","6. TNC Assumptions","6. UD1 Assumptions","6. UD2 Assumptions","7. Calculations","ChartPlotLegend","RadarPlot","DiffPlot","Report","...","LIST","TNC CropScenarios","ChartPlot","UD1 CropScenarios","UD2 CropScenarios","All TNC Plots","All UD1 Plots","All UD2 Plots","ChartRadar","ChartDiff","Diff","Radar Ratio","DirN2OManSoilPol","MMS","LE","LCH4","LN2O","LSc","MST","LH","LO","L6","L7","L8","L9","L10","L11","L12","L13","CH4 Ef","N2OEf"],"not_rendered":{"charts":13,"images":26,"macros":1,"external_links":0,"defined_names":19,"comments":6,"pivot_tables":0},"unopened":[{"sheet":"ChartPlot","index":19,"reason":"not_a_worksheet"},{"sheet":"ChartRadar","index":25,"reason":"not_a_worksheet"},{"sheet":"ChartDiff","index":26,"reason":"not_a_worksheet"}],"bounds":{"document_bytes":16777216,"sheet_cells":100000,"rows_first":2000,"rows_last":500,"rows_between":2000,"halvings":0,"cell_chars":16384,"cell_head_chars":4096},"cells_cut":0,"cells_raw":0,"read":"whole","date_system":"1900"}

{"sheet":"Start","index":0,"n_rows":14,"n_cols":17,"rows_kept":14,"cut":false,"hidden":false,"merged":[[11,2,11,14],[13,2,13,14]]}
["Start",null,"Excel Toolkit for Mitigation Analysis for Low-Carbon Development Planning ",null,null,null,null,null,null,null,null,null,null,null,null,null,"XLMT-Agricultural Crop v17.1"]
[]
[]
[]
[]
[]
[]
[]
[]
[]
[null,null,"Disclaimer"]
[null,null,"Data used has been obtained from reliable sources. The Ministry of Social Security, National Solidarity, and Environment and Sustainable Development (Environment and Sustainable Development Division) assumes no responsibility for errors and omissions in the data provided. Users are, however, kindly asked to report any errors or deficiencies in this product to the Ministry. The choices of calculation made in this tool are derived from TNC Report (2016).   "]
[null,null,"©2017 Government of Mauritius and United Nations Environment Programme"]
[null,null,"All rights reserved. No part of this Guideline and/or Toolkit may be produced, stored in a retrieval system or transmitted, in any form or by any means, electronic, mechanical, photocopying, recording or otherwise without prior permission from the Ministry of Social Security, National Solidarity, and Environment and Sustainable Development (Environment and Sustainable Development Division) and the United Nations Environment Programme. Results based on the use of the Toolkit must be duly acknowledged and referenced; the copyright holder’s endorsement of Users' views, products or services shall not be implied in any way."]

{"sheet":"1. Sector","index":1,"n_rows":7,"n_cols":10,"rows_kept":7,"cut":false,"hidden":false,"merged":[[2,4,2,9]]}
["Sector",null,"Excel Toolkit for Mitigation Analysis for Low-Carbon Development Planning ",null,null,null,null,null,null,"XLMT-Agricultural Crop v17.1"]
[null,null,null,null," ",null," "]
[null,null,null,null,"Contact Details of Registered Users"]
[null,null,null,null,"STAKEHOLDER USER GROUP",null,"Name","Email","Phone Number","Address"]
[null,null,null,"Chair:","FAREI",null,"Mr Alfaz Atawoo","alfazatawoo@hotmail.com",6708249,"Wooton Crop Research Station, Wooton"]
[null,null,null,"Members:","FAREI",null,"Ram Vencatasamy ","rmd@farei.mu",6708249,"Wooton Crop Research Station, Wooton"]
[null,null,null,null,"FAREI",null,"Mrs R Dumur","rmd@farei.mu",6708249,"Wooton Crop Research Station, Wooton"]

{"sheet":"2. Description","index":2,"n_rows":9,"n_cols":10,"rows_kept":9,"cut":false,"hidden":false,"merged":[[5,2,5,3],[5,4,5,7],[5,8,5,9],[8,2,8,3],[8,4,8,7],[8,8,8,9],[6,2,6,3],[6,4,6,7],[6,8,6,9],[7,2,7,3],[7,4,7,7],[7,8,7,9],[2,1,2,9],[3,1,3,3],[3,4,3,7],[3,8,3,9],[4,2,4,3],[4,4,4,7],[4,8,4,9]]}
["Description",null,null,null,"Excel Toolkit for Mitigation Analysis for Low-Carbon Development Planning ",null,null,null,null,"XLMT-Agricultural Crop v17.1"]
[]
[null,"Mitigation actions modelled to reduce GHG emissions in land transport (source:  TNC, 2016)"]
[null,"Scenarios",null,null,"TNC Assumptions",null,null,null,"Expected GHG reductions (GgCO2e)"]
[null,"BAU","Business-As-Usual",null,null,null,null,null,"BAU GHG Emissions: \n2020: 109;  2030: 110;  2040: 111; 2050: 112;   "]
[null,"SC1","Decreasing sugar cane field burning ",null,"Decrease from its present level of 10% of total area cultivated to 8% between 2020 and 2030; 7% in 2035; 6% in 2040; and to 5% in 2050. ",null,null,null,"Relative to BAU, emissions reductions of:  \n2020: 0.4;  2030: 0.4; 2040: 0.8; 2050: 0.8;"]
[null,"SC2","Reduction in the use of N-containing chemical fertilizers ",null," It is assumed that the reduction starts in 2016 at a meagre 1% of the baseline value in 2015, and decreases by 1% absolute per year until 2020. After 2020, the annual decrease is an absolute 2% to reach 25% in 2030. Thereafter, the decrease is 5% every 5 years. This scenario is shown by the curve in dark red, and accounts for direct N2O emissions only. ",null,null,null,"Relative to BAU, emissions reductions of:  \n2020: 2.7;  2030: 13.4; 2040: 18.8; 2050: 24.1;"]
[null,"SC3","Bio-farming scenario ",null,"Since it is unlikely that the use of chemical fertilizers will be reduced without any substitution, this scenario has been developed for investigating the co-use of compost produced from MSW in food crop cultivation. This scenario (lighter blue curve) (Fig. 4.1) increases emissions relative to scenario (b) due to the release of N2O from the compost. This scenario also includes the increase in manure applied to soil with increasing livestock heads to enhance food security under the policy option. The curve shows the combined effect of reduced use of chemical fertilizers and use of compost, including the calculation of both direct and indirect N2O generation.",null,null,null,"Relative to BAU, emissions reductions of:  \n2020: 1.4;  2030: 8.8; 2040: 10.2; 2050: 10.0;"]
[null,"SC4","Cumulative",null,"SC1 to SC3 combined",null,null,null,"Relative to BAU, emissions reductions of:  \n2020: 1.8;  2030: 9.2; 2040: 11.0; 2050: 10.8;"]

{"sheet":"3. Query","index":3,"n_rows":3,"n_cols":15,"rows_kept":3,"cut":false,"hidden":false,"merged":[[2,1,2,10]]}
["QUERY",null,null,"Excel Toolkit for Mitigation Analysis for Low-Carbon Development Planning ",null,null,null,null,null,null,null,null,null,null,"XLMT-Agricultural Crop v17.1"]
[]
[null,"Users can analyze their results after inputting their parameters (if required) and new assumptions.\n\nThe number of cases of User-defined scenarios that can be made, in addition to the TNC scenarios (labelled TNC), has been limited to two (labelled UD1 and UD2) for practical reasons.  \n\nUsers can visualize the impact of their assumptions and/or parameter changes made on a number of variables relevant to individual sectors including the Total CO2e emission. \n\nFull list of the variables relevant to individual sectors appear in in the individual user manuals.\n\nResults can be compared graphically or through tabular representations. \n\nRadar dashboards are provided to assess the extent of departure from the targeted annual values estimated by the original TNC studies.\n\nThe Toolkit has a pdf reporting system, which provides details of the project and the results of the investigations.  \n"]

{"sheet":"4. Data","index":4,"n_rows":33,"n_cols":17,"rows_kept":33,"cut":false,"hidden":false,"merged":[]}
["Data",null,"Excel Toolkit for Mitigation Analysis for Low-Carbon Development Planning ",null,null,null,null,null,null,null,null,null,null,null,null,null,"XLMT-Agriculture v17.1"]
[]
[]
[null,null,"Crop","Mixed cropping","Sugar Cane","Tea","Rice (upland)","Banana","Pineapple","Orchards (litchi, mango)","Greenhouse ?? ","Tobacco",null,null,"References"]
[null,null,2006,6521,70800,688,0,510,176,300,11,249,null,null,"Digest of Agricultural statistics 2010"]
[null,null,2007,6072,68520,709,0,464,204,300,12,252,null,null,"Digest of Agricultural statistics 2013"]
[null,null,2008,5536,65440,701,0,502,228,300,14,260,null,null,"2014 Census of Agriculture"]
[null,null,2009,6318,65850,713,0,494,271,300,15,210,null,null,"Fruit trees census 2011"]
[null,null,2010,6780,64130,698,0,542,248,300,16,213,null,null,"Acreage for sugarcane: Crop Bulletin of Chamber of Agriculture"]
[null,null,2011,6610,61730,651,120,497,377,300,24,222]
[null,null,2012,7121,57160,669,309,510,493,305,25,173]
[null,null,2013,7078,56464,672,304,501,610,310,26,2]
[null,null,2014,null,50694]
[null,null,2015,null,52387]
[null,null,2016,null,52000]
[null,null,2017,null,51000]
[null,null,2018,null,50500]
[null,null,2019,null,50000]
[null,null,2020,null,49500]
[null,null,2021,null,49000]
[null,null,2022,null,48500]
[null,null,2023,null,48000]
[null,null,2024,null,47500]
[null,null,2025,null,47000]
[null,null,2026,null,46500]
[null,null,2027,null,46000]
[null,null,2028,null,45500]
[null,null,2029,null,45250]
[null,null,2030,null,45000]
[null,null,2035,null,44000]
[null,null,2040,null,43000]
[null,null,2045,null,42000]
[null,null,2050,null,40000]

{"sheet":"5. TNC Parameters","index":5,"n_rows":28,"n_cols":15,"rows_kept":28,"cut":false,"hidden":false,"merged":[[9,1,9,3],[6,1,6,3],[26,1,26,5],[27,1,27,5],[2,1,2,5],[4,1,4,3],[5,1,5,3],[7,1,7,3],[8,1,8,3]]}
["TNC Parameters",null,null,"Excel Toolkit for Mitigation Analysis for Low-Carbon Development Planning ",null,null,null,null,null,null,null,null,null,null,"XLMT-Agriculture v17.1"]
[]
[null,"PARAMETERS",null,null,null,null,"TNC","CHAIR"]
[null,"Constants (controlled biomass burning - sugar cane fields)",null,null,null,null," "," "]
[null,"Parameter",null,null,"Symbol","Unit","Value","Value"]
[null,"Mass of fuel available for burning",null,null,"MB","t/ha",6.5,6.5]
[null,"Combustion factor",null,null,"Cf","dml",1,1]
[null,"Emission factor",null,null,"Gef","gGHG/(kg dm burnt)",2.7,2.7]
[null,"Global warming potential",null,null,"GWP","tCO2e/tCH4",25,25]
[null,"Fraction of available area burnt, 2006-2015",null,null,"Fb","dml",0.1,0.1]
[]
[null,"Emission factor",null,null,"EF","kgN2O-N/Kg N input",0.01,0.01]
[null,"Conversion factor",null,null,"Cf","kgN2O/kgN2O-N",1.5714285714285714,{"$f":"44/28","v":1.5714285714285714}]
[null,"Emission factor, cattle,poultry, pigs",null,null,"EF","kgN2O-N/Kg N input",0.02,0.02]
[null,"Emission factor, sheep & other",null,null,"EF","kgN2O-N/Kg N input",0.01,0.01]
[null,"Global warming potential",null,null,"GWP",null,298,298]
[]
[null,null,"fraction of synthetic fertiliser that volatilises",null,"Frac(GASF)","(kg NH3-N+Nox-N)/kg N",0.1,0.1]
[null,null,"fraction of organic or dung that volatilises",null,"Frac(GASM)","(kg NH3-N+Nox-N)/kg N",0.2,0.2]
[null,null,"fraction N leached",null,"Frac(LEACH)","kgN/Kg of N additions",0.3,0.3]
[null,null,"Conversion factor",null,"Cf","kgN2O/kgN2O-N",1.5714285714285714,{"$f":"44/28","v":1.5714285714285714}]
[null,null,"Global Warming Potential",null,"GWP(N2O)","(kg N2O)/(kg N2O-N)",298,298]
[null,null,"Emission factor leached",null,"EF-5","Kg N2O-N/kg N leached",7.4999999999999997E-3,7.4999999999999997E-3]
[null,null,"Emission factor volatilised",null,"EF-4","(kg N2O-N)/kg(NH3-N+Nox-N)",0.01,0.01]
[]
[null,"COMPOST"]
[null,"Organic waste to compost",null,null,null,null,0.5,0.5]
[null,"Nitrogen content in compost",null,null,null,null,1.7500000000000002E-2,1.7500000000000002E-2]

{"sheet":"5. UD1 Parameters","index":6,"n_rows":28,"n_cols":15,"rows_kept":28,"cut":false,"hidden":false,"merged":[[8,1,8,3],[9,1,9,3],[26,1,26,5],[27,1,27,5],[2,1,2,5],[4,1,4,3],[5,1,5,3],[6,1,6,3],[7,1,7,3]]}
["UD1 Parameters",null,null,"Excel Toolkit for Mitigation Analysis for Low-Carbon Development Planning ",null,null,null,null,null,null,null,null,null,null,"XLMT-Agriculture v17.1"]
[]
[null,"PARAMETERS",null,null,null,null,"TNC","USER UD1"]
[null,"Constants (controlled biomass burning - sugar cane fields)",null,null,null,null," "," "]
[null,"Parameter",null,null,"Symbol","Unit","Value","Value"]
[null,"Mass of fuel available for burning",null,null,"MB","t/ha",6.5,6.5]
[null,"Combustion factor",null,null,"Cf","dml",1,1]
[null,"Emission factor",null,null,"Gef","gGHG/(kg dm burnt)",2.7,2.7]
[null,"Global warming potential",null,null,"GWP","tCO2e/tCH4",25,25]
[null,"Fraction of available area burnt, 2006-2015",null,null,"Fb","dml",0.1,0.1]
[]
[null,"Emission factor",null,null,"EF","kgN2O-N/Kg N input",0.01,0.01]
[null,"Conversion factor",null,null,"Cf","kgN2O/kgN2O-N",1.5714285714285714,{"$f":"44/28","v":1.5714285714285714}]
[null,"Emission factor, cattle,poultry, pigs",null,null,"EF","kgN2O-N/Kg N input",0.02,0.02]
[null,"Emission factor, sheep & other",null,null,"EF","kgN2O-N/Kg N input",0.01,0.01]
[null,"Global warming potential",null,null,"GWP",null,298,298]
[]
[null,null,"fraction of synthetic fertiliser that volatilises",null,"Frac(GASF)","(kg NH3-N+Nox-N)/kg N",0.1,0.1]
[null,null,"fraction of organic or dung that volatilises",null,"Frac(GASM)","(kg NH3-N+Nox-N)/kg N",0.2,0.2]
[null,null,"fraction N leached",null,"Frac(LEACH)","kgN/Kg of N additions",0.3,0.3]
[null,null,"Conversion factor",null,"Cf","kgN2O/kgN2O-N",1.5714285714285714,{"$f":"44/28","v":1.5714285714285714}]
[null,null,"Global Warming Potential",null,"GWP(N2O)","(kg N2O)/(kg N2O-N)",298,298]
[null,null,"Emission factor leached",null,"EF-5","Kg N2O-N/kg N leached",7.4999999999999997E-3,7.4999999999999997E-3]
[null,null,"Emission factor volatilised",null,"EF-4","(kg N2O-N)/kg(NH3-N+Nox-N)",0.01,0.01]
[]
[null,"COMPOST"]
[null,"Organic waste to compost",null,null,null,null,0.5,0.5]
[null,"Nitrogen content in compost",null,null,null,null,1.7500000000000002E-2,1.7500000000000002E-2]

{"sheet":"5. UD2 Parameters","index":7,"n_rows":28,"n_cols":15,"rows_kept":28,"cut":false,"hidden":false,"merged":[[8,1,8,3],[9,1,9,3],[26,1,26,5],[27,1,27,5],[2,1,2,5],[4,1,4,3],[5,1,5,3],[6,1,6,3],[7,1,7,3]]}
["UD2 Parameters",null,null,"Excel Toolkit for Mitigation Analysis for Low-Carbon Development Planning ",null,null,null,null,null,null,null,null,null,null,"XLMT-Agriculture v17.1"]
[]
[null,"PARAMETERS",null,null,null,null,"TNC","USER UD2"]
[null,"Constants (controlled biomass burning - sugar cane fields)",null,null,null,null," "," "]
[null,"Parameter",null,null,"Symbol","Unit","Value","Value"]
[null,"Mass of fuel available for burning",null,null,"MB","t/ha",6.5,6.5]
[null,"Combustion factor",null,null,"Cf","dml",1,1]
[null,"Emission factor",null,null,"Gef","gGHG/(kg dm burnt)",2.7,2.7]
[null,"Global warming potential",null,null,"GWP","tCO2e/tCH4",25,25]
[null,"Fraction of available area burnt, 2006-2015",null,null,"Fb","dml",0.1,0.1]
[]
[null,"Emission factor",null,null,"EF","kgN2O-N/Kg N input",0.01,0.01]
[null,"Conversion factor",null,null,"Cf","kgN2O/kgN2O-N",1.5714285714285714,{"$f":"44/28","v":1.5714285714285714}]
[null,"Emission factor, cattle,poultry, pigs",null,null,"EF","kgN2O-N/Kg N input",0.02,0.02]
[null,"Emission factor, sheep & other",null,null,"EF","kgN2O-N/Kg N input",0.01,0.01]
[null,"Global warming potential",null,null,"GWP",null,298,298]
[]
[null,null,"fraction of synthetic fertiliser that volatilises",null,"Frac(GASF)","(kg NH3-N+Nox-N)/kg N",0.1,0.1]
[null,null,"fraction of organic or dung that volatilises",null,"Frac(GASM)","(kg NH3-N+Nox-N)/kg N",0.2,{"$f":"Table511[[#This Row],[Value]]","v":0.2}]
[null,null,"fraction N leached",null,"Frac(LEACH)","kgN/Kg of N additions",0.3,0.3]
[null,null,"Conversion factor",null,"Cf","kgN2O/kgN2O-N",1.5714285714285714,{"$f":"44/28","v":1.5714285714285714}]
[null,null,"Global Warming Potential",null,"GWP(N2O)","(kg N2O)/(kg N2O-N)",298,298]
[null,null,"Emission factor leached",null,"EF-5","Kg N2O-N/kg N leached",7.4999999999999997E-3,7.4999999999999997E-3]
[null,null,"Emission factor volatilised",null,"EF-4","(kg N2O-N)/kg(NH3-N+Nox-N)",0.01,0.01]
[]
[null,"COMPOST"]
[null,"Organic waste to compost",null,null,null,null,0.5,0.5]
[null,"Nitrogen content in compost",null,null,null,null,1.7500000000000002E-2,1.7500000000000002E-2]

{"sheet":"6. TNC Assumptions","index":8,"n_rows":43,"n_cols":19,"rows_kept":43,"cut":false,"hidden":false,"merged":[[3,9,3,18],[5,7,5,10],[5,12,5,18],[5,0,6,2]]}
["TNC Assumptions",null,null,"Excel Toolkit for Mitigation Analysis for Low-Carbon Development Planning ",null,null,null,null,null,null,null,null,null,null,"XLMT-Agriculture v17.1"]
["This section calculates CH4 emissions from the burning of sugar cane fields ",null,null,null,null,null,null,"TNC"]
["(agriculture residue burning)."]
["It reproduces the calculation carried out in the sheet 3.C.1.b. in the IPCC tool.",null,null,null,null,null,null,null,null,"Emissions scenarios through policy interventions:"]
[]
["EMISSIONS CALCULATIONS - Business as Usual (BAU) scenario",null,null,null,"Emissions reduction scenario - ",null,null,"Chemical Fertisers Use",null,null,null,null,"Biofarming with Composting from MSW"]
[null,null,null,null,"To reduce percentage area burnt ",null,null,null,"DirN2OManSoil"]
[null,null,null,null,"TNC:"," ",null,"TNC:",null,"SC2",null,null,"SC3"]
[" ",null,null,null,"To reduce percentage area burnt ",null,null,"Annual increase in chemical fertiliser use ",null,"(1) reducing chemical fertilizer inputs by 75% by 2030; ",null,null,"(2) biofarming with composting from MSW"]
[null,null,null,null,"to 7.5% of total area available in 2020, and ",null,null,"between 2013 and 2020"]
[null,null,null,null,"to 5% of total area in 2025 and beyond",null,null,null,null,null,null,null,"SC3","SC3","SC3","SC3","SC3","SC3","SC3"]
[null,"BAU","BAU",null,"SC1","SC1",null,"SC2","SC2","SC2","SC2",null,"Org Waste composted from MSW"]
[null,"TNC","USER",null,"TNC values","USER",null,"TNC","USER","TNC","USER",null,"Split","TNC","USER","TNC","USER","TNC","USER"]
["YEAR","Area Available (ha)","Area Available (ha) ",null,"% Area Burnt","% Area Burnt",null,"% Increase in Chem Fertiliser","% Increase in Chem Fertiliser","Chemical fertilizer loading (%)","Chemical fertilizer loading (%)",null,null,null,null,"MSW","MSW","Quantity composted","Quantity composted "]
[2006,{"$f":"'4. Data'!E5","v":70800},{"$f":"Table2[[#This Row],[Area Available (ha)]]","v":70800},null,0.1,0.1,null,0,0,1,1,null,"Food",0.15,0.15]
[2007,{"$f":"'4. Data'!E6","v":68520},{"$f":"Table2[[#This Row],[Area Available (ha)]]","v":68520},null,0.1,0.1,null,0,0,1,1,null,"Garden",0.5,0.5]
[2008,{"$f":"'4. Data'!E7","v":65440},{"$f":"Table2[[#This Row],[Area Available (ha)]]","v":65440},null,0.1,0.1,null,0,0,1,1,null,"Paper",0.12,0.12]
[2009,{"$f":"'4. Data'!E8","v":65850},{"$f":"Table2[[#This Row],[Area Available (ha)]]","v":65850},null,0.1,0.1,null,0,0,1,1]
[2010,{"$f":"'4. Data'!E9","v":64130},{"$f":"Table2[[#This Row],[Area Available (ha)]]","v":64130},null,0.1,0.1,null,0,0,1,1]
[2011,{"$f":"'4. Data'!E10","v":61730},{"$f":"Table2[[#This Row],[Area Available (ha)]]","v":61730},null,0.1,0.1,null,0,0,1,1]
[2012,{"$f":"'4. Data'!E11","v":57160},{"$f":"Table2[[#This Row],[Area Available (ha)]]","v":57160},null,0.1,0.1,null,0,0,1,1]
[2013,{"$f":"'4. Data'!E12","v":56464},{"$f":"Table2[[#This Row],[Area Available (ha)]]","v":56464},null,0.1,0.1,null,0,0,1,1]
[2014,{"$f":"'4. Data'!E13","v":50694},{"$f":"Table2[[#This Row],[Area Available (ha)]]","v":50694},null,0.1,0.1,null,0.02,0.02,1,1]
[2015,{"$f":"'4. Data'!E14","v":52387},{"$f":"Table2[[#This Row],[Area Available (ha)]]","v":52387},null,0.1,0.1,null,0.02,0.02,1,1]
[2016,{"$f":"'4. Data'!E15","v":52000},{"$f":"Table2[[#This Row],[Area Available (ha)]]","v":52000},null,0.1,0.1,null,0.02,0.02,0.99,0.99,null,null,null,"YEAR","TNC","USER","TNC","USER"]
[2017,{"$f":"'4. Data'!E16","v":51000},{"$f":"Table2[[#This Row],[Area Available (ha)]]","v":51000},null,0.1,0.1,null,0.02,0.02,0.98,0.98,null,null,null,2017,442.31758599922205,442.31758599922205,0.02,0.02]
[2018,{"$f":"'4. Data'!E17","v":50500},{"$f":"Table2[[#This Row],[Area Available (ha)]]","v":50500},null,0.1,0.1,null,0.02,0.02,0.97,0.97,null,null,null,2018,451.1639377192065,451.1639377192065,0.04,{"$f":"S26+2%","v":0.04}]
[2019,{"$f":"'4. Data'!E18","v":50000},{"$f":"Table2[[#This Row],[Area Available (ha)]]","v":50000},null,0.1,0.1,null,0.02,0.02,0.96,0.96,null,null,null,2019,460.18721647359064,460.18721647359064,0.06,0.06]
[2020,{"$f":"'4. Data'!E19","v":49500},{"$f":"Table2[[#This Row],[Area Available (ha)]]","v":49500},null,0.08,0.08,null,0.02,0.02,0.95,0.95,null,null,null,2020,469.39096080306246,469.39096080306246,0.08,0.08]
[2021,{"$f":"'4. Data'!E20","v":49000},{"$f":"Table2[[#This Row],[Area Available (ha)]]","v":49000},null,0.08,0.08,null,0,0,{"$f":"J29-2%","v":0.92999999999999994},{"$f":"K29-2%","v":0.92999999999999994},null,null,null,2021,478.7787800191237,478.7787800191237,0.1,0.1]
[2022,{"$f":"'4. Data'!E21","v":48500},{"$f":"Table2[[#This Row],[Area Available (ha)]]","v":48500},null,0.08,0.08,null,0,0,0.90999999999999992,0.90999999999999992,null,null,null,2022,488.35435561950624,488.35435561950624,0.12000000000000001,0.12000000000000001]
[2023,{"$f":"'4. Data'!E22","v":48000},{"$f":"Table2[[#This Row],[Area Available (ha)]]","v":48000},null,0.08,0.08,null,0,0,0.8899999999999999,0.8899999999999999,null,null,null,2023,498.12144273189631,498.12144273189631,0.14000000000000001,0.14000000000000001]
[2024,{"$f":"'4. Data'!E23","v":47500},{"$f":"Table2[[#This Row],[Area Available (ha)]]","v":47500},null,0.08,0.08,null,0,0,0.86999999999999988,0.86999999999999988,null,null,null,2024,508.08387158653426,508.08387158653426,0.16,0.16]
[2025,{"$f":"'4. Data'!E24","v":47000},{"$f":"Table2[[#This Row],[Area Available (ha)]]","v":47000},null,0.08,0.08,null,0,0,0.84999999999999987,0.84999999999999987,null,null,null,2025,518.24554901826491,518.24554901826491,0.18,0.18]
[2026,{"$f":"'4. Data'!E25","v":46500},{"$f":"Table2[[#This Row],[Area Available (ha)]]","v":46500},null,0.08,0.08,null,0,0,0.82999999999999985,0.82999999999999985,null,null,null,2026,528.61045999863018,528.61045999863018,0.19999999999999998,0.19999999999999998]
[2027,{"$f":"'4. Data'!E26","v":46000},{"$f":"Table2[[#This Row],[Area Available (ha)]]","v":46000},null,0.08,0.08,null,0,0,0.80999999999999983,0.80999999999999983,null,null,null,2027,539.18266919860275,539.18266919860275,0.24,{"$f":"S35+4%","v":0.24}]
[2028,{"$f":"'4. Data'!E27","v":45500},{"$f":"Table2[[#This Row],[Area Available (ha)]]","v":45500},null,0.08,0.08,null,0,0,0.78999999999999981,0.78999999999999981,null,null,null,2028,549.96632258257478,549.96632258257478,0.26,{"$f":"S36+2%","v":0.26}]
[2029,{"$f":"'4. Data'!E28","v":45250},{"$f":"Table2[[#This Row],[Area Available (ha)]]","v":45250},null,0.08,0.08,null,0,0,0.7699999999999998,0.7699999999999998,null,null,null,2029,560.96564903422632,560.96564903422632,0.28000000000000003,{"$f":"S37+2%","v":0.28000000000000003}]
[2030,{"$f":"'4. Data'!E29","v":45000},{"$f":"Table2[[#This Row],[Area Available (ha)]]","v":45000},null,0.08,0.08,null,0,0,0.74999999999999978,0.74999999999999978,null,null,null,2030,572.18496201491087,572.18496201491087,0.30000000000000004,{"$f":"S38+2%","v":0.30000000000000004}]
[2035,{"$f":"'4. Data'!E30","v":44000},{"$f":"Table2[[#This Row],[Area Available (ha)]]","v":44000},null,7.0000000000000007E-2,7.0000000000000007E-2,null,0,0,{"$f":"J39-5%","v":0.69999999999999973},0.69999999999999973,null,null,null,2035,631.73843244038437,631.73843244038437,0.35,0.35]
[2040,{"$f":"'4. Data'!E31","v":43000},{"$f":"Table2[[#This Row],[Area Available (ha)]]","v":43000},null,0.06,0.06,null,0,0,0.64999999999999969,0.64999999999999969,null,null,null,2040,697.49027590108869,697.49027590108869,0.4,0.4]
[2045,{"$f":"'4. Data'!E32","v":42000},{"$f":"Table2[[#This Row],[Area Available (ha)]]","v":42000},null,0.06,0.06,null,0,0,0.59999999999999964,0.59999999999999964,null,null,null,2045,770.08562404106374,770.08562404106374,0.45,0.45]
[2050,{"$f":"'4. Data'!E33","v":40000},{"$f":"Table2[[#This Row],[Area Available (ha)]]","v":40000},null,0.05,0.05,null,0,0,0.5499999999999996,0.5499999999999996,null,null,null,2050,850.23675432403093,850.23675432403093,0.5,0.5]

{"sheet":"6. UD1 Assumptions","index":9,"n_rows":43,"n_cols":19,"rows_kept":43,"cut":false,"hidden":false,"merged":[[3,9,3,18],[5,7,5,10],[5,12,5,18],[5,0,6,2]]}
["UD1 Assumptions",null,null,"Excel Toolkit for Mitigation Analysis for Low-Carbon Development Planning ",null,null,null,null,null,null,null,null,null,null,"XLMT-Agriculture v17.1"]
["This section calculates CH4 emissions from the burning of sugar cane fields ",null,null,null,null,null,null,"TNC"]
["(agriculture residue burning)."]
["It reproduces the calculation carried out in the sheet 3.C.1.b. in the IPCC tool.",null,null,null,null,null,null,null,null,"Emissions scenarios through policy interventions:"]
[]
["EMISSIONS CALCULATIONS - Business as Usual (BAU) scenario",null,null,null,"Emissions reduction scenario - ",null,null,"Chemical Fertisers Use",null,null,null,null,"Biofarming with Composting from MSW"]
[null,null,null,null,"To reduce percentage area burnt ",null,null,null,"DirN2OManSoil"]
[null,null,null,null,"TNC:"," ",null,"TNC:",null,"SC2",null,null,"SC3"]
[" ",null,null,null,"To reduce percentage area burnt ",null,null,"Annual increase in chemical fertiliser use ",null,"(1) reducing chemical fertilizer inputs by 75% by 2030; ",null,null,"(2) biofarming with composting from MSW"]
[null,null,null,null,"to 7.5% of total area available in 2020, and ",null,null,"between 2013 and 2020"]
[null,null,null,null,"to 5% of total area in 2025 and beyond",null,null,null,null,null,null,null,"SC3","SC3","SC3","SC3","SC3","SC3","SC3"]
[null,"BAU","BAU",null,"SC1","SC1",null,"SC2","SC2","SC2","SC2",null,"Org Waste composted from MSW"]
[null,"TNC","USER",null,"TNC values","USER",null,"TNC","USER","TNC","USER",null,null,"TNC","USER","TNC","USER","TNC","USER"]
["YEAR","Area Available (ha)","Area Available (ha) ",null,"% Area Burnt","% Area Burnt",null,"% Increase in Chem Fertiliser","% Increase in Chem Fertiliser","Chemical fertilizer loading (%)","Chemical fertilizer loading (%)",null,"Split",null,null,"MSW","MSW","Quantity composted","Quantity composted"]
[2006,{"$f":"'4. Data'!E5","v":70800},{"$f":"Table28[[#This Row],[Area Available (ha)]]","v":70800},null,0.1,0.1,null,0,0,1,1,null,"Food",0.15,0.15]
[2007,{"$f":"'4. Data'!E6","v":68520},{"$f":"Table28[[#This Row],[Area Available (ha)]]","v":68520},null,0.1,0.1,null,0,0,1,1,null,"Garden",0.5,0.5]
[2008,{"$f":"'4. Data'!E7","v":65440},{"$f":"Table28[[#This Row],[Area Available (ha)]]","v":65440},null,0.1,0.1,null,0,0,1,1,null,"Paper",0.12,0.12]
[2009,{"$f":"'4. Data'!E8","v":65850},{"$f":"Table28[[#This Row],[Area Available (ha)]]","v":65850},null,0.1,0.1,null,0,0,1,1]
[2010,{"$f":"'4. Data'!E9","v":64130},{"$f":"Table28[[#This Row],[Area Available (ha)]]","v":64130},null,0.1,0.1,null,0,0,1,1]
[2011,{"$f":"'4. Data'!E10","v":61730},{"$f":"Table28[[#This Row],[Area Available (ha)]]","v":61730},null,0.1,0.1,null,0,0,1,1]
[2012,{"$f":"'4. Data'!E11","v":57160},{"$f":"Table28[[#This Row],[Area Available (ha)]]","v":57160},null,0.1,0.1,null,0,0,1,1]
[2013,{"$f":"'4. Data'!E12","v":56464},{"$f":"Table28[[#This Row],[Area Available (ha)]]","v":56464},null,0.1,0.1,null,0,0,1,1]
[2014,{"$f":"'4. Data'!E13","v":50694},{"$f":"Table28[[#This Row],[Area Available (ha)]]","v":50694},null,0.1,0.1,null,0.02,0.02,1,1]
[2015,{"$f":"'4. Data'!E14","v":52387},{"$f":"Table28[[#This Row],[Area Available (ha)]]","v":52387},null,0.1,0.1,null,0.02,0.02,1,1]
[2016,{"$f":"'4. Data'!E15","v":52000},{"$f":"Table28[[#This Row],[Area Available (ha)]]","v":52000},null,0.1,0.1,null,0.02,0.02,0.99,0.99,null,null,null,"YEAR","TNC","USER","TNC","USER"]
[2017,{"$f":"'4. Data'!E16","v":51000},{"$f":"Table28[[#This Row],[Area Available (ha)]]","v":51000},null,0.1,0.1,null,0.02,0.02,0.98,0.98,null,null,null,2017,442.31758599922205,442.31758599922205,0.02,0.02]
[2018,{"$f":"'4. Data'!E17","v":50500},{"$f":"Table28[[#This Row],[Area Available (ha)]]","v":50500},null,0.1,0.1,null,0.02,0.02,0.97,0.97,null,null,null,2018,451.1639377192065,451.1639377192065,0.04,{"$f":"S26+2%","v":0.04}]
[2019,{"$f":"'4. Data'!E18","v":50000},{"$f":"Table28[[#This Row],[Area Available (ha)]]","v":50000},null,0.1,0.1,null,0.02,0.02,0.96,0.96,null,null,null,2019,460.18721647359064,460.18721647359064,0.06,0.06]
[2020,{"$f":"'4. Data'!E19","v":49500},{"$f":"Table28[[#This Row],[Area Available (ha)]]","v":49500},null,0.08,0.08,null,0.02,0.02,0.95,0.95,null,null,null,2020,469.39096080306246,469.39096080306246,0.08,0.08]
[2021,{"$f":"'4. Data'!E20","v":49000},{"$f":"Table28[[#This Row],[Area Available (ha)]]","v":49000},null,0.08,0.08,null,0,0,{"$f":"J29-2%","v":0.92999999999999994},0.92999999999999994,null,null,null,2021,478.7787800191237,478.7787800191237,0.1,0.1]
[2022,{"$f":"'4. Data'!E21","v":48500},{"$f":"Table28[[#This Row],[Area Available (ha)]]","v":48500},null,0.08,0.08,null,0,0,0.90999999999999992,0.90999999999999992,null,null,null,2022,488.35435561950624,488.35435561950624,0.12000000000000001,0.12000000000000001]
[2023,{"$f":"'4. Data'!E22","v":48000},{"$f":"Table28[[#This Row],[Area Available (ha)]]","v":48000},null,0.08,0.08,null,0,0,0.8899999999999999,0.8899999999999999,null,null,null,2023,498.12144273189631,498.12144273189631,0.14000000000000001,0.14000000000000001]
[2024,{"$f":"'4. Data'!E23","v":47500},{"$f":"Table28[[#This Row],[Area Available (ha)]]","v":47500},null,0.08,0.08,null,0,0,0.86999999999999988,0.86999999999999988,null,null,null,2024,508.08387158653426,508.08387158653426,0.16,0.16]
[2025,{"$f":"'4. Data'!E24","v":47000},{"$f":"Table28[[#This Row],[Area Available (ha)]]","v":47000},null,0.08,0.08,null,0,0,0.84999999999999987,0.84999999999999987,null,null,null,2025,518.24554901826491,518.24554901826491,0.18,0.18]
[2026,{"$f":"'4. Data'!E25","v":46500},{"$f":"Table28[[#This Row],[Area Available (ha)]]","v":46500},null,0.08,0.08,null,0,0,0.82999999999999985,0.82999999999999985,null,null,null,2026,528.61045999863018,528.61045999863018,0.19999999999999998,0.19999999999999998]
[2027,{"$f":"'4. Data'!E26","v":46000},{"$f":"Table28[[#This Row],[Area Available (ha)]]","v":46000},null,0.08,0.08,null,0,0,0.80999999999999983,0.80999999999999983,null,null,null,2027,539.18266919860275,539.18266919860275,0.24,{"$f":"S35+4%","v":0.24}]
[2028,{"$f":"'4. Data'!E27","v":45500},{"$f":"Table28[[#This Row],[Area Available (ha)]]","v":45500},null,0.08,0.08,null,0,0,0.78999999999999981,0.78999999999999981,null,null,null,2028,549.96632258257478,549.96632258257478,0.26,{"$f":"S36+2%","v":0.26}]
[2029,{"$f":"'4. Data'!E28","v":45250},{"$f":"Table28[[#This Row],[Area Available (ha)]]","v":45250},null,0.08,0.08,null,0,0,0.7699999999999998,0.7699999999999998,null,null,null,2029,560.96564903422632,560.96564903422632,0.28000000000000003,{"$f":"S37+2%","v":0.28000000000000003}]
[2030,{"$f":"'4. Data'!E29","v":45000},{"$f":"Table28[[#This Row],[Area Available (ha)]]","v":45000},null,0.08,0.08,null,0,0,0.74999999999999978,0.74999999999999978,null,null,null,2030,572.18496201491087,572.18496201491087,0.30000000000000004,{"$f":"S38+2%","v":0.30000000000000004}]
[2035,{"$f":"'4. Data'!E30","v":44000},{"$f":"Table28[[#This Row],[Area Available (ha)]]","v":44000},null,7.0000000000000007E-2,7.0000000000000007E-2,null,0,0,{"$f":"J39-5%","v":0.69999999999999973},0.69999999999999973,null,null,null,2035,631.73843244038437,631.73843244038437,0.35,0.35]
[2040,{"$f":"'4. Data'!E31","v":43000},{"$f":"Table28[[#This Row],[Area Available (ha)]]","v":43000},null,0.06,0.06,null,0,0,0.64999999999999969,0.64999999999999969,null,null,null,2040,697.49027590108869,697.49027590108869,0.4,0.4]
[2045,{"$f":"'4. Data'!E32","v":42000},{"$f":"Table28[[#This Row],[Area Available (ha)]]","v":42000},null,0.06,0.06,null,0,0,0.59999999999999964,0.59999999999999964,null,null,null,2045,770.08562404106374,770.08562404106374,0.45,0.45]
[2050,{"$f":"'4. Data'!E33","v":40000},{"$f":"Table28[[#This Row],[Area Available (ha)]]","v":40000},null,0.05,0.05,null,0,0,0.5499999999999996,0.5499999999999996,null,null,null,2050,850.23675432403093,850.23675432403093,0.5,0.5]

{"sheet":"6. UD2 Assumptions","index":10,"n_rows":43,"n_cols":19,"rows_kept":43,"cut":false,"hidden":false,"merged":[[3,9,3,18],[5,7,5,10],[5,12,5,18]]}
["UD2 Assumptions",null,null,"Excel Toolkit for Mitigation Analysis for Low-Carbon Development Planning ",null,null,null,null,null,null,null,null,null,null,"XLMT-Agriculture v17.1"]
["This section calculates CH4 emissions from the burning of sugar cane fields ",null,null,null,null,null,null,"TNC"]
["(agriculture residue burning)."]
["It reproduces the calculation carried out in the sheet 3.C.1.b. in the IPCC tool."]
[]
["EMISSIONS CALCULATIONS - Business as Usual (BAU) scenario",null,null,null,"Emissions reduction scenario - ",null,null,"Chemical Fertisers Use",null,null,null,null,"Biofarming with Composting from MSW"]
[null,null,null,null,"To reduce percentage area burnt ",null,null,null,"DirN2OManSoil"]
[null,null,null,null,"TNC:"," ",null,"TNC:",null,"SC2",null,null,"SC3"]
[" ",null,null,null,"To reduce percentage area burnt ",null,null,"Annual increase in chemical fertiliser use ",null,"(1) reducing chemical fertilizer inputs by 75% by 2030; ",null,null,"(2) biofarming with composting from MSW"]
[null,null,null,null,"to 7.5% of total area available in 2020, and ",null,null,"between 2013 and 2020"]
[null,null,null,null,"to 5% of total area in 2025 and beyond",null,null,null,null,null,null,null,"SC3","SC3","SC3","SC3","SC3","SC3","SC3"]
[null,"BAU","BAU",null,"SC1","SC1",null,"SC2","SC2","SC2","SC2",null,"Org Waste composted from MSW"]
[null,"TNC","USER",null,"TNC values","USER",null,"TNC","USER","TNC","USER",null,null,"TNC","USER","TNC","USER","TNC","USER"]
["YEAR","Area Available (ha)","Area Available (ha) ",null,"% Area Burnt","% Area Burnt",null,"% Increase in Chem Fertiliser","% Increase in Chem Fertiliser","Chemical fertilizer loading (%)","Chemical fertilizer loading (%)",null,"Split",null,null,"MSW","MSW","Quantity composted ","Quantity composted "]
[2006,{"$f":"'4. Data'!E5","v":70800},{"$f":"Table289[[#This Row],[Area Available (ha)]]","v":70800},null,0.1,0.1,null,0,0,1,1,null,"Food",0.15,0.15]
[2007,{"$f":"'4. Data'!E6","v":68520},{"$f":"Table289[[#This Row],[Area Available (ha)]]","v":68520},null,0.1,0.1,null,0,0,1,1,null,"Garden",0.5,0.5]
[2008,{"$f":"'4. Data'!E7","v":65440},{"$f":"Table289[[#This Row],[Area Available (ha)]]","v":65440},null,0.1,0.1,null,0,0,1,1,null,"Paper",0.12,0.12]
[2009,{"$f":"'4. Data'!E8","v":65850},{"$f":"Table289[[#This Row],[Area Available (ha)]]","v":65850},null,0.1,0.1,null,0,0,1,1]
[2010,{"$f":"'4. Data'!E9","v":64130},{"$f":"Table289[[#This Row],[Area Available (ha)]]","v":64130},null,0.1,0.1,null,0,0,1,1]
[2011,{"$f":"'4. Data'!E10","v":61730},{"$f":"Table289[[#This Row],[Area Available (ha)]]","v":61730},null,0.1,0.1,null,0,0,1,1]
[2012,{"$f":"'4. Data'!E11","v":57160},{"$f":"Table289[[#This Row],[Area Available (ha)]]","v":57160},null,0.1,0.1,null,0,0,1,1]
[2013,{"$f":"'4. Data'!E12","v":56464},{"$f":"Table289[[#This Row],[Area Available (ha)]]","v":56464},null,0.1,0.1,null,0,0,1,1]
[2014,{"$f":"'4. Data'!E13","v":50694},{"$f":"Table289[[#This Row],[Area Available (ha)]]","v":50694},null,0.1,0.1,null,0.02,0.02,1,1]
[2015,{"$f":"'4. Data'!E14","v":52387},{"$f":"Table289[[#This Row],[Area Available (ha)]]","v":52387},null,0.1,0.1,null,0.02,0.02,1,1]
[2016,{"$f":"'4. Data'!E15","v":52000},{"$f":"Table289[[#This Row],[Area Available (ha)]]","v":52000},null,0.1,0.1,null,0.02,0.02,0.99,0.99,null,null,null,"YEAR","TNC","USER","TNC","USER"]
[2017,{"$f":"'4. Data'!E16","v":51000},{"$f":"Table289[[#This Row],[Area Available (ha)]]","v":51000},null,0.1,0.1,null,0.02,0.02,0.98,0.98,null,null,null,2017,442.31758599922205,442.31758599922205,0.02,0.02]
[2018,{"$f":"'4. Data'!E17","v":50500},{"$f":"Table289[[#This Row],[Area Available (ha)]]","v":50500},null,0.1,0.1,null,0.02,0.02,0.97,0.97,null,null,null,2018,451.1639377192065,451.1639377192065,0.04,{"$f":"S26+2%","v":0.04}]
[2019,{"$f":"'4. Data'!E18","v":50000},{"$f":"Table289[[#This Row],[Area Available (ha)]]","v":50000},null,0.1,0.1,null,0.02,0.02,0.96,0.96,null,null,null,2019,460.18721647359064,460.18721647359064,0.06,0.06]
[2020,{"$f":"'4. Data'!E19","v":49500},{"$f":"Table289[[#This Row],[Area Available (ha)]]","v":49500},null,0.08,0.08,null,0.02,0.02,0.95,0.95,null,null,null,2020,469.39096080306246,469.39096080306246,0.08,0.08]
[2021,{"$f":"'4. Data'!E20","v":49000},{"$f":"Table289[[#This Row],[Area Available (ha)]]","v":49000},null,0.08,0.08,null,0,0,{"$f":"J29-2%","v":0.92999999999999994},0.92999999999999994,null,null,null,2021,478.7787800191237,478.7787800191237,0.1,0.1]
[2022,{"$f":"'4. Data'!E21","v":48500},{"$f":"Table289[[#This Row],[Area Available (ha)]]","v":48500},null,0.08,0.08,null,0,0,0.90999999999999992,0.90999999999999992,null,null,null,2022,488.35435561950624,488.35435561950624,0.12000000000000001,0.12000000000000001]
[2023,{"$f":"'4. Data'!E22","v":48000},{"$f":"Table289[[#This Row],[Area Available (ha)]]","v":48000},null,0.08,0.08,null,0,0,0.8899999999999999,0.8899999999999999,null,null,null,2023,498.12144273189631,498.12144273189631,0.14000000000000001,0.14000000000000001]
[2024,{"$f":"'4. Data'!E23","v":47500},{"$f":"Table289[[#This Row],[Area Available (ha)]]","v":47500},null,0.08,0.08,null,0,0,0.86999999999999988,0.86999999999999988,null,null,null,2024,508.08387158653426,508.08387158653426,0.16,0.16]
[2025,{"$f":"'4. Data'!E24","v":47000},{"$f":"Table289[[#This Row],[Area Available (ha)]]","v":47000},null,0.08,0.08,null,0,0,0.84999999999999987,0.84999999999999987,null,null,null,2025,518.24554901826491,518.24554901826491,0.18,0.18]
[2026,{"$f":"'4. Data'!E25","v":46500},{"$f":"Table289[[#This Row],[Area Available (ha)]]","v":46500},null,0.08,0.08,null,0,0,0.82999999999999985,0.82999999999999985,null,null,null,2026,528.61045999863018,528.61045999863018,0.19999999999999998,0.19999999999999998]
[2027,{"$f":"'4. Data'!E26","v":46000},{"$f":"Table289[[#This Row],[Area Available (ha)]]","v":46000},null,0.08,0.08,null,0,0,0.80999999999999983,0.80999999999999983,null,null,null,2027,539.18266919860275,539.18266919860275,0.24,{"$f":"S35+4%","v":0.24}]
[2028,{"$f":"'4. Data'!E27","v":45500},{"$f":"Table289[[#This Row],[Area Available (ha)]]","v":45500},null,0.08,0.08,null,0,0,0.78999999999999981,0.78999999999999981,null,null,null,2028,549.96632258257478,549.96632258257478,0.26,{"$f":"S36+2%","v":0.26}]
[2029,{"$f":"'4. Data'!E28","v":45250},{"$f":"Table289[[#This Row],[Area Available (ha)]]","v":45250},null,0.08,0.08,null,0,0,0.7699999999999998,0.7699999999999998,null,null,null,2029,560.96564903422632,560.96564903422632,0.28000000000000003,{"$f":"S37+2%","v":0.28000000000000003}]
[2030,{"$f":"'4. Data'!E29","v":45000},{"$f":"Table289[[#This Row],[Area Available (ha)]]","v":45000},null,0.08,0.08,null,0,0,0.74999999999999978,0.74999999999999978,null,null,null,2030,572.18496201491087,572.18496201491087,0.30000000000000004,{"$f":"S38+2%","v":0.30000000000000004}]
[2035,{"$f":"'4. Data'!E30","v":44000},{"$f":"Table289[[#This Row],[Area Available (ha)]]","v":44000},null,7.0000000000000007E-2,7.0000000000000007E-2,null,0,0,{"$f":"J39-5%","v":0.69999999999999973},0.69999999999999973,null,null,null,2035,631.73843244038437,631.73843244038437,0.35,0.35]
[2040,{"$f":"'4. Data'!E31","v":43000},{"$f":"Table289[[#This Row],[Area Available (ha)]]","v":43000},null,0.06,0.06,null,0,0,0.64999999999999969,0.64999999999999969,null,null,null,2040,697.49027590108869,697.49027590108869,0.4,0.4]
[2045,{"$f":"'4. Data'!E32","v":42000},{"$f":"Table289[[#This Row],[Area Available (ha)]]","v":42000},null,0.06,0.06,null,0,0,0.59999999999999964,0.59999999999999964,null,null,null,2045,770.08562404106374,770.08562404106374,0.45,0.45]
[2050,{"$f":"'4. Data'!E33","v":40000},{"$f":"Table289[[#This Row],[Area Available (ha)]]","v":40000},null,0.05,0.05,null,0,0,0.5499999999999996,0.5499999999999996,null,null,null,2050,850.23675432403093,850.23675432403093,0.5,0.5]

{"sheet":"7. Calculations","index":11,"n_rows":1,"n_cols":1,"rows_kept":1,"cut":false,"hidden":false,"merged":[]}
["Free worksheet for Users"]

{"sheet":"ChartPlotLegend","index":12,"n_rows":31,"n_cols":21,"rows_kept":31,"cut":false,"hidden":false,"merged":[[10,5,24,5]]}
["Time Series Plots",null,null,"Excel Toolkit for Mitigation Analysis for Low-Carbon Development Planning ",null,null,null,"XLMT-Agriculture v17.1"]
[null,null,null,null,null,null,null,null,null,null,null,null,null,null,"Year","TNC 31:BAU ","TNC 38:SC1","TNC 45:SC2","TNC 63:SC3","TNC 64:SC4 ","Sparkline"]
[null,null,null,null,null,null,"Legend Code","Scenario","Definition",null,null,null,null,null,2006,86.594090858581723,86.594090858581723,86.594090858581723,86.594090858581723,86.594090858581723]
[null,null,null,null,null,null,"TNC 31:","BAU ","Total  CO2e Emissions from Managed Soils (Gg/yr)",null,null,null,null,null,2007,84.343730455723431,84.343730455723431,84.343730455723431,84.343730455723431,84.343730455723431]
[null,null,null,null,null,null,"TNC 38:","SC1","GHG Emissions (Nett) due to Reduced Crop Burn Scenario (Gg CO2e)",null,null,null,null,null,2008,80.00054059468512,80.00054059468512,80.00054059468512,80.00054059468512,80.00054059468512]
[null,null,null,null,null,null,"TNC 45:","SC2","GHG Emissions (Nett) due to Reduced Fertilizer Use Scenario (Gg CO2e)",null,null,null,null,null,2009,78.085552198145763,78.085552198145763,78.085552198145763,78.085552198145763,78.085552198145763]
[null,null,null,null,null,null,"TNC 63:","SC3","Total CO2e Emissions with Biofarming (Reduced Fertilizers + Compost)  ",null,null,null,null,null,2010,86.797343125771135,86.797343125771135,86.797343125771135,86.797343125771135,86.797343125771135]
[null,null,null,null,null,null,"TNC 64:","SC4 ","GHG Emissions under Biofarming and Crop Burn Reduction ",null,null,null,null,null,2011,88.477026879839585,88.477026879839585,88.477026879839585,88.477026879839585,88.477026879839585]
[null,null,null,null,null,null,null,null,null,null,null,null,null,null,2012,98.480886477133595,98.480886477133595,98.480886477133595,98.480886477133595,98.480886477133595]
[null,null,null,null,null,"Observations:",null,null,null,null,null,null,null,null,2013,99.647773755615717,99.647773755615717,99.647773755615717,99.647773755615717,99.647773755615717]
[null,null,null,null,null,null,null,null,null,null,null,null,null,null,2014,100.9151182068469,100.9151182068469,100.9151182068469,100.9151182068469,100.9151182068469]
[null,null,null,null,null,null,null,null,null,null,null,null,null,null,2015,102.53463965565194,102.53463965565194,102.53463965565194,102.53463965565194,102.53463965565194]
[null,null,null,null,null,null,null,null,null,null,null,null,null,null,2016,103.85581191572899,103.85581191572899,103.45957766087579,103.29859824218775,103.29859824218775]
[null,null,null,null,null,null,null,null,null,null,null,null,null,null,2017,105.17582608343191,105.17582608343191,104.36354472219469,104.43287707800033,104.43287707800033]
[null,null,null,null,null,null,null,null,null,null,null,null,null,null,2018,106.54402977941318,106.54402977941318,105.29529407471514,105.60421506776169,105.60421506776169]
[null,null,null,null,null,null,null,null,null,null,null,null,null,null,2019,107.93901054423837,107.93901054423837,106.23280302317562,106.79086846601041,106.79086846601041]
[null,null,null,null,null,null,null,null,null,null,null,null,null,null,2020,109.36130391928437,108.92694141928436,107.1759806265876,107.99303272880491,107.5586702288049]
[null,null,null,null,null,null,null,null,null,null,null,null,null,null,2021,109.41652934115204,108.98655434115204,106.23592398556028,107.16875960345857,106.73878460345857]
[null,null,null,null,null,null,null,null,null,null,null,null,null,null,2022,109.47175476301975,109.04616726301974,105.29586734453295,106.36238244328968,105.93679494328967]
[null,null,null,null,null,null,null,null,null,null,null,null,null,null,2023,109.52698018488745,109.10578018488745,104.35581070350563,105.57443137405919,105.15323137405919]
[null,null,null,null,null,null,null,null,null,null,null,null,null,null,2024,109.58220560675514,109.16539310675513,103.41575406247831,104.80545056817238,104.38863806817237]
[null,null,null,null,null,null,null,null,null,null,null,null,null,null,2025,109.63743102862283,109.22500602862283,102.47569742145097,104.05599859449431,103.64357359449431]
[null,null,null,null,null,null,null,null,null,null,null,null,null,null,2026,109.66094147260598,109.25290397260598,101.49738268072841,103.28839067684419,102.88035317684418]
[null,null,null,null,null,null,null,null,null,null,null,null,null,null,2027,109.68445191658914,109.28080191658914,100.51906794000584,103.02630446144552,102.62265446144552]
[null,null,null,null,null,null,null,null,null,null,null,null,null,null,2028,109.70796236057232,109.30869986057232,99.540753199283273,102.31037830897469,101.91111580897469]
[null,null,null,null,null,null,null,null,null,null,null,null,null,null,2029,109.74244155455548,109.34537280455548,98.573407208560724,101.62752920473712,101.23046045473711]
[null,null,null,null,null,null,null,null,null,null,null,null,null,null,2030,109.77692074853864,109.38204574853864,97.606061217838146,100.96742837578688,100.57255337578688]
[null,null,null,null,null,null,null,null,null,null,null,null,null,null,2035,110.2461491625491,109.6669991625491,95.838297529244386,100.55181442963817,99.972664429638172]
[null,null,null,null,null,null,null,null,null,null,null,null,null,null,2040,110.71338356517039,109.95873356517039,94.062540386832893,100.50742944458156,99.752779444581563]
[null,null,null,null,null,null,null,null,null,null,null,null,null,null,2045,111.25484127060588,110.51774127060588,92.343190732854481,100.95352827290286,100.21642827290286]
[null,null,null,null,null,null,null,null,null,null,null,null,null,null,2050,111.75242397604137,110.87492397604137,90.579966078876069,101.85199276850248,100.97449276850249]

{"sheet":"RadarPlot","index":13,"n_rows":31,"n_cols":16,"rows_kept":31,"cut":false,"hidden":false,"merged":[[10,5,24,5]]}
["Radar Plot",null,null,"Excel Toolkit for Mitigation Analysis for Low-Carbon Development Planning ",null,null,null,"XLMT-Agriculture v17.1"]
[null,null,null,null,null,null,null,null,null,null,null,null,null,"Year","UD1 31:BAU ","UD1 38:SC1"]
[null,null,null,null,null,null,"Legend Code","Scenario","Definition",null,null,null,null,2006,86.594090858581723,86.594090858581723]
[null,null,null,null,null,null,"UD1 31:","BAU ","Total  CO2e Emissions from Managed Soils (Gg/yr)",null,null,null,null,2007,84.343730455723431,84.343730455723431]
[null,null,null,null,null,null,"UD1 38:","SC1","GHG Emissions (Nett) due to Reduced Crop Burn Scenario (Gg CO2e)",null,null,null,null,2008,80.00054059468512,80.00054059468512]
[null,null,null,null,null,null,"Ratio = ","(UD1 38:/UD1 31:)",null,null,null,null,null,2009,78.085552198145763,78.085552198145763]
[null,null,null,null,null,null,null,null,null,null,null,null,null,2010,86.797343125771135,86.797343125771135]
[null,null,null,null,null,null,null,null,null,null,null,null,null,2011,88.477026879839585,88.477026879839585]
[null,null,null,null,null,null,null,null,null,null,null,null,null,2012,98.480886477133595,98.480886477133595]
[null,null,null,null,null,"Observations:",null,null,null,null,null,null,null,2013,99.647773755615717,99.647773755615717]
[null,null,null,null,null,"Radar",null,null,null,null,null,null,null,2014,100.9151182068469,100.9151182068469]
[null,null,null,null,null,null,null,null,null,null,null,null,null,2015,102.53463965565194,102.53463965565194]
[null,null,null,null,null,null,null,null,null,null,null,null,null,2016,103.85581191572899,103.85581191572899]
[null,null,null,null,null,null,null,null,null,null,null,null,null,2017,105.17582608343191,105.17582608343191]
[null,null,null,null,null,null,null,null,null,null,null,null,null,2018,106.54402977941318,106.54402977941318]
[null,null,null,null,null,null,null,null,null,null,null,null,null,2019,107.93901054423837,107.93901054423837]
[null,null,null,null,null,null,null,null,null,null,null,null,null,2020,109.36130391928437,108.92694141928436]
[null,null,null,null,null,null,null,null,null,null,null,null,null,2021,109.41652934115204,108.98655434115204]
[null,null,null,null,null,null,null,null,null,null,null,null,null,2022,109.47175476301975,109.04616726301974]
[null,null,null,null,null,null,null,null,null,null,null,null,null,2023,109.52698018488745,109.10578018488745]
[null,null,null,null,null,null,null,null,null,null,null,null,null,2024,109.58220560675514,109.16539310675513]
[null,null,null,null,null,null,null,null,null,null,null,null,null,2025,109.63743102862283,109.22500602862283]
[null,null,null,null,null,null,null,null,null,null,null,null,null,2026,109.66094147260598,109.25290397260598]
[null,null,null,null,null,null,null,null,null,null,null,null,null,2027,109.68445191658914,109.28080191658914]
[null,null,null,null,null,null,null,null,null,null,null,null,null,2028,109.70796236057232,109.30869986057232]
[null,null,null,null,null,null,null,null,null,null,null,null,null,2029,109.74244155455548,109.34537280455548]
[null,null,null,null,null,null,null,null,null,null,null,null,null,2030,109.77692074853864,109.38204574853864]
[null,null,null,null,null,null,null,null,null,null,null,null,null,2035,110.2461491625491,109.6669991625491]
[null,null,null,null,null,null,null,null,null,null,null,null,null,2040,110.71338356517039,109.95873356517039]
[null,null,null,null,null,null,null,null,null,null,null,null,null,2045,111.25484127060588,110.51774127060588]
[null,null,null,null,null,null,null,null,null,null,null,null,null,2050,111.75242397604137,110.87492397604137]

{"sheet":"DiffPlot","index":14,"n_rows":1,"n_cols":8,"rows_kept":1,"cut":false,"hidden":false,"merged":[]}
["% Change",null,null,"Excel Toolkit for Mitigation Analysis for Low-Carbon Development Planning ",null,null,null,"XLMT-Agriculture v17.1"]

{"sheet":"Report","index":15,"n_rows":10,"n_cols":14,"rows_kept":10,"cut":false,"hidden":false,"merged":[[3,2,3,13],[6,2,6,13],[9,2,19,14]]}
["Report",null,"Excel Toolkit for Mitigation Analysis for Low-Carbon Development Planning ",null,null,null,null,null,null,null,null,null,null,"XLMT-Agriculture v17.1"]
[]
[]
[null,"User Name:","RB"]
[]
[]
[null,"Project Code:","Proj001"]
[]
[]
[null,"Project Detail:","TNC Plots"]

{"sheet":"...","index":16,"n_rows":1,"n_cols":1,"rows_kept":1,"cut":false,"hidden":true,"merged":[]}
["…"]

{"sheet":"LIST","index":17,"n_rows":78,"n_cols":10,"rows_kept":78,"cut":false,"hidden":true,"merged":[[7,5,34,5],[34,3,34,4],[26,3,28,3],[29,3,30,3],[31,3,32,3],[10,7,10,16],[77,3,77,5],[49,3,54,3],[57,3,63,3],[66,3,68,3],[66,4,73,4],[69,3,70,3],[71,3,72,3],[49,4,64,4],[41,3,46,3],[7,3,16,3],[17,3,23,3],[49,5,75,5],[75,3,75,4],[7,4,24,4],[26,4,33,4]]}
[]
[]
[null,1,"BAU: Area of sugar cane available (ha)",null,null,null,null,"Sugar Cane",1,4]
[null,2,"BAU: Area of sugar cane burnt (ha)"]
[null,3,"BAU: GHG Emissions from burnt sugar cane (tCH4)"]
[null,4,"BAU: GHG Emissions from burnt sugar cane (GgCO2e)"]
[]
[null,5,"BAU: Nitrogen from Chemical Fertilizers (kgN/yr)","N2O emissions from managed soils - 1/3","Dir N2O Man Soil","N2O emissions from Managed Soils"]
[null,6,"BAU: Nitrogen from Crop Residues (kgN/yr)"]
[null,7,"BAU: Nitrogen from Manure (kgN/yr)"]
[null,8,"BAU: N2O Emissions from Chemical Fertilizers (t/yr)"]
[null,9,"BAU: N2O Emissions from Crop Residues (t/yr)"]
[null,10,"BAU: N2O Emissions from Manure (t/yr)"]
[null,11,"BAU: CO2e Emissions from Chemical Fertilizer  (Gg/yr)"]
[null,12,"BAU: CO2e Emissions from Crop Residues (Gg/yr)"]
[null,13,"BAU: CO2e Emissions from Manure (Gg/yr)"]
["@",14,"BAU: Total CO2e Emissions from Chemical Fertilizers, Crop Residues and Manure (Gg/yr)"]
[null,15,"BAU: Nitrogen from (Cattle, Poultry, Pigs) (kgN/yr)","N2O emissions from urine and dung inputs to grazed soils - 3/3"]
[null,16,"BAU: Nitrogen from (Sheep & Other sources) (kgN/yr)"]
[null,17,"BAU: N2O Emissions from (Cattle, Poultry, Pigs) (t/yr)"]
[null,18,"BAU: N2O Emissions from (Sheep & Other sources)  (t/yr)"]
[null,19,"BAU: CO2e Emissions from (Cattle, Poultry, Pigs) (Gg/yr)"]
[null,20,"BAU: CO2e Emissions from (Sheep & Other sources) (Gg/yr)"]
["@",21,"BAU:  Total CO2e Emissions animal sources (Gg/yr)"]
[null,22,"BAU:  Total  CO2e Emissions from Direct sources (Gg/yr)","Total"]
[]
[null,23,"BAU: Nitrogen from Indirect Fertilizers (kg N/yr)","Managed soil","Ind N2O Man Soil"]
[null,24,"BAU: Nitrogen from Indirect Crop Residues (kg N/yr)"]
[null,25,"BAU: Nitrogen from Indirect Manure (kg N/yr)"]
[null,26,"BAU: N2O Volatilised from Indirect sources (t/yr)","volatized"]
[null,27,"BAU: CO2e Volatilised from Indirect sources (Gg/yr)"]
[null,28,"BAU: N2O leached from Indirect sources (y/yr)","leached"]
[null,29,"BAU: CO2e leached from Indirect sources (Gg/yr)"]
["sc0",30,"BAU:  Total  CO2e Emissions from Indirect sources (Gg/yr)  ","Total"]
["BAU",31,"BAU:  Total  CO2e Emissions from Managed Soils (Gg/yr)","Total"]
[]
[]
[]
[null,null,"DirN2OManSoilPol"]
[]
[]
[null,32,"SC1: Area of sugar cane available (ha)","Reduced Percentage of Crop Burn"]
[null,33,"SC1: Percentage of sugar cane area burnt (%)"]
[null,34,"SC1: Area of sugar cane burnt (ha)"]
[null,35,"SC1: GHG Emissions from burnt sugar cane (tCH4)"]
[null,36,"SC1: GHG Emissions from burnt sugar cane (Gg CO2e)"]
["sc1",37,"SC1: Reduction in GHG Emissions due to Scenario (Gg CO2e)"]
["Cropburn",38,"SC1: GHG Emissions (Nett) due to Reduced Crop Burn Scenario (Gg CO2e)","Total"]
[null," "]
[null,39,"SC2:  (BAU Scenario) CO2e Emissions from Chemical Fertilizers (Gg/yr)"," Chemical Fertilizer Loading","Dir N2O Man Soil","N2O emissions from Managed Soils"]
[null,40,"SC2: Nitrogen from Reduction in Chemical Fertilizers  (kg N/yr)",null,null,null," "]
[null,41,"SC2: N2O Emissions from Reduction in Chemical Fertilizers (t)"]
[null,42,"SC2: CO2e Emissions from Reduction in Chemical Fertilizers (Gg)"]
[null,43,"SC2: GHG Emissions due to Scenario (Gg CO2e)"]
["sc2",44,"SC2: Reduction in GHG Emissions due to Scenario (Gg CO2e)"]
["Fertilizer",45,"SC2: GHG Emissions (Nett) due to Reduced Fertilizer Use Scenario (Gg CO2e)","Total"]
[null," "]
[null,46,"SC3: Organic waste composted from Food (Gg)","Biofarming from MSW"]
[null,47,"SC3: Organic waste composted from Garden (Gg)"]
[null,48,"SC3: Organic waste composted from Paper (Gg)"]
[null,49,"SC3: Total Organic waste from MSW (Gg)"]
[null,50,"SC3: Total Compost from MSW (Gg)"]
[null,51,"SC3: Total Nitrogen in Compost from MSW (kg)"]
[null,52,"SC3:  Change in GHG Emissions due to Scenario (Gg CO2e)"]
[null,53,"SC3:  GHG Emissions (Nett) due to Biofarming Scenario (Gg CO2e) ","Total"]
[null," "]
[null,54,"SC3: Nitrogen from Reduction of Fertilizers (KgN/yr)","managed soil","Ind N2O Man Soil",null," "]
[null,55,"SC3: Nitrogen from Crop Residues (kgN/yr)"]
[null,56,"SC3 :Nitrogen from Manure incl Biofarming sources (kg N/yr)"]
[null,57,"SC3: N2O Volatilised from Indirect sources (t/yr)","volatized"]
[null,58,"SC3: CO2e Volatilised from Indirect sources (Gg/yr)  "]
[null,59,"SC3: N2O leached from Indirect sources (y/yr)","Leached"]
[null,60,"SC3: CO2e leached from Indirect sources (Gg/yr)"]
[null,61,"SC3: Total  CO2e Emissions from Indirect sources (Gg/yr)  ","Total"]
["sc3",62,"SC3: Reduction in GHG Emissions due to Scenario (Gg CO2e)"]
["Sc3",63,"SC3: Total CO2e Emissions with Biofarming (Reduced Fertilizers + Compost)  ","Total",null,null,null,"TotalDirN2O-Change"]
["sc4"," "]
["Sc4",64,"SC4: GHG Emissions under Biofarming and Crop Burn Reduction ","Cumulative"]

{"sheet":"TNC CropScenarios","index":18,"n_rows":39,"n_cols":98,"rows_kept":39,"cut":false,"hidden":true,"merged":[[5,73,5,74],[3,43,3,45],[1,47,1,63],[1,65,1,74],[3,1,3,31],[5,5,5,14],[5,15,5,21],[4,5,4,22],[4,23,4,30],[5,55,5,58],[5,59,6,59],[4,60,6,60],[4,65,5,72],[4,1,4,4],[4,39,4,45]]}
["This worksheet summarises the various emissions scenarios for management of cropland.",null,null,null,null,null,null,null,null,null,null,null,null,null,null,null,null,null,null,null,null,null,null,null,null,null,null,null,null,null,null,null,null,null,null,null,null,null,null,null,null,null,null,null,null,null,null,46,47,48,49,50,51,52,53,54,55,56,57,58,59,60,61,62,63,64,65,66,67,68,69,70,71,72,73,74,75,76]
[null,1,2,3,4,5,6,7,8,9,10,11,12,13,14,15,16,17,18,19,20,21,22,23,24,25,26,27,28,29,30,31,32,33,34,35,36,37,38,39,40,41,42,43,44,45,null,"Direct N2O",null,null,null,null,null,null,null,null,null,null,null,null,null,null,null,null,null,"Indirect N2O",null,null,null,null,null,null,null,null,null,null,"Total ER","Total ER"]
[" "," "," "," "," ",null,null,null,null,null,null,null,null,null,null,null,null,null,null,null,null,null,null,null,null,null,null,null,null,null,null,null,null,null,null,null,null,null,null,null,null,null,null,null,null,null,null,null,null,null,null,null,null,null,null,null,null,null,null,null,null,null,null,null,null,"This worksheet calculates the indirect N2O emissions from managed soils."]
[null,"Business-as-Usual (BAU)",null,null,null,null,null,null,null,null,null,null,null,null,null,null,null,null,null,null,null,null,null,null,null,null,null,null,null,null,null,null,null,null,null,null,null,null,null,null,null,null,null,"CROP BURN (Gg CO2e)",null,null,null,"CHEMICAL FERTILIZER ",null,null,null,"(Gg CO2e)","(Gg CO2e)","(Gg CO2e)",null,"Biofarming",null,null,null,null,null,"GgCO2e","GgCO2e","GgCO2e",null,"It follows the calculations given in sheet 3.C.5. Indirect N2O Emissions from managed soils in the IPCC tool.",null,null,null,null,null,null,null,null,null,null,"GgCO2e","reduction"]
[null,"Crop Burn ",null,null,null,"DirN2OManSoil",null,null,null,null,null,null,null,null,null,null,null,null,null,null,null,null,null,"IndN2OManSoil",null,null,null,null,null,null,null,null,null,null,null,null,null,null,null,"Crop Burn Sc 1",null,null,null,null,null,null,null,null,null,null,null,null,null,null,null,null,null,null,null,null,"N in compost (kg)",null,null,null,null,"This scenario includes the combination of reduced chemical fertilizers & use of compost generated from MSW"]
[null,null,null,null,null,"N2O emissions from managed soils - 1/3",null,null,null,null,null,null,null,null,null,"N2O emissions from urine and dung inputs to grazed soils - 3/3",null,null,null,null,null,null,"N2O Em","This worksheet calculates the indirect N2O emissions from managed soils. It follows the calculations given in sheet 3.C.5. Indirect N2O Emissions from managed soils in the IPCC tool.",null,null,null,null,null,null,null," ",null,null,null,null,null,null,null,null,null,null,null,null,null,null,null,null,null,null,null,null,null,null,null,"Organic waste composted (Gg)",null,null,null,"Compost (Gg)",null,null,null,null,null,null,null,null,null,null,null,null,null,"Biofarming - GgCO2e"]
["Year","Area Available (ha)","Area Burnt (ha)","GHG (tCH4)","GHG (GgCO2e) BAU  ","Fertilizer (kg N/yr)","Crop Residues (kg N/yr)","Manure (kg N/yr)","N2O fert (t/yr)","N2O CropRes (t/yr)","N2O Manure (t/yr)","CO2e Fert (Gg/yr)","CO2e CropRes (Gg/yr)","CO2e Manure (Gg/yr)","CO2e subtotal (Gg/yr)","Cattle,poultry,pigs (kgN/yr)","sheep & other (kgN/yr)","N2O cpp (t/yr)","N2O s&o (t/yr)","CO2e cpp (Gg/yr)","CO2e s&o (Gg/yr)","CO2e subtotal (Gg/yr)","DirN2OManSoil CO2e total (Gg/yr)","Fertilizer (kg N/yr)","CropResidues (kg N/yr)","Manure (kg N/yr)","N2O Volatilised (t/yr)","CO2e Volatilised (Gg/yr)","N2O leached (y/yr)","CO2e leached (Gg/yr)","IndN2OManSoil CO2e Total (Gg/yr)","Total (BAU)",null,null,null,"DirN2OManSoilPol",null,null,null,"Area Available (ha)","% Area Burnt","Area Burnt (ha)","GHG (tCH4)","GHG due to CropBurn (Gg CO2e)","Reduction in GHG (Gg CO2e)","Nett GHG (Gg CO2e)",null,"BAU","Fertilizer (kg N/yr)","N2O Fert (t)","CO2e Fert (Gg)","ER","Change","Total-change",null,"Food","Garden","Paper","Total",null,null,"Total CO2e (Gg)","Change","Total+ change",null,"Reduced fertilizer (KgN/yr)","CropResidues (kgN/yr)","Manure (kg N/yr)","N2O Volatized (t/yr)","CO2e Volatized (Gg/yr)","N2O leached (y/yr)","CO2e leached (Gg/yr)","CO2e Total (Gg)","Change","TotalDirN2O-Change",null,null,null,null,null,null,"BAU","SC1","SC2","SC3","SC4"]
[2006,{"$f":"'6. TNC Assumptions'!C15","v":70800},{"$f":"B8*'5. TNC Parameters'!$H$10","v":7080},{"$f":"C8*'5. TNC Parameters'!$H$6*'5. TNC Parameters'!$H$7*'5. TNC Parameters'!$H$8/1000","v":124.25400000000002},{"$f":"D8*'5. TNC Parameters'!$H$9/1000","v":3.1063500000000004},7526219,3316504,2933111.5548999999,{"$f":"'TNC CropScenarios'!F8*'5. TNC Parameters'!$H$12*'5. TNC Parameters'!$H$13/1000","v":118.26915571428572},{"$f":"G8*'5. TNC Parameters'!$H$12*'5. TNC Parameters'!$H$13/1000","v":52.116491428571429},{"$f":"H8*'5. TNC Parameters'!$H$12*'5. TNC Parameters'!$H$13/1000","v":46.091753005571427},{"$f":"I8*'5. TNC Parameters'!$H$16/1000","v":35.24420840285714},{"$f":"J8*'5. TNC Parameters'!$H$16/1000","v":15.530714445714286},{"$f":"K8*'5. TNC Parameters'!$H$16/1000","v":13.735342395660286},{"$f":"SUM('TNC CropScenarios'!L8:N8)","v":64.510265244231718},null,451428.39,{"$f":"P8*'5. TNC Parameters'!$H$14*'5. TNC Parameters'!$H$13/1000","v":0},{"$f":"Q8*'5. TNC Parameters'!$H$15*'5. TNC Parameters'!$H$13/1000","v":7.0938747000000006},{"$f":"R8*'5. TNC Parameters'!$H$16/1000","v":0},{"$f":"S8*'5. TNC Parameters'!$H$16/1000","v":2.1139746606000003},{"$f":"'TNC CropScenarios'!T8+'TNC CropScenarios'!U8","v":2.1139746606000003},{"$f":"'TNC CropScenarios'!O8+'TNC CropScenarios'!V8","v":66.624239904831711},{"$f":"F8","v":7526219},{"$f":"G8","v":3316504},962068.5,{"$f":"(((X8*'5. TNC Parameters'!$H$18)+(Z8*'5. TNC Parameters'!$H$19))*('5. TNC Parameters'!$H$24*'5. TNC Parameters'!$H$21))/1000","v":14.850559428571431},{"$f":"AA8*'5. TNC Parameters'!$H$22/1000","v":4.4254667097142866},{"$f":"((X8+Y8+Z8)*'5. TNC Parameters'!$H$20*'5. TNC Parameters'!$H$23*'5. TNC Parameters'!$H$21)/1000","v":41.73836994642857},{"$f":"AC8*'5. TNC Parameters'!$H$22/1000","v":12.438034244035714},{"$f":"AB8+AD8","v":16.863500953750002},{"$f":"E8+W8+AE8","v":86.594090858581723},null,null,null,{"$f":"INDEX((DirN2OManSoilPol!$U$15:$U$43),MATCH(A8,DirN2OManSoilPol!$A$15:A$43,0))","v":66.624239904831711},null,null,null,{"$f":"'6. TNC Assumptions'!B15","v":70800},{"$f":"'6. TNC Assumptions'!F15","v":0.1},{"$f":"AN8*AO8","v":7080},{"$f":"AP8*'5. TNC Parameters'!$H$6*'5. TNC Parameters'!$H$7*'5. TNC Parameters'!$H$8/1000","v":124.25400000000002},{"$f":"AQ8*'5. TNC Parameters'!$H$9/1000","v":3.1063500000000004},{"$f":"E8-AR8","v":0},{"$f":"AF8-AS8","v":86.594090858581723},null,{"$f":"L8","v":35.24420840285714},{"$f":"'TNC CropScenarios'!F8*'6. TNC Assumptions'!K15","v":7526219},{"$f":"AW8*'5. TNC Parameters'!$H$12*'5. TNC Parameters'!$H$13/1000","v":118.26915571428572},{"$f":"AX8*'5. TNC Parameters'!$H$16/1000","v":35.24420840285714},{"$f":"AY8","v":35.24420840285714},{"$f":"AV8-AZ8","v":0},{"$f":"E8+AJ8+AE8-BA8","v":86.594090858581723},null,null,null,null,null,null,null,null,null,{"$f":"BB8+BK8","v":86.594090858581723},null,{"$f":"AW8","v":7526219},{"$f":"'TNC CropScenarios'!Y8","v":3316504},{"$f":"'TNC CropScenarios'!Z8","v":962068.5},{"$f":"(((BN8*'5. TNC Parameters'!$H$18)+(BP8*'5. TNC Parameters'!$H$19))*('5. TNC Parameters'!$H$24*'5. TNC Parameters'!$H$21))/1000","v":14.850559428571431},{"$f":"BQ8*'5. TNC Parameters'!$H$22/1000","v":4.4254667097142866},{"$f":"((BN8+BO8+BP8)*'5. TNC Parameters'!$H$20*'5. TNC Parameters'!$H$23*'5. TNC Parameters'!$H$21)/1000","v":41.73836994642857},{"$f":"BS8*'5. TNC Parameters'!$H$22/1000","v":12.438034244035714},{"$f":"BR8+BT8","v":16.863500953750002},{"$f":"AE8-BU8","v":0},{"$f":"BL8-BV8","v":86.594090858581723},null,{"$f":"BW8-AS8","v":86.594090858581723},{"$f":"AF8-BY8","v":0},null,null,null,{"$f":"AF8","v":86.594090858581723},{"$f":"AT8","v":86.594090858581723},{"$f":"BB8","v":86.594090858581723},{"$f":"BW8","v":86.594090858581723},{"$f":"BY8","v":86.594090858581723},null,86.594090858581723,86.594090858581723,86.594090858581723,86.594090858581723,86.594090858581723,null,{"$f":"CD8-CJ8","v":0},{"$f":"CE8-CK8","v":0},0,0,0]
[2007,{"$f":"'6. TNC Assumptions'!C16","v":68520},{"$f":"B9*'5. TNC Parameters'!$H$10","v":6852},{"$f":"C9*'5. TNC Parameters'!$H$6*'5. TNC Parameters'!$H$7*'5. TNC Parameters'!$H$8/1000","v":120.2526},{"$f":"D9*'5. TNC Parameters'!$H$9/1000","v":3.0063149999999998},7267732,3208625,2990028.0913,{"$f":"'TNC CropScenarios'!F9*'5. TNC Parameters'!$H$12*'5. TNC Parameters'!$H$13/1000","v":114.20721714285715},{"$f":"G9*'5. TNC Parameters'!$H$12*'5. TNC Parameters'!$H$13/1000","v":50.421250000000001},{"$f":"H9*'5. TNC Parameters'!$H$12*'5. TNC Parameters'!$H$13/1000","v":46.98615572042857},{"$f":"I9*'5. TNC Parameters'!$H$16/1000","v":34.033750708571432},{"$f":"J9*'5. TNC Parameters'!$H$16/1000","v":15.025532499999999},{"$f":"K9*'5. TNC Parameters'!$H$16/1000","v":14.001874404687715},{"$f":"SUM('TNC CropScenarios'!L9:N9)","v":63.061157613259141},null,409968,{"$f":"P9*'5. TNC Parameters'!$H$14*'5. TNC Parameters'!$H$13/1000","v":0},{"$f":"Q9*'5. TNC Parameters'!$H$15*'5. TNC Parameters'!$H$13/1000","v":6.4423542857142859},{"$f":"R9*'5. TNC Parameters'!$H$16/1000","v":0},{"$f":"S9*'5. TNC Parameters'!$H$16/1000","v":1.9198215771428573},{"$f":"'TNC CropScenarios'!T9+'TNC CropScenarios'!U9","v":1.9198215771428573},{"$f":"'TNC CropScenarios'!O9+'TNC CropScenarios'!V9","v":64.980979190401996},{"$f":"F9","v":7267732},{"$f":"G9","v":3208625},962068.5,{"$f":"((X9*'5. TNC Parameters'!$H$18)+(Z9*'5. TNC Parameters'!$H$19))*'5. TNC Parameters'!$H$24*'5. TNC Parameters'!$H$21/1000","v":14.444365571428575},{"$f":"AA9*'5. TNC Parameters'!$H$22/1000","v":4.3044209402857154},{"$f":"((X9+Y9+Z9)*'5. TNC Parameters'!$H$20*'5. TNC Parameters'!$H$23*'5. TNC Parameters'!$H$21)/1000","v":40.443004446428567},{"$f":"AC9*'5. TNC Parameters'!$H$22/1000","v":12.052015325035713},16.356436265321427,{"$f":"E9+W9+AE9","v":84.343730455723431},null,null,null,{"$f":"INDEX((DirN2OManSoilPol!$U$15:$U$43),MATCH(A9,DirN2OManSoilPol!$A$15:A$43,0))","v":64.980979190401996},null,null,null,{"$f":"'6. TNC Assumptions'!B16","v":68520},{"$f":"'6. TNC Assumptions'!F16","v":0.1},{"$f":"AN9*AO9","v":6852},{"$f":"AP9*'5. TNC Parameters'!$H$6*'5. TNC Parameters'!$H$7*'5. TNC Parameters'!$H$8/1000","v":120.2526},{"$f":"AQ9*'5. TNC Parameters'!$H$9/1000","v":3.0063149999999998},0,84.343730455723431,null,{"$f":"L9","v":34.033750708571432},{"$f":"'TNC CropScenarios'!F9*'6. TNC Assumptions'!K16","v":7267732},{"$f":"AW9*'5. TNC Parameters'!$H$12*'5. TNC Parameters'!$H$13/1000","v":114.20721714285715},{"$f":"AX9*'5. TNC Parameters'!$H$16/1000","v":34.033750708571432},{"$f":"AY9","v":34.033750708571432},0,84.343730455723431,null,null,null,null,null,null,null,null,null,84.343730455723431,null,{"$f":"AW9","v":7267732},{"$f":"'TNC CropScenarios'!Y9","v":3208625},{"$f":"'TNC CropScenarios'!Z9","v":962068.5},{"$f":"(((BN9*'5. TNC Parameters'!$H$18)+(BP9*'5. TNC Parameters'!$H$19))*('5. TNC Parameters'!$H$24*'5. TNC Parameters'!$H$21))/1000","v":14.444365571428575},{"$f":"BQ9*'5. TNC Parameters'!$H$22/1000","v":4.3044209402857154},{"$f":"((BN9+BO9+BP9)*'5. TNC Parameters'!$H$20*'5. TNC Parameters'!$H$23*'5. TNC Parameters'!$H$21)/1000","v":40.443004446428567},{"$f":"BS9*'5. TNC Parameters'!$H$22/1000","v":12.052015325035713},16.356436265321427,{"$f":"AE9-BU9","v":0},84.343730455723431,null,84.343730455723431,0,null,null,null,{"$f":"AF9","v":84.343730455723431},{"$f":"AT9","v":84.343730455723431},{"$f":"BB9","v":84.343730455723431},{"$f":"BW9","v":84.343730455723431},{"$f":"BY9","v":84.343730455723431},null,84.343730455723431,84.343730455723431,84.343730455723431,84.343730455723431,84.343730455723431,null,{"$f":"CD9-CJ9","v":0},{"$f":"CE9-CK9","v":0},{"$f":"CF9-CL9","v":0},{"$f":"CG9-CM9","v":0},{"$f":"CH9-CN9","v":0}]
[2008,{"$f":"'6. TNC Assumptions'!C17","v":65440},{"$f":"B10*'5. TNC Parameters'!$H$10","v":6544},{"$f":"C10*'5. TNC Parameters'!$H$6*'5. TNC Parameters'!$H$7*'5. TNC Parameters'!$H$8/1000","v":114.84720000000002},{"$f":"D10*'5. TNC Parameters'!$H$9/1000","v":2.8711800000000003},6807140,3064362,2878426.2456999999,{"$f":"'TNC CropScenarios'!F10*'5. TNC Parameters'!$H$12*'5. TNC Parameters'!$H$13/1000","v":106.96934285714285},{"$f":"G10*'5. TNC Parameters'!$H$12*'5. TNC Parameters'!$H$13/1000","v":48.154259999999994},{"$f":"H10*'5. TNC Parameters'!$H$12*'5. TNC Parameters'!$H$13/1000","v":45.232412432428575},{"$f":"I10*'5. TNC Parameters'!$H$16/1000","v":31.876864171428569},{"$f":"J10*'5. TNC Parameters'!$H$16/1000","v":14.349969479999999},{"$f":"K10*'5. TNC Parameters'!$H$16/1000","v":13.479258904863714},{"$f":"SUM('TNC CropScenarios'!L10:N10)","v":59.706092556292276},null,409968,{"$f":"P10*'5. TNC Parameters'!$H$14*'5. TNC Parameters'!$H$13/1000","v":0},{"$f":"Q10*'5. TNC Parameters'!$H$15*'5. TNC Parameters'!$H$13/1000","v":6.4423542857142859},{"$f":"R10*'5. TNC Parameters'!$H$16/1000","v":0},{"$f":"S10*'5. TNC Parameters'!$H$16/1000","v":1.9198215771428573},{"$f":"'TNC CropScenarios'!T10+'TNC CropScenarios'!U10","v":1.9198215771428573},{"$f":"'TNC CropScenarios'!O10+'TNC CropScenarios'!V10","v":61.625914133435131},6807140,3064362,962068.5,{"$f":"((X10*'5. TNC Parameters'!$H$18)+(Z10*'5. TNC Parameters'!$H$19))*'5. TNC Parameters'!$H$24*'5. TNC Parameters'!$H$21/1000","v":13.720578142857143},{"$f":"AA10*'5. TNC Parameters'!$H$22/1000","v":4.0887322865714291},{"$f":"((X10+Y10+Z10)*'5. TNC Parameters'!$H$20*'5. TNC Parameters'!$H$23*'5. TNC Parameters'!$H$21)/1000","v":38.30440998214285},{"$f":"AC10*'5. TNC Parameters'!$H$22/1000","v":11.414714174678569},15.503446461249997,80.00054059468512,null,null,null,{"$f":"INDEX((DirN2OManSoilPol!$U$15:$U$43),MATCH(A10,DirN2OManSoilPol!$A$15:A$43,0))","v":61.625914133435131},null,null,null,{"$f":"'6. TNC Assumptions'!B17","v":65440},{"$f":"'6. TNC Assumptions'!F17","v":0.1},6544,{"$f":"AP10*'5. TNC Parameters'!$H$6*'5. TNC Parameters'!$H$7*'5. TNC Parameters'!$H$8/1000","v":114.84720000000002},{"$f":"AQ10*'5. TNC Parameters'!$H$9/1000","v":2.8711800000000003},0,80.00054059468512,null,31.876864171428569,{"$f":"'TNC CropScenarios'!F10*'6. TNC Assumptions'!K17","v":6807140},{"$f":"AW10*'5. TNC Parameters'!$H$12*'5. TNC Parameters'!$H$13/1000","v":106.96934285714285},{"$f":"AX10*'5. TNC Parameters'!$H$16/1000","v":31.876864171428569},31.876864171428569,0,80.00054059468512,null,null,null,null,null,null,null,null,null,80.00054059468512,null,6807140,{"$f":"'TNC CropScenarios'!Y10","v":3064362},{"$f":"'TNC CropScenarios'!Z10","v":962068.5},{"$f":"(((BN10*'5. TNC Parameters'!$H$18)+(BP10*'5. TNC Parameters'!$H$19))*('5. TNC Parameters'!$H$24*'5. TNC Parameters'!$H$21))/1000","v":13.720578142857143},{"$f":"BQ10*'5. TNC Parameters'!$H$22/1000","v":4.0887322865714291},{"$f":"((BN10+BO10+BP10)*'5. TNC Parameters'!$H$20*'5. TNC Parameters'!$H$23*'5. TNC Parameters'!$H$21)/1000","v":38.30440998214285},{"$f":"BS10*'5. TNC Parameters'!$H$22/1000","v":11.414714174678569},15.503446461249997,0,80.00054059468512,null,80.00054059468512,0,null,null,null,80.00054059468512,80.00054059468512,80.00054059468512,80.00054059468512,80.00054059468512,null,80.00054059468512,80.00054059468512,80.00054059468512,80.00054059468512,80.00054059468512,null,0,0,0,0,0]
[2009,{"$f":"'6. TNC Assumptions'!C18","v":65850},{"$f":"B11*'5. TNC Parameters'!$H$10","v":6585},{"$f":"C11*'5. TNC Parameters'!$H$6*'5. TNC Parameters'!$H$7*'5. TNC Parameters'!$H$8/1000","v":115.56675000000001},{"$f":"D11*'5. TNC Parameters'!$H$9/1000","v":2.8891687500000001},6616456,3013169,2637317.4032999999,{"$f":"'TNC CropScenarios'!F11*'5. TNC Parameters'!$H$12*'5. TNC Parameters'!$H$13/1000","v":103.97287999999999},{"$f":"G11*'5. TNC Parameters'!$H$12*'5. TNC Parameters'!$H$13/1000","v":47.349798571428572},{"$f":"H11*'5. TNC Parameters'!$H$12*'5. TNC Parameters'!$H$13/1000","v":41.443559194714283},{"$f":"I11*'5. TNC Parameters'!$H$16/1000","v":30.983918239999994},{"$f":"J11*'5. TNC Parameters'!$H$16/1000","v":14.110239974285713},{"$f":"K11*'5. TNC Parameters'!$H$16/1000","v":12.350180640024856},{"$f":"SUM('TNC CropScenarios'!L11:N11)","v":57.444338854310558},67844.831250000003,417977.60087999998,{"$f":"P11*'5. TNC Parameters'!$H$14*'5. TNC Parameters'!$H$13/1000","v":2.1322661250000001},{"$f":"Q11*'5. TNC Parameters'!$H$15*'5. TNC Parameters'!$H$13/1000","v":6.5682194423999993},{"$f":"R11*'5. TNC Parameters'!$H$16/1000","v":0.63541530525000012},{"$f":"S11*'5. TNC Parameters'!$H$16/1000","v":1.9573293938351999},{"$f":"'TNC CropScenarios'!T11+'TNC CropScenarios'!U11","v":2.5927446990852001},{"$f":"'TNC CropScenarios'!O11+'TNC CropScenarios'!V11","v":60.03708355339576},6616456,3013169,962068.5,{"$f":"((X11*'5. TNC Parameters'!$H$18)+(Z11*'5. TNC Parameters'!$H$19))*'5. TNC Parameters'!$H$24*'5. TNC Parameters'!$H$21/1000","v":13.420931857142858},{"$f":"AA11*'5. TNC Parameters'!$H$22/1000","v":3.9994376934285714},{"$f":"((X11+Y11+Z11)*'5. TNC Parameters'!$H$20*'5. TNC Parameters'!$H$23*'5. TNC Parameters'!$H$21)/1000","v":37.449202017857139},{"$f":"AC11*'5. TNC Parameters'!$H$22/1000","v":11.159862201321427},15.159299894749999,78.085552198145763,null,null,null,{"$f":"INDEX((DirN2OManSoilPol!$U$15:$U$43),MATCH(A11,DirN2OManSoilPol!$A$15:A$43,0))","v":60.03708355339576},null,null,null,{"$f":"'6. TNC Assumptions'!B18","v":65850},{"$f":"'6. TNC Assumptions'!F18","v":0.1},6585,{"$f":"AP11*'5. TNC Parameters'!$H$6*'5. TNC Parameters'!$H$7*'5. TNC Parameters'!$H$8/1000","v":115.56675000000001},{"$f":"AQ11*'5. TNC Parameters'!$H$9/1000","v":2.8891687500000001},0,78.085552198145763,null,30.983918239999994,{"$f":"'TNC CropScenarios'!F11*'6. TNC Assumptions'!K18","v":6616456},{"$f":"AW11*'5. TNC Parameters'!$H$12*'5. TNC Parameters'!$H$13/1000","v":103.97287999999999},{"$f":"AX11*'5. TNC Parameters'!$H$16/1000","v":30.983918239999994},30.983918239999994,0,78.085552198145763,null,null,null,null,null,null,null,null,null,78.085552198145763,null,6616456,{"$f":"'TNC CropScenarios'!Y11","v":3013169},{"$f":"'TNC CropScenarios'!Z11","v":962068.5},{"$f":"(((BN11*'5. TNC Parameters'!$H$18)+(BP11*'5. TNC Parameters'!$H$19))*('5. TNC Parameters'!$H$24*'5. TNC Parameters'!$H$21))/1000","v":13.420931857142859},{"$f":"BQ11*'5. TNC Parameters'!$H$22/1000","v":3.9994376934285718},{"$f":"((BN11+BO11+BP11)*'5. TNC Parameters'!$H$20*'5. TNC Parameters'!$H$23*'5. TNC Parameters'!$H$21)/1000","v":37.449202017857139},{"$f":"BS11*'5. TNC Parameters'!$H$22/1000","v":11.159862201321427},15.159299894749999,0,78.085552198145763,null,78.085552198145763,0,null,null,null,78.085552198145763,78.085552198145763,78.085552198145763,78.085552198145763,78.085552198145763,null,78.085552198145763,78.085552198145763,78.085552198145763,78.085552198145763,78.085552198145763,null,0,0,0,0,0]
[2010,{"$f":"'6. TNC Assumptions'!C19","v":64130},{"$f":"B12*'5. TNC Parameters'!$H$10","v":6413},{"$f":"C12*'5. TNC Parameters'!$H$6*'5. TNC Parameters'!$H$7*'5. TNC Parameters'!$H$8/1000","v":112.54815000000001},{"$f":"D12*'5. TNC Parameters'!$H$9/1000","v":2.8137037500000002},7468310,3012269,3508672.6663000002,{"$f":"'TNC CropScenarios'!F12*'5. TNC Parameters'!$H$12*'5. TNC Parameters'!$H$13/1000","v":117.35915714285714},{"$f":"G12*'5. TNC Parameters'!$H$12*'5. TNC Parameters'!$H$13/1000","v":47.335655714285721},{"$f":"H12*'5. TNC Parameters'!$H$12*'5. TNC Parameters'!$H$13/1000","v":55.136284756142857},{"$f":"I12*'5. TNC Parameters'!$H$16/1000","v":34.973028828571429},{"$f":"J12*'5. TNC Parameters'!$H$16/1000","v":14.106025402857146},{"$f":"K12*'5. TNC Parameters'!$H$16/1000","v":16.430612857330573},{"$f":"SUM('TNC CropScenarios'!L12:N12)","v":65.509667088759144},10606.575150000001,409968,{"$f":"P12*'5. TNC Parameters'!$H$14*'5. TNC Parameters'!$H$13/1000","v":0.3333495047142857},{"$f":"Q12*'5. TNC Parameters'!$H$15*'5. TNC Parameters'!$H$13/1000","v":6.4423542857142859},{"$f":"R12*'5. TNC Parameters'!$H$16/1000","v":9.9338152404857147E-2},{"$f":"S12*'5. TNC Parameters'!$H$16/1000","v":1.9198215771428573},{"$f":"'TNC CropScenarios'!T12+'TNC CropScenarios'!U12","v":2.0191597295477144},{"$f":"'TNC CropScenarios'!O12+'TNC CropScenarios'!V12","v":67.528826818306854},7468310,3012269,962068.5,{"$f":"((X12*'5. TNC Parameters'!$H$18)+(Z12*'5. TNC Parameters'!$H$19))*'5. TNC Parameters'!$H$24*'5. TNC Parameters'!$H$21/1000","v":14.759559571428571},{"$f":"AA12*'5. TNC Parameters'!$H$22/1000","v":4.3983487522857141},{"$f":"((X12+Y12+Z12)*'5. TNC Parameters'!$H$20*'5. TNC Parameters'!$H$23*'5. TNC Parameters'!$H$21)/1000","v":40.457932232142852},{"$f":"AC12*'5. TNC Parameters'!$H$22/1000","v":12.05646380517857},16.454812557464283,86.797343125771135,null,null,null,{"$f":"INDEX((DirN2OManSoilPol!$U$15:$U$43),MATCH(A12,DirN2OManSoilPol!$A$15:A$43,0))","v":67.528826818306854},null,null,null,{"$f":"'6. TNC Assumptions'!B19","v":64130},{"$f":"'6. TNC Assumptions'!F19","v":0.1},6413,{"$f":"AP12*'5. TNC Parameters'!$H$6*'5. TNC Parameters'!$H$7*'5. TNC Parameters'!$H$8/1000","v":112.54815000000001},{"$f":"AQ12*'5. TNC Parameters'!$H$9/1000","v":2.8137037500000002},0,86.797343125771135,null,34.973028828571429,{"$f":"'TNC CropScenarios'!F12*'6. TNC Assumptions'!K19","v":7468310},{"$f":"AW12*'5. TNC Parameters'!$H$12*'5. TNC Parameters'!$H$13/1000","v":117.35915714285714},{"$f":"AX12*'5. TNC Parameters'!$H$16/1000","v":34.973028828571429},34.973028828571429,0,86.797343125771135,null,null,null,null,null,null,null,null,null,86.797343125771135,null,7468310,{"$f":"'TNC CropScenarios'!Y12","v":3012269},{"$f":"'TNC CropScenarios'!Z12","v":962068.5},{"$f":"(((BN12*'5. TNC Parameters'!$H$18)+(BP12*'5. TNC Parameters'!$H$19))*('5. TNC Parameters'!$H$24*'5. TNC Parameters'!$H$21))/1000","v":14.759559571428571},{"$f":"BQ12*'5. TNC Parameters'!$H$22/1000","v":4.3983487522857141},{"$f":"((BN12+BO12+BP12)*'5. TNC Parameters'!$H$20*'5. TNC Parameters'!$H$23*'5. TNC Parameters'!$H$21)/1000","v":40.457932232142852},{"$f":"BS12*'5. TNC Parameters'!$H$22/1000","v":12.05646380517857},16.454812557464283,0,86.797343125771135,null,86.797343125771135,0,null,null,null,86.797343125771135,86.797343125771135,86.797343125771135,86.797343125771135,86.797343125771135,null,86.797343125771135,86.797343125771135,86.797343125771135,86.797343125771135,86.797343125771135,null,0,0,0,0,0]
[2011,{"$f":"'6. TNC Assumptions'!C20","v":61730},{"$f":"B13*'5. TNC Parameters'!$H$10","v":6173},{"$f":"C13*'5. TNC Parameters'!$H$6*'5. TNC Parameters'!$H$7*'5. TNC Parameters'!$H$8/1000","v":108.33615},{"$f":"D13*'5. TNC Parameters'!$H$9/1000","v":2.70840375},7834140,2902017,3528789,{"$f":"'TNC CropScenarios'!F13*'5. TNC Parameters'!$H$12*'5. TNC Parameters'!$H$13/1000","v":123.1079142857143},{"$f":"G13*'5. TNC Parameters'!$H$12*'5. TNC Parameters'!$H$13/1000","v":45.603124285714287},{"$f":"H13*'5. TNC Parameters'!$H$12*'5. TNC Parameters'!$H$13/1000","v":55.452398571428567},{"$f":"I13*'5. TNC Parameters'!$H$16/1000","v":36.686158457142859},{"$f":"J13*'5. TNC Parameters'!$H$16/1000","v":13.589731037142858},{"$f":"K13*'5. TNC Parameters'!$H$16/1000","v":16.524814774285716},{"$f":"SUM('TNC CropScenarios'!L13:N13)","v":66.800704268571437},11286.422325,420000,{"$f":"P13*'5. TNC Parameters'!$H$14*'5. TNC Parameters'!$H$13/1000","v":0.35471613021428566},{"$f":"Q13*'5. TNC Parameters'!$H$15*'5. TNC Parameters'!$H$13/1000","v":6.6},{"$f":"R13*'5. TNC Parameters'!$H$16/1000","v":0.10570540680385714},{"$f":"S13*'5. TNC Parameters'!$H$16/1000","v":1.9667999999999999},{"$f":"'TNC CropScenarios'!T13+'TNC CropScenarios'!U13","v":2.0725054068038569},{"$f":"'TNC CropScenarios'!O13+'TNC CropScenarios'!V13","v":68.873209675375293},7834140,2902017,962068.5,{"$f":"((X13*'5. TNC Parameters'!$H$18)+(Z13*'5. TNC Parameters'!$H$19))*'5. TNC Parameters'!$H$24*'5. TNC Parameters'!$H$21/1000","v":15.334435285714285},{"$f":"AA13*'5. TNC Parameters'!$H$22/1000","v":4.5696617151428569},{"$f":"((X13+Y13+Z13)*'5. TNC Parameters'!$H$20*'5. TNC Parameters'!$H$23*'5. TNC Parameters'!$H$21)/1000","v":41.361583017857143},{"$f":"AC13*'5. TNC Parameters'!$H$22/1000","v":12.325751739321429},16.895413454464286,88.477026879839585,null,null,null,{"$f":"INDEX((DirN2OManSoilPol!$U$15:$U$43),MATCH(A13,DirN2OManSoilPol!$A$15:A$43,0))","v":68.873209675375293},null,null,null,{"$f":"'6. TNC Assumptions'!B20","v":61730},{"$f":"'6. TNC Assumptions'!F20","v":0.1},6173,{"$f":"AP13*'5. TNC Parameters'!$H$6*'5. TNC Parameters'!$H$7*'5. TNC Parameters'!$H$8/1000","v":108.33615},{"$f":"AQ13*'5. TNC Parameters'!$H$9/1000","v":2.70840375},0,88.477026879839585,null,36.686158457142859,{"$f":"'TNC CropScenarios'!F13*'6. TNC Assumptions'!K20","v":7834140},{"$f":"AW13*'5. TNC Parameters'!$H$12*'5. TNC Parameters'!$H$13/1000","v":123.1079142857143},{"$f":"AX13*'5. TNC Parameters'!$H$16/1000","v":36.686158457142859},36.686158457142859,0,88.477026879839585,null,null,null,null,null,null,null,null,null,88.477026879839585,null,7834140,{"$f":"'TNC CropScenarios'!Y13","v":2902017},{"$f":"'TNC CropScenarios'!Z13","v":962068.5},{"$f":"(((BN13*'5. TNC Parameters'!$H$18)+(BP13*'5. TNC Parameters'!$H$19))*('5. TNC Parameters'!$H$24*'5. TNC Parameters'!$H$21))/1000","v":15.334435285714285},{"$f":"BQ13*'5. TNC Parameters'!$H$22/1000","v":4.5696617151428569},{"$f":"((BN13+BO13+BP13)*'5. TNC Parameters'!$H$20*'5. TNC Parameters'!$H$23*'5. TNC Parameters'!$H$21)/1000","v":41.361583017857143},{"$f":"BS13*'5. TNC Parameters'!$H$22/1000","v":12.325751739321429},16.895413454464286,0,88.477026879839585,null,88.477026879839585,0,null,null,null,88.477026879839585,88.477026879839585,88.477026879839585,88.477026879839585,88.477026879839585,null,88.477026879839585,88.477026879839585,88.477026879839585,88.477026879839585,88.477026879839585,null,0,0,0,0,0]
[2012,{"$f":"'6. TNC Assumptions'!C21","v":57160},{"$f":"B14*'5. TNC Parameters'!$H$10","v":5716},{"$f":"C14*'5. TNC Parameters'!$H$6*'5. TNC Parameters'!$H$7*'5. TNC Parameters'!$H$8/1000","v":100.3158},{"$f":"D14*'5. TNC Parameters'!$H$9/1000","v":2.507895},9700004,2697461,3437753.0843000002,{"$f":"'TNC CropScenarios'!F14*'5. TNC Parameters'!$H$12*'5. TNC Parameters'!$H$13/1000","v":152.42863428571431},{"$f":"G14*'5. TNC Parameters'!$H$12*'5. TNC Parameters'!$H$13/1000","v":42.388672857142851},{"$f":"H14*'5. TNC Parameters'!$H$12*'5. TNC Parameters'!$H$13/1000","v":54.021834181857145},{"$f":"I14*'5. TNC Parameters'!$H$16/1000","v":45.423733017142865},{"$f":"J14*'5. TNC Parameters'!$H$16/1000","v":12.631824511428569},{"$f":"K14*'5. TNC Parameters'!$H$16/1000","v":16.09850658619343},{"$f":"SUM('TNC CropScenarios'!L14:N14)","v":74.154064114764864},14442.256125,462125.79920000001,{"$f":"P14*'5. TNC Parameters'!$H$14*'5. TNC Parameters'!$H$13/1000","v":0.45389947821428567},{"$f":"Q14*'5. TNC Parameters'!$H$15*'5. TNC Parameters'!$H$13/1000","v":7.2619768445714277},{"$f":"R14*'5. TNC Parameters'!$H$16/1000","v":0.13526204450785712},{"$f":"S14*'5. TNC Parameters'!$H$16/1000","v":2.1640690996822856},{"$f":"'TNC CropScenarios'!T14+'TNC CropScenarios'!U14","v":2.2993311441901425},{"$f":"'TNC CropScenarios'!O14+'TNC CropScenarios'!V14","v":76.453395258955013},9700004,2697461,962068.5,{"$f":"((X14*'5. TNC Parameters'!$H$18)+(Z14*'5. TNC Parameters'!$H$19))*'5. TNC Parameters'!$H$24*'5. TNC Parameters'!$H$21/1000","v":18.266507285714287},{"$f":"AA14*'5. TNC Parameters'!$H$22/1000","v":5.4434191711428577},{"$f":"((X14+Y14+Z14)*'5. TNC Parameters'!$H$20*'5. TNC Parameters'!$H$23*'5. TNC Parameters'!$H$21)/1000","v":47.235493446428571},{"$f":"AC14*'5. TNC Parameters'!$H$22/1000","v":14.076177047035713},19.51959621817857,98.480886477133595,null,null,null,{"$f":"INDEX((DirN2OManSoilPol!$U$15:$U$43),MATCH(A14,DirN2OManSoilPol!$A$15:A$43,0))","v":76.453395258955013},null,null,null,{"$f":"'6. TNC Assumptions'!B21","v":57160},{"$f":"'6. TNC Assumptions'!F21","v":0.1},5716,{"$f":"AP14*'5. TNC Parameters'!$H$6*'5. TNC Parameters'!$H$7*'5. TNC Parameters'!$H$8/1000","v":100.3158},{"$f":"AQ14*'5. TNC Parameters'!$H$9/1000","v":2.507895},0,98.480886477133595,null,45.423733017142865,{"$f":"'TNC CropScenarios'!F14*'6. TNC Assumptions'!K21","v":9700004},{"$f":"AW14*'5. TNC Parameters'!$H$12*'5. TNC Parameters'!$H$13/1000","v":152.42863428571431},{"$f":"AX14*'5. TNC Parameters'!$H$16/1000","v":45.423733017142865},45.423733017142865,0,98.480886477133595,null,null,null,null,null,null,null,null,null,98.480886477133595,null,9700004,{"$f":"'TNC CropScenarios'!Y14","v":2697461},{"$f":"'TNC CropScenarios'!Z14","v":962068.5},{"$f":"(((BN14*'5. TNC Parameters'!$H$18)+(BP14*'5. TNC Parameters'!$H$19))*('5. TNC Parameters'!$H$24*'5. TNC Parameters'!$H$21))/1000","v":18.266507285714287},{"$f":"BQ14*'5. TNC Parameters'!$H$22/1000","v":5.4434191711428577},{"$f":"((BN14+BO14+BP14)*'5. TNC Parameters'!$H$20*'5. TNC Parameters'!$H$23*'5. TNC Parameters'!$H$21)/1000","v":47.235493446428571},{"$f":"BS14*'5. TNC Parameters'!$H$22/1000","v":14.076177047035713},19.51959621817857,0,98.480886477133595,null,98.480886477133595,0,null,null,null,98.480886477133595,98.480886477133595,98.480886477133595,98.480886477133595,98.480886477133595,null,98.480886477133595,98.480886477133595,98.480886477133595,98.480886477133595,98.480886477133595,null,0,0,0,0,0]
[2013,{"$f":"'6. TNC Assumptions'!C22","v":56464},{"$f":"B15*'5. TNC Parameters'!$H$10","v":5646.4000000000005},{"$f":"C15*'5. TNC Parameters'!$H$6*'5. TNC Parameters'!$H$7*'5. TNC Parameters'!$H$8/1000","v":99.094320000000025},{"$f":"D15*'5. TNC Parameters'!$H$9/1000","v":2.4773580000000006},9967255,2665224,3379421.6993,{"$f":"'TNC CropScenarios'!F15*'5. TNC Parameters'!$H$12*'5. TNC Parameters'!$H$13/1000","v":156.62829285714287},{"$f":"G15*'5. TNC Parameters'!$H$12*'5. TNC Parameters'!$H$13/1000","v":41.882091428571428},{"$f":"H15*'5. TNC Parameters'!$H$12*'5. TNC Parameters'!$H$13/1000","v":53.105198131857144},{"$f":"I15*'5. TNC Parameters'!$H$16/1000","v":46.675231271428572},{"$f":"J15*'5. TNC Parameters'!$H$16/1000","v":12.480863245714286},{"$f":"K15*'5. TNC Parameters'!$H$16/1000","v":15.825349043293429},{"$f":"SUM('TNC CropScenarios'!L15:N15)","v":74.98144356043629},13170.0906,464088.0465,{"$f":"P15*'5. TNC Parameters'!$H$14*'5. TNC Parameters'!$H$13/1000","v":0.41391713314285716},{"$f":"Q15*'5. TNC Parameters'!$H$15*'5. TNC Parameters'!$H$13/1000","v":7.292812159285714},{"$f":"R15*'5. TNC Parameters'!$H$16/1000","v":0.12334730567657144},{"$f":"S15*'5. TNC Parameters'!$H$16/1000","v":2.1732580234671426},{"$f":"'TNC CropScenarios'!T15+'TNC CropScenarios'!U15","v":2.2966053291437141},{"$f":"'TNC CropScenarios'!O15+'TNC CropScenarios'!V15","v":77.278048889580006},9967255,2665224,962068.5,{"$f":"((X15*'5. TNC Parameters'!$H$18)+(Z15*'5. TNC Parameters'!$H$19))*'5. TNC Parameters'!$H$24*'5. TNC Parameters'!$H$21/1000","v":18.686473142857142},{"$f":"AA15*'5. TNC Parameters'!$H$22/1000","v":5.568568996571428},{"$f":"((X15+Y15+Z15)*'5. TNC Parameters'!$H$20*'5. TNC Parameters'!$H$23*'5. TNC Parameters'!$H$21)/1000","v":48.066435803571423},{"$f":"AC15*'5. TNC Parameters'!$H$22/1000","v":14.323797869464284},19.892366866035712,99.647773755615717,null,null,null,{"$f":"INDEX((DirN2OManSoilPol!$U$15:$U$43),MATCH(A15,DirN2OManSoilPol!$A$15:A$43,0))","v":77.278048889580006},null,null,null,{"$f":"'6. TNC Assumptions'!B22","v":56464},{"$f":"'6. TNC Assumptions'!F22","v":0.1},5646.4000000000005,{"$f":"AP15*'5. TNC Parameters'!$H$6*'5. TNC Parameters'!$H$7*'5. TNC Parameters'!$H$8/1000","v":99.094320000000025},{"$f":"AQ15*'5. TNC Parameters'!$H$9/1000","v":2.4773580000000006},0,99.647773755615717,null,46.675231271428572,{"$f":"'TNC CropScenarios'!F15*'6. TNC Assumptions'!K22","v":9967255},{"$f":"AW15*'5. TNC Parameters'!$H$12*'5. TNC Parameters'!$H$13/1000","v":156.62829285714287},{"$f":"AX15*'5. TNC Parameters'!$H$16/1000","v":46.675231271428572},46.675231271428572,0,99.647773755615717,null,null,null,null,null,null,null,null,null,99.647773755615717,null,9967255,{"$f":"'TNC CropScenarios'!Y15","v":2665224},{"$f":"'TNC CropScenarios'!Z15","v":962068.5},{"$f":"(((BN15*'5. TNC Parameters'!$H$18)+(BP15*'5. TNC Parameters'!$H$19))*('5. TNC Parameters'!$H$24*'5. TNC Parameters'!$H$21))/1000","v":18.686473142857142},{"$f":"BQ15*'5. TNC Parameters'!$H$22/1000","v":5.568568996571428},{"$f":"((BN15+BO15+BP15)*'5. TNC Parameters'!$H$20*'5. TNC Parameters'!$H$23*'5. TNC Parameters'!$H$21)/1000","v":48.066435803571423},{"$f":"BS15*'5. TNC Parameters'!$H$22/1000","v":14.323797869464284},19.892366866035712,0,99.647773755615717,null,99.647773755615717,0,null,null,null,99.647773755615717,99.647773755615717,99.647773755615717,99.647773755615717,99.647773755615717,null,99.647773755615717,99.647773755615717,99.647773755615717,99.647773755615717,99.647773755615717,null,0,0,0,0,0]
[2014,{"$f":"'6. TNC Assumptions'!C23","v":50694},{"$f":"B16*'5. TNC Parameters'!$H$10","v":5069.4000000000005},{"$f":"C16*'5. TNC Parameters'!$H$6*'5. TNC Parameters'!$H$7*'5. TNC Parameters'!$H$8/1000","v":88.967970000000022},{"$f":"D16*'5. TNC Parameters'!$H$9/1000","v":2.2241992500000007},{"$f":"F15*(1+'6. TNC Assumptions'!I23)","v":10166600.1},{"$f":"G15","v":2665224},{"$f":"H15+(H17-H15)/2","v":3440472.1319429623},{"$f":"'TNC CropScenarios'!F16*'5. TNC Parameters'!$H$12*'5. TNC Parameters'!$H$13/1000","v":159.76085871428572},{"$f":"G16*'5. TNC Parameters'!$H$12*'5. TNC Parameters'!$H$13/1000","v":41.882091428571428},{"$f":"H16*'5. TNC Parameters'!$H$12*'5. TNC Parameters'!$H$13/1000","v":54.064562073389403},{"$f":"I16*'5. TNC Parameters'!$H$16/1000","v":47.608735896857141},{"$f":"J16*'5. TNC Parameters'!$H$16/1000","v":12.480863245714286},{"$f":"K16*'5. TNC Parameters'!$H$16/1000","v":16.111239497870042},{"$f":"SUM('TNC CropScenarios'!L16:N16)","v":76.200838640441475},{"$f":"P15+(P17-P15)/2","v":12926.5553},{"$f":"Q15","v":464088.0465},{"$f":"P16*'5. TNC Parameters'!$H$14*'5. TNC Parameters'!$H$13/1000","v":0.40626316657142858},{"$f":"Q16*'5. TNC Parameters'!$H$15*'5. TNC Parameters'!$H$13/1000","v":7.292812159285714},{"$f":"R16*'5. TNC Parameters'!$H$16/1000","v":0.12106642363828571},{"$f":"S16*'5. TNC Parameters'!$H$16/1000","v":2.1732580234671426},{"$f":"'TNC CropScenarios'!T16+'TNC CropScenarios'!U16","v":2.2943244471054283},{"$f":"'TNC CropScenarios'!O16+'TNC CropScenarios'!V16","v":78.495163087546899},10166600.1,2665224,962068.5,{"$f":"((X16*'5. TNC Parameters'!$H$18)+(Z16*'5. TNC Parameters'!$H$19))*'5. TNC Parameters'!$H$24*'5. TNC Parameters'!$H$21/1000","v":18.999729728571431},{"$f":"AA16*'5. TNC Parameters'!$H$22/1000","v":5.6619194591142872},{"$f":"((X16+Y16+Z16)*'5. TNC Parameters'!$H$20*'5. TNC Parameters'!$H$23*'5. TNC Parameters'!$H$21)/1000","v":48.771263121428568},{"$f":"AC16*'5. TNC Parameters'!$H$22/1000","v":14.533836410185714},20.195755869300001,100.9151182068469,null,null,null,{"$f":"INDEX((DirN2OManSoilPol!$U$15:$U$43),MATCH(A16,DirN2OManSoilPol!$A$15:A$43,0))","v":78.495163087546899},null,null,null,{"$f":"'6. TNC Assumptions'!B23","v":50694},{"$f":"'6. TNC Assumptions'!F23","v":0.1},5069.4000000000005,{"$f":"AP16*'5. TNC Parameters'!$H$6*'5. TNC Parameters'!$H$7*'5. TNC Parameters'!$H$8/1000","v":88.967970000000022},{"$f":"AQ16*'5. TNC Parameters'!$H$9/1000","v":2.2241992500000007},0,100.9151182068469,null,47.608735896857141,{"$f":"'TNC CropScenarios'!F16*'6. TNC Assumptions'!K23","v":10166600.1},{"$f":"AW16*'5. TNC Parameters'!$H$12*'5. TNC Parameters'!$H$13/1000","v":159.76085871428572},{"$f":"AX16*'5. TNC Parameters'!$H$16/1000","v":47.608735896857141},47.608735896857141,0,100.9151182068469,null,null,null,null,null,null,null,null,null,100.9151182068469,null,10166600.1,{"$f":"'TNC CropScenarios'!Y16","v":2665224},{"$f":"'TNC CropScenarios'!Z16","v":962068.5},{"$f":"(((BN16*'5. TNC Parameters'!$H$18)+(BP16*'5. TNC Parameters'!$H$19))*('5. TNC Parameters'!$H$24*'5. TNC Parameters'!$H$21))/1000","v":18.999729728571431},{"$f":"BQ16*'5. TNC Parameters'!$H$22/1000","v":5.6619194591142872},{"$f":"((BN16+BO16+BP16)*'5. TNC Parameters'!$H$20*'5. TNC Parameters'!$H$23*'5. TNC Parameters'!$H$21)/1000","v":48.771263121428568},{"$f":"BS16*'5. TNC Parameters'!$H$22/1000","v":14.533836410185714},20.195755869300001,0,100.9151182068469,null,100.9151182068469,0,null,null,null,100.9151182068469,100.9151182068469,100.9151182068469,100.9151182068469,100.9151182068469,null,100.9151182068469,100.9151182068469,100.9151182068469,100.9151182068469,100.9151182068469,null,0,0,0,0,0]
[2015,{"$f":"'6. TNC Assumptions'!C24","v":52387},{"$f":"B17*'5. TNC Parameters'!$H$10","v":5238.7000000000007},{"$f":"C17*'5. TNC Parameters'!$H$6*'5. TNC Parameters'!$H$7*'5. TNC Parameters'!$H$8/1000","v":91.939185000000009},{"$f":"D17*'5. TNC Parameters'!$H$9/1000","v":2.2984796250000006},{"$f":"F16*(1+'6. TNC Assumptions'!I24)","v":10369932.102},2665224,{"$f":"MMS!U90","v":3501522.5645859241},{"$f":"'TNC CropScenarios'!F17*'5. TNC Parameters'!$H$12*'5. TNC Parameters'!$H$13/1000","v":162.95607588857141},{"$f":"G17*'5. TNC Parameters'!$H$12*'5. TNC Parameters'!$H$13/1000","v":41.882091428571428},{"$f":"H17*'5. TNC Parameters'!$H$12*'5. TNC Parameters'!$H$13/1000","v":55.02392601492167},{"$f":"I17*'5. TNC Parameters'!$H$16/1000","v":48.560910614794281},{"$f":"J17*'5. TNC Parameters'!$H$16/1000","v":12.480863245714286},{"$f":"K17*'5. TNC Parameters'!$H$16/1000","v":16.397129952446658},{"$f":"SUM('TNC CropScenarios'!L17:N17)","v":77.438903812955232},{"$f":"MMS!U92","v":12683.02},{"$f":"MMS!U91","v":464088.0465},{"$f":"P17*'5. TNC Parameters'!$H$14*'5. TNC Parameters'!$H$13/1000","v":0.3986092},{"$f":"Q17*'5. TNC Parameters'!$H$15*'5. TNC Parameters'!$H$13/1000","v":7.292812159285714},{"$f":"R17*'5. TNC Parameters'!$H$16/1000","v":0.1187855416},{"$f":"S17*'5. TNC Parameters'!$H$16/1000","v":2.1732580234671426},{"$f":"'TNC CropScenarios'!T17+'TNC CropScenarios'!U17","v":2.2920435650671425},{"$f":"'TNC CropScenarios'!O17+'TNC CropScenarios'!V17","v":79.730947378022378},10369932.102,2665224,962068.5,{"$f":"((X17*'5. TNC Parameters'!$H$18)+(Z17*'5. TNC Parameters'!$H$19))*'5. TNC Parameters'!$H$24*'5. TNC Parameters'!$H$21/1000","v":19.319251446000003},{"$f":"AA17*'5. TNC Parameters'!$H$22/1000","v":5.7571369309080014},{"$f":"((X17+Y17+Z17)*'5. TNC Parameters'!$H$20*'5. TNC Parameters'!$H$23*'5. TNC Parameters'!$H$21)/1000","v":49.49018698564285},{"$f":"AC17*'5. TNC Parameters'!$H$22/1000","v":14.748075721721568},20.50521265262957,102.53463965565194,null,null,null,{"$f":"INDEX((DirN2OManSoilPol!$U$15:$U$43),MATCH(A17,DirN2OManSoilPol!$A$15:A$43,0))","v":79.730947378022378},null,null,null,{"$f":"'6. TNC Assumptions'!B24","v":52387},{"$f":"'6. TNC Assumptions'!F24","v":0.1},5238.7000000000007,{"$f":"AP17*'5. TNC Parameters'!$H$6*'5. TNC Parameters'!$H$7*'5. TNC Parameters'!$H$8/1000","v":91.939185000000009},{"$f":"AQ17*'5. TNC Parameters'!$H$9/1000","v":2.2984796250000006},0,102.53463965565194,null,48.560910614794281,{"$f":"'TNC CropScenarios'!F17*'6. TNC Assumptions'!K24","v":10369932.102},{"$f":"AW17*'5. TNC Parameters'!$H$12*'5. TNC Parameters'!$H$13/1000","v":162.95607588857141},{"$f":"AX17*'5. TNC Parameters'!$H$16/1000","v":48.560910614794281},48.560910614794281,0,102.53463965565194,null,null,null,null,null,null,null,null,null,102.53463965565194,null,10369932.102,{"$f":"'TNC CropScenarios'!Y17","v":2665224},{"$f":"'TNC CropScenarios'!Z17","v":962068.5},{"$f":"(((BN17*'5. TNC Parameters'!$H$18)+(BP17*'5. TNC Parameters'!$H$19))*('5. TNC Parameters'!$H$24*'5. TNC Parameters'!$H$21))/1000","v":19.319251446000003},{"$f":"BQ17*'5. TNC Parameters'!$H$22/1000","v":5.7571369309080014},{"$f":"((BN17+BO17+BP17)*'5. TNC Parameters'!$H$20*'5. TNC Parameters'!$H$23*'5. TNC Parameters'!$H$21)/1000","v":49.49018698564285},{"$f":"BS17*'5. TNC Parameters'!$H$22/1000","v":14.748075721721568},20.50521265262957,0,102.53463965565194,null,102.53463965565194,0,null,null,null,102.53463965565194,102.53463965565194,102.53463965565194,102.53463965565194,102.53463965565194,null,102.53463965565194,102.53463965565194,102.53463965565194,102.53463965565194,102.53463965565194,null,0,0,0,0,0]
[2016,{"$f":"'6. TNC Assumptions'!C25","v":52000},{"$f":"B18*'5. TNC Parameters'!$H$10","v":5200},{"$f":"C18*'5. TNC Parameters'!$H$6*'5. TNC Parameters'!$H$7*'5. TNC Parameters'!$H$8/1000","v":91.26},{"$f":"D18*'5. TNC Parameters'!$H$9/1000","v":2.2814999999999999},{"$f":"F17*(1+'6. TNC Assumptions'!I25)","v":10577330.744039999},2665224,{"$f":"H17+($H$22-$H$17)/5","v":3517897.8239884605},{"$f":"'TNC CropScenarios'!F18*'5. TNC Parameters'!$H$12*'5. TNC Parameters'!$H$13/1000","v":166.21519740634284},{"$f":"G18*'5. TNC Parameters'!$H$12*'5. TNC Parameters'!$H$13/1000","v":41.882091428571428},{"$f":"H18*'5. TNC Parameters'!$H$12*'5. TNC Parameters'!$H$13/1000","v":55.281251519818667},{"$f":"I18*'5. TNC Parameters'!$H$16/1000","v":49.532128827090162},{"$f":"J18*'5. TNC Parameters'!$H$16/1000","v":12.480863245714286},{"$f":"K18*'5. TNC Parameters'!$H$16/1000","v":16.473812952905963},{"$f":"SUM('TNC CropScenarios'!L18:N18)","v":78.48680502571041},{"$f":"P17+($P$22-$P$17)/5","v":12533.808000000001},{"$f":"Q17+($Q$22-$Q$17)/5","v":458963.44650000002},{"$f":"P18*'5. TNC Parameters'!$H$14*'5. TNC Parameters'!$H$13/1000","v":0.39391968000000005},{"$f":"Q18*'5. TNC Parameters'!$H$15*'5. TNC Parameters'!$H$13/1000","v":7.2122827307142865},{"$f":"R18*'5. TNC Parameters'!$H$16/1000","v":0.11738806464000001},{"$f":"S18*'5. TNC Parameters'!$H$16/1000","v":2.1492602537528573},{"$f":"'TNC CropScenarios'!T18+'TNC CropScenarios'!U18","v":2.2666483183928574},{"$f":"'TNC CropScenarios'!O18+'TNC CropScenarios'!V18","v":80.753453344103264},10577330.744039999,2665224,962068.5,{"$f":"((X18*'5. TNC Parameters'!$H$18)+(Z18*'5. TNC Parameters'!$H$19))*'5. TNC Parameters'!$H$24*'5. TNC Parameters'!$H$21/1000","v":19.645163597777145},{"$f":"AA18*'5. TNC Parameters'!$H$22/1000","v":5.8542587521375893},{"$f":"((X18+Y18+Z18)*'5. TNC Parameters'!$H$20*'5. TNC Parameters'!$H$23*'5. TNC Parameters'!$H$21)/1000","v":50.223489327141422},{"$f":"AC18*'5. TNC Parameters'!$H$22/1000","v":14.966599819488144},20.820858571625735,103.85581191572899,null,null,null,{"$f":"INDEX((DirN2OManSoilPol!$U$15:$U$43),MATCH(A18,DirN2OManSoilPol!$A$15:A$43,0))","v":80.852540377520967},null,null,null,{"$f":"'6. TNC Assumptions'!B25","v":52000},{"$f":"'6. TNC Assumptions'!F25","v":0.1},5200,{"$f":"AP18*'5. TNC Parameters'!$H$6*'5. TNC Parameters'!$H$7*'5. TNC Parameters'!$H$8/1000","v":91.26},{"$f":"AQ18*'5. TNC Parameters'!$H$9/1000","v":2.2814999999999999},0,103.85581191572899,null,49.532128827090162,{"$f":"'TNC CropScenarios'!F18*'6. TNC Assumptions'!K25","v":10471557.436599599},{"$f":"AW18*'5. TNC Parameters'!$H$12*'5. TNC Parameters'!$H$13/1000","v":164.55304543227942},{"$f":"AX18*'5. TNC Parameters'!$H$16/1000","v":49.036807538819268},49.036807538819268,0.49532128827089394,103.45957766087579,null,null,null,null,null,null,null,null,null,103.45957766087579,null,10471557.436599599,{"$f":"'TNC CropScenarios'!Y18","v":2665224},{"$f":"'TNC CropScenarios'!Z18","v":962068.5},{"$f":"(((BN18*'5. TNC Parameters'!$H$18)+(BP18*'5. TNC Parameters'!$H$19))*('5. TNC Parameters'!$H$24*'5. TNC Parameters'!$H$21))/1000","v":19.4789484003708},{"$f":"BQ18*'5. TNC Parameters'!$H$22/1000","v":5.8047266233104979},{"$f":"((BN18+BO18+BP18)*'5. TNC Parameters'!$H$20*'5. TNC Parameters'!$H$23*'5. TNC Parameters'!$H$21)/1000","v":49.849505132977143},{"$f":"BS18*'5. TNC Parameters'!$H$22/1000","v":14.855152529627189},20.659879152937688,0.1609794186880471,103.29859824218775,null,103.29859824218775,0.55721367354124141,null,null,null,103.85581191572899,103.85581191572899,103.45957766087579,103.29859824218775,103.29859824218775,null,103.85581191572899,103.85581191572899,103.45957766087579,103.29859824218775,103.29859824218775,null,0,0,0,0,0]
[2017,{"$f":"'6. TNC Assumptions'!C26","v":51000},{"$f":"B19*'5. TNC Parameters'!$H$10","v":5100},{"$f":"C19*'5. TNC Parameters'!$H$6*'5. TNC Parameters'!$H$7*'5. TNC Parameters'!$H$8/1000","v":89.504999999999995},{"$f":"D19*'5. TNC Parameters'!$H$9/1000","v":2.237625},{"$f":"F18*(1+'6. TNC Assumptions'!I26)","v":10788877.3589208},2665224,{"$f":"H18+($H$22-$H$17)/5","v":3534273.0833909968},{"$f":"'TNC CropScenarios'!F19*'5. TNC Parameters'!$H$12*'5. TNC Parameters'!$H$13/1000","v":169.53950135446971},{"$f":"G19*'5. TNC Parameters'!$H$12*'5. TNC Parameters'!$H$13/1000","v":41.882091428571428},{"$f":"H19*'5. TNC Parameters'!$H$12*'5. TNC Parameters'!$H$13/1000","v":55.538577024715664},{"$f":"I19*'5. TNC Parameters'!$H$16/1000","v":50.522771403631971},{"$f":"J19*'5. TNC Parameters'!$H$16/1000","v":12.480863245714286},{"$f":"K19*'5. TNC Parameters'!$H$16/1000","v":16.550495953365267},{"$f":"SUM('TNC CropScenarios'!L19:N19)","v":79.554130602711524},{"$f":"P18+($P$22-$P$17)/5","v":12384.596000000001},{"$f":"Q18+($Q$22-$Q$17)/5","v":453838.84650000004},{"$f":"P19*'5. TNC Parameters'!$H$14*'5. TNC Parameters'!$H$13/1000","v":0.38923016000000005},{"$f":"Q19*'5. TNC Parameters'!$H$15*'5. TNC Parameters'!$H$13/1000","v":7.1317533021428581},{"$f":"R19*'5. TNC Parameters'!$H$16/1000","v":0.11599058768000002},{"$f":"S19*'5. TNC Parameters'!$H$16/1000","v":2.1252624840385717},{"$f":"'TNC CropScenarios'!T19+'TNC CropScenarios'!U19","v":2.2412530717185715},{"$f":"'TNC CropScenarios'!O19+'TNC CropScenarios'!V19","v":81.795383674430099},10788877.3589208,2665224,962068.5,{"$f":"((X19*'5. TNC Parameters'!$H$18)+(Z19*'5. TNC Parameters'!$H$19))*'5. TNC Parameters'!$H$24*'5. TNC Parameters'!$H$21/1000","v":19.977593992589828},{"$f":"AA19*'5. TNC Parameters'!$H$22/1000","v":5.9533230097917684},{"$f":"((X19+Y19+Z19)*'5. TNC Parameters'!$H$20*'5. TNC Parameters'!$H$23*'5. TNC Parameters'!$H$21)/1000","v":50.97145771546996},{"$f":"AC19*'5. TNC Parameters'!$H$22/1000","v":15.18949439921005},21.142817409001818,105.17582608343191,null,null,null,{"$f":"INDEX((DirN2OManSoilPol!$U$15:$U$43),MATCH(A19,DirN2OManSoilPol!$A$15:A$43,0))","v":81.993557741265491},null,null,null,{"$f":"'6. TNC Assumptions'!B26","v":51000},{"$f":"'6. TNC Assumptions'!F26","v":0.1},5100,{"$f":"AP19*'5. TNC Parameters'!$H$6*'5. TNC Parameters'!$H$7*'5. TNC Parameters'!$H$8/1000","v":89.504999999999995},{"$f":"AQ19*'5. TNC Parameters'!$H$9/1000","v":2.237625},0,105.17582608343191,null,50.522771403631971,{"$f":"'TNC CropScenarios'!F19*'6. TNC Assumptions'!K26","v":10573099.811742384},{"$f":"AW19*'5. TNC Parameters'!$H$12*'5. TNC Parameters'!$H$13/1000","v":166.14871132738034},{"$f":"AX19*'5. TNC Parameters'!$H$16/1000","v":49.512315975559346},49.512315975559346,1.0104554280726248,104.36354472219469,null,{"$f":"'6. TNC Assumptions'!Q26*'6. TNC Assumptions'!$O$15*'6. TNC Assumptions'!S26","v":1.3269527579976663},{"$f":"'6. TNC Assumptions'!Q26*'6. TNC Assumptions'!$O$16*'6. TNC Assumptions'!S26","v":4.4231758599922202},{"$f":"'6. TNC Assumptions'!Q26*'6. TNC Assumptions'!$O$17*'6. TNC Assumptions'!S26","v":1.0615622063981329},{"$f":"BD19+BE19+BF19","v":6.8116908243880196},{"$f":"'TNC CropScenarios'!BG19*'5. TNC Parameters'!$H$27","v":3.4058454121940098},{"$f":"BH19*'5. TNC Parameters'!$H$28*1000000","v":59602.294713395175},{"$f":"BI19*'5. TNC Parameters'!$H$12*'5. TNC Parameters'!$H$13*'5. TNC Parameters'!$H$16/1000000","v":0.27910903152929911},{"$f":"BJ19","v":0.27910903152929911},104.64265375372399,null,10573099.811742384,{"$f":"'TNC CropScenarios'!Y19","v":2665224},{"$f":"BI19+$BP$18","v":1021670.7947133952},{"$f":"(((BN19*'5. TNC Parameters'!$H$18)+(BP19*'5. TNC Parameters'!$H$19))*('5. TNC Parameters'!$H$24*'5. TNC Parameters'!$H$21))/1000","v":19.825836487551562},{"$f":"BQ19*'5. TNC Parameters'!$H$22/1000","v":5.9080992732903663},{"$f":"((BN19+BO19+BP19)*'5. TNC Parameters'!$H$20*'5. TNC Parameters'!$H$23*'5. TNC Parameters'!$H$21)/1000","v":50.419266644254357},{"$f":"BS19*'5. TNC Parameters'!$H$22/1000","v":15.024941459987799},20.933040733278165,0.20977667572365277,104.43287707800033,null,104.43287707800033,0.74294900543158349,null,null,null,105.17582608343191,105.17582608343191,104.36354472219469,104.43287707800033,104.43287707800033,null,105.17582608343191,105.17582608343191,104.36354472219469,104.43287707800033,104.43287707800033,null,0,0,0,0,0]
[2018,{"$f":"'6. TNC Assumptions'!C27","v":50500},{"$f":"B20*'5. TNC Parameters'!$H$10","v":5050},{"$f":"C20*'5. TNC Parameters'!$H$6*'5. TNC Parameters'!$H$7*'5. TNC Parameters'!$H$8/1000","v":88.627499999999998},{"$f":"D20*'5. TNC Parameters'!$H$9/1000","v":2.2156875},{"$f":"F19*(1+'6. TNC Assumptions'!I27)","v":11004654.906099215},2665224,{"$f":"H19+($H$22-$H$17)/5","v":3550648.3427935331},{"$f":"'TNC CropScenarios'!F20*'5. TNC Parameters'!$H$12*'5. TNC Parameters'!$H$13/1000","v":172.9302913815591},{"$f":"G20*'5. TNC Parameters'!$H$12*'5. TNC Parameters'!$H$13/1000","v":41.882091428571428},{"$f":"H20*'5. TNC Parameters'!$H$12*'5. TNC Parameters'!$H$13/1000","v":55.795902529612661},{"$f":"I20*'5. TNC Parameters'!$H$16/1000","v":51.53322683170461},{"$f":"J20*'5. TNC Parameters'!$H$16/1000","v":12.480863245714286},{"$f":"K20*'5. TNC Parameters'!$H$16/1000","v":16.627178953824572},{"$f":"SUM('TNC CropScenarios'!L20:N20)","v":80.641269031243468},{"$f":"P19+($P$22-$P$17)/5","v":12235.384000000002},{"$f":"Q19+($Q$22-$Q$17)/5","v":448714.24650000007},{"$f":"P20*'5. TNC Parameters'!$H$14*'5. TNC Parameters'!$H$13/1000","v":0.38454064000000004},{"$f":"Q20*'5. TNC Parameters'!$H$15*'5. TNC Parameters'!$H$13/1000","v":7.0512238735714297},{"$f":"R20*'5. TNC Parameters'!$H$16/1000","v":0.11459311072000002},{"$f":"S20*'5. TNC Parameters'!$H$16/1000","v":2.101264714324286},{"$f":"'TNC CropScenarios'!T20+'TNC CropScenarios'!U20","v":2.215857825044286},{"$f":"'TNC CropScenarios'!O20+'TNC CropScenarios'!V20","v":82.857126856287749},11004654.906099215,2665224,962068.5,{"$f":"((X20*'5. TNC Parameters'!$H$18)+(Z20*'5. TNC Parameters'!$H$19))*'5. TNC Parameters'!$H$24*'5. TNC Parameters'!$H$21/1000","v":20.316672995298767},{"$f":"AA20*'5. TNC Parameters'!$H$22/1000","v":6.0543685525990325},{"$f":"((X20+Y20+Z20)*'5. TNC Parameters'!$H$20*'5. TNC Parameters'!$H$23*'5. TNC Parameters'!$H$21)/1000","v":51.734385471565076},{"$f":"AC20*'5. TNC Parameters'!$H$22/1000","v":15.416846870526394},21.471215423125425,106.54402977941318,null,null,null,{"$f":"INDEX((DirN2OManSoilPol!$U$15:$U$43),MATCH(A20,DirN2OManSoilPol!$A$15:A$43,0))","v":83.154387956540859},null,null,null,{"$f":"'6. TNC Assumptions'!B27","v":50500},{"$f":"'6. TNC Assumptions'!F27","v":0.1},5050,{"$f":"AP20*'5. TNC Parameters'!$H$6*'5. TNC Parameters'!$H$7*'5. TNC Parameters'!$H$8/1000","v":88.627499999999998},{"$f":"AQ20*'5. TNC Parameters'!$H$9/1000","v":2.2156875},0,106.54402977941318,null,51.53322683170461,{"$f":"'TNC CropScenarios'!F20*'6. TNC Assumptions'!K27","v":10674515.258916238},{"$f":"AW20*'5. TNC Parameters'!$H$12*'5. TNC Parameters'!$H$13/1000","v":167.74238264011234},{"$f":"AX20*'5. TNC Parameters'!$H$16/1000","v":49.987230026753473},49.987230026753473,1.5459968049511374,105.29529407471514,null,{"$f":"'6. TNC Assumptions'!Q27*'6. TNC Assumptions'!$O$15*'6. TNC Assumptions'!S27","v":2.7069836263152389},{"$f":"'6. TNC Assumptions'!Q27*'6. TNC Assumptions'!$O$16*'6. TNC Assumptions'!S27","v":9.0232787543841297},{"$f":"'6. TNC Assumptions'!Q27*'6. TNC Assumptions'!$O$17*'6. TNC Assumptions'!S27","v":2.1655869010521913},13.895849281751559,{"$f":"'TNC CropScenarios'!BG20*'5. TNC Parameters'!$H$27","v":6.9479246408757795},{"$f":"BH20*'5. TNC Parameters'!$H$28*1000000","v":121588.68121532616},{"$f":"BI20*'5. TNC Parameters'!$H$12*'5. TNC Parameters'!$H$13*'5. TNC Parameters'!$H$16/1000000","v":0.56938242431977015},{"$f":"BJ20","v":0.56938242431977015},105.86467649903491,null,10674515.258916238,{"$f":"'TNC CropScenarios'!Y20","v":2665224},{"$f":"BI20+$BP$18","v":1083657.1812153261},{"$f":"(((BN20*'5. TNC Parameters'!$H$18)+(BP20*'5. TNC Parameters'!$H$19))*('5. TNC Parameters'!$H$24*'5. TNC Parameters'!$H$21))/1000","v":20.180017976402258},{"$f":"BQ20*'5. TNC Parameters'!$H$22/1000","v":6.0136453569678734},{"$f":"((BN20+BO20+BP20)*'5. TNC Parameters'!$H$20*'5. TNC Parameters'!$H$23*'5. TNC Parameters'!$H$21)/1000","v":50.997008841893731},{"$f":"BS20*'5. TNC Parameters'!$H$22/1000","v":15.197108634884332},21.210753991852204,0.26046143127322097,105.60421506776169,null,105.60421506776169,0.93981471165149344,null,null,null,106.54402977941318,106.54402977941318,105.29529407471514,105.60421506776169,105.60421506776169,null,106.54402977941318,106.54402977941318,105.29529407471514,105.60421506776169,105.60421506776169,null,0,0,0,0,0]
[2019,{"$f":"'6. TNC Assumptions'!C28","v":50000},{"$f":"B21*'5. TNC Parameters'!$H$10","v":5000},{"$f":"C21*'5. TNC Parameters'!$H$6*'5. TNC Parameters'!$H$7*'5. TNC Parameters'!$H$8/1000","v":87.75},{"$f":"D21*'5. TNC Parameters'!$H$9/1000","v":2.1937500000000001},{"$f":"F20*(1+'6. TNC Assumptions'!I28)","v":11224748.004221199},2665224,{"$f":"H20+($H$22-$H$17)/5","v":3567023.6021960694},{"$f":"'TNC CropScenarios'!F21*'5. TNC Parameters'!$H$12*'5. TNC Parameters'!$H$13/1000","v":176.38889720919028},{"$f":"G21*'5. TNC Parameters'!$H$12*'5. TNC Parameters'!$H$13/1000","v":41.882091428571428},{"$f":"H21*'5. TNC Parameters'!$H$12*'5. TNC Parameters'!$H$13/1000","v":56.053228034509658},{"$f":"I21*'5. TNC Parameters'!$H$16/1000","v":52.563891368338702},{"$f":"J21*'5. TNC Parameters'!$H$16/1000","v":12.480863245714286},{"$f":"K21*'5. TNC Parameters'!$H$16/1000","v":16.70386195428388},{"$f":"SUM('TNC CropScenarios'!L21:N21)","v":81.748616568336871},{"$f":"P20+($P$22-$P$17)/5","v":12086.172000000002},{"$f":"Q20+($Q$22-$Q$17)/5","v":443589.64650000009},{"$f":"P21*'5. TNC Parameters'!$H$14*'5. TNC Parameters'!$H$13/1000","v":0.37985112000000004},{"$f":"Q21*'5. TNC Parameters'!$H$15*'5. TNC Parameters'!$H$13/1000","v":6.9706944450000012},{"$f":"R21*'5. TNC Parameters'!$H$16/1000","v":0.11319563376000001},{"$f":"S21*'5. TNC Parameters'!$H$16/1000","v":2.0772669446100003},{"$f":"'TNC CropScenarios'!T21+'TNC CropScenarios'!U21","v":2.1904625783700005},{"$f":"'TNC CropScenarios'!O21+'TNC CropScenarios'!V21","v":83.939079146706874},11224748.004221199,2665224,962068.5,{"$f":"((X21*'5. TNC Parameters'!$H$18)+(Z21*'5. TNC Parameters'!$H$19))*'5. TNC Parameters'!$H$24*'5. TNC Parameters'!$H$21/1000","v":20.662533578061883},{"$f":"AA21*'5. TNC Parameters'!$H$22/1000","v":6.1574350062624408},{"$f":"((X21+Y21+Z21)*'5. TNC Parameters'!$H$20*'5. TNC Parameters'!$H$23*'5. TNC Parameters'!$H$21)/1000","v":52.512571782782096},{"$f":"AC21*'5. TNC Parameters'!$H$22/1000","v":15.648746391269066},21.806181397531507,107.93901054423837,null,null,null,{"$f":"INDEX((DirN2OManSoilPol!$U$15:$U$43),MATCH(A21,DirN2OManSoilPol!$A$15:A$43,0))","v":84.335427280377672},null,null,null,{"$f":"'6. TNC Assumptions'!B28","v":50000},{"$f":"'6. TNC Assumptions'!F28","v":0.1},5000,{"$f":"AP21*'5. TNC Parameters'!$H$6*'5. TNC Parameters'!$H$7*'5. TNC Parameters'!$H$8/1000","v":87.75},{"$f":"AQ21*'5. TNC Parameters'!$H$9/1000","v":2.1937500000000001},0,107.93901054423837,null,52.563891368338702,{"$f":"'TNC CropScenarios'!F21*'6. TNC Assumptions'!K28","v":10775758.08405235},{"$f":"AW21*'5. TNC Parameters'!$H$12*'5. TNC Parameters'!$H$13/1000","v":169.33334132082263},{"$f":"AX21*'5. TNC Parameters'!$H$16/1000","v":50.461335713605145},50.461335713605145,2.1025556547335569,106.23280302317562,null,{"$f":"'6. TNC Assumptions'!Q28*'6. TNC Assumptions'!$O$15*'6. TNC Assumptions'!S28","v":4.1416849482623155},{"$f":"'6. TNC Assumptions'!Q28*'6. TNC Assumptions'!$O$16*'6. TNC Assumptions'!S28","v":13.805616494207719},{"$f":"'6. TNC Assumptions'!Q28*'6. TNC Assumptions'!$O$17*'6. TNC Assumptions'!S28","v":3.3133479586098522},21.260649401079888,{"$f":"'TNC CropScenarios'!BG21*'5. TNC Parameters'!$H$27","v":10.630324700539944},{"$f":"BH21*'5. TNC Parameters'!$H$28*1000000","v":186030.68225944904},{"$f":"BI21*'5. TNC Parameters'!$H$12*'5. TNC Parameters'!$H$13*'5. TNC Parameters'!$H$16/1000000","v":0.87115510920924843},0.87115510920924843,107.10395813238488,null,10775758.08405235,{"$f":"'TNC CropScenarios'!Y21","v":2665224},1148099.182259449,{"$f":"(((BN21*'5. TNC Parameters'!$H$18)+(BP21*'5. TNC Parameters'!$H$19))*('5. TNC Parameters'!$H$24*'5. TNC Parameters'!$H$21))/1000","v":20.541645847754822},{"$f":"BQ21*'5. TNC Parameters'!$H$22/1000","v":6.1214104626309371},{"$f":"((BN21+BO21+BP21)*'5. TNC Parameters'!$H$20*'5. TNC Parameters'!$H$23*'5. TNC Parameters'!$H$21)/1000","v":51.58282304874529},{"$f":"BS21*'5. TNC Parameters'!$H$22/1000","v":15.371681268526096},21.493091731157033,0.31308966637447355,106.79086846601041,null,106.79086846601041,1.1481420782279628,null,null,null,107.93901054423837,107.93901054423837,106.23280302317562,106.79086846601041,106.79086846601041,null,107.93901054423837,107.93901054423837,106.23280302317562,106.79086846601041,106.79086846601041,null,0,0,0,0,0]
[2020,{"$f":"'6. TNC Assumptions'!C29","v":49500},{"$f":"B22*'5. TNC Parameters'!$H$10","v":4950},{"$f":"C22*'5. TNC Parameters'!$H$6*'5. TNC Parameters'!$H$7*'5. TNC Parameters'!$H$8/1000","v":86.872500000000002},{"$f":"D22*'5. TNC Parameters'!$H$9/1000","v":2.1718125000000001},{"$f":"F21*(1+'6. TNC Assumptions'!I29)","v":11449242.964305623},2665224,{"$f":"MMS!V90","v":3583398.8615986062},{"$f":"'TNC CropScenarios'!F22*'5. TNC Parameters'!$H$12*'5. TNC Parameters'!$H$13/1000","v":179.91667515337406},{"$f":"G22*'5. TNC Parameters'!$H$12*'5. TNC Parameters'!$H$13/1000","v":41.882091428571428},{"$f":"H22*'5. TNC Parameters'!$H$12*'5. TNC Parameters'!$H$13/1000","v":56.310553539406669},{"$f":"I22*'5. TNC Parameters'!$H$16/1000","v":53.615169195705469},{"$f":"J22*'5. TNC Parameters'!$H$16/1000","v":12.480863245714286},{"$f":"K22*'5. TNC Parameters'!$H$16/1000","v":16.780544954743188},{"$f":"SUM('TNC CropScenarios'!L22:N22)","v":82.876577396162944},{"$f":"MMS!V92","v":11936.960000000001},{"$f":"MMS!V91","v":438465.0465},{"$f":"P22*'5. TNC Parameters'!$H$14*'5. TNC Parameters'!$H$13/1000","v":0.37516160000000004},{"$f":"Q22*'5. TNC Parameters'!$H$15*'5. TNC Parameters'!$H$13/1000","v":6.890165016428571},{"$f":"R22*'5. TNC Parameters'!$H$16/1000","v":0.11179815680000002},{"$f":"S22*'5. TNC Parameters'!$H$16/1000","v":2.0532691748957141},{"$f":"'TNC CropScenarios'!T22+'TNC CropScenarios'!U22","v":2.1650673316957141},{"$f":"'TNC CropScenarios'!O22+'TNC CropScenarios'!V22","v":85.041644727858653},11449242.964305623,2665224,962068.5,{"$f":"((X22*'5. TNC Parameters'!$H$18)+(Z22*'5. TNC Parameters'!$H$19))*'5. TNC Parameters'!$H$24*'5. TNC Parameters'!$H$21/1000","v":21.015311372480269},{"$f":"AA22*'5. TNC Parameters'!$H$22/1000","v":6.2625627889991202},{"$f":"((X22+Y22+Z22)*'5. TNC Parameters'!$H$20*'5. TNC Parameters'!$H$23*'5. TNC Parameters'!$H$21)/1000","v":53.306321820223452},{"$f":"AC22*'5. TNC Parameters'!$H$22/1000","v":15.885283902426588},22.147846691425709,109.36130391928437,null,null,null,{"$f":"INDEX((DirN2OManSoilPol!$U$15:$U$43),MATCH(A22,DirN2OManSoilPol!$A$15:A$43,0))","v":85.537079894947155},null,null,null,{"$f":"'6. TNC Assumptions'!B29","v":49500},{"$f":"'6. TNC Assumptions'!F29","v":0.08},3960,{"$f":"AP22*'5. TNC Parameters'!$H$6*'5. TNC Parameters'!$H$7*'5. TNC Parameters'!$H$8/1000","v":69.498000000000005},{"$f":"AQ22*'5. TNC Parameters'!$H$9/1000","v":1.7374499999999999},0.43436250000000021,108.92694141928436,null,53.615169195705469,{"$f":"'TNC CropScenarios'!F22*'6. TNC Assumptions'!K29","v":10876780.816090342},{"$f":"AW22*'5. TNC Parameters'!$H$12*'5. TNC Parameters'!$H$13/1000","v":170.92084139570537},{"$f":"AX22*'5. TNC Parameters'!$H$16/1000","v":50.934410735920203},50.934410735920203,2.6807584597852667,107.1759806265876,null,{"$f":"'6. TNC Assumptions'!Q29*'6. TNC Assumptions'!$O$15*'6. TNC Assumptions'!S29","v":5.6326915296367499},{"$f":"'6. TNC Assumptions'!Q29*'6. TNC Assumptions'!$O$16*'6. TNC Assumptions'!S29","v":18.775638432122499},{"$f":"'6. TNC Assumptions'!Q29*'6. TNC Assumptions'!$O$17*'6. TNC Assumptions'!S29","v":4.5061532237093997},28.914483185468651,{"$f":"'TNC CropScenarios'!BG22*'5. TNC Parameters'!$H$27","v":14.457241592734325},{"$f":"BH22*'5. TNC Parameters'!$H$28*1000000","v":253001.72787285075},{"$f":"BI22*'5. TNC Parameters'!$H$12*'5. TNC Parameters'!$H$13*'5. TNC Parameters'!$H$16/1000000","v":1.1847709485245785},1.1847709485245785,108.36075157511218,null,10876780.816090342,{"$f":"'TNC CropScenarios'!Y22","v":2665224},1215070.2278728508,{"$f":"(((BN22*'5. TNC Parameters'!$H$18)+(BP22*'5. TNC Parameters'!$H$19))*('5. TNC Parameters'!$H$24*'5. TNC Parameters'!$H$21))/1000","v":20.910876284313787},{"$f":"BQ22*'5. TNC Parameters'!$H$22/1000","v":6.2314411327255081},{"$f":"((BN22+BO22+BP22)*'5. TNC Parameters'!$H$20*'5. TNC Parameters'!$H$23*'5. TNC Parameters'!$H$21)/1000","v":52.176801048298422},{"$f":"BS22*'5. TNC Parameters'!$H$22/1000","v":15.54868671239293},21.780127845118439,0.36771884630726959,107.99303272880491,null,107.5586702288049,1.8026336904794675,null,null,null,109.36130391928437,108.92694141928436,107.1759806265876,107.99303272880491,107.5586702288049,null,109.36130391928437,108.92694141928436,107.1759806265876,107.99303272880491,107.5586702288049,null,0,0,0,0,0]
[2021,{"$f":"'6. TNC Assumptions'!C30","v":49000},{"$f":"B23*'5. TNC Parameters'!$H$10","v":4900},{"$f":"C23*'5. TNC Parameters'!$H$6*'5. TNC Parameters'!$H$7*'5. TNC Parameters'!$H$8/1000","v":85.995000000000005},{"$f":"D23*'5. TNC Parameters'!$H$9/1000","v":2.1498750000000002},{"$f":"F22","v":11449242.964305623},2665224,{"$f":"H22+($H$27-$H$22)/5","v":3600132.3977436288},{"$f":"'TNC CropScenarios'!F23*'5. TNC Parameters'!$H$12*'5. TNC Parameters'!$H$13/1000","v":179.91667515337406},{"$f":"G23*'5. TNC Parameters'!$H$12*'5. TNC Parameters'!$H$13/1000","v":41.882091428571428},{"$f":"H23*'5. TNC Parameters'!$H$12*'5. TNC Parameters'!$H$13/1000","v":56.573509107399879},{"$f":"I23*'5. TNC Parameters'!$H$16/1000","v":53.615169195705469},{"$f":"J23*'5. TNC Parameters'!$H$16/1000","v":12.480863245714286},{"$f":"K23*'5. TNC Parameters'!$H$16/1000","v":16.858905714005164},{"$f":"SUM('TNC CropScenarios'!L23:N23)","v":82.954938155424912},{"$f":"P22+($P$27-$P$22)/5","v":11809.064},{"$f":"Q22+($Q$27-$Q$22)/5","v":438465.0465},{"$f":"P23*'5. TNC Parameters'!$H$14*'5. TNC Parameters'!$H$13/1000","v":0.37114201142857145},{"$f":"Q23*'5. TNC Parameters'!$H$15*'5. TNC Parameters'!$H$13/1000","v":6.890165016428571},{"$f":"R23*'5. TNC Parameters'!$H$16/1000","v":0.11060031940571428},{"$f":"S23*'5. TNC Parameters'!$H$16/1000","v":2.0532691748957141},{"$f":"'TNC CropScenarios'!T23+'TNC CropScenarios'!U23","v":2.1638694943014283},{"$f":"'TNC CropScenarios'!O23+'TNC CropScenarios'!V23","v":85.118807649726335},11449242.964305623,2665224,962068.5,{"$f":"((X23*'5. TNC Parameters'!$H$18)+(Z23*'5. TNC Parameters'!$H$19))*'5. TNC Parameters'!$H$24*'5. TNC Parameters'!$H$21/1000","v":21.015311372480269},{"$f":"AA23*'5. TNC Parameters'!$H$22/1000","v":6.2625627889991202},{"$f":"((X23+Y23+Z23)*'5. TNC Parameters'!$H$20*'5. TNC Parameters'!$H$23*'5. TNC Parameters'!$H$21)/1000","v":53.306321820223452},{"$f":"AC23*'5. TNC Parameters'!$H$22/1000","v":15.885283902426588},22.147846691425709,109.41652934115204,null,null,null,{"$f":"INDEX((DirN2OManSoilPol!$U$15:$U$43),MATCH(A23,DirN2OManSoilPol!$A$15:A$43,0))","v":85.69126413783394},null,null,null,{"$f":"'6. TNC Assumptions'!B30","v":49000},{"$f":"'6. TNC Assumptions'!F30","v":0.08},3920,{"$f":"AP23*'5. TNC Parameters'!$H$6*'5. TNC Parameters'!$H$7*'5. TNC Parameters'!$H$8/1000","v":68.796000000000006},{"$f":"AQ23*'5. TNC Parameters'!$H$9/1000","v":1.7199},0.42997500000000022,108.98655434115204,null,53.615169195705469,{"$f":"'TNC CropScenarios'!F23*'6. TNC Assumptions'!K30","v":10647795.956804229},{"$f":"AW23*'5. TNC Parameters'!$H$12*'5. TNC Parameters'!$H$13/1000","v":167.3225078926379},{"$f":"AX23*'5. TNC Parameters'!$H$16/1000","v":49.862107352006099},49.862107352006099,3.7530618436993706,106.23592398556028,null,{"$f":"'6. TNC Assumptions'!Q30*'6. TNC Assumptions'!$O$15*'6. TNC Assumptions'!S30","v":7.1816817002868554},{"$f":"'6. TNC Assumptions'!Q30*'6. TNC Assumptions'!$O$16*'6. TNC Assumptions'!S30","v":23.938939000956186},{"$f":"'6. TNC Assumptions'!Q30*'6. TNC Assumptions'!$O$17*'6. TNC Assumptions'!S30","v":5.7453453602294848},36.865966061472527,{"$f":"'TNC CropScenarios'!BG23*'5. TNC Parameters'!$H$27","v":18.432983030736263},{"$f":"BH23*'5. TNC Parameters'!$H$28*1000000","v":322577.20303788461},{"$f":"BI23*'5. TNC Parameters'!$H$12*'5. TNC Parameters'!$H$13*'5. TNC Parameters'!$H$16/1000000","v":1.5105829593688369},1.5105829593688369,107.74650694492911,null,10647795.956804229,{"$f":"'TNC CropScenarios'!Y23","v":2665224},1284645.7030378846,{"$f":"(((BN23*'5. TNC Parameters'!$H$18)+(BP23*'5. TNC Parameters'!$H$19))*('5. TNC Parameters'!$H$24*'5. TNC Parameters'!$H$21))/1000","v":20.769708713097142},{"$f":"BQ23*'5. TNC Parameters'!$H$22/1000","v":6.1893731965029479},{"$f":"((BN23+BO23+BP23)*'5. TNC Parameters'!$H$20*'5. TNC Parameters'!$H$23*'5. TNC Parameters'!$H$21)/1000","v":51.613175011584602},{"$f":"BS23*'5. TNC Parameters'!$H$22/1000","v":15.380726153452212},21.570099349955161,0.57774734147054829,107.16875960345857,null,106.73878460345857,2.6777447376934731,null,null,null,109.41652934115204,108.98655434115204,106.23592398556028,107.16875960345857,106.73878460345857,null,109.41652934115204,108.98655434115204,106.23592398556028,107.16875960345857,106.73878460345857,null,0,0,0,0,0]
[2022,{"$f":"'6. TNC Assumptions'!C31","v":48500},{"$f":"B24*'5. TNC Parameters'!$H$10","v":4850},{"$f":"C24*'5. TNC Parameters'!$H$6*'5. TNC Parameters'!$H$7*'5. TNC Parameters'!$H$8/1000","v":85.117500000000007},{"$f":"D24*'5. TNC Parameters'!$H$9/1000","v":2.1279374999999998},11449242.964305623,2665224,{"$f":"H23+($H$27-$H$22)/5","v":3616865.9338886514},{"$f":"'TNC CropScenarios'!F24*'5. TNC Parameters'!$H$12*'5. TNC Parameters'!$H$13/1000","v":179.91667515337406},{"$f":"G24*'5. TNC Parameters'!$H$12*'5. TNC Parameters'!$H$13/1000","v":41.882091428571428},{"$f":"H24*'5. TNC Parameters'!$H$12*'5. TNC Parameters'!$H$13/1000","v":56.836464675393096},{"$f":"I24*'5. TNC Parameters'!$H$16/1000","v":53.615169195705469},{"$f":"J24*'5. TNC Parameters'!$H$16/1000","v":12.480863245714286},{"$f":"K24*'5. TNC Parameters'!$H$16/1000","v":16.937266473267144},{"$f":"SUM('TNC CropScenarios'!L24:N24)","v":83.033298914686895},{"$f":"P23+($P$27-$P$22)/5","v":11681.168},{"$f":"Q23+($Q$27-$Q$22)/5","v":438465.0465},{"$f":"P24*'5. TNC Parameters'!$H$14*'5. TNC Parameters'!$H$13/1000","v":0.36712242285714286},{"$f":"Q24*'5. TNC Parameters'!$H$15*'5. TNC Parameters'!$H$13/1000","v":6.890165016428571},{"$f":"R24*'5. TNC Parameters'!$H$16/1000","v":0.10940248201142858},{"$f":"S24*'5. TNC Parameters'!$H$16/1000","v":2.0532691748957141},{"$f":"'TNC CropScenarios'!T24+'TNC CropScenarios'!U24","v":2.1626716569071429},{"$f":"'TNC CropScenarios'!O24+'TNC CropScenarios'!V24","v":85.195970571594032},11449242.964305623,2665224,962068.5,{"$f":"((X24*'5. TNC Parameters'!$H$18)+(Z24*'5. TNC Parameters'!$H$19))*'5. TNC Parameters'!$H$24*'5. TNC Parameters'!$H$21/1000","v":21.015311372480269},{"$f":"AA24*'5. TNC Parameters'!$H$22/1000","v":6.2625627889991202},{"$f":"((X24+Y24+Z24)*'5. TNC Parameters'!$H$20*'5. TNC Parameters'!$H$23*'5. TNC Parameters'!$H$21)/1000","v":53.306321820223452},{"$f":"AC24*'5. TNC Parameters'!$H$22/1000","v":15.885283902426588},22.147846691425709,109.47175476301975,null,null,null,{"$f":"INDEX((DirN2OManSoilPol!$U$15:$U$43),MATCH(A24,DirN2OManSoilPol!$A$15:A$43,0))","v":85.845448380720725},null,null,null,{"$f":"'6. TNC Assumptions'!B31","v":48500},{"$f":"'6. TNC Assumptions'!F31","v":0.08},3880,{"$f":"AP24*'5. TNC Parameters'!$H$6*'5. TNC Parameters'!$H$7*'5. TNC Parameters'!$H$8/1000","v":68.093999999999994},{"$f":"AQ24*'5. TNC Parameters'!$H$9/1000","v":1.7023499999999998},0.42558750000000001,109.04616726301974,null,53.615169195705469,{"$f":"'TNC CropScenarios'!F24*'6. TNC Assumptions'!K31","v":10418811.097518116},{"$f":"AW24*'5. TNC Parameters'!$H$12*'5. TNC Parameters'!$H$13/1000","v":163.72417438957041},{"$f":"AX24*'5. TNC Parameters'!$H$16/1000","v":48.789803968091981},48.789803968091981,4.8253652276134886,105.29586734453295,null,{"$f":"'6. TNC Assumptions'!Q31*'6. TNC Assumptions'!$O$15*'6. TNC Assumptions'!S31","v":8.7903784011511128},{"$f":"'6. TNC Assumptions'!Q31*'6. TNC Assumptions'!$O$16*'6. TNC Assumptions'!S31","v":29.301261337170377},{"$f":"'6. TNC Assumptions'!Q31*'6. TNC Assumptions'!$O$17*'6. TNC Assumptions'!S31","v":7.0323027209208906},45.123942459242379,{"$f":"'TNC CropScenarios'!BG24*'5. TNC Parameters'!$H$27","v":22.561971229621189},{"$f":"BH24*'5. TNC Parameters'!$H$28*1000000","v":394834.49651837081},{"$f":"BI24*'5. TNC Parameters'!$H$12*'5. TNC Parameters'!$H$13*'5. TNC Parameters'!$H$16/1000000","v":1.8489535422674563},1.8489535422674563,107.1448208868004,null,10418811.097518116,{"$f":"'TNC CropScenarios'!Y24","v":2665224},1356902.9965183707,{"$f":"(((BN24*'5. TNC Parameters'!$H$18)+(BP24*'5. TNC Parameters'!$H$19))*('5. TNC Parameters'!$H$24*'5. TNC Parameters'!$H$21))/1000","v":20.636969713729066},{"$f":"BQ24*'5. TNC Parameters'!$H$22/1000","v":6.1498169746912614},{"$f":"((BN24+BO24+BP24)*'5. TNC Parameters'!$H$20*'5. TNC Parameters'!$H$23*'5. TNC Parameters'!$H$21)/1000","v":51.05903111820043},{"$f":"BS24*'5. TNC Parameters'!$H$22/1000","v":15.215591273223728},21.365408247914988,0.78243844351072056,106.36238244328968,null,105.93679494328967,3.5349598197300764,null,null,null,109.47175476301975,109.04616726301974,105.29586734453295,106.36238244328968,105.93679494328967,null,109.47175476301975,109.04616726301974,105.29586734453295,106.36238244328968,105.93679494328967,null,0,0,0,0,0]
[2023,{"$f":"'6. TNC Assumptions'!C32","v":48000},{"$f":"B25*'5. TNC Parameters'!$H$10","v":4800},{"$f":"C25*'5. TNC Parameters'!$H$6*'5. TNC Parameters'!$H$7*'5. TNC Parameters'!$H$8/1000","v":84.24},{"$f":"D25*'5. TNC Parameters'!$H$9/1000","v":2.1059999999999999},11449242.964305623,2665224,{"$f":"H24+($H$27-$H$22)/5","v":3633599.470033674},{"$f":"'TNC CropScenarios'!F25*'5. TNC Parameters'!$H$12*'5. TNC Parameters'!$H$13/1000","v":179.91667515337406},{"$f":"G25*'5. TNC Parameters'!$H$12*'5. TNC Parameters'!$H$13/1000","v":41.882091428571428},{"$f":"H25*'5. TNC Parameters'!$H$12*'5. TNC Parameters'!$H$13/1000","v":57.099420243386312},{"$f":"I25*'5. TNC Parameters'!$H$16/1000","v":53.615169195705469},{"$f":"J25*'5. TNC Parameters'!$H$16/1000","v":12.480863245714286},{"$f":"K25*'5. TNC Parameters'!$H$16/1000","v":17.01562723252912},{"$f":"SUM('TNC CropScenarios'!L25:N25)","v":83.111659673948878},{"$f":"P24+($P$27-$P$22)/5","v":11553.271999999999},{"$f":"Q24+($Q$27-$Q$22)/5","v":438465.0465},{"$f":"P25*'5. TNC Parameters'!$H$14*'5. TNC Parameters'!$H$13/1000","v":0.36310283428571427},{"$f":"Q25*'5. TNC Parameters'!$H$15*'5. TNC Parameters'!$H$13/1000","v":6.890165016428571},{"$f":"R25*'5. TNC Parameters'!$H$16/1000","v":0.10820464461714285},{"$f":"S25*'5. TNC Parameters'!$H$16/1000","v":2.0532691748957141},{"$f":"'TNC CropScenarios'!T25+'TNC CropScenarios'!U25","v":2.1614738195128571},{"$f":"'TNC CropScenarios'!O25+'TNC CropScenarios'!V25","v":85.273133493461742},11449242.964305623,2665224,962068.5,{"$f":"((X25*'5. TNC Parameters'!$H$18)+(Z25*'5. TNC Parameters'!$H$19))*'5. TNC Parameters'!$H$24*'5. TNC Parameters'!$H$21/1000","v":21.015311372480269},{"$f":"AA25*'5. TNC Parameters'!$H$22/1000","v":6.2625627889991202},{"$f":"((X25+Y25+Z25)*'5. TNC Parameters'!$H$20*'5. TNC Parameters'!$H$23*'5. TNC Parameters'!$H$21)/1000","v":53.306321820223452},{"$f":"AC25*'5. TNC Parameters'!$H$22/1000","v":15.885283902426588},22.147846691425709,109.52698018488745,null,null,null,{"$f":"INDEX((DirN2OManSoilPol!$U$15:$U$43),MATCH(A25,DirN2OManSoilPol!$A$15:A$43,0))","v":85.999632623607525},null,null,null,{"$f":"'6. TNC Assumptions'!B32","v":48000},{"$f":"'6. TNC Assumptions'!F32","v":0.08},3840,{"$f":"AP25*'5. TNC Parameters'!$H$6*'5. TNC Parameters'!$H$7*'5. TNC Parameters'!$H$8/1000","v":67.391999999999996},{"$f":"AQ25*'5. TNC Parameters'!$H$9/1000","v":1.6847999999999999},0.42120000000000002,109.10578018488745,null,53.615169195705469,{"$f":"'TNC CropScenarios'!F25*'6. TNC Assumptions'!K32","v":10189826.238232004},{"$f":"AW25*'5. TNC Parameters'!$H$12*'5. TNC Parameters'!$H$13/1000","v":160.12584088650291},{"$f":"AX25*'5. TNC Parameters'!$H$16/1000","v":47.71750058417787},47.71750058417787,5.8976686115275996,104.35581070350563,null,{"$f":"'6. TNC Assumptions'!Q32*'6. TNC Assumptions'!$O$15*'6. TNC Assumptions'!S32","v":10.460550297369824},{"$f":"'6. TNC Assumptions'!Q32*'6. TNC Assumptions'!$O$16*'6. TNC Assumptions'!S32","v":34.868500991232743},{"$f":"'6. TNC Assumptions'!Q32*'6. TNC Assumptions'!$O$17*'6. TNC Assumptions'!S32","v":8.3684402378958573},53.697491526498425,{"$f":"'TNC CropScenarios'!BG25*'5. TNC Parameters'!$H$27","v":26.848745763249212},{"$f":"BH25*'5. TNC Parameters'!$H$28*1000000","v":469853.05085686123},{"$f":"BI25*'5. TNC Parameters'!$H$12*'5. TNC Parameters'!$H$13*'5. TNC Parameters'!$H$16/1000000","v":2.2002547152982728},2.2002547152982728,106.5560654188039,null,10189826.238232004,{"$f":"'TNC CropScenarios'!Y25","v":2665224},1431921.5508568613,{"$f":"(((BN25*'5. TNC Parameters'!$H$18)+(BP25*'5. TNC Parameters'!$H$19))*('5. TNC Parameters'!$H$24*'5. TNC Parameters'!$H$21))/1000","v":20.512908962771856},{"$f":"BQ25*'5. TNC Parameters'!$H$22/1000","v":6.1128468709060133},{"$f":"((BN25+BO25+BP25)*'5. TNC Parameters'!$H$20*'5. TNC Parameters'!$H$23*'5. TNC Parameters'!$H$21)/1000","v":50.514650254278479},{"$f":"BS25*'5. TNC Parameters'!$H$22/1000","v":15.053365775774987},21.166212646681,0.98163404474470894,105.57443137405919,null,105.15323137405919,4.3737488108282605,null,null,null,109.52698018488745,109.10578018488745,104.35581070350563,105.57443137405919,105.15323137405919,null,109.52698018488745,109.10578018488745,104.35581070350563,105.57443137405919,105.15323137405919,null,0,0,0,0,0]
[2024,{"$f":"'6. TNC Assumptions'!C33","v":47500},{"$f":"B26*'5. TNC Parameters'!$H$10","v":4750},{"$f":"C26*'5. TNC Parameters'!$H$6*'5. TNC Parameters'!$H$7*'5. TNC Parameters'!$H$8/1000","v":83.362499999999997},{"$f":"D26*'5. TNC Parameters'!$H$9/1000","v":2.0840624999999999},11449242.964305623,2665224,{"$f":"H25+($H$27-$H$22)/5","v":3650333.0061786966},{"$f":"'TNC CropScenarios'!F26*'5. TNC Parameters'!$H$12*'5. TNC Parameters'!$H$13/1000","v":179.91667515337406},{"$f":"G26*'5. TNC Parameters'!$H$12*'5. TNC Parameters'!$H$13/1000","v":41.882091428571428},{"$f":"H26*'5. TNC Parameters'!$H$12*'5. TNC Parameters'!$H$13/1000","v":57.362375811379522},{"$f":"I26*'5. TNC Parameters'!$H$16/1000","v":53.615169195705469},{"$f":"J26*'5. TNC Parameters'!$H$16/1000","v":12.480863245714286},{"$f":"K26*'5. TNC Parameters'!$H$16/1000","v":17.093987991791099},{"$f":"SUM('TNC CropScenarios'!L26:N26)","v":83.190020433210847},{"$f":"P25+($P$27-$P$22)/5","v":11425.375999999998},{"$f":"Q25+($Q$27-$Q$22)/5","v":438465.0465},{"$f":"P26*'5. TNC Parameters'!$H$14*'5. TNC Parameters'!$H$13/1000","v":0.35908324571428568},{"$f":"Q26*'5. TNC Parameters'!$H$15*'5. TNC Parameters'!$H$13/1000","v":6.890165016428571},{"$f":"R26*'5. TNC Parameters'!$H$16/1000","v":0.10700680722285713},{"$f":"S26*'5. TNC Parameters'!$H$16/1000","v":2.0532691748957141},{"$f":"'TNC CropScenarios'!T26+'TNC CropScenarios'!U26","v":2.1602759821185713},{"$f":"'TNC CropScenarios'!O26+'TNC CropScenarios'!V26","v":85.350296415329424},11449242.964305623,2665224,962068.5,{"$f":"((X26*'5. TNC Parameters'!$H$18)+(Z26*'5. TNC Parameters'!$H$19))*'5. TNC Parameters'!$H$24*'5. TNC Parameters'!$H$21/1000","v":21.015311372480269},{"$f":"AA26*'5. TNC Parameters'!$H$22/1000","v":6.2625627889991202},{"$f":"((X26+Y26+Z26)*'5. TNC Parameters'!$H$20*'5. TNC Parameters'!$H$23*'5. TNC Parameters'!$H$21)/1000","v":53.306321820223452},{"$f":"AC26*'5. TNC Parameters'!$H$22/1000","v":15.885283902426588},22.147846691425709,109.58220560675514,null,null,null,{"$f":"INDEX((DirN2OManSoilPol!$U$15:$U$43),MATCH(A26,DirN2OManSoilPol!$A$15:A$43,0))","v":86.15381686649431},null,null,null,{"$f":"'6. TNC Assumptions'!B33","v":47500},{"$f":"'6. TNC Assumptions'!F33","v":0.08},3800,{"$f":"AP26*'5. TNC Parameters'!$H$6*'5. TNC Parameters'!$H$7*'5. TNC Parameters'!$H$8/1000","v":66.69},{"$f":"AQ26*'5. TNC Parameters'!$H$9/1000","v":1.6672499999999999},0.41681250000000003,109.16539310675513,null,53.615169195705469,{"$f":"'TNC CropScenarios'!F26*'6. TNC Assumptions'!K33","v":9960841.3789458908},{"$f":"AW26*'5. TNC Parameters'!$H$12*'5. TNC Parameters'!$H$13/1000","v":156.52750738343542},{"$f":"AX26*'5. TNC Parameters'!$H$16/1000","v":46.645197200263759},46.645197200263759,6.9699719954417105,103.41575406247831,null,{"$f":"'6. TNC Assumptions'!Q33*'6. TNC Assumptions'!$O$15*'6. TNC Assumptions'!S33","v":12.194012918076822},{"$f":"'6. TNC Assumptions'!Q33*'6. TNC Assumptions'!$O$16*'6. TNC Assumptions'!S33","v":40.646709726922744},{"$f":"'6. TNC Assumptions'!Q33*'6. TNC Assumptions'!$O$17*'6. TNC Assumptions'!S33","v":9.7552103344614576},62.595932979461026,{"$f":"'TNC CropScenarios'!BG26*'5. TNC Parameters'!$H$27","v":31.297966489730513},{"$f":"BH26*'5. TNC Parameters'!$H$28*1000000","v":547714.41357028403},{"$f":"BI26*'5. TNC Parameters'!$H$12*'5. TNC Parameters'!$H$13*'5. TNC Parameters'!$H$16/1000000","v":2.564868353833416},2.564868353833416,105.98062241631173,null,9960841.3789458908,{"$f":"'TNC CropScenarios'!Y26","v":2665224},1509782.9135702839,{"$f":"(((BN26*'5. TNC Parameters'!$H$18)+(BP26*'5. TNC Parameters'!$H$19))*('5. TNC Parameters'!$H$24*'5. TNC Parameters'!$H$21))/1000","v":20.39778275242158},{"$f":"BQ26*'5. TNC Parameters'!$H$22/1000","v":6.078539260221631},{"$f":"((BN26+BO26+BP26)*'5. TNC Parameters'!$H$20*'5. TNC Parameters'!$H$23*'5. TNC Parameters'!$H$21)/1000","v":49.980320748539327},{"$f":"BS26*'5. TNC Parameters'!$H$22/1000","v":14.894135583064719},20.972674843286349,1.1751718481393603,104.80545056817238,null,104.38863806817237,5.1935675385827693,null,null,null,109.58220560675514,109.16539310675513,103.41575406247831,104.80545056817238,104.38863806817237,null,109.58220560675514,109.16539310675513,103.41575406247831,104.80545056817238,104.38863806817237,null,0,0,0,0,0]
[2025,{"$f":"'6. TNC Assumptions'!C34","v":47000},{"$f":"B27*'5. TNC Parameters'!$H$10","v":4700},{"$f":"C27*'5. TNC Parameters'!$H$6*'5. TNC Parameters'!$H$7*'5. TNC Parameters'!$H$8/1000","v":82.484999999999999},{"$f":"D27*'5. TNC Parameters'!$H$9/1000","v":2.062125},11449242.964305623,2665224,{"$f":"MMS!W90","v":3667066.5423237192},{"$f":"'TNC CropScenarios'!F27*'5. TNC Parameters'!$H$12*'5. TNC Parameters'!$H$13/1000","v":179.91667515337406},{"$f":"G27*'5. TNC Parameters'!$H$12*'5. TNC Parameters'!$H$13/1000","v":41.882091428571428},{"$f":"H27*'5. TNC Parameters'!$H$12*'5. TNC Parameters'!$H$13/1000","v":57.625331379372739},{"$f":"I27*'5. TNC Parameters'!$H$16/1000","v":53.615169195705469},{"$f":"J27*'5. TNC Parameters'!$H$16/1000","v":12.480863245714286},{"$f":"K27*'5. TNC Parameters'!$H$16/1000","v":17.172348751053075},{"$f":"SUM('TNC CropScenarios'!L27:N27)","v":83.26838119247283},{"$f":"MMS!W92","v":11297.48},{"$f":"MMS!W91","v":438465.0465},{"$f":"P27*'5. TNC Parameters'!$H$14*'5. TNC Parameters'!$H$13/1000","v":0.35506365714285715},{"$f":"Q27*'5. TNC Parameters'!$H$15*'5. TNC Parameters'!$H$13/1000","v":6.890165016428571},{"$f":"R27*'5. TNC Parameters'!$H$16/1000","v":0.10580896982857144},{"$f":"S27*'5. TNC Parameters'!$H$16/1000","v":2.0532691748957141},{"$f":"'TNC CropScenarios'!T27+'TNC CropScenarios'!U27","v":2.1590781447242855},{"$f":"'TNC CropScenarios'!O27+'TNC CropScenarios'!V27","v":85.427459337197121},11449242.964305623,2665224,962068.5,{"$f":"((X27*'5. TNC Parameters'!$H$18)+(Z27*'5. TNC Parameters'!$H$19))*'5. TNC Parameters'!$H$24*'5. TNC Parameters'!$H$21/1000","v":21.015311372480269},{"$f":"AA27*'5. TNC Parameters'!$H$22/1000","v":6.2625627889991202},{"$f":"((X27+Y27+Z27)*'5. TNC Parameters'!$H$20*'5. TNC Parameters'!$H$23*'5. TNC Parameters'!$H$21)/1000","v":53.306321820223452},{"$f":"AC27*'5. TNC Parameters'!$H$22/1000","v":15.885283902426588},22.147846691425709,109.63743102862283,null,null,null,{"$f":"INDEX((DirN2OManSoilPol!$U$15:$U$43),MATCH(A27,DirN2OManSoilPol!$A$15:A$43,0))","v":86.308001109381095},null,null,null,{"$f":"'6. TNC Assumptions'!B34","v":47000},{"$f":"'6. TNC Assumptions'!F34","v":0.08},3760,{"$f":"AP27*'5. TNC Parameters'!$H$6*'5. TNC Parameters'!$H$7*'5. TNC Parameters'!$H$8/1000","v":65.988},{"$f":"AQ27*'5. TNC Parameters'!$H$9/1000","v":1.6496999999999999},0.41242500000000004,109.22500602862283,null,53.615169195705469,{"$f":"'TNC CropScenarios'!F27*'6. TNC Assumptions'!K34","v":9731856.5196597781},{"$f":"AW27*'5. TNC Parameters'!$H$12*'5. TNC Parameters'!$H$13/1000","v":152.92917388036796},{"$f":"AX27*'5. TNC Parameters'!$H$16/1000","v":45.572893816349648},45.572893816349648,8.0422753793558215,102.47569742145097,null,{"$f":"'6. TNC Assumptions'!Q34*'6. TNC Assumptions'!$O$15*'6. TNC Assumptions'!S34","v":13.992629823493152},{"$f":"'6. TNC Assumptions'!Q34*'6. TNC Assumptions'!$O$16*'6. TNC Assumptions'!S34","v":46.642099411643841},{"$f":"'6. TNC Assumptions'!Q34*'6. TNC Assumptions'!$O$17*'6. TNC Assumptions'!S34","v":11.194103858794522},71.828833093931522,{"$f":"'TNC CropScenarios'!BG27*'5. TNC Parameters'!$H$27","v":35.914416546965761},{"$f":"BH27*'5. TNC Parameters'!$H$28*1000000","v":628502.28957190085},{"$f":"BI27*'5. TNC Parameters'!$H$12*'5. TNC Parameters'!$H$13*'5. TNC Parameters'!$H$16/1000000","v":2.9431864360238444},2.9431864360238444,105.41888385747482,null,9731856.5196597781,{"$f":"'TNC CropScenarios'!Y27","v":2665224},1590570.7895719009,{"$f":"(((BN27*'5. TNC Parameters'!$H$18)+(BP27*'5. TNC Parameters'!$H$19))*('5. TNC Parameters'!$H$24*'5. TNC Parameters'!$H$21))/1000","v":20.291854155262772},{"$f":"BQ27*'5. TNC Parameters'!$H$22/1000","v":6.0469725382683066},{"$f":"((BN27+BO27+BP27)*'5. TNC Parameters'!$H$20*'5. TNC Parameters'!$H$23*'5. TNC Parameters'!$H$21)/1000","v":49.456338557640571},{"$f":"BS27*'5. TNC Parameters'!$H$22/1000","v":14.73798889017689},20.784961428445197,1.3628852629805124,104.05599859449431,null,103.64357359449431,5.9938574341285147,null,null,null,109.63743102862283,109.22500602862283,102.47569742145097,104.05599859449431,103.64357359449431,null,109.63743102862283,109.22500602862283,102.47569742145097,104.05599859449431,103.64357359449431,null,0,0,0,0,0]
[2026,{"$f":"'6. TNC Assumptions'!C35","v":46500},{"$f":"B28*'5. TNC Parameters'!$H$10","v":4650},{"$f":"C28*'5. TNC Parameters'!$H$6*'5. TNC Parameters'!$H$7*'5. TNC Parameters'!$H$8/1000","v":81.607500000000002},{"$f":"D28*'5. TNC Parameters'!$H$9/1000","v":2.0401875},11449242.964305623,2665224,{"$f":"H27+($H$32-$H$27)/5","v":3675618.4624506915},{"$f":"'TNC CropScenarios'!F28*'5. TNC Parameters'!$H$12*'5. TNC Parameters'!$H$13/1000","v":179.91667515337406},{"$f":"G28*'5. TNC Parameters'!$H$12*'5. TNC Parameters'!$H$13/1000","v":41.882091428571428},{"$f":"H28*'5. TNC Parameters'!$H$12*'5. TNC Parameters'!$H$13/1000","v":57.759718695653724},{"$f":"I28*'5. TNC Parameters'!$H$16/1000","v":53.615169195705469},{"$f":"J28*'5. TNC Parameters'!$H$16/1000","v":12.480863245714286},{"$f":"K28*'5. TNC Parameters'!$H$16/1000","v":17.212396171304807},{"$f":"SUM('TNC CropScenarios'!L28:N28)","v":83.308428612724555},{"$f":"P27+($P$32-$P$27)/5","v":11233.531999999999},{"$f":"Q27+($Q$32-$Q$27)/5","v":439746.19650000002},{"$f":"P28*'5. TNC Parameters'!$H$14*'5. TNC Parameters'!$H$13/1000","v":0.35305386285714285},{"$f":"Q28*'5. TNC Parameters'!$H$15*'5. TNC Parameters'!$H$13/1000","v":6.9102973735714297},{"$f":"R28*'5. TNC Parameters'!$H$16/1000","v":0.10521005113142858},{"$f":"S28*'5. TNC Parameters'!$H$16/1000","v":2.0592686173242858},{"$f":"'TNC CropScenarios'!T28+'TNC CropScenarios'!U28","v":2.1644786684557142},{"$f":"'TNC CropScenarios'!O28+'TNC CropScenarios'!V28","v":85.472907281180269},11449242.964305623,2665224,962068.5,{"$f":"((X28*'5. TNC Parameters'!$H$18)+(Z28*'5. TNC Parameters'!$H$19))*'5. TNC Parameters'!$H$24*'5. TNC Parameters'!$H$21/1000","v":21.015311372480269},{"$f":"AA28*'5. TNC Parameters'!$H$22/1000","v":6.2625627889991202},{"$f":"((X28+Y28+Z28)*'5. TNC Parameters'!$H$20*'5. TNC Parameters'!$H$23*'5. TNC Parameters'!$H$21)/1000","v":53.306321820223452},{"$f":"AC28*'5. TNC Parameters'!$H$22/1000","v":15.885283902426588},22.147846691425709,109.66094147260598,null,null,null,{"$f":"INDEX((DirN2OManSoilPol!$U$15:$U$43),MATCH(A28,DirN2OManSoilPol!$A$15:A$43,0))","v":86.423927252572625},null,null,null,{"$f":"'6. TNC Assumptions'!B35","v":46500},{"$f":"'6. TNC Assumptions'!F35","v":0.08},3720,{"$f":"AP28*'5. TNC Parameters'!$H$6*'5. TNC Parameters'!$H$7*'5. TNC Parameters'!$H$8/1000","v":65.286000000000001},{"$f":"AQ28*'5. TNC Parameters'!$H$9/1000","v":1.63215},0.40803750000000005,109.25290397260598,null,53.615169195705469,{"$f":"'TNC CropScenarios'!F28*'6. TNC Assumptions'!K35","v":9502871.6603736654},{"$f":"AW28*'5. TNC Parameters'!$H$12*'5. TNC Parameters'!$H$13/1000","v":149.33084037730046},{"$f":"AX28*'5. TNC Parameters'!$H$16/1000","v":44.500590432435537},44.500590432435537,9.1145787632699324,101.49738268072841,null,{"$f":"'6. TNC Assumptions'!Q35*'6. TNC Assumptions'!$O$15*'6. TNC Assumptions'!S35","v":15.858313799958903},{"$f":"'6. TNC Assumptions'!Q35*'6. TNC Assumptions'!$O$16*'6. TNC Assumptions'!S35","v":52.861045999863016},{"$f":"'6. TNC Assumptions'!Q35*'6. TNC Assumptions'!$O$17*'6. TNC Assumptions'!S35","v":12.686651039967122},81.406010839789033,{"$f":"'TNC CropScenarios'!BG28*'5. TNC Parameters'!$H$27","v":40.703005419894517},{"$f":"BH28*'5. TNC Parameters'!$H$28*1000000","v":712302.59484815411},{"$f":"BI28*'5. TNC Parameters'!$H$12*'5. TNC Parameters'!$H$13*'5. TNC Parameters'!$H$16/1000000","v":3.3356112941603562},3.3356112941603562,104.83299397488877,null,9502871.6603736654,{"$f":"'TNC CropScenarios'!Y28","v":2665224},1674371.0948481541,{"$f":"(((BN28*'5. TNC Parameters'!$H$18)+(BP28*'5. TNC Parameters'!$H$19))*('5. TNC Parameters'!$H$24*'5. TNC Parameters'!$H$21))/1000","v":20.195393192967106},{"$f":"BQ28*'5. TNC Parameters'!$H$22/1000","v":6.0182271715041979},{"$f":"((BN28+BO28+BP28)*'5. TNC Parameters'!$H$20*'5. TNC Parameters'!$H$23*'5. TNC Parameters'!$H$21)/1000","v":48.943007455962857},{"$f":"BS28*'5. TNC Parameters'!$H$22/1000","v":14.585016221876931},20.603243393381128,1.5446032980445814,103.28839067684419,null,102.88035317684418,6.7805882957618024,null,null,null,109.66094147260598,109.25290397260598,101.49738268072841,103.28839067684419,102.88035317684418,null,109.66094147260598,109.25290397260598,101.49738268072841,103.28839067684419,102.88035317684418,null,0,0,0,0,0]
[2027,{"$f":"'6. TNC Assumptions'!C36","v":46000},{"$f":"B29*'5. TNC Parameters'!$H$10","v":4600},{"$f":"C29*'5. TNC Parameters'!$H$6*'5. TNC Parameters'!$H$7*'5. TNC Parameters'!$H$8/1000","v":80.73},{"$f":"D29*'5. TNC Parameters'!$H$9/1000","v":2.0182500000000001},11449242.964305623,2665224,{"$f":"H28+($H$32-$H$27)/5","v":3684170.3825776638},{"$f":"'TNC CropScenarios'!F29*'5. TNC Parameters'!$H$12*'5. TNC Parameters'!$H$13/1000","v":179.91667515337406},{"$f":"G29*'5. TNC Parameters'!$H$12*'5. TNC Parameters'!$H$13/1000","v":41.882091428571428},{"$f":"H29*'5. TNC Parameters'!$H$12*'5. TNC Parameters'!$H$13/1000","v":57.894106011934717},{"$f":"I29*'5. TNC Parameters'!$H$16/1000","v":53.615169195705469},{"$f":"J29*'5. TNC Parameters'!$H$16/1000","v":12.480863245714286},{"$f":"K29*'5. TNC Parameters'!$H$16/1000","v":17.252443591556545},{"$f":"SUM('TNC CropScenarios'!L29:N29)","v":83.348476032976293},{"$f":"P28+($P$32-$P$27)/5","v":11169.583999999999},{"$f":"Q28+($Q$32-$Q$27)/5","v":441027.34650000004},{"$f":"P29*'5. TNC Parameters'!$H$14*'5. TNC Parameters'!$H$13/1000","v":0.3510440685714285},{"$f":"Q29*'5. TNC Parameters'!$H$15*'5. TNC Parameters'!$H$13/1000","v":6.9304297307142857},{"$f":"R29*'5. TNC Parameters'!$H$16/1000","v":0.10461113243428569},{"$f":"S29*'5. TNC Parameters'!$H$16/1000","v":2.065268059752857},{"$f":"'TNC CropScenarios'!T29+'TNC CropScenarios'!U29","v":2.1698791921871425},{"$f":"'TNC CropScenarios'!O29+'TNC CropScenarios'!V29","v":85.518355225163432},11449242.964305623,2665224,962068.5,{"$f":"((X29*'5. TNC Parameters'!$H$18)+(Z29*'5. TNC Parameters'!$H$19))*'5. TNC Parameters'!$H$24*'5. TNC Parameters'!$H$21/1000","v":21.015311372480269},{"$f":"AA29*'5. TNC Parameters'!$H$22/1000","v":6.2625627889991202},{"$f":"((X29+Y29+Z29)*'5. TNC Parameters'!$H$20*'5. TNC Parameters'!$H$23*'5. TNC Parameters'!$H$21)/1000","v":53.306321820223452},{"$f":"AC29*'5. TNC Parameters'!$H$22/1000","v":15.885283902426588},22.147846691425709,109.68445191658914,null,null,null,{"$f":"INDEX((DirN2OManSoilPol!$U$15:$U$43),MATCH(A29,DirN2OManSoilPol!$A$15:A$43,0))","v":86.539853395764169},null,null,null,{"$f":"'6. TNC Assumptions'!B36","v":46000},{"$f":"'6. TNC Assumptions'!F36","v":0.08},3680,{"$f":"AP29*'5. TNC Parameters'!$H$6*'5. TNC Parameters'!$H$7*'5. TNC Parameters'!$H$8/1000","v":64.584000000000003},{"$f":"AQ29*'5. TNC Parameters'!$H$9/1000","v":1.6146},0.40365000000000006,109.28080191658914,null,53.615169195705469,{"$f":"'TNC CropScenarios'!F29*'6. TNC Assumptions'!K36","v":9273886.8010875527},{"$f":"AW29*'5. TNC Parameters'!$H$12*'5. TNC Parameters'!$H$13/1000","v":145.73250687423297},{"$f":"AX29*'5. TNC Parameters'!$H$16/1000","v":43.428287048521426},43.428287048521426,10.186882147184043,100.51906794000584,null,{"$f":"'6. TNC Assumptions'!Q36*'6. TNC Assumptions'!$O$15*'6. TNC Assumptions'!S36","v":19.4105760911497},{"$f":"'6. TNC Assumptions'!Q36*'6. TNC Assumptions'!$O$16*'6. TNC Assumptions'!S36","v":64.701920303832324},{"$f":"'6. TNC Assumptions'!Q36*'6. TNC Assumptions'!$O$17*'6. TNC Assumptions'!S36","v":15.528460872919757},99.640957267901783,{"$f":"'TNC CropScenarios'!BG29*'5. TNC Parameters'!$H$27","v":49.820478633950891},{"$f":"BH29*'5. TNC Parameters'!$H$28*1000000","v":871858.37609414058},{"$f":"BI29*'5. TNC Parameters'!$H$12*'5. TNC Parameters'!$H$13*'5. TNC Parameters'!$H$16/1000000","v":4.0827882240522761},4.0827882240522761,104.60185616405812,null,9273886.8010875527,{"$f":"'TNC CropScenarios'!Y29","v":2665224},1833926.8760941406,{"$f":"(((BN29*'5. TNC Parameters'!$H$18)+(BP29*'5. TNC Parameters'!$H$19))*('5. TNC Parameters'!$H$24*'5. TNC Parameters'!$H$21))/1000","v":20.337020869433459},{"$f":"BQ29*'5. TNC Parameters'!$H$22/1000","v":6.0604322190911706},{"$f":"((BN29+BO29+BP29)*'5. TNC Parameters'!$H$20*'5. TNC Parameters'!$H$23*'5. TNC Parameters'!$H$21)/1000","v":48.697526072892408},{"$f":"BS29*'5. TNC Parameters'!$H$22/1000","v":14.511862769721938},20.572294988813109,1.5755517026126,103.02630446144552,null,102.62265446144552,7.0617974551436191,null,null,null,109.68445191658914,109.28080191658914,100.51906794000584,103.02630446144552,102.62265446144552,null,109.68445191658914,109.28080191658914,100.51906794000584,103.02630446144552,102.62265446144552,null,0,0,0,0,0]
[2028,{"$f":"'6. TNC Assumptions'!C37","v":45500},{"$f":"B30*'5. TNC Parameters'!$H$10","v":4550},{"$f":"C30*'5. TNC Parameters'!$H$6*'5. TNC Parameters'!$H$7*'5. TNC Parameters'!$H$8/1000","v":79.852500000000006},{"$f":"D30*'5. TNC Parameters'!$H$9/1000","v":1.9963125000000002},11449242.964305623,2665224,{"$f":"H29+($H$32-$H$27)/5","v":3692722.302704636},{"$f":"'TNC CropScenarios'!F30*'5. TNC Parameters'!$H$12*'5. TNC Parameters'!$H$13/1000","v":179.91667515337406},{"$f":"G30*'5. TNC Parameters'!$H$12*'5. TNC Parameters'!$H$13/1000","v":41.882091428571428},{"$f":"H30*'5. TNC Parameters'!$H$12*'5. TNC Parameters'!$H$13/1000","v":58.028493328215717},{"$f":"I30*'5. TNC Parameters'!$H$16/1000","v":53.615169195705469},{"$f":"J30*'5. TNC Parameters'!$H$16/1000","v":12.480863245714286},{"$f":"K30*'5. TNC Parameters'!$H$16/1000","v":17.292491011808284},{"$f":"SUM('TNC CropScenarios'!L30:N30)","v":83.388523453228032},{"$f":"P29+($P$32-$P$27)/5","v":11105.635999999999},{"$f":"Q29+($Q$32-$Q$27)/5","v":442308.49650000007},{"$f":"P30*'5. TNC Parameters'!$H$14*'5. TNC Parameters'!$H$13/1000","v":0.34903427428571421},{"$f":"Q30*'5. TNC Parameters'!$H$15*'5. TNC Parameters'!$H$13/1000","v":6.9505620878571444},{"$f":"R30*'5. TNC Parameters'!$H$16/1000","v":0.10401221373714283},{"$f":"S30*'5. TNC Parameters'!$H$16/1000","v":2.0712675021814291},{"$f":"'TNC CropScenarios'!T30+'TNC CropScenarios'!U30","v":2.1752797159185717},{"$f":"'TNC CropScenarios'!O30+'TNC CropScenarios'!V30","v":85.56380316914661},11449242.964305623,2665224,962068.5,{"$f":"((X30*'5. TNC Parameters'!$H$18)+(Z30*'5. TNC Parameters'!$H$19))*'5. TNC Parameters'!$H$24*'5. TNC Parameters'!$H$21/1000","v":21.015311372480269},{"$f":"AA30*'5. TNC Parameters'!$H$22/1000","v":6.2625627889991202},{"$f":"((X30+Y30+Z30)*'5. TNC Parameters'!$H$20*'5. TNC Parameters'!$H$23*'5. TNC Parameters'!$H$21)/1000","v":53.306321820223452},{"$f":"AC30*'5. TNC Parameters'!$H$22/1000","v":15.885283902426588},22.147846691425709,109.70796236057232,null,null,null,{"$f":"INDEX((DirN2OManSoilPol!$U$15:$U$43),MATCH(A30,DirN2OManSoilPol!$A$15:A$43,0))","v":86.655779538955713},null,null,null,{"$f":"'6. TNC Assumptions'!B37","v":45500},{"$f":"'6. TNC Assumptions'!F37","v":0.08},3640,{"$f":"AP30*'5. TNC Parameters'!$H$6*'5. TNC Parameters'!$H$7*'5. TNC Parameters'!$H$8/1000","v":63.882000000000005},{"$f":"AQ30*'5. TNC Parameters'!$H$9/1000","v":1.5970500000000001},0.39926250000000008,109.30869986057232,null,53.615169195705469,{"$f":"'TNC CropScenarios'!F30*'6. TNC Assumptions'!K37","v":9044901.94180144},{"$f":"AW30*'5. TNC Parameters'!$H$12*'5. TNC Parameters'!$H$13/1000","v":142.1341733711655},{"$f":"AX30*'5. TNC Parameters'!$H$16/1000","v":42.355983664607315},42.355983664607315,11.259185531098154,99.540753199283273,null,{"$f":"'6. TNC Assumptions'!Q37*'6. TNC Assumptions'!$O$15*'6. TNC Assumptions'!S37","v":21.448686580720416},{"$f":"'6. TNC Assumptions'!Q37*'6. TNC Assumptions'!$O$16*'6. TNC Assumptions'!S37","v":71.495621935734718},{"$f":"'6. TNC Assumptions'!Q37*'6. TNC Assumptions'!$O$17*'6. TNC Assumptions'!S37","v":17.158949264576336},110.10325778103147,{"$f":"'TNC CropScenarios'!BG30*'5. TNC Parameters'!$H$27","v":55.051628890515737},{"$f":"BH30*'5. TNC Parameters'!$H$28*1000000","v":963403.50558402541},{"$f":"BI30*'5. TNC Parameters'!$H$12*'5. TNC Parameters'!$H$13*'5. TNC Parameters'!$H$16/1000000","v":4.5114809875777651},4.5114809875777651,104.05223418686104,null,9044901.94180144,{"$f":"'TNC CropScenarios'!Y30","v":2665224},1925472.0055840253,{"$f":"(((BN30*'5. TNC Parameters'!$H$18)+(BP30*'5. TNC Parameters'!$H$19))*('5. TNC Parameters'!$H$24*'5. TNC Parameters'!$H$21))/1000","v":20.264900783237771},{"$f":"BQ30*'5. TNC Parameters'!$H$22/1000","v":6.0389404334048562},{"$f":"((BN30+BO30+BP30)*'5. TNC Parameters'!$H$20*'5. TNC Parameters'!$H$23*'5. TNC Parameters'!$H$21)/1000","v":48.211578456827176},{"$f":"BS30*'5. TNC Parameters'!$H$22/1000","v":14.367050380134499},20.405990813539354,1.7418558778863549,102.31037830897469,null,101.91111580897469,7.7968465515976391,null,null,null,109.70796236057232,109.30869986057232,99.540753199283273,102.31037830897469,101.91111580897469,null,109.70796236057232,109.30869986057232,99.540753199283273,102.31037830897469,101.91111580897469,null,0,0,0,0,0]
[2029,{"$f":"'6. TNC Assumptions'!C38","v":45250},{"$f":"B31*'5. TNC Parameters'!$H$10","v":4525},{"$f":"C31*'5. TNC Parameters'!$H$6*'5. TNC Parameters'!$H$7*'5. TNC Parameters'!$H$8/1000","v":79.413749999999993},{"$f":"D31*'5. TNC Parameters'!$H$9/1000","v":1.9853437499999997},11449242.964305623,2665224,{"$f":"H30+($H$32-$H$27)/5","v":3701274.2228316083},{"$f":"'TNC CropScenarios'!F31*'5. TNC Parameters'!$H$12*'5. TNC Parameters'!$H$13/1000","v":179.91667515337406},{"$f":"G31*'5. TNC Parameters'!$H$12*'5. TNC Parameters'!$H$13/1000","v":41.882091428571428},{"$f":"H31*'5. TNC Parameters'!$H$12*'5. TNC Parameters'!$H$13/1000","v":58.162880644496703},{"$f":"I31*'5. TNC Parameters'!$H$16/1000","v":53.615169195705469},{"$f":"J31*'5. TNC Parameters'!$H$16/1000","v":12.480863245714286},{"$f":"K31*'5. TNC Parameters'!$H$16/1000","v":17.332538432060016},{"$f":"SUM('TNC CropScenarios'!L31:N31)","v":83.428570873479771},{"$f":"P30+($P$32-$P$27)/5","v":11041.687999999998},{"$f":"Q30+($Q$32-$Q$27)/5","v":443589.64650000009},{"$f":"P31*'5. TNC Parameters'!$H$14*'5. TNC Parameters'!$H$13/1000","v":0.34702447999999997},{"$f":"Q31*'5. TNC Parameters'!$H$15*'5. TNC Parameters'!$H$13/1000","v":6.9706944450000012},{"$f":"R31*'5. TNC Parameters'!$H$16/1000","v":0.10341329503999999},{"$f":"S31*'5. TNC Parameters'!$H$16/1000","v":2.0772669446100003},{"$f":"'TNC CropScenarios'!T31+'TNC CropScenarios'!U31","v":2.1806802396500005},{"$f":"'TNC CropScenarios'!O31+'TNC CropScenarios'!V31","v":85.609251113129773},11449242.964305623,2665224,962068.5,{"$f":"((X31*'5. TNC Parameters'!$H$18)+(Z31*'5. TNC Parameters'!$H$19))*'5. TNC Parameters'!$H$24*'5. TNC Parameters'!$H$21/1000","v":21.015311372480269},{"$f":"AA31*'5. TNC Parameters'!$H$22/1000","v":6.2625627889991202},{"$f":"((X31+Y31+Z31)*'5. TNC Parameters'!$H$20*'5. TNC Parameters'!$H$23*'5. TNC Parameters'!$H$21)/1000","v":53.306321820223452},{"$f":"AC31*'5. TNC Parameters'!$H$22/1000","v":15.885283902426588},22.147846691425709,109.74244155455548,null,null,null,{"$f":"INDEX((DirN2OManSoilPol!$U$15:$U$43),MATCH(A31,DirN2OManSoilPol!$A$15:A$43,0))","v":86.771705682147271},null,null,null,{"$f":"'6. TNC Assumptions'!B38","v":45250},{"$f":"'6. TNC Assumptions'!F38","v":0.08},3620,{"$f":"AP31*'5. TNC Parameters'!$H$6*'5. TNC Parameters'!$H$7*'5. TNC Parameters'!$H$8/1000","v":63.531000000000006},{"$f":"AQ31*'5. TNC Parameters'!$H$9/1000","v":1.5882750000000001},0.39706874999999964,109.34537280455548,null,53.615169195705469,{"$f":"'TNC CropScenarios'!F31*'6. TNC Assumptions'!K38","v":8815917.0825153273},{"$f":"AW31*'5. TNC Parameters'!$H$12*'5. TNC Parameters'!$H$13/1000","v":138.53583986809801},{"$f":"AX31*'5. TNC Parameters'!$H$16/1000","v":41.283680280693211},41.283680280693211,12.331488915012258,98.573407208560724,null,{"$f":"'6. TNC Assumptions'!Q38*'6. TNC Assumptions'!$O$15*'6. TNC Assumptions'!S38","v":23.560557259437509},{"$f":"'6. TNC Assumptions'!Q38*'6. TNC Assumptions'!$O$16*'6. TNC Assumptions'!S38","v":78.535190864791687},{"$f":"'6. TNC Assumptions'!Q38*'6. TNC Assumptions'!$O$17*'6. TNC Assumptions'!S38","v":18.848445807550004},120.94419393177921,{"$f":"'TNC CropScenarios'!BG31*'5. TNC Parameters'!$H$27","v":60.472096965889605},{"$f":"BH31*'5. TNC Parameters'!$H$28*1000000","v":1058261.6969030683},{"$f":"BI31*'5. TNC Parameters'!$H$12*'5. TNC Parameters'!$H$13*'5. TNC Parameters'!$H$16/1000000","v":4.9556883463546546},4.9556883463546546,103.52909555491537,null,8815917.0825153273,{"$f":"'TNC CropScenarios'!Y31","v":2665224},2020330.1969030683,{"$f":"(((BN31*'5. TNC Parameters'!$H$18)+(BP31*'5. TNC Parameters'!$H$19))*('5. TNC Parameters'!$H$24*'5. TNC Parameters'!$H$21))/1000","v":20.203193177076589},{"$f":"BQ31*'5. TNC Parameters'!$H$22/1000","v":6.0205515667688232},{"$f":"((BN31+BO31+BP31)*'5. TNC Parameters'!$H$20*'5. TNC Parameters'!$H$23*'5. TNC Parameters'!$H$21)/1000","v":47.737344880800755},{"$f":"BS31*'5. TNC Parameters'!$H$22/1000","v":14.225728774478624},20.246280341247449,1.9015663501782605,101.62752920473712,null,101.23046045473711,8.5119810998183709,null,null,null,109.74244155455548,109.34537280455548,98.573407208560724,101.62752920473712,101.23046045473711,null,109.74244155455548,109.34537280455548,98.573407208560724,101.62752920473712,101.23046045473711,null,0,0,0,0,0]
[2030,{"$f":"'6. TNC Assumptions'!C39","v":45000},{"$f":"B32*'5. TNC Parameters'!$H$10","v":4500},{"$f":"C32*'5. TNC Parameters'!$H$6*'5. TNC Parameters'!$H$7*'5. TNC Parameters'!$H$8/1000","v":78.974999999999994},{"$f":"D32*'5. TNC Parameters'!$H$9/1000","v":1.9743749999999998},11449242.964305623,2665224,{"$f":"MMS!X90","v":3709826.1429585796},{"$f":"'TNC CropScenarios'!F32*'5. TNC Parameters'!$H$12*'5. TNC Parameters'!$H$13/1000","v":179.91667515337406},{"$f":"G32*'5. TNC Parameters'!$H$12*'5. TNC Parameters'!$H$13/1000","v":41.882091428571428},{"$f":"H32*'5. TNC Parameters'!$H$12*'5. TNC Parameters'!$H$13/1000","v":58.297267960777688},{"$f":"I32*'5. TNC Parameters'!$H$16/1000","v":53.615169195705469},{"$f":"J32*'5. TNC Parameters'!$H$16/1000","v":12.480863245714286},{"$f":"K32*'5. TNC Parameters'!$H$16/1000","v":17.372585852311751},{"$f":"SUM('TNC CropScenarios'!L32:N32)","v":83.46861829373151},{"$f":"MMS!X92","v":10977.74},{"$f":"MMS!X91","v":444870.7965},{"$f":"P32*'5. TNC Parameters'!$H$14*'5. TNC Parameters'!$H$13/1000","v":0.34501468571428567},{"$f":"Q32*'5. TNC Parameters'!$H$15*'5. TNC Parameters'!$H$13/1000","v":6.9908268021428572},{"$f":"R32*'5. TNC Parameters'!$H$16/1000","v":0.10281437634285713},{"$f":"S32*'5. TNC Parameters'!$H$16/1000","v":2.0832663870385715},{"$f":"'TNC CropScenarios'!T32+'TNC CropScenarios'!U32","v":2.1860807633814288},{"$f":"'TNC CropScenarios'!O32+'TNC CropScenarios'!V32","v":85.654699057112936},11449242.964305623,2665224,962068.5,{"$f":"((X32*'5. TNC Parameters'!$H$18)+(Z32*'5. TNC Parameters'!$H$19))*'5. TNC Parameters'!$H$24*'5. TNC Parameters'!$H$21/1000","v":21.015311372480269},{"$f":"AA32*'5. TNC Parameters'!$H$22/1000","v":6.2625627889991202},{"$f":"((X32+Y32+Z32)*'5. TNC Parameters'!$H$20*'5. TNC Parameters'!$H$23*'5. TNC Parameters'!$H$21)/1000","v":53.306321820223452},{"$f":"AC32*'5. TNC Parameters'!$H$22/1000","v":15.885283902426588},22.147846691425709,109.77692074853864,null,null,null,{"$f":"INDEX((DirN2OManSoilPol!$U$15:$U$43),MATCH(A32,DirN2OManSoilPol!$A$15:A$43,0))","v":86.887631825338815},null,null,null,{"$f":"'6. TNC Assumptions'!B39","v":45000},{"$f":"'6. TNC Assumptions'!F39","v":0.08},3600,{"$f":"AP32*'5. TNC Parameters'!$H$6*'5. TNC Parameters'!$H$7*'5. TNC Parameters'!$H$8/1000","v":63.180000000000007},{"$f":"AQ32*'5. TNC Parameters'!$H$9/1000","v":1.5795000000000001},0.39487499999999964,109.38204574853864,null,53.615169195705469,{"$f":"'TNC CropScenarios'!F32*'6. TNC Assumptions'!K39","v":8586932.2232292145},{"$f":"AW32*'5. TNC Parameters'!$H$12*'5. TNC Parameters'!$H$13/1000","v":134.93750636503052},{"$f":"AX32*'5. TNC Parameters'!$H$16/1000","v":40.211376896779093},40.211376896779093,13.403792298926376,97.606061217838146,null,{"$f":"'6. TNC Assumptions'!Q39*'6. TNC Assumptions'!$O$15*'6. TNC Assumptions'!S39","v":25.748323290670992},{"$f":"'6. TNC Assumptions'!Q39*'6. TNC Assumptions'!$O$16*'6. TNC Assumptions'!S39","v":85.827744302236638},{"$f":"'6. TNC Assumptions'!Q39*'6. TNC Assumptions'!$O$17*'6. TNC Assumptions'!S39","v":20.598658632536797},132.17472622544443,{"$f":"'TNC CropScenarios'!BG32*'5. TNC Parameters'!$H$27","v":66.087363112722215},{"$f":"BH32*'5. TNC Parameters'!$H$28*1000000","v":1156528.8544726388},{"$f":"BI32*'5. TNC Parameters'!$H$12*'5. TNC Parameters'!$H$13*'5. TNC Parameters'!$H$16/1000000","v":5.4158594070875861},5.4158594070875861,103.02192062492573,null,8586932.2232292145,{"$f":"'TNC CropScenarios'!Y32","v":2665224},2118597.354472639,{"$f":"(((BN32*'5. TNC Parameters'!$H$18)+(BP32*'5. TNC Parameters'!$H$19))*('5. TNC Parameters'!$H$24*'5. TNC Parameters'!$H$21))/1000","v":20.152199464845634},{"$f":"BQ32*'5. TNC Parameters'!$H$22/1000","v":6.0053554405239984},{"$f":"((BN32+BO32+BP32)*'5. TNC Parameters'!$H$20*'5. TNC Parameters'!$H$23*'5. TNC Parameters'!$H$21)/1000","v":47.275164435445831},{"$f":"BS32*'5. TNC Parameters'!$H$22/1000","v":14.087999001762856},20.093354442286856,2.0544922491388533,100.96742837578688,null,100.57255337578688,9.2043673727517614,null,null,null,109.77692074853864,109.38204574853864,97.606061217838146,100.96742837578688,100.57255337578688,null,109.77692074853864,109.38204574853864,97.606061217838146,100.96742837578688,100.57255337578688,null,0,0,0,0,0]
[2035,{"$f":"'6. TNC Assumptions'!C40","v":44000},{"$f":"B33*'5. TNC Parameters'!$H$10","v":4400},{"$f":"C33*'5. TNC Parameters'!$H$6*'5. TNC Parameters'!$H$7*'5. TNC Parameters'!$H$8/1000","v":77.22},{"$f":"D33*'5. TNC Parameters'!$H$9/1000","v":1.9305000000000001},11449242.964305623,2665224,{"$f":"MMS!Y90","v":3816834.4316734448},{"$f":"'TNC CropScenarios'!F33*'5. TNC Parameters'!$H$12*'5. TNC Parameters'!$H$13/1000","v":179.91667515337406},{"$f":"G33*'5. TNC Parameters'!$H$12*'5. TNC Parameters'!$H$13/1000","v":41.882091428571428},{"$f":"H33*'5. TNC Parameters'!$H$12*'5. TNC Parameters'!$H$13/1000","v":59.97882678343985},{"$f":"I33*'5. TNC Parameters'!$H$16/1000","v":53.615169195705469},{"$f":"J33*'5. TNC Parameters'!$H$16/1000","v":12.480863245714286},{"$f":"K33*'5. TNC Parameters'!$H$16/1000","v":17.873690381465074},{"$f":"SUM('TNC CropScenarios'!L33:N33)","v":83.969722822884819},{"$f":"MMS!Y92","v":10977.74},{"$f":"MMS!Y91","v":447433.09649999999},{"$f":"P33*'5. TNC Parameters'!$H$14*'5. TNC Parameters'!$H$13/1000","v":0.34501468571428567},{"$f":"Q33*'5. TNC Parameters'!$H$15*'5. TNC Parameters'!$H$13/1000","v":7.0310915164285719},{"$f":"R33*'5. TNC Parameters'!$H$16/1000","v":0.10281437634285713},{"$f":"S33*'5. TNC Parameters'!$H$16/1000","v":2.0952652718957143},{"$f":"'TNC CropScenarios'!T33+'TNC CropScenarios'!U33","v":2.1980796482385716},{"$f":"'TNC CropScenarios'!O33+'TNC CropScenarios'!V33","v":86.167802471123395},11449242.964305623,2665224,962068.5,{"$f":"((X33*'5. TNC Parameters'!$H$18)+(Z33*'5. TNC Parameters'!$H$19))*'5. TNC Parameters'!$H$24*'5. TNC Parameters'!$H$21/1000","v":21.015311372480269},{"$f":"AA33*'5. TNC Parameters'!$H$22/1000","v":6.2625627889991202},{"$f":"((X33+Y33+Z33)*'5. TNC Parameters'!$H$20*'5. TNC Parameters'!$H$23*'5. TNC Parameters'!$H$21)/1000","v":53.306321820223452},{"$f":"AC33*'5. TNC Parameters'!$H$22/1000","v":15.885283902426588},22.147846691425709,110.2461491625491,null,null,null,{"$f":"INDEX((DirN2OManSoilPol!$U$15:$U$43),MATCH(A33,DirN2OManSoilPol!$A$15:A$43,0))","v":87.844501596530336},null,null,null,{"$f":"'6. TNC Assumptions'!B40","v":44000},{"$f":"'6. TNC Assumptions'!F40","v":7.0000000000000007E-2},3080.0000000000005,{"$f":"AP33*'5. TNC Parameters'!$H$6*'5. TNC Parameters'!$H$7*'5. TNC Parameters'!$H$8/1000","v":54.054000000000016},{"$f":"AQ33*'5. TNC Parameters'!$H$9/1000","v":1.3513500000000003},0.57914999999999983,109.6669991625491,null,53.615169195705469,{"$f":"'TNC CropScenarios'!F33*'6. TNC Assumptions'!K40","v":8014470.0750139328},{"$f":"AW33*'5. TNC Parameters'!$H$12*'5. TNC Parameters'!$H$13/1000","v":125.9416726073618},{"$f":"AX33*'5. TNC Parameters'!$H$16/1000","v":37.530618436993812},37.530618436993812,16.084550758711657,95.838297529244386,null,{"$f":"'6. TNC Assumptions'!Q40*'6. TNC Assumptions'!$O$15*'6. TNC Assumptions'!S40","v":33.166267703120177},{"$f":"'6. TNC Assumptions'!Q40*'6. TNC Assumptions'!$O$16*'6. TNC Assumptions'!S40","v":110.55422567706727},{"$f":"'6. TNC Assumptions'!Q40*'6. TNC Assumptions'!$O$17*'6. TNC Assumptions'!S40","v":26.533014162496141},170.25350754268356,{"$f":"'TNC CropScenarios'!BG33*'5. TNC Parameters'!$H$27","v":85.126753771341782},{"$f":"BH33*'5. TNC Parameters'!$H$28*1000000","v":1489718.1909984814},{"$f":"BI33*'5. TNC Parameters'!$H$12*'5. TNC Parameters'!$H$13*'5. TNC Parameters'!$H$16/1000000","v":6.9761374715614597},6.9761374715614597,102.81443500080584,null,8014470.0750139328,{"$f":"'TNC CropScenarios'!Y33","v":2665224},2451786.6909984816,{"$f":"(((BN33*'5. TNC Parameters'!$H$18)+(BP33*'5. TNC Parameters'!$H$19))*('5. TNC Parameters'!$H$24*'5. TNC Parameters'!$H$21))/1000","v":20.299782575302839},{"$f":"BQ33*'5. TNC Parameters'!$H$22/1000","v":6.0493352074402456},{"$f":"((BN33+BO33+BP33)*'5. TNC Parameters'!$H$20*'5. TNC Parameters'!$H$23*'5. TNC Parameters'!$H$21)/1000","v":46.42916413697246},{"$f":"BS33*'5. TNC Parameters'!$H$22/1000","v":13.835890912817792},19.885226120258039,2.2626205711676697,100.55181442963817,null,99.972664429638172,10.27348473291093,null,null,null,110.2461491625491,109.6669991625491,95.838297529244386,100.55181442963817,99.972664429638172,null,110.2461491625491,109.6669991625491,95.838297529244386,100.55181442963817,99.972664429638172,null,0,0,0,0,0]
[2040,{"$f":"'6. TNC Assumptions'!C41","v":43000},{"$f":"B34*'5. TNC Parameters'!$H$10","v":4300},{"$f":"C34*'5. TNC Parameters'!$H$6*'5. TNC Parameters'!$H$7*'5. TNC Parameters'!$H$8/1000","v":75.465000000000003},{"$f":"D34*'5. TNC Parameters'!$H$9/1000","v":1.886625},11449242.964305623,2665224,{"$f":"MMS!Z90","v":3922135.7595364386},{"$f":"'TNC CropScenarios'!F34*'5. TNC Parameters'!$H$12*'5. TNC Parameters'!$H$13/1000","v":179.91667515337406},{"$f":"G34*'5. TNC Parameters'!$H$12*'5. TNC Parameters'!$H$13/1000","v":41.882091428571428},{"$f":"H34*'5. TNC Parameters'!$H$12*'5. TNC Parameters'!$H$13/1000","v":61.633561935572608},{"$f":"I34*'5. TNC Parameters'!$H$16/1000","v":53.615169195705469},{"$f":"J34*'5. TNC Parameters'!$H$16/1000","v":12.480863245714286},{"$f":"K34*'5. TNC Parameters'!$H$16/1000","v":18.366801456800637},{"$f":"SUM('TNC CropScenarios'!L34:N34)","v":84.462833898220396},{"$f":"MMS!Z92","v":10977.74},{"$f":"MMS!Z91","v":451276.5465},{"$f":"P34*'5. TNC Parameters'!$H$14*'5. TNC Parameters'!$H$13/1000","v":0.34501468571428567},{"$f":"Q34*'5. TNC Parameters'!$H$15*'5. TNC Parameters'!$H$13/1000","v":7.0914885878571434},{"$f":"R34*'5. TNC Parameters'!$H$16/1000","v":0.10281437634285713},{"$f":"S34*'5. TNC Parameters'!$H$16/1000","v":2.1132635991814288},{"$f":"'TNC CropScenarios'!T34+'TNC CropScenarios'!U34","v":2.2160779755242861},{"$f":"'TNC CropScenarios'!O34+'TNC CropScenarios'!V34","v":86.678911873744681},11449242.964305623,2665224,962068.5,{"$f":"((X34*'5. TNC Parameters'!$H$18)+(Z34*'5. TNC Parameters'!$H$19))*'5. TNC Parameters'!$H$24*'5. TNC Parameters'!$H$21/1000","v":21.015311372480269},{"$f":"AA34*'5. TNC Parameters'!$H$22/1000","v":6.2625627889991202},{"$f":"((X34+Y34+Z34)*'5. TNC Parameters'!$H$20*'5. TNC Parameters'!$H$23*'5. TNC Parameters'!$H$21)/1000","v":53.306321820223452},{"$f":"AC34*'5. TNC Parameters'!$H$22/1000","v":15.885283902426588},22.147846691425709,110.71338356517039,null,null,null,{"$f":"INDEX((DirN2OManSoilPol!$U$15:$U$43),MATCH(A34,DirN2OManSoilPol!$A$15:A$43,0))","v":88.793377913904109},null,null,null,{"$f":"'6. TNC Assumptions'!B41","v":43000},{"$f":"'6. TNC Assumptions'!F41","v":0.06},2580,{"$f":"AP34*'5. TNC Parameters'!$H$6*'5. TNC Parameters'!$H$7*'5. TNC Parameters'!$H$8/1000","v":45.279000000000003},{"$f":"AQ34*'5. TNC Parameters'!$H$9/1000","v":1.1319750000000002},0.75464999999999982,109.95873356517039,null,53.615169195705469,{"$f":"'TNC CropScenarios'!F34*'6. TNC Assumptions'!K41","v":7442007.926798651},{"$f":"AW34*'5. TNC Parameters'!$H$12*'5. TNC Parameters'!$H$13/1000","v":116.94583884969309},{"$f":"AX34*'5. TNC Parameters'!$H$16/1000","v":34.849859977208546},34.849859977208546,18.765309218496924,94.062540386832893,null,{"$f":"'6. TNC Assumptions'!Q41*'6. TNC Assumptions'!$O$15*'6. TNC Assumptions'!S41","v":41.849416554065328},{"$f":"'6. TNC Assumptions'!Q41*'6. TNC Assumptions'!$O$16*'6. TNC Assumptions'!S41","v":139.49805518021773},{"$f":"'6. TNC Assumptions'!Q41*'6. TNC Assumptions'!$O$17*'6. TNC Assumptions'!S41","v":33.479533243252256},214.82700497753532,{"$f":"'TNC CropScenarios'!BG34*'5. TNC Parameters'!$H$27","v":107.41350248876766},{"$f":"BH34*'5. TNC Parameters'!$H$28*1000000","v":1879736.2935534343},{"$f":"BI34*'5. TNC Parameters'!$H$12*'5. TNC Parameters'!$H$13*'5. TNC Parameters'!$H$16/1000000","v":8.8025365289545121},8.8025365289545121,102.8650769157874,null,7442007.926798651,{"$f":"'TNC CropScenarios'!Y34","v":2665224},2841804.7935534343,{"$f":"(((BN34*'5. TNC Parameters'!$H$18)+(BP34*'5. TNC Parameters'!$H$19))*('5. TNC Parameters'!$H$24*'5. TNC Parameters'!$H$21))/1000","v":20.625970378994392},{"$f":"BQ34*'5. TNC Parameters'!$H$22/1000","v":6.1465391729403294},{"$f":"((BN34+BO34+BP34)*'5. TNC Parameters'!$H$20*'5. TNC Parameters'!$H$23*'5. TNC Parameters'!$H$21)/1000","v":45.784094118387721},{"$f":"BS34*'5. TNC Parameters'!$H$22/1000","v":13.643660047279539},19.790199220219868,2.3576474712058406,100.50742944458156,null,99.752779444581563,10.960604120588826,null,null,null,110.71338356517039,109.95873356517039,94.062540386832893,100.50742944458156,99.752779444581563,null,110.71338356517039,109.95873356517039,94.062540386832893,100.50742944458156,99.752779444581563,null,0,0,0,0,0]
[2045,{"$f":"'6. TNC Assumptions'!C42","v":42000},{"$f":"B35*'5. TNC Parameters'!$H$10","v":4200},{"$f":"C35*'5. TNC Parameters'!$H$6*'5. TNC Parameters'!$H$7*'5. TNC Parameters'!$H$8/1000","v":73.709999999999994},{"$f":"D35*'5. TNC Parameters'!$H$9/1000","v":1.8427499999999997},11449242.964305623,2665224,{"$f":"MMS!AA90","v":4040586.2370510357},{"$f":"'TNC CropScenarios'!F35*'5. TNC Parameters'!$H$12*'5. TNC Parameters'!$H$13/1000","v":179.91667515337406},{"$f":"G35*'5. TNC Parameters'!$H$12*'5. TNC Parameters'!$H$13/1000","v":41.882091428571428},{"$f":"H35*'5. TNC Parameters'!$H$12*'5. TNC Parameters'!$H$13/1000","v":63.494926582230569},{"$f":"I35*'5. TNC Parameters'!$H$16/1000","v":53.615169195705469},{"$f":"J35*'5. TNC Parameters'!$H$16/1000","v":12.480863245714286},{"$f":"K35*'5. TNC Parameters'!$H$16/1000","v":18.921488121504709},{"$f":"SUM('TNC CropScenarios'!L35:N35)","v":85.01752056292446},{"$f":"MMS!AA92","v":11047.017},{"$f":"MMS!AA91","v":457682.2965},{"$f":"P35*'5. TNC Parameters'!$H$14*'5. TNC Parameters'!$H$13/1000","v":0.34719196285714282},{"$f":"Q35*'5. TNC Parameters'!$H$15*'5. TNC Parameters'!$H$13/1000","v":7.1921503735714287},{"$f":"R35*'5. TNC Parameters'!$H$16/1000","v":0.10346320493142856},{"$f":"S35*'5. TNC Parameters'!$H$16/1000","v":2.1432608113242857},{"$f":"'TNC CropScenarios'!T35+'TNC CropScenarios'!U35","v":2.2467240162557141},{"$f":"'TNC CropScenarios'!O35+'TNC CropScenarios'!V35","v":87.264244579180172},11449242.964305623,2665224,962068.5,{"$f":"((X35*'5. TNC Parameters'!$H$18)+(Z35*'5. TNC Parameters'!$H$19))*'5. TNC Parameters'!$H$24*'5. TNC Parameters'!$H$21/1000","v":21.015311372480269},{"$f":"AA35*'5. TNC Parameters'!$H$22/1000","v":6.2625627889991202},{"$f":"((X35+Y35+Z35)*'5. TNC Parameters'!$H$20*'5. TNC Parameters'!$H$23*'5. TNC Parameters'!$H$21)/1000","v":53.306321820223452},{"$f":"AC35*'5. TNC Parameters'!$H$22/1000","v":15.885283902426588},22.147846691425709,111.25484127060588,null,null,null,{"$f":"INDEX((DirN2OManSoilPol!$U$15:$U$43),MATCH(A35,DirN2OManSoilPol!$A$15:A$43,0))","v":89.798661719710978},null,null,null,{"$f":"'6. TNC Assumptions'!B42","v":42000},{"$f":"'6. TNC Assumptions'!F42","v":0.06},2520,{"$f":"AP35*'5. TNC Parameters'!$H$6*'5. TNC Parameters'!$H$7*'5. TNC Parameters'!$H$8/1000","v":44.225999999999999},{"$f":"AQ35*'5. TNC Parameters'!$H$9/1000","v":1.10565},0.73709999999999964,110.51774127060588,null,53.615169195705469,{"$f":"'TNC CropScenarios'!F35*'6. TNC Assumptions'!K42","v":6869545.7785833692},{"$f":"AW35*'5. TNC Parameters'!$H$12*'5. TNC Parameters'!$H$13/1000","v":107.95000509202438},{"$f":"AX35*'5. TNC Parameters'!$H$16/1000","v":32.169101517423265},32.169101517423265,21.446067678282205,92.343190732854481,null,{"$f":"'6. TNC Assumptions'!Q42*'6. TNC Assumptions'!$O$15*'6. TNC Assumptions'!S42","v":51.980779622771799},{"$f":"'6. TNC Assumptions'!Q42*'6. TNC Assumptions'!$O$16*'6. TNC Assumptions'!S42","v":173.26926540923935},{"$f":"'6. TNC Assumptions'!Q42*'6. TNC Assumptions'!$O$17*'6. TNC Assumptions'!S42","v":41.584623698217442},266.8346687302286,{"$f":"'TNC CropScenarios'!BG35*'5. TNC Parameters'!$H$27","v":133.4173343651143},{"$f":"BH35*'5. TNC Parameters'!$H$28*1000000","v":2334803.3513895008},{"$f":"BI35*'5. TNC Parameters'!$H$12*'5. TNC Parameters'!$H$13*'5. TNC Parameters'!$H$16/1000000","v":10.933550551221119},10.933550551221119,103.2767412840756,null,6869545.7785833692,{"$f":"'TNC CropScenarios'!Y35","v":2665224},3296871.8513895008,{"$f":"(((BN35*'5. TNC Parameters'!$H$18)+(BP35*'5. TNC Parameters'!$H$19))*('5. TNC Parameters'!$H$24*'5. TNC Parameters'!$H$21))/1000","v":21.156597756426585},{"$f":"BQ35*'5. TNC Parameters'!$H$22/1000","v":6.3046661314151224},{"$f":"((BN35+BO35+BP35)*'5. TNC Parameters'!$H$20*'5. TNC Parameters'!$H$23*'5. TNC Parameters'!$H$21)/1000","v":45.369018620261215},{"$f":"BS35*'5. TNC Parameters'!$H$22/1000","v":13.519967548837842},19.824633680252965,2.3232130111727436,100.95352827290286,null,100.21642827290286,11.03841299770302,null,null,null,111.25484127060588,110.51774127060588,92.343190732854481,100.95352827290286,100.21642827290286,null,111.25484127060588,110.51774127060588,92.343190732854481,100.95352827290286,100.21642827290286,null,0,0,0,0,0]
[2050,{"$f":"'6. TNC Assumptions'!C43","v":40000},{"$f":"B36*'5. TNC Parameters'!$H$10","v":4000},{"$f":"C36*'5. TNC Parameters'!$H$6*'5. TNC Parameters'!$H$7*'5. TNC Parameters'!$H$8/1000","v":70.2},{"$f":"D36*'5. TNC Parameters'!$H$9/1000","v":1.7549999999999999},11449242.964305623,2665224,{"$f":"MMS!AB90","v":4159036.7145656329},{"$f":"'TNC CropScenarios'!F36*'5. TNC Parameters'!$H$12*'5. TNC Parameters'!$H$13/1000","v":179.91667515337406},{"$f":"G36*'5. TNC Parameters'!$H$12*'5. TNC Parameters'!$H$13/1000","v":41.882091428571428},{"$f":"H36*'5. TNC Parameters'!$H$12*'5. TNC Parameters'!$H$13/1000","v":65.356291228888523},{"$f":"I36*'5. TNC Parameters'!$H$16/1000","v":53.615169195705469},{"$f":"J36*'5. TNC Parameters'!$H$16/1000","v":12.480863245714286},{"$f":"K36*'5. TNC Parameters'!$H$16/1000","v":19.47617478620878},{"$f":"SUM('TNC CropScenarios'!L36:N36)","v":85.572207227628525},{"$f":"MMS!AB92","v":11116.294},{"$f":"MMS!AB91","v":464088.0465},{"$f":"P36*'5. TNC Parameters'!$H$14*'5. TNC Parameters'!$H$13/1000","v":0.34936923999999997},{"$f":"Q36*'5. TNC Parameters'!$H$15*'5. TNC Parameters'!$H$13/1000","v":7.292812159285714},{"$f":"R36*'5. TNC Parameters'!$H$16/1000","v":0.10411203351999999},{"$f":"S36*'5. TNC Parameters'!$H$16/1000","v":2.1732580234671426},{"$f":"'TNC CropScenarios'!T36+'TNC CropScenarios'!U36","v":2.2773700569871425},{"$f":"'TNC CropScenarios'!O36+'TNC CropScenarios'!V36","v":87.849577284615663},11449242.964305623,2665224,962068.5,{"$f":"((X36*'5. TNC Parameters'!$H$18)+(Z36*'5. TNC Parameters'!$H$19))*'5. TNC Parameters'!$H$24*'5. TNC Parameters'!$H$21/1000","v":21.015311372480269},{"$f":"AA36*'5. TNC Parameters'!$H$22/1000","v":6.2625627889991202},{"$f":"((X36+Y36+Z36)*'5. TNC Parameters'!$H$20*'5. TNC Parameters'!$H$23*'5. TNC Parameters'!$H$21)/1000","v":53.306321820223452},{"$f":"AC36*'5. TNC Parameters'!$H$22/1000","v":15.885283902426588},22.147846691425709,111.75242397604137,null,null,null,{"$f":"INDEX((DirN2OManSoilPol!$U$15:$U$43),MATCH(A36,DirN2OManSoilPol!$A$15:A$43,0))","v":90.803945525517847},null,null,null,{"$f":"'6. TNC Assumptions'!B43","v":40000},{"$f":"'6. TNC Assumptions'!F43","v":0.05},2000,{"$f":"AP36*'5. TNC Parameters'!$H$6*'5. TNC Parameters'!$H$7*'5. TNC Parameters'!$H$8/1000","v":35.1},{"$f":"AQ36*'5. TNC Parameters'!$H$9/1000","v":0.87749999999999995},0.87749999999999995,110.87492397604137,null,53.615169195705469,{"$f":"'TNC CropScenarios'!F36*'6. TNC Assumptions'!K43","v":6297083.6303680874},{"$f":"AW36*'5. TNC Parameters'!$H$12*'5. TNC Parameters'!$H$13/1000","v":98.954171334355664},{"$f":"AX36*'5. TNC Parameters'!$H$16/1000","v":29.488343057637987},29.488343057637987,24.126826138067482,90.579966078876069,null,{"$f":"'6. TNC Assumptions'!Q43*'6. TNC Assumptions'!$O$15*'6. TNC Assumptions'!S43","v":63.767756574302318},{"$f":"'6. TNC Assumptions'!Q43*'6. TNC Assumptions'!$O$16*'6. TNC Assumptions'!S43","v":212.55918858100773},{"$f":"'6. TNC Assumptions'!Q43*'6. TNC Assumptions'!$O$17*'6. TNC Assumptions'!S43","v":51.014205259441852},327.34115041475189,{"$f":"'TNC CropScenarios'!BG36*'5. TNC Parameters'!$H$27","v":163.67057520737595},{"$f":"BH36*'5. TNC Parameters'!$H$28*1000000","v":2864235.0661290796},{"$f":"BI36*'5. TNC Parameters'!$H$12*'5. TNC Parameters'!$H$13*'5. TNC Parameters'!$H$16/1000000","v":13.41280363824446},13.41280363824446,103.99276971712052,null,6297083.6303680874,{"$f":"'TNC CropScenarios'!Y36","v":2665224},3826303.5661290796,{"$f":"(((BN36*'5. TNC Parameters'!$H$18)+(BP36*'5. TNC Parameters'!$H$19))*('5. TNC Parameters'!$H$24*'5. TNC Parameters'!$H$21))/1000","v":21.920942626984104},{"$f":"BQ36*'5. TNC Parameters'!$H$22/1000","v":6.5324409028412624},{"$f":"((BN36+BO36+BP36)*'5. TNC Parameters'!$H$20*'5. TNC Parameters'!$H$23*'5. TNC Parameters'!$H$21)/1000","v":45.216875301900693},{"$f":"BS36*'5. TNC Parameters'!$H$22/1000","v":13.474628839966407},20.007069742807669,2.1407769486180399,101.85199276850248,null,100.97449276850249,10.777931207538884,null,null,null,111.75242397604137,110.87492397604137,90.579966078876069,101.85199276850248,100.97449276850249,null,111.75242397604137,110.87492397604137,90.579966078876069,101.85199276850248,100.97449276850249,null,0,0,0,0,0]
[null,null,null,null,null,null,null,null,null,null,null,null,null,null,null,null,null,null,null,null,null,null,null,null,null,null,null,null,null,null,null,null,null,null,null,null,null,null,null,null,null,null,null,null,null,null,null,null,null,null,null,null,null,"*"]
[null,null,null,null,null,null,null,null,null,null,null,null,null,null,null,null,null,null,null,null,null,null,null,null,null,null,null,null,null,null,null,null,null,null,null,null,null,null,null,null,null,null,null,null,null,null,null,null,null,null,null,null,null,"Red in Chem"]
[null,null,null,null,null,null,null,null,null,null,null,null,null,null,null,null,null,null,null,null,null,null,null,null,null,null,null,null,null,null,null,null,null,null,null,null,null,null,null,null,null,null,null,null,null,null,null,null,null,null,null,null,null,"Fert Only"]

{"sheet":"UD1 CropScenarios","index":20,"n_rows":39,"n_cols":98,"rows_kept":39,"cut":false,"hidden":true,"merged":[[1,47,1,63],[1,65,1,74],[3,1,3,31],[3,43,3,45],[4,1,4,4],[4,5,4,22],[4,23,4,30],[4,39,4,45],[4,60,6,60],[4,65,5,72],[5,5,5,14],[5,15,5,21],[5,55,5,58],[5,59,6,59],[5,73,5,74]]}
["This worksheet summarises the various emissions scenarios for management of cropland.",null,null,null,null,null,null,null,null,null,null,null,null,null,null,null,null,null,null,null,null,null,null,null,null,null,null,null,null,null,null,null,null,null,null,null,null,null,null,null,null,null,null,null,null,null,null,46,47,48,49,50,51,52,53,54,55,56,57,58,59,60,61,62,63,64,65,66,67,68,69,70,71,72,73,74,75,76]
[null,1,2,3,4,5,6,7,8,9,10,11,12,13,14,15,16,17,18,19,20,21,22,23,24,25,26,27,28,29,30,31,32,33,34,35,36,37,38,39,40,41,42,43,44,45,null,"Direct N2O",null,null,null,null,null,null,null,null,null,null,null,null,null,null,null,null,null,"Indirect N2O",null,null,null,null,null,null,null,null,null,null,"Total ER","Total ER"]
[" "," "," "," "," ",null,null,null,null,null,null,null,null,null,null,null,null,null,null,null,null,null,null,null,null,null,null,null,null,null,null,null,null,null,null,null,null,null,null,null,null,null,null,null,null,null,null,null,null,null,null,null,null,null,null,null,null,null,null,null,null,null,null,null,null,"This worksheet calculates the indirect N2O emissions from managed soils."]
[null,"Business-as-Usual (BAU)",null,null,null,null,null,null,null,null,null,null,null,null,null,null,null,null,null,null,null,null,null,null,null,null,null,null,null,null,null,null,null,null,null,null,null,null,null,null,null,null,null,"CROP BURN (Gg CO2e)",null,null,null,"CHEMICAL FERTILIZER ",null,null,null,"(Gg CO2e)","(Gg CO2e)","(Gg CO2e)",null,"Biofarming",null,null,null,null,null,"GgCO2e","GgCO2e","GgCO2e",null,"It follows the calculations given in sheet 3.C.5. Indirect N2O Emissions from managed soils in the IPCC tool.",null,null,null,null,null,null,null,null,null,null,"GgCO2e","reduction"]
[null,"Crop Burn ",null,null,null,"DirN2OManSoil",null,null,null,null,null,null,null,null,null,null,null,null,null,null,null,null,null,"IndN2OManSoil",null,null,null,null,null,null,null,null,null,null,null,null,null,null,null,"Crop Burn Sc 1",null,null,null,null,null,null,null,null,null,null,null,null,null,null,null,null,null,null,null,null,"N in compost (kg)",null,null,null,null,"This scenario includes the combination of reduced chemical fertilizers & use of compost generated from MSW"]
[null,null,null,null,null,"N2O emissions from managed soils - 1/3",null,null,null,null,null,null,null,null,null,"N2O emissions from urine and dung inputs to grazed soils - 3/3",null,null,null,null,null,null,"N2O Em","This worksheet calculates the indirect N2O emissions from managed soils. It follows the calculations given in sheet 3.C.5. Indirect N2O Emissions from managed soils in the IPCC tool.",null,null,null,null,null,null,null," ",null,null,null,null,null,null,null,null,null,null,null,null,null,null,null,null,null,null,null,null,null,null,null,"Organic waste composted (Gg)",null,null,null,"Compost (Gg)",null,null,null,null,null,null,null,null,null,null,null,null,null,"Biofarming - GgCO2e"]
["Year","Area Available (ha)","Area Burnt (ha)","GHG (tCH4)","GHG (GgCO2e) BAU  ","Fertilizer (kg N/yr)","Crop Residues (kg N/yr)","Manure (kg N/yr)","N2O fert (t/yr)","N2O CropRes (t/yr)","N2O Manure (t/yr)","CO2e Fert (Gg/yr)","CO2e CropRes (Gg/yr)","CO2e Manure (Gg/yr)","CO2e subtotal (Gg/yr)","Cattle,poultry,pigs (kgN/yr)","sheep & other (kgN/yr)","N2O cpp (t/yr)","N2O s&o (t/yr)","CO2e cpp (Gg/yr)","CO2e s&o (Gg/yr)","CO2e subtotal (Gg/yr)","DirN2OManSoil CO2e total (Gg/yr)","Fertilizer (kg N/yr)","CropResidues (kg N/yr)","Manure (kg N/yr)","N2O Volatilised (t/yr)","CO2e Volatilised (Gg/yr)","N2O leached (y/yr)","CO2e leached (Gg/yr)","IndN2OManSoil CO2e Total (Gg/yr)","Total (BAU)",null,null,null,"DirN2OManSoilPol",null,null,null,"Area Available (ha)","% Area Burnt","Area Burnt (ha)","GHG (tCH4)","GHG due to CropBurn (Gg CO2e)","Reduction in GHG (Gg CO2e)","Nett GHG (Gg CO2e)",null,"BAU","Fertilizer (kg N/yr)","N2O Fert (t)","CO2e Fert (Gg)","ER","Change","Total-change",null,"Food","Garden","Paper","Total",null,null,"Total CO2e (Gg)","Change","Total+ change",null,"Reduced fertilizer (KgN/yr)","CropResidues (kgN/yr)","Manure (kg N/yr)","N2O Volatized (t/yr)","CO2e Volatized (Gg/yr)","N2O leached (y/yr)","CO2e leached (Gg/yr)","CO2e Total (Gg)","Change","TotalDirN2O-Change",null,null,null,null,null,null,"BAU","SC1","SC2","SC3","SC4"]
[2006,{"$f":"'6. UD1 Assumptions'!C15","v":70800},{"$f":"B8*'5. UD1 Parameters'!$H$10","v":7080},{"$f":"C8*'5. UD1 Parameters'!$H$6*'5. UD1 Parameters'!$H$7*'5. UD1 Parameters'!$H$8/1000","v":124.25400000000002},{"$f":"D8*'5. UD1 Parameters'!$H$9/1000","v":3.1063500000000004},7526219,3316504,2933111.5548999999,{"$f":"'UD1 CropScenarios'!F8*'5. UD1 Parameters'!$H$12*'5. UD1 Parameters'!$H$13/1000","v":118.26915571428572},{"$f":"G8*'5. UD1 Parameters'!$H$12*'5. UD1 Parameters'!$H$13/1000","v":52.116491428571429},{"$f":"H8*'5. UD1 Parameters'!$H$12*'5. UD1 Parameters'!$H$13/1000","v":46.091753005571427},{"$f":"I8*'5. UD1 Parameters'!$H$16/1000","v":35.24420840285714},{"$f":"J8*'5. UD1 Parameters'!$H$16/1000","v":15.530714445714286},{"$f":"K8*'5. UD1 Parameters'!$H$16/1000","v":13.735342395660286},{"$f":"SUM('UD1 CropScenarios'!L8:N8)","v":64.510265244231718},null,451428.39,{"$f":"P8*'5. UD1 Parameters'!$H$14*'5. UD1 Parameters'!$H$13/1000","v":0},{"$f":"Q8*'5. UD1 Parameters'!$H$15*'5. UD1 Parameters'!$H$13/1000","v":7.0938747000000006},{"$f":"R8*'5. UD1 Parameters'!$H$16/1000","v":0},{"$f":"S8*'5. UD1 Parameters'!$H$16/1000","v":2.1139746606000003},{"$f":"'UD1 CropScenarios'!T8+'UD1 CropScenarios'!U8","v":2.1139746606000003},{"$f":"'UD1 CropScenarios'!O8+'UD1 CropScenarios'!V8","v":66.624239904831711},{"$f":"F8","v":7526219},{"$f":"G8","v":3316504},962068.5,{"$f":"(((X8*'5. UD1 Parameters'!$H$18)+(Z8*'5. UD1 Parameters'!$H$19))*('5. UD1 Parameters'!$H$24*'5. UD1 Parameters'!$H$21))/1000","v":14.850559428571431},{"$f":"AA8*'5. UD1 Parameters'!$H$22/1000","v":4.4254667097142866},{"$f":"((X8+Y8+Z8)*'5. UD1 Parameters'!$H$20*'5. UD1 Parameters'!$H$23*'5. UD1 Parameters'!$H$21)/1000","v":41.73836994642857},{"$f":"AC8*'5. UD1 Parameters'!$H$22/1000","v":12.438034244035714},{"$f":"AB8+AD8","v":16.863500953750002},{"$f":"E8+W8+AE8","v":86.594090858581723},null,null,null,{"$f":"INDEX((DirN2OManSoilPol!$U$15:$U$43),MATCH(A8,DirN2OManSoilPol!$A$15:A$43,0))","v":66.624239904831711},null,null,null,{"$f":"'6. UD1 Assumptions'!B15","v":70800},{"$f":"'6. UD1 Assumptions'!F15","v":0.1},{"$f":"AN8*AO8","v":7080},{"$f":"AP8*'5. UD1 Parameters'!$H$6*'5. UD1 Parameters'!$H$7*'5. UD1 Parameters'!$H$8/1000","v":124.25400000000002},{"$f":"AQ8*'5. UD1 Parameters'!$H$9/1000","v":3.1063500000000004},{"$f":"E8-AR8","v":0},{"$f":"AF8-AS8","v":86.594090858581723},null,{"$f":"L8","v":35.24420840285714},{"$f":"'UD1 CropScenarios'!F8*'6. UD1 Assumptions'!K15","v":7526219},{"$f":"AW8*'5. UD1 Parameters'!$H$12*'5. UD1 Parameters'!$H$13/1000","v":118.26915571428572},{"$f":"AX8*'5. UD1 Parameters'!$H$16/1000","v":35.24420840285714},{"$f":"AY8","v":35.24420840285714},{"$f":"AV8-AZ8","v":0},{"$f":"E8+AJ8+AE8-BA8","v":86.594090858581723},null,null,null,null,null,null,null,null,null,{"$f":"BB8+BK8","v":86.594090858581723},null,{"$f":"AW8","v":7526219},{"$f":"'UD1 CropScenarios'!Y8","v":3316504},{"$f":"'UD1 CropScenarios'!Z8","v":962068.5},{"$f":"(((BN8*'5. UD1 Parameters'!$H$18)+(BP8*'5. UD1 Parameters'!$H$19))*('5. UD1 Parameters'!$H$24*'5. UD1 Parameters'!$H$21))/1000","v":14.850559428571431},{"$f":"BQ8*'5. UD1 Parameters'!$H$22/1000","v":4.4254667097142866},{"$f":"((BN8+BO8+BP8)*'5. UD1 Parameters'!$H$20*'5. UD1 Parameters'!$H$23*'5. UD1 Parameters'!$H$21)/1000","v":41.73836994642857},{"$f":"BS8*'5. UD1 Parameters'!$H$22/1000","v":12.438034244035714},{"$f":"BR8+BT8","v":16.863500953750002},{"$f":"AE8-BU8","v":0},{"$f":"BL8-BV8","v":86.594090858581723},null,{"$f":"BW8-AS8","v":86.594090858581723},{"$f":"AF8-BY8","v":0},null,null,null,{"$f":"AF8","v":86.594090858581723},{"$f":"AT8","v":86.594090858581723},{"$f":"BB8","v":86.594090858581723},{"$f":"BW8","v":86.594090858581723},{"$f":"BY8","v":86.594090858581723},null,86.594090858581723,86.594090858581723,86.594090858581723,86.594090858581723,86.594090858581723,null,{"$f":"CD8-CJ8","v":0},{"$f":"CE8-CK8","v":0},0,0,0]
[2007,{"$f":"'6. UD1 Assumptions'!C16","v":68520},{"$f":"B9*'5. UD1 Parameters'!$H$10","v":6852},{"$f":"C9*'5. UD1 Parameters'!$H$6*'5. UD1 Parameters'!$H$7*'5. UD1 Parameters'!$H$8/1000","v":120.2526},{"$f":"D9*'5. UD1 Parameters'!$H$9/1000","v":3.0063149999999998},7267732,3208625,2990028.0913,{"$f":"'UD1 CropScenarios'!F9*'5. UD1 Parameters'!$H$12*'5. UD1 Parameters'!$H$13/1000","v":114.20721714285715},{"$f":"G9*'5. UD1 Parameters'!$H$12*'5. UD1 Parameters'!$H$13/1000","v":50.421250000000001},{"$f":"H9*'5. UD1 Parameters'!$H$12*'5. UD1 Parameters'!$H$13/1000","v":46.98615572042857},{"$f":"I9*'5. UD1 Parameters'!$H$16/1000","v":34.033750708571432},{"$f":"J9*'5. UD1 Parameters'!$H$16/1000","v":15.025532499999999},{"$f":"K9*'5. UD1 Parameters'!$H$16/1000","v":14.001874404687715},{"$f":"SUM('UD1 CropScenarios'!L9:N9)","v":63.061157613259141},null,409968,{"$f":"P9*'5. UD1 Parameters'!$H$14*'5. UD1 Parameters'!$H$13/1000","v":0},{"$f":"Q9*'5. UD1 Parameters'!$H$15*'5. UD1 Parameters'!$H$13/1000","v":6.4423542857142859},{"$f":"R9*'5. UD1 Parameters'!$H$16/1000","v":0},{"$f":"S9*'5. UD1 Parameters'!$H$16/1000","v":1.9198215771428573},{"$f":"'UD1 CropScenarios'!T9+'UD1 CropScenarios'!U9","v":1.9198215771428573},{"$f":"'UD1 CropScenarios'!O9+'UD1 CropScenarios'!V9","v":64.980979190401996},{"$f":"F9","v":7267732},3208625,962068.5,{"$f":"((X9*'5. UD1 Parameters'!$H$18)+(Z9*'5. UD1 Parameters'!$H$19))*'5. UD1 Parameters'!$H$24*'5. UD1 Parameters'!$H$21/1000","v":14.444365571428575},{"$f":"AA9*'5. UD1 Parameters'!$H$22/1000","v":4.3044209402857154},{"$f":"((X9+Y9+Z9)*'5. UD1 Parameters'!$H$20*'5. UD1 Parameters'!$H$23*'5. UD1 Parameters'!$H$21)/1000","v":40.443004446428567},{"$f":"AC9*'5. UD1 Parameters'!$H$22/1000","v":12.052015325035713},16.356436265321427,{"$f":"E9+W9+AE9","v":84.343730455723431},null,null,null,{"$f":"INDEX((DirN2OManSoilPol!$U$15:$U$43),MATCH(A9,DirN2OManSoilPol!$A$15:A$43,0))","v":64.980979190401996},null,null,null,{"$f":"'6. UD1 Assumptions'!B16","v":68520},{"$f":"'6. UD1 Assumptions'!F16","v":0.1},6852,{"$f":"AP9*'5. UD1 Parameters'!$H$6*'5. UD1 Parameters'!$H$7*'5. UD1 Parameters'!$H$8/1000","v":120.2526},{"$f":"AQ9*'5. UD1 Parameters'!$H$9/1000","v":3.0063149999999998},0,84.343730455723431,null,{"$f":"L9","v":34.033750708571432},{"$f":"'UD1 CropScenarios'!F9*'6. UD1 Assumptions'!K16","v":7267732},{"$f":"AW9*'5. UD1 Parameters'!$H$12*'5. UD1 Parameters'!$H$13/1000","v":114.20721714285715},{"$f":"AX9*'5. UD1 Parameters'!$H$16/1000","v":34.033750708571432},{"$f":"AY9","v":34.033750708571432},0,84.343730455723431,null,null,null,null,null,null,null,null,null,84.343730455723431,null,{"$f":"AW9","v":7267732},{"$f":"'UD1 CropScenarios'!Y9","v":3208625},{"$f":"'UD1 CropScenarios'!Z9","v":962068.5},{"$f":"(((BN9*'5. UD1 Parameters'!$H$18)+(BP9*'5. UD1 Parameters'!$H$19))*('5. UD1 Parameters'!$H$24*'5. UD1 Parameters'!$H$21))/1000","v":14.444365571428575},{"$f":"BQ9*'5. UD1 Parameters'!$H$22/1000","v":4.3044209402857154},{"$f":"((BN9+BO9+BP9)*'5. UD1 Parameters'!$H$20*'5. UD1 Parameters'!$H$23*'5. UD1 Parameters'!$H$21)/1000","v":40.443004446428567},{"$f":"BS9*'5. UD1 Parameters'!$H$22/1000","v":12.052015325035713},16.356436265321427,{"$f":"AE9-BU9","v":0},84.343730455723431,null,84.343730455723431,0,null,null,null,{"$f":"AF9","v":84.343730455723431},{"$f":"AT9","v":84.343730455723431},{"$f":"BB9","v":84.343730455723431},{"$f":"BW9","v":84.343730455723431},{"$f":"BY9","v":84.343730455723431},null,84.343730455723431,84.343730455723431,84.343730455723431,84.343730455723431,84.343730455723431,null,{"$f":"CD9-CJ9","v":0},0,0,0,0]
[2008,{"$f":"'6. UD1 Assumptions'!C17","v":65440},{"$f":"B10*'5. UD1 Parameters'!$H$10","v":6544},{"$f":"C10*'5. UD1 Parameters'!$H$6*'5. UD1 Parameters'!$H$7*'5. UD1 Parameters'!$H$8/1000","v":114.84720000000002},{"$f":"D10*'5. UD1 Parameters'!$H$9/1000","v":2.8711800000000003},6807140,3064362,2878426.2456999999,{"$f":"'UD1 CropScenarios'!F10*'5. UD1 Parameters'!$H$12*'5. UD1 Parameters'!$H$13/1000","v":106.96934285714285},{"$f":"G10*'5. UD1 Parameters'!$H$12*'5. UD1 Parameters'!$H$13/1000","v":48.154259999999994},{"$f":"H10*'5. UD1 Parameters'!$H$12*'5. UD1 Parameters'!$H$13/1000","v":45.232412432428575},{"$f":"I10*'5. UD1 Parameters'!$H$16/1000","v":31.876864171428569},{"$f":"J10*'5. UD1 Parameters'!$H$16/1000","v":14.349969479999999},{"$f":"K10*'5. UD1 Parameters'!$H$16/1000","v":13.479258904863714},{"$f":"SUM('UD1 CropScenarios'!L10:N10)","v":59.706092556292276},null,409968,{"$f":"P10*'5. UD1 Parameters'!$H$14*'5. UD1 Parameters'!$H$13/1000","v":0},{"$f":"Q10*'5. UD1 Parameters'!$H$15*'5. UD1 Parameters'!$H$13/1000","v":6.4423542857142859},{"$f":"R10*'5. UD1 Parameters'!$H$16/1000","v":0},{"$f":"S10*'5. UD1 Parameters'!$H$16/1000","v":1.9198215771428573},{"$f":"'UD1 CropScenarios'!T10+'UD1 CropScenarios'!U10","v":1.9198215771428573},{"$f":"'UD1 CropScenarios'!O10+'UD1 CropScenarios'!V10","v":61.625914133435131},6807140,3064362,962068.5,{"$f":"((X10*'5. UD1 Parameters'!$H$18)+(Z10*'5. UD1 Parameters'!$H$19))*'5. UD1 Parameters'!$H$24*'5. UD1 Parameters'!$H$21/1000","v":13.720578142857143},{"$f":"AA10*'5. UD1 Parameters'!$H$22/1000","v":4.0887322865714291},{"$f":"((X10+Y10+Z10)*'5. UD1 Parameters'!$H$20*'5. UD1 Parameters'!$H$23*'5. UD1 Parameters'!$H$21)/1000","v":38.30440998214285},{"$f":"AC10*'5. UD1 Parameters'!$H$22/1000","v":11.414714174678569},15.503446461249997,80.00054059468512,null,null,null,{"$f":"INDEX((DirN2OManSoilPol!$U$15:$U$43),MATCH(A10,DirN2OManSoilPol!$A$15:A$43,0))","v":61.625914133435131},null,null,null,{"$f":"'6. UD1 Assumptions'!B17","v":65440},{"$f":"'6. UD1 Assumptions'!F17","v":0.1},6544,{"$f":"AP10*'5. UD1 Parameters'!$H$6*'5. UD1 Parameters'!$H$7*'5. UD1 Parameters'!$H$8/1000","v":114.84720000000002},{"$f":"AQ10*'5. UD1 Parameters'!$H$9/1000","v":2.8711800000000003},0,80.00054059468512,null,31.876864171428569,{"$f":"'UD1 CropScenarios'!F10*'6. UD1 Assumptions'!K17","v":6807140},{"$f":"AW10*'5. UD1 Parameters'!$H$12*'5. UD1 Parameters'!$H$13/1000","v":106.96934285714285},{"$f":"AX10*'5. UD1 Parameters'!$H$16/1000","v":31.876864171428569},31.876864171428569,0,80.00054059468512,null,null,null,null,null,null,null,null,null,80.00054059468512,null,6807140,{"$f":"'UD1 CropScenarios'!Y10","v":3064362},{"$f":"'UD1 CropScenarios'!Z10","v":962068.5},{"$f":"(((BN10*'5. UD1 Parameters'!$H$18)+(BP10*'5. UD1 Parameters'!$H$19))*('5. UD1 Parameters'!$H$24*'5. UD1 Parameters'!$H$21))/1000","v":13.720578142857143},{"$f":"BQ10*'5. UD1 Parameters'!$H$22/1000","v":4.0887322865714291},{"$f":"((BN10+BO10+BP10)*'5. UD1 Parameters'!$H$20*'5. UD1 Parameters'!$H$23*'5. UD1 Parameters'!$H$21)/1000","v":38.30440998214285},{"$f":"BS10*'5. UD1 Parameters'!$H$22/1000","v":11.414714174678569},15.503446461249997,0,80.00054059468512,null,80.00054059468512,0,null,null,null,80.00054059468512,80.00054059468512,80.00054059468512,80.00054059468512,80.00054059468512,null,80.00054059468512,80.00054059468512,80.00054059468512,80.00054059468512,80.00054059468512,null,0,0,0,0,0]
[2009,{"$f":"'6. UD1 Assumptions'!C18","v":65850},{"$f":"B11*'5. UD1 Parameters'!$H$10","v":6585},{"$f":"C11*'5. UD1 Parameters'!$H$6*'5. UD1 Parameters'!$H$7*'5. UD1 Parameters'!$H$8/1000","v":115.56675000000001},{"$f":"D11*'5. UD1 Parameters'!$H$9/1000","v":2.8891687500000001},6616456,3013169,2637317.4032999999,{"$f":"'UD1 CropScenarios'!F11*'5. UD1 Parameters'!$H$12*'5. UD1 Parameters'!$H$13/1000","v":103.97287999999999},{"$f":"G11*'5. UD1 Parameters'!$H$12*'5. UD1 Parameters'!$H$13/1000","v":47.349798571428572},{"$f":"H11*'5. UD1 Parameters'!$H$12*'5. UD1 Parameters'!$H$13/1000","v":41.443559194714283},{"$f":"I11*'5. UD1 Parameters'!$H$16/1000","v":30.983918239999994},{"$f":"J11*'5. UD1 Parameters'!$H$16/1000","v":14.110239974285713},{"$f":"K11*'5. UD1 Parameters'!$H$16/1000","v":12.350180640024856},{"$f":"SUM('UD1 CropScenarios'!L11:N11)","v":57.444338854310558},67844.831250000003,417977.60087999998,{"$f":"P11*'5. UD1 Parameters'!$H$14*'5. UD1 Parameters'!$H$13/1000","v":2.1322661250000001},{"$f":"Q11*'5. UD1 Parameters'!$H$15*'5. UD1 Parameters'!$H$13/1000","v":6.5682194423999993},{"$f":"R11*'5. UD1 Parameters'!$H$16/1000","v":0.63541530525000012},{"$f":"S11*'5. UD1 Parameters'!$H$16/1000","v":1.9573293938351999},{"$f":"'UD1 CropScenarios'!T11+'UD1 CropScenarios'!U11","v":2.5927446990852001},{"$f":"'UD1 CropScenarios'!O11+'UD1 CropScenarios'!V11","v":60.03708355339576},6616456,3013169,962068.5,{"$f":"((X11*'5. UD1 Parameters'!$H$18)+(Z11*'5. UD1 Parameters'!$H$19))*'5. UD1 Parameters'!$H$24*'5. UD1 Parameters'!$H$21/1000","v":13.420931857142858},{"$f":"AA11*'5. UD1 Parameters'!$H$22/1000","v":3.9994376934285714},{"$f":"((X11+Y11+Z11)*'5. UD1 Parameters'!$H$20*'5. UD1 Parameters'!$H$23*'5. UD1 Parameters'!$H$21)/1000","v":37.449202017857139},{"$f":"AC11*'5. UD1 Parameters'!$H$22/1000","v":11.159862201321427},15.159299894749999,78.085552198145763,null,null,null,{"$f":"INDEX((DirN2OManSoilPol!$U$15:$U$43),MATCH(A11,DirN2OManSoilPol!$A$15:A$43,0))","v":60.03708355339576},null,null,null,{"$f":"'6. UD1 Assumptions'!B18","v":65850},{"$f":"'6. UD1 Assumptions'!F18","v":0.1},6585,{"$f":"AP11*'5. UD1 Parameters'!$H$6*'5. UD1 Parameters'!$H$7*'5. UD1 Parameters'!$H$8/1000","v":115.56675000000001},{"$f":"AQ11*'5. UD1 Parameters'!$H$9/1000","v":2.8891687500000001},0,78.085552198145763,null,30.983918239999994,{"$f":"'UD1 CropScenarios'!F11*'6. UD1 Assumptions'!K18","v":6616456},{"$f":"AW11*'5. UD1 Parameters'!$H$12*'5. UD1 Parameters'!$H$13/1000","v":103.97287999999999},{"$f":"AX11*'5. UD1 Parameters'!$H$16/1000","v":30.983918239999994},30.983918239999994,0,78.085552198145763,null,null,null,null,null,null,null,null,null,78.085552198145763,null,6616456,{"$f":"'UD1 CropScenarios'!Y11","v":3013169},{"$f":"'UD1 CropScenarios'!Z11","v":962068.5},{"$f":"(((BN11*'5. UD1 Parameters'!$H$18)+(BP11*'5. UD1 Parameters'!$H$19))*('5. UD1 Parameters'!$H$24*'5. UD1 Parameters'!$H$21))/1000","v":13.420931857142859},{"$f":"BQ11*'5. UD1 Parameters'!$H$22/1000","v":3.9994376934285718},{"$f":"((BN11+BO11+BP11)*'5. UD1 Parameters'!$H$20*'5. UD1 Parameters'!$H$23*'5. UD1 Parameters'!$H$21)/1000","v":37.449202017857139},{"$f":"BS11*'5. UD1 Parameters'!$H$22/1000","v":11.159862201321427},15.159299894749999,0,78.085552198145763,null,78.085552198145763,0,null,null,null,78.085552198145763,78.085552198145763,78.085552198145763,78.085552198145763,78.085552198145763,null,78.085552198145763,78.085552198145763,78.085552198145763,78.085552198145763,78.085552198145763,null,0,0,0,0,0]
[2010,{"$f":"'6. UD1 Assumptions'!C19","v":64130},{"$f":"B12*'5. UD1 Parameters'!$H$10","v":6413},{"$f":"C12*'5. UD1 Parameters'!$H$6*'5. UD1 Parameters'!$H$7*'5. UD1 Parameters'!$H$8/1000","v":112.54815000000001},{"$f":"D12*'5. UD1 Parameters'!$H$9/1000","v":2.8137037500000002},7468310,3012269,3508672.6663000002,{"$f":"'UD1 CropScenarios'!F12*'5. UD1 Parameters'!$H$12*'5. UD1 Parameters'!$H$13/1000","v":117.35915714285714},{"$f":"G12*'5. UD1 Parameters'!$H$12*'5. UD1 Parameters'!$H$13/1000","v":47.335655714285721},{"$f":"H12*'5. UD1 Parameters'!$H$12*'5. UD1 Parameters'!$H$13/1000","v":55.136284756142857},{"$f":"I12*'5. UD1 Parameters'!$H$16/1000","v":34.973028828571429},{"$f":"J12*'5. UD1 Parameters'!$H$16/1000","v":14.106025402857146},{"$f":"K12*'5. UD1 Parameters'!$H$16/1000","v":16.430612857330573},{"$f":"SUM('UD1 CropScenarios'!L12:N12)","v":65.509667088759144},10606.575150000001,409968,{"$f":"P12*'5. UD1 Parameters'!$H$14*'5. UD1 Parameters'!$H$13/1000","v":0.3333495047142857},{"$f":"Q12*'5. UD1 Parameters'!$H$15*'5. UD1 Parameters'!$H$13/1000","v":6.4423542857142859},{"$f":"R12*'5. UD1 Parameters'!$H$16/1000","v":9.9338152404857147E-2},{"$f":"S12*'5. UD1 Parameters'!$H$16/1000","v":1.9198215771428573},{"$f":"'UD1 CropScenarios'!T12+'UD1 CropScenarios'!U12","v":2.0191597295477144},{"$f":"'UD1 CropScenarios'!O12+'UD1 CropScenarios'!V12","v":67.528826818306854},7468310,3012269,962068.5,{"$f":"((X12*'5. UD1 Parameters'!$H$18)+(Z12*'5. UD1 Parameters'!$H$19))*'5. UD1 Parameters'!$H$24*'5. UD1 Parameters'!$H$21/1000","v":14.759559571428571},{"$f":"AA12*'5. UD1 Parameters'!$H$22/1000","v":4.3983487522857141},{"$f":"((X12+Y12+Z12)*'5. UD1 Parameters'!$H$20*'5. UD1 Parameters'!$H$23*'5. UD1 Parameters'!$H$21)/1000","v":40.457932232142852},{"$f":"AC12*'5. UD1 Parameters'!$H$22/1000","v":12.05646380517857},16.454812557464283,86.797343125771135,null,null,null,{"$f":"INDEX((DirN2OManSoilPol!$U$15:$U$43),MATCH(A12,DirN2OManSoilPol!$A$15:A$43,0))","v":67.528826818306854},null,null,null,{"$f":"'6. UD1 Assumptions'!B19","v":64130},{"$f":"'6. UD1 Assumptions'!F19","v":0.1},6413,{"$f":"AP12*'5. UD1 Parameters'!$H$6*'5. UD1 Parameters'!$H$7*'5. UD1 Parameters'!$H$8/1000","v":112.54815000000001},{"$f":"AQ12*'5. UD1 Parameters'!$H$9/1000","v":2.8137037500000002},0,86.797343125771135,null,34.973028828571429,{"$f":"'UD1 CropScenarios'!F12*'6. UD1 Assumptions'!K19","v":7468310},{"$f":"AW12*'5. UD1 Parameters'!$H$12*'5. UD1 Parameters'!$H$13/1000","v":117.35915714285714},{"$f":"AX12*'5. UD1 Parameters'!$H$16/1000","v":34.973028828571429},34.973028828571429,0,86.797343125771135,null,null,null,null,null,null,null,null,null,86.797343125771135,null,7468310,{"$f":"'UD1 CropScenarios'!Y12","v":3012269},{"$f":"'UD1 CropScenarios'!Z12","v":962068.5},{"$f":"(((BN12*'5. UD1 Parameters'!$H$18)+(BP12*'5. UD1 Parameters'!$H$19))*('5. UD1 Parameters'!$H$24*'5. UD1 Parameters'!$H$21))/1000","v":14.759559571428571},{"$f":"BQ12*'5. UD1 Parameters'!$H$22/1000","v":4.3983487522857141},{"$f":"((BN12+BO12+BP12)*'5. UD1 Parameters'!$H$20*'5. UD1 Parameters'!$H$23*'5. UD1 Parameters'!$H$21)/1000","v":40.457932232142852},{"$f":"BS12*'5. UD1 Parameters'!$H$22/1000","v":12.05646380517857},16.454812557464283,0,86.797343125771135,null,86.797343125771135,0,null,null,null,86.797343125771135,86.797343125771135,86.797343125771135,86.797343125771135,86.797343125771135,null,86.797343125771135,86.797343125771135,86.797343125771135,86.797343125771135,86.797343125771135,null,0,0,0,0,0]
[2011,{"$f":"'6. UD1 Assumptions'!C20","v":61730},{"$f":"B13*'5. UD1 Parameters'!$H$10","v":6173},{"$f":"C13*'5. UD1 Parameters'!$H$6*'5. UD1 Parameters'!$H$7*'5. UD1 Parameters'!$H$8/1000","v":108.33615},{"$f":"D13*'5. UD1 Parameters'!$H$9/1000","v":2.70840375},7834140,2902017,3528789,{"$f":"'UD1 CropScenarios'!F13*'5. UD1 Parameters'!$H$12*'5. UD1 Parameters'!$H$13/1000","v":123.1079142857143},{"$f":"G13*'5. UD1 Parameters'!$H$12*'5. UD1 Parameters'!$H$13/1000","v":45.603124285714287},{"$f":"H13*'5. UD1 Parameters'!$H$12*'5. UD1 Parameters'!$H$13/1000","v":55.452398571428567},{"$f":"I13*'5. UD1 Parameters'!$H$16/1000","v":36.686158457142859},{"$f":"J13*'5. UD1 Parameters'!$H$16/1000","v":13.589731037142858},{"$f":"K13*'5. UD1 Parameters'!$H$16/1000","v":16.524814774285716},{"$f":"SUM('UD1 CropScenarios'!L13:N13)","v":66.800704268571437},11286.422325,420000,{"$f":"P13*'5. UD1 Parameters'!$H$14*'5. UD1 Parameters'!$H$13/1000","v":0.35471613021428566},{"$f":"Q13*'5. UD1 Parameters'!$H$15*'5. UD1 Parameters'!$H$13/1000","v":6.6},{"$f":"R13*'5. UD1 Parameters'!$H$16/1000","v":0.10570540680385714},{"$f":"S13*'5. UD1 Parameters'!$H$16/1000","v":1.9667999999999999},{"$f":"'UD1 CropScenarios'!T13+'UD1 CropScenarios'!U13","v":2.0725054068038569},{"$f":"'UD1 CropScenarios'!O13+'UD1 CropScenarios'!V13","v":68.873209675375293},7834140,2902017,962068.5,{"$f":"((X13*'5. UD1 Parameters'!$H$18)+(Z13*'5. UD1 Parameters'!$H$19))*'5. UD1 Parameters'!$H$24*'5. UD1 Parameters'!$H$21/1000","v":15.334435285714285},{"$f":"AA13*'5. UD1 Parameters'!$H$22/1000","v":4.5696617151428569},{"$f":"((X13+Y13+Z13)*'5. UD1 Parameters'!$H$20*'5. UD1 Parameters'!$H$23*'5. UD1 Parameters'!$H$21)/1000","v":41.361583017857143},{"$f":"AC13*'5. UD1 Parameters'!$H$22/1000","v":12.325751739321429},16.895413454464286,88.477026879839585,null,null,null,{"$f":"INDEX((DirN2OManSoilPol!$U$15:$U$43),MATCH(A13,DirN2OManSoilPol!$A$15:A$43,0))","v":68.873209675375293},null,null,null,{"$f":"'6. UD1 Assumptions'!B20","v":61730},{"$f":"'6. UD1 Assumptions'!F20","v":0.1},6173,{"$f":"AP13*'5. UD1 Parameters'!$H$6*'5. UD1 Parameters'!$H$7*'5. UD1 Parameters'!$H$8/1000","v":108.33615},{"$f":"AQ13*'5. UD1 Parameters'!$H$9/1000","v":2.70840375},0,88.477026879839585,null,36.686158457142859,{"$f":"'UD1 CropScenarios'!F13*'6. UD1 Assumptions'!K20","v":7834140},{"$f":"AW13*'5. UD1 Parameters'!$H$12*'5. UD1 Parameters'!$H$13/1000","v":123.1079142857143},{"$f":"AX13*'5. UD1 Parameters'!$H$16/1000","v":36.686158457142859},36.686158457142859,0,88.477026879839585,null,null,null,null,null,null,null,null,null,88.477026879839585,null,7834140,{"$f":"'UD1 CropScenarios'!Y13","v":2902017},{"$f":"'UD1 CropScenarios'!Z13","v":962068.5},{"$f":"(((BN13*'5. UD1 Parameters'!$H$18)+(BP13*'5. UD1 Parameters'!$H$19))*('5. UD1 Parameters'!$H$24*'5. UD1 Parameters'!$H$21))/1000","v":15.334435285714285},{"$f":"BQ13*'5. UD1 Parameters'!$H$22/1000","v":4.5696617151428569},{"$f":"((BN13+BO13+BP13)*'5. UD1 Parameters'!$H$20*'5. UD1 Parameters'!$H$23*'5. UD1 Parameters'!$H$21)/1000","v":41.361583017857143},{"$f":"BS13*'5. UD1 Parameters'!$H$22/1000","v":12.325751739321429},16.895413454464286,0,88.477026879839585,null,88.477026879839585,0,null,null,null,88.477026879839585,88.477026879839585,88.477026879839585,88.477026879839585,88.477026879839585,null,88.477026879839585,88.477026879839585,88.477026879839585,88.477026879839585,88.477026879839585,null,0,0,0,0,0]
[2012,{"$f":"'6. UD1 Assumptions'!C21","v":57160},{"$f":"B14*'5. UD1 Parameters'!$H$10","v":5716},{"$f":"C14*'5. UD1 Parameters'!$H$6*'5. UD1 Parameters'!$H$7*'5. UD1 Parameters'!$H$8/1000","v":100.3158},{"$f":"D14*'5. UD1 Parameters'!$H$9/1000","v":2.507895},9700004,2697461,3437753.0843000002,{"$f":"'UD1 CropScenarios'!F14*'5. UD1 Parameters'!$H$12*'5. UD1 Parameters'!$H$13/1000","v":152.42863428571431},{"$f":"G14*'5. UD1 Parameters'!$H$12*'5. UD1 Parameters'!$H$13/1000","v":42.388672857142851},{"$f":"H14*'5. UD1 Parameters'!$H$12*'5. UD1 Parameters'!$H$13/1000","v":54.021834181857145},{"$f":"I14*'5. UD1 Parameters'!$H$16/1000","v":45.423733017142865},{"$f":"J14*'5. UD1 Parameters'!$H$16/1000","v":12.631824511428569},{"$f":"K14*'5. UD1 Parameters'!$H$16/1000","v":16.09850658619343},{"$f":"SUM('UD1 CropScenarios'!L14:N14)","v":74.154064114764864},14442.256125,462125.79920000001,{"$f":"P14*'5. UD1 Parameters'!$H$14*'5. UD1 Parameters'!$H$13/1000","v":0.45389947821428567},{"$f":"Q14*'5. UD1 Parameters'!$H$15*'5. UD1 Parameters'!$H$13/1000","v":7.2619768445714277},{"$f":"R14*'5. UD1 Parameters'!$H$16/1000","v":0.13526204450785712},{"$f":"S14*'5. UD1 Parameters'!$H$16/1000","v":2.1640690996822856},{"$f":"'UD1 CropScenarios'!T14+'UD1 CropScenarios'!U14","v":2.2993311441901425},{"$f":"'UD1 CropScenarios'!O14+'UD1 CropScenarios'!V14","v":76.453395258955013},9700004,2697461,962068.5,{"$f":"((X14*'5. UD1 Parameters'!$H$18)+(Z14*'5. UD1 Parameters'!$H$19))*'5. UD1 Parameters'!$H$24*'5. UD1 Parameters'!$H$21/1000","v":18.266507285714287},{"$f":"AA14*'5. UD1 Parameters'!$H$22/1000","v":5.4434191711428577},{"$f":"((X14+Y14+Z14)*'5. UD1 Parameters'!$H$20*'5. UD1 Parameters'!$H$23*'5. UD1 Parameters'!$H$21)/1000","v":47.235493446428571},{"$f":"AC14*'5. UD1 Parameters'!$H$22/1000","v":14.076177047035713},19.51959621817857,98.480886477133595,null,null,null,{"$f":"INDEX((DirN2OManSoilPol!$U$15:$U$43),MATCH(A14,DirN2OManSoilPol!$A$15:A$43,0))","v":76.453395258955013},null,null,null,{"$f":"'6. UD1 Assumptions'!B21","v":57160},{"$f":"'6. UD1 Assumptions'!F21","v":0.1},5716,{"$f":"AP14*'5. UD1 Parameters'!$H$6*'5. UD1 Parameters'!$H$7*'5. UD1 Parameters'!$H$8/1000","v":100.3158},{"$f":"AQ14*'5. UD1 Parameters'!$H$9/1000","v":2.507895},0,98.480886477133595,null,45.423733017142865,{"$f":"'UD1 CropScenarios'!F14*'6. UD1 Assumptions'!K21","v":9700004},{"$f":"AW14*'5. UD1 Parameters'!$H$12*'5. UD1 Parameters'!$H$13/1000","v":152.42863428571431},{"$f":"AX14*'5. UD1 Parameters'!$H$16/1000","v":45.423733017142865},45.423733017142865,0,98.480886477133595,null,null,null,null,null,null,null,null,null,98.480886477133595,null,9700004,{"$f":"'UD1 CropScenarios'!Y14","v":2697461},{"$f":"'UD1 CropScenarios'!Z14","v":962068.5},{"$f":"(((BN14*'5. UD1 Parameters'!$H$18)+(BP14*'5. UD1 Parameters'!$H$19))*('5. UD1 Parameters'!$H$24*'5. UD1 Parameters'!$H$21))/1000","v":18.266507285714287},{"$f":"BQ14*'5. UD1 Parameters'!$H$22/1000","v":5.4434191711428577},{"$f":"((BN14+BO14+BP14)*'5. UD1 Parameters'!$H$20*'5. UD1 Parameters'!$H$23*'5. UD1 Parameters'!$H$21)/1000","v":47.235493446428571},{"$f":"BS14*'5. UD1 Parameters'!$H$22/1000","v":14.076177047035713},19.51959621817857,0,98.480886477133595,null,98.480886477133595,0,null,null,null,98.480886477133595,98.480886477133595,98.480886477133595,98.480886477133595,98.480886477133595,null,98.480886477133595,98.480886477133595,98.480886477133595,98.480886477133595,98.480886477133595,null,0,0,0,0,0]
[2013,{"$f":"'6. UD1 Assumptions'!C22","v":56464},{"$f":"B15*'5. UD1 Parameters'!$H$10","v":5646.4000000000005},{"$f":"C15*'5. UD1 Parameters'!$H$6*'5. UD1 Parameters'!$H$7*'5. UD1 Parameters'!$H$8/1000","v":99.094320000000025},{"$f":"D15*'5. UD1 Parameters'!$H$9/1000","v":2.4773580000000006},9967255,2665224,3379421.6993,{"$f":"'UD1 CropScenarios'!F15*'5. UD1 Parameters'!$H$12*'5. UD1 Parameters'!$H$13/1000","v":156.62829285714287},{"$f":"G15*'5. UD1 Parameters'!$H$12*'5. UD1 Parameters'!$H$13/1000","v":41.882091428571428},{"$f":"H15*'5. UD1 Parameters'!$H$12*'5. UD1 Parameters'!$H$13/1000","v":53.105198131857144},{"$f":"I15*'5. UD1 Parameters'!$H$16/1000","v":46.675231271428572},{"$f":"J15*'5. UD1 Parameters'!$H$16/1000","v":12.480863245714286},{"$f":"K15*'5. UD1 Parameters'!$H$16/1000","v":15.825349043293429},{"$f":"SUM('UD1 CropScenarios'!L15:N15)","v":74.98144356043629},13170.0906,464088.0465,{"$f":"P15*'5. UD1 Parameters'!$H$14*'5. UD1 Parameters'!$H$13/1000","v":0.41391713314285716},{"$f":"Q15*'5. UD1 Parameters'!$H$15*'5. UD1 Parameters'!$H$13/1000","v":7.292812159285714},{"$f":"R15*'5. UD1 Parameters'!$H$16/1000","v":0.12334730567657144},{"$f":"S15*'5. UD1 Parameters'!$H$16/1000","v":2.1732580234671426},{"$f":"'UD1 CropScenarios'!T15+'UD1 CropScenarios'!U15","v":2.2966053291437141},{"$f":"'UD1 CropScenarios'!O15+'UD1 CropScenarios'!V15","v":77.278048889580006},9967255,2665224,962068.5,{"$f":"((X15*'5. UD1 Parameters'!$H$18)+(Z15*'5. UD1 Parameters'!$H$19))*'5. UD1 Parameters'!$H$24*'5. UD1 Parameters'!$H$21/1000","v":18.686473142857142},{"$f":"AA15*'5. UD1 Parameters'!$H$22/1000","v":5.568568996571428},{"$f":"((X15+Y15+Z15)*'5. UD1 Parameters'!$H$20*'5. UD1 Parameters'!$H$23*'5. UD1 Parameters'!$H$21)/1000","v":48.066435803571423},{"$f":"AC15*'5. UD1 Parameters'!$H$22/1000","v":14.323797869464284},19.892366866035712,99.647773755615717,null,null,null,{"$f":"INDEX((DirN2OManSoilPol!$U$15:$U$43),MATCH(A15,DirN2OManSoilPol!$A$15:A$43,0))","v":77.278048889580006},null,null,null,{"$f":"'6. UD1 Assumptions'!B22","v":56464},{"$f":"'6. UD1 Assumptions'!F22","v":0.1},5646.4000000000005,{"$f":"AP15*'5. UD1 Parameters'!$H$6*'5. UD1 Parameters'!$H$7*'5. UD1 Parameters'!$H$8/1000","v":99.094320000000025},{"$f":"AQ15*'5. UD1 Parameters'!$H$9/1000","v":2.4773580000000006},0,99.647773755615717,null,46.675231271428572,{"$f":"'UD1 CropScenarios'!F15*'6. UD1 Assumptions'!K22","v":9967255},{"$f":"AW15*'5. UD1 Parameters'!$H$12*'5. UD1 Parameters'!$H$13/1000","v":156.62829285714287},{"$f":"AX15*'5. UD1 Parameters'!$H$16/1000","v":46.675231271428572},46.675231271428572,0,99.647773755615717,null,null,null,null,null,null,null,null,null,99.647773755615717,null,9967255,{"$f":"'UD1 CropScenarios'!Y15","v":2665224},{"$f":"'UD1 CropScenarios'!Z15","v":962068.5},{"$f":"(((BN15*'5. UD1 Parameters'!$H$18)+(BP15*'5. UD1 Parameters'!$H$19))*('5. UD1 Parameters'!$H$24*'5. UD1 Parameters'!$H$21))/1000","v":18.686473142857142},{"$f":"BQ15*'5. UD1 Parameters'!$H$22/1000","v":5.568568996571428},{"$f":"((BN15+BO15+BP15)*'5. UD1 Parameters'!$H$20*'5. UD1 Parameters'!$H$23*'5. UD1 Parameters'!$H$21)/1000","v":48.066435803571423},{"$f":"BS15*'5. UD1 Parameters'!$H$22/1000","v":14.323797869464284},19.892366866035712,0,99.647773755615717,null,99.647773755615717,0,null,null,null,99.647773755615717,99.647773755615717,99.647773755615717,99.647773755615717,99.647773755615717,null,99.647773755615717,99.647773755615717,99.647773755615717,99.647773755615717,99.647773755615717,null,0,0,0,0,0]
[2014,{"$f":"'6. UD1 Assumptions'!C23","v":50694},{"$f":"B16*'5. UD1 Parameters'!$H$10","v":5069.4000000000005},{"$f":"C16*'5. UD1 Parameters'!$H$6*'5. UD1 Parameters'!$H$7*'5. UD1 Parameters'!$H$8/1000","v":88.967970000000022},{"$f":"D16*'5. UD1 Parameters'!$H$9/1000","v":2.2241992500000007},{"$f":"F15*(1+'6. UD1 Assumptions'!I23)","v":10166600.1},{"$f":"G15","v":2665224},{"$f":"H15+(H17-H15)/2","v":3440472.1319429623},{"$f":"'UD1 CropScenarios'!F16*'5. UD1 Parameters'!$H$12*'5. UD1 Parameters'!$H$13/1000","v":159.76085871428572},{"$f":"G16*'5. UD1 Parameters'!$H$12*'5. UD1 Parameters'!$H$13/1000","v":41.882091428571428},{"$f":"H16*'5. UD1 Parameters'!$H$12*'5. UD1 Parameters'!$H$13/1000","v":54.064562073389403},{"$f":"I16*'5. UD1 Parameters'!$H$16/1000","v":47.608735896857141},{"$f":"J16*'5. UD1 Parameters'!$H$16/1000","v":12.480863245714286},{"$f":"K16*'5. UD1 Parameters'!$H$16/1000","v":16.111239497870042},{"$f":"SUM('UD1 CropScenarios'!L16:N16)","v":76.200838640441475},{"$f":"P15+(P17-P15)/2","v":12926.5553},{"$f":"Q15","v":464088.0465},{"$f":"P16*'5. UD1 Parameters'!$H$14*'5. UD1 Parameters'!$H$13/1000","v":0.40626316657142858},{"$f":"Q16*'5. UD1 Parameters'!$H$15*'5. UD1 Parameters'!$H$13/1000","v":7.292812159285714},{"$f":"R16*'5. UD1 Parameters'!$H$16/1000","v":0.12106642363828571},{"$f":"S16*'5. UD1 Parameters'!$H$16/1000","v":2.1732580234671426},{"$f":"'UD1 CropScenarios'!T16+'UD1 CropScenarios'!U16","v":2.2943244471054283},{"$f":"'UD1 CropScenarios'!O16+'UD1 CropScenarios'!V16","v":78.495163087546899},10166600.1,2665224,962068.5,{"$f":"((X16*'5. UD1 Parameters'!$H$18)+(Z16*'5. UD1 Parameters'!$H$19))*'5. UD1 Parameters'!$H$24*'5. UD1 Parameters'!$H$21/1000","v":18.999729728571431},{"$f":"AA16*'5. UD1 Parameters'!$H$22/1000","v":5.6619194591142872},{"$f":"((X16+Y16+Z16)*'5. UD1 Parameters'!$H$20*'5. UD1 Parameters'!$H$23*'5. UD1 Parameters'!$H$21)/1000","v":48.771263121428568},{"$f":"AC16*'5. UD1 Parameters'!$H$22/1000","v":14.533836410185714},20.195755869300001,100.9151182068469,null,null,null,{"$f":"INDEX((DirN2OManSoilPol!$U$15:$U$43),MATCH(A16,DirN2OManSoilPol!$A$15:A$43,0))","v":78.495163087546899},null,null,null,{"$f":"'6. UD1 Assumptions'!B23","v":50694},{"$f":"'6. UD1 Assumptions'!F23","v":0.1},5069.4000000000005,{"$f":"AP16*'5. UD1 Parameters'!$H$6*'5. UD1 Parameters'!$H$7*'5. UD1 Parameters'!$H$8/1000","v":88.967970000000022},{"$f":"AQ16*'5. UD1 Parameters'!$H$9/1000","v":2.2241992500000007},0,100.9151182068469,null,47.608735896857141,{"$f":"'UD1 CropScenarios'!F16*'6. UD1 Assumptions'!K23","v":10166600.1},{"$f":"AW16*'5. UD1 Parameters'!$H$12*'5. UD1 Parameters'!$H$13/1000","v":159.76085871428572},{"$f":"AX16*'5. UD1 Parameters'!$H$16/1000","v":47.608735896857141},47.608735896857141,0,100.9151182068469,null,null,null,null,null,null,null,null,null,100.9151182068469,null,10166600.1,{"$f":"'UD1 CropScenarios'!Y16","v":2665224},{"$f":"'UD1 CropScenarios'!Z16","v":962068.5},{"$f":"(((BN16*'5. UD1 Parameters'!$H$18)+(BP16*'5. UD1 Parameters'!$H$19))*('5. UD1 Parameters'!$H$24*'5. UD1 Parameters'!$H$21))/1000","v":18.999729728571431},{"$f":"BQ16*'5. UD1 Parameters'!$H$22/1000","v":5.6619194591142872},{"$f":"((BN16+BO16+BP16)*'5. UD1 Parameters'!$H$20*'5. UD1 Parameters'!$H$23*'5. UD1 Parameters'!$H$21)/1000","v":48.771263121428568},{"$f":"BS16*'5. UD1 Parameters'!$H$22/1000","v":14.533836410185714},20.195755869300001,0,100.9151182068469,null,100.9151182068469,0,null,null,null,100.9151182068469,100.9151182068469,100.9151182068469,100.9151182068469,100.9151182068469,null,100.9151182068469,100.9151182068469,100.9151182068469,100.9151182068469,100.9151182068469,null,0,0,0,0,0]
[2015,{"$f":"'6. UD1 Assumptions'!C24","v":52387},{"$f":"B17*'5. UD1 Parameters'!$H$10","v":5238.7000000000007},{"$f":"C17*'5. UD1 Parameters'!$H$6*'5. UD1 Parameters'!$H$7*'5. UD1 Parameters'!$H$8/1000","v":91.939185000000009},{"$f":"D17*'5. UD1 Parameters'!$H$9/1000","v":2.2984796250000006},{"$f":"F16*(1+'6. UD1 Assumptions'!I24)","v":10369932.102},2665224,{"$f":"MMS!U90","v":3501522.5645859241},{"$f":"'UD1 CropScenarios'!F17*'5. UD1 Parameters'!$H$12*'5. UD1 Parameters'!$H$13/1000","v":162.95607588857141},{"$f":"G17*'5. UD1 Parameters'!$H$12*'5. UD1 Parameters'!$H$13/1000","v":41.882091428571428},{"$f":"H17*'5. UD1 Parameters'!$H$12*'5. UD1 Parameters'!$H$13/1000","v":55.02392601492167},{"$f":"I17*'5. UD1 Parameters'!$H$16/1000","v":48.560910614794281},{"$f":"J17*'5. UD1 Parameters'!$H$16/1000","v":12.480863245714286},{"$f":"K17*'5. UD1 Parameters'!$H$16/1000","v":16.397129952446658},{"$f":"SUM('UD1 CropScenarios'!L17:N17)","v":77.438903812955232},{"$f":"MMS!U92","v":12683.02},{"$f":"MMS!U91","v":464088.0465},{"$f":"P17*'5. UD1 Parameters'!$H$14*'5. UD1 Parameters'!$H$13/1000","v":0.3986092},{"$f":"Q17*'5. UD1 Parameters'!$H$15*'5. UD1 Parameters'!$H$13/1000","v":7.292812159285714},{"$f":"R17*'5. UD1 Parameters'!$H$16/1000","v":0.1187855416},{"$f":"S17*'5. UD1 Parameters'!$H$16/1000","v":2.1732580234671426},{"$f":"'UD1 CropScenarios'!T17+'UD1 CropScenarios'!U17","v":2.2920435650671425},{"$f":"'UD1 CropScenarios'!O17+'UD1 CropScenarios'!V17","v":79.730947378022378},10369932.102,2665224,962068.5,{"$f":"((X17*'5. UD1 Parameters'!$H$18)+(Z17*'5. UD1 Parameters'!$H$19))*'5. UD1 Parameters'!$H$24*'5. UD1 Parameters'!$H$21/1000","v":19.319251446000003},{"$f":"AA17*'5. UD1 Parameters'!$H$22/1000","v":5.7571369309080014},{"$f":"((X17+Y17+Z17)*'5. UD1 Parameters'!$H$20*'5. UD1 Parameters'!$H$23*'5. UD1 Parameters'!$H$21)/1000","v":49.49018698564285},{"$f":"AC17*'5. UD1 Parameters'!$H$22/1000","v":14.748075721721568},20.50521265262957,102.53463965565194,null,null,null,{"$f":"INDEX((DirN2OManSoilPol!$U$15:$U$43),MATCH(A17,DirN2OManSoilPol!$A$15:A$43,0))","v":79.730947378022378},null,null,null,{"$f":"'6. UD1 Assumptions'!B24","v":52387},{"$f":"'6. UD1 Assumptions'!F24","v":0.1},5238.7000000000007,{"$f":"AP17*'5. UD1 Parameters'!$H$6*'5. UD1 Parameters'!$H$7*'5. UD1 Parameters'!$H$8/1000","v":91.939185000000009},{"$f":"AQ17*'5. UD1 Parameters'!$H$9/1000","v":2.2984796250000006},0,102.53463965565194,null,48.560910614794281,{"$f":"'UD1 CropScenarios'!F17*'6. UD1 Assumptions'!K24","v":10369932.102},{"$f":"AW17*'5. UD1 Parameters'!$H$12*'5. UD1 Parameters'!$H$13/1000","v":162.95607588857141},{"$f":"AX17*'5. UD1 Parameters'!$H$16/1000","v":48.560910614794281},48.560910614794281,0,102.53463965565194,null,null,null,null,null,null,null,null,null,102.53463965565194,null,10369932.102,{"$f":"'UD1 CropScenarios'!Y17","v":2665224},{"$f":"'UD1 CropScenarios'!Z17","v":962068.5},{"$f":"(((BN17*'5. UD1 Parameters'!$H$18)+(BP17*'5. UD1 Parameters'!$H$19))*('5. UD1 Parameters'!$H$24*'5. UD1 Parameters'!$H$21))/1000","v":19.319251446000003},{"$f":"BQ17*'5. UD1 Parameters'!$H$22/1000","v":5.7571369309080014},{"$f":"((BN17+BO17+BP17)*'5. UD1 Parameters'!$H$20*'5. UD1 Parameters'!$H$23*'5. UD1 Parameters'!$H$21)/1000","v":49.49018698564285},{"$f":"BS17*'5. UD1 Parameters'!$H$22/1000","v":14.748075721721568},20.50521265262957,0,102.53463965565194,null,102.53463965565194,0,null,null,null,102.53463965565194,102.53463965565194,102.53463965565194,102.53463965565194,102.53463965565194,null,102.53463965565194,102.53463965565194,102.53463965565194,102.53463965565194,102.53463965565194,null,0,0,0,0,0]
[2016,{"$f":"'6. UD1 Assumptions'!C25","v":52000},{"$f":"B18*'5. UD1 Parameters'!$H$10","v":5200},{"$f":"C18*'5. UD1 Parameters'!$H$6*'5. UD1 Parameters'!$H$7*'5. UD1 Parameters'!$H$8/1000","v":91.26},{"$f":"D18*'5. UD1 Parameters'!$H$9/1000","v":2.2814999999999999},{"$f":"F17*(1+'6. UD1 Assumptions'!I25)","v":10577330.744039999},2665224,{"$f":"H17+($H$22-$H$17)/5","v":3517897.8239884605},{"$f":"'UD1 CropScenarios'!F18*'5. UD1 Parameters'!$H$12*'5. UD1 Parameters'!$H$13/1000","v":166.21519740634284},{"$f":"G18*'5. UD1 Parameters'!$H$12*'5. UD1 Parameters'!$H$13/1000","v":41.882091428571428},{"$f":"H18*'5. UD1 Parameters'!$H$12*'5. UD1 Parameters'!$H$13/1000","v":55.281251519818667},{"$f":"I18*'5. UD1 Parameters'!$H$16/1000","v":49.532128827090162},{"$f":"J18*'5. UD1 Parameters'!$H$16/1000","v":12.480863245714286},{"$f":"K18*'5. UD1 Parameters'!$H$16/1000","v":16.473812952905963},{"$f":"SUM('UD1 CropScenarios'!L18:N18)","v":78.48680502571041},{"$f":"P17+($P$22-$P$17)/5","v":12533.808000000001},{"$f":"Q17+($Q$22-$Q$17)/5","v":458963.44650000002},{"$f":"P18*'5. UD1 Parameters'!$H$14*'5. UD1 Parameters'!$H$13/1000","v":0.39391968000000005},{"$f":"Q18*'5. UD1 Parameters'!$H$15*'5. UD1 Parameters'!$H$13/1000","v":7.2122827307142865},{"$f":"R18*'5. UD1 Parameters'!$H$16/1000","v":0.11738806464000001},{"$f":"S18*'5. UD1 Parameters'!$H$16/1000","v":2.1492602537528573},{"$f":"'UD1 CropScenarios'!T18+'UD1 CropScenarios'!U18","v":2.2666483183928574},{"$f":"'UD1 CropScenarios'!O18+'UD1 CropScenarios'!V18","v":80.753453344103264},10577330.744039999,2665224,962068.5,{"$f":"((X18*'5. UD1 Parameters'!$H$18)+(Z18*'5. UD1 Parameters'!$H$19))*'5. UD1 Parameters'!$H$24*'5. UD1 Parameters'!$H$21/1000","v":19.645163597777145},{"$f":"AA18*'5. UD1 Parameters'!$H$22/1000","v":5.8542587521375893},{"$f":"((X18+Y18+Z18)*'5. UD1 Parameters'!$H$20*'5. UD1 Parameters'!$H$23*'5. UD1 Parameters'!$H$21)/1000","v":50.223489327141422},{"$f":"AC18*'5. UD1 Parameters'!$H$22/1000","v":14.966599819488144},20.820858571625735,103.85581191572899,null,null,null,{"$f":"INDEX((DirN2OManSoilPol!$U$15:$U$43),MATCH(A18,DirN2OManSoilPol!$A$15:A$43,0))","v":80.852540377520967},null,null,null,{"$f":"'6. UD1 Assumptions'!B25","v":52000},{"$f":"'6. UD1 Assumptions'!F25","v":0.1},5200,{"$f":"AP18*'5. UD1 Parameters'!$H$6*'5. UD1 Parameters'!$H$7*'5. UD1 Parameters'!$H$8/1000","v":91.26},{"$f":"AQ18*'5. UD1 Parameters'!$H$9/1000","v":2.2814999999999999},0,103.85581191572899,null,49.532128827090162,{"$f":"'UD1 CropScenarios'!F18*'6. UD1 Assumptions'!K25","v":10471557.436599599},{"$f":"AW18*'5. UD1 Parameters'!$H$12*'5. UD1 Parameters'!$H$13/1000","v":164.55304543227942},{"$f":"AX18*'5. UD1 Parameters'!$H$16/1000","v":49.036807538819268},49.036807538819268,0.49532128827089394,103.45957766087579,null,null,null,null,null,null,null,null,null,103.45957766087579,null,10471557.436599599,{"$f":"'UD1 CropScenarios'!Y18","v":2665224},{"$f":"'UD1 CropScenarios'!Z18","v":962068.5},{"$f":"(((BN18*'5. UD1 Parameters'!$H$18)+(BP18*'5. UD1 Parameters'!$H$19))*('5. UD1 Parameters'!$H$24*'5. UD1 Parameters'!$H$21))/1000","v":19.4789484003708},{"$f":"BQ18*'5. UD1 Parameters'!$H$22/1000","v":5.8047266233104979},{"$f":"((BN18+BO18+BP18)*'5. UD1 Parameters'!$H$20*'5. UD1 Parameters'!$H$23*'5. UD1 Parameters'!$H$21)/1000","v":49.849505132977143},{"$f":"BS18*'5. UD1 Parameters'!$H$22/1000","v":14.855152529627189},20.659879152937688,0.1609794186880471,103.29859824218775,null,103.29859824218775,0.55721367354124141,null,null,null,103.85581191572899,103.85581191572899,103.45957766087579,103.29859824218775,103.29859824218775,null,103.85581191572899,103.85581191572899,103.45957766087579,103.29859824218775,103.29859824218775,null,0,0,0,0,0]
[2017,{"$f":"'6. UD1 Assumptions'!C26","v":51000},{"$f":"B19*'5. UD1 Parameters'!$H$10","v":5100},{"$f":"C19*'5. UD1 Parameters'!$H$6*'5. UD1 Parameters'!$H$7*'5. UD1 Parameters'!$H$8/1000","v":89.504999999999995},{"$f":"D19*'5. UD1 Parameters'!$H$9/1000","v":2.237625},{"$f":"F18*(1+'6. UD1 Assumptions'!I26)","v":10788877.3589208},2665224,{"$f":"H18+($H$22-$H$17)/5","v":3534273.0833909968},{"$f":"'UD1 CropScenarios'!F19*'5. UD1 Parameters'!$H$12*'5. UD1 Parameters'!$H$13/1000","v":169.53950135446971},{"$f":"G19*'5. UD1 Parameters'!$H$12*'5. UD1 Parameters'!$H$13/1000","v":41.882091428571428},{"$f":"H19*'5. UD1 Parameters'!$H$12*'5. UD1 Parameters'!$H$13/1000","v":55.538577024715664},{"$f":"I19*'5. UD1 Parameters'!$H$16/1000","v":50.522771403631971},{"$f":"J19*'5. UD1 Parameters'!$H$16/1000","v":12.480863245714286},{"$f":"K19*'5. UD1 Parameters'!$H$16/1000","v":16.550495953365267},{"$f":"SUM('UD1 CropScenarios'!L19:N19)","v":79.554130602711524},{"$f":"P18+($P$22-$P$17)/5","v":12384.596000000001},{"$f":"Q18+($Q$22-$Q$17)/5","v":453838.84650000004},{"$f":"P19*'5. UD1 Parameters'!$H$14*'5. UD1 Parameters'!$H$13/1000","v":0.38923016000000005},{"$f":"Q19*'5. UD1 Parameters'!$H$15*'5. UD1 Parameters'!$H$13/1000","v":7.1317533021428581},{"$f":"R19*'5. UD1 Parameters'!$H$16/1000","v":0.11599058768000002},{"$f":"S19*'5. UD1 Parameters'!$H$16/1000","v":2.1252624840385717},{"$f":"'UD1 CropScenarios'!T19+'UD1 CropScenarios'!U19","v":2.2412530717185715},{"$f":"'UD1 CropScenarios'!O19+'UD1 CropScenarios'!V19","v":81.795383674430099},10788877.3589208,2665224,962068.5,{"$f":"((X19*'5. UD1 Parameters'!$H$18)+(Z19*'5. UD1 Parameters'!$H$19))*'5. UD1 Parameters'!$H$24*'5. UD1 Parameters'!$H$21/1000","v":19.977593992589828},{"$f":"AA19*'5. UD1 Parameters'!$H$22/1000","v":5.9533230097917684},{"$f":"((X19+Y19+Z19)*'5. UD1 Parameters'!$H$20*'5. UD1 Parameters'!$H$23*'5. UD1 Parameters'!$H$21)/1000","v":50.97145771546996},{"$f":"AC19*'5. UD1 Parameters'!$H$22/1000","v":15.18949439921005},21.142817409001818,105.17582608343191,null,null,null,{"$f":"INDEX((DirN2OManSoilPol!$U$15:$U$43),MATCH(A19,DirN2OManSoilPol!$A$15:A$43,0))","v":81.993557741265491},null,null,null,{"$f":"'6. UD1 Assumptions'!B26","v":51000},{"$f":"'6. UD1 Assumptions'!F26","v":0.1},5100,{"$f":"AP19*'5. UD1 Parameters'!$H$6*'5. UD1 Parameters'!$H$7*'5. UD1 Parameters'!$H$8/1000","v":89.504999999999995},{"$f":"AQ19*'5. UD1 Parameters'!$H$9/1000","v":2.237625},0,105.17582608343191,null,50.522771403631971,{"$f":"'UD1 CropScenarios'!F19*'6. UD1 Assumptions'!K26","v":10573099.811742384},{"$f":"AW19*'5. UD1 Parameters'!$H$12*'5. UD1 Parameters'!$H$13/1000","v":166.14871132738034},{"$f":"AX19*'5. UD1 Parameters'!$H$16/1000","v":49.512315975559346},49.512315975559346,1.0104554280726248,104.36354472219469,null,{"$f":"'6. UD1 Assumptions'!Q26*'6. UD1 Assumptions'!$O$15*'6. UD1 Assumptions'!S26","v":1.3269527579976663},{"$f":"'6. UD1 Assumptions'!Q26*'6. UD1 Assumptions'!$O$16*'6. UD1 Assumptions'!S26","v":4.4231758599922202},{"$f":"'6. UD1 Assumptions'!Q26*'6. UD1 Assumptions'!$O$17*'6. UD1 Assumptions'!S26","v":1.0615622063981329},{"$f":"BD19+BE19+BF19","v":6.8116908243880196},{"$f":"'UD1 CropScenarios'!BG19*'5. UD1 Parameters'!$H$27","v":3.4058454121940098},{"$f":"BH19*'5. UD1 Parameters'!$H$28*1000000","v":59602.294713395175},{"$f":"BI19*'5. UD1 Parameters'!$H$12*'5. UD1 Parameters'!$H$13*'5. UD1 Parameters'!$H$16/1000000","v":0.27910903152929911},{"$f":"BJ19","v":0.27910903152929911},104.64265375372399,null,10573099.811742384,{"$f":"'UD1 CropScenarios'!Y19","v":2665224},{"$f":"BI19+$BP$18","v":1021670.7947133952},{"$f":"(((BN19*'5. UD1 Parameters'!$H$18)+(BP19*'5. UD1 Parameters'!$H$19))*('5. UD1 Parameters'!$H$24*'5. UD1 Parameters'!$H$21))/1000","v":19.825836487551562},{"$f":"BQ19*'5. UD1 Parameters'!$H$22/1000","v":5.9080992732903663},{"$f":"((BN19+BO19+BP19)*'5. UD1 Parameters'!$H$20*'5. UD1 Parameters'!$H$23*'5. UD1 Parameters'!$H$21)/1000","v":50.419266644254357},{"$f":"BS19*'5. UD1 Parameters'!$H$22/1000","v":15.024941459987799},20.933040733278165,0.20977667572365277,104.43287707800033,null,104.43287707800033,0.74294900543158349,null,null,null,105.17582608343191,105.17582608343191,104.36354472219469,104.43287707800033,104.43287707800033,null,105.17582608343191,105.17582608343191,104.36354472219469,104.43287707800033,104.43287707800033,null,0,0,0,0,0]
[2018,{"$f":"'6. UD1 Assumptions'!C27","v":50500},{"$f":"B20*'5. UD1 Parameters'!$H$10","v":5050},{"$f":"C20*'5. UD1 Parameters'!$H$6*'5. UD1 Parameters'!$H$7*'5. UD1 Parameters'!$H$8/1000","v":88.627499999999998},{"$f":"D20*'5. UD1 Parameters'!$H$9/1000","v":2.2156875},{"$f":"F19*(1+'6. UD1 Assumptions'!I27)","v":11004654.906099215},2665224,{"$f":"H19+($H$22-$H$17)/5","v":3550648.3427935331},{"$f":"'UD1 CropScenarios'!F20*'5. UD1 Parameters'!$H$12*'5. UD1 Parameters'!$H$13/1000","v":172.9302913815591},{"$f":"G20*'5. UD1 Parameters'!$H$12*'5. UD1 Parameters'!$H$13/1000","v":41.882091428571428},{"$f":"H20*'5. UD1 Parameters'!$H$12*'5. UD1 Parameters'!$H$13/1000","v":55.795902529612661},{"$f":"I20*'5. UD1 Parameters'!$H$16/1000","v":51.53322683170461},{"$f":"J20*'5. UD1 Parameters'!$H$16/1000","v":12.480863245714286},{"$f":"K20*'5. UD1 Parameters'!$H$16/1000","v":16.627178953824572},{"$f":"SUM('UD1 CropScenarios'!L20:N20)","v":80.641269031243468},{"$f":"P19+($P$22-$P$17)/5","v":12235.384000000002},{"$f":"Q19+($Q$22-$Q$17)/5","v":448714.24650000007},{"$f":"P20*'5. UD1 Parameters'!$H$14*'5. UD1 Parameters'!$H$13/1000","v":0.38454064000000004},{"$f":"Q20*'5. UD1 Parameters'!$H$15*'5. UD1 Parameters'!$H$13/1000","v":7.0512238735714297},{"$f":"R20*'5. UD1 Parameters'!$H$16/1000","v":0.11459311072000002},{"$f":"S20*'5. UD1 Parameters'!$H$16/1000","v":2.101264714324286},{"$f":"'UD1 CropScenarios'!T20+'UD1 CropScenarios'!U20","v":2.215857825044286},{"$f":"'UD1 CropScenarios'!O20+'UD1 CropScenarios'!V20","v":82.857126856287749},11004654.906099215,2665224,962068.5,{"$f":"((X20*'5. UD1 Parameters'!$H$18)+(Z20*'5. UD1 Parameters'!$H$19))*'5. UD1 Parameters'!$H$24*'5. UD1 Parameters'!$H$21/1000","v":20.316672995298767},{"$f":"AA20*'5. UD1 Parameters'!$H$22/1000","v":6.0543685525990325},{"$f":"((X20+Y20+Z20)*'5. UD1 Parameters'!$H$20*'5. UD1 Parameters'!$H$23*'5. UD1 Parameters'!$H$21)/1000","v":51.734385471565076},{"$f":"AC20*'5. UD1 Parameters'!$H$22/1000","v":15.416846870526394},21.471215423125425,106.54402977941318,null,null,null,{"$f":"INDEX((DirN2OManSoilPol!$U$15:$U$43),MATCH(A20,DirN2OManSoilPol!$A$15:A$43,0))","v":83.154387956540859},null,null,null,{"$f":"'6. UD1 Assumptions'!B27","v":50500},{"$f":"'6. UD1 Assumptions'!F27","v":0.1},5050,{"$f":"AP20*'5. UD1 Parameters'!$H$6*'5. UD1 Parameters'!$H$7*'5. UD1 Parameters'!$H$8/1000","v":88.627499999999998},{"$f":"AQ20*'5. UD1 Parameters'!$H$9/1000","v":2.2156875},0,106.54402977941318,null,51.53322683170461,{"$f":"'UD1 CropScenarios'!F20*'6. UD1 Assumptions'!K27","v":10674515.258916238},{"$f":"AW20*'5. UD1 Parameters'!$H$12*'5. UD1 Parameters'!$H$13/1000","v":167.74238264011234},{"$f":"AX20*'5. UD1 Parameters'!$H$16/1000","v":49.987230026753473},49.987230026753473,1.5459968049511374,105.29529407471514,null,{"$f":"'6. UD1 Assumptions'!Q27*'6. UD1 Assumptions'!$O$15*'6. UD1 Assumptions'!S27","v":2.7069836263152389},{"$f":"'6. UD1 Assumptions'!Q27*'6. UD1 Assumptions'!$O$16*'6. UD1 Assumptions'!S27","v":9.0232787543841297},{"$f":"'6. UD1 Assumptions'!Q27*'6. UD1 Assumptions'!$O$17*'6. UD1 Assumptions'!S27","v":2.1655869010521913},13.895849281751559,{"$f":"'UD1 CropScenarios'!BG20*'5. UD1 Parameters'!$H$27","v":6.9479246408757795},{"$f":"BH20*'5. UD1 Parameters'!$H$28*1000000","v":121588.68121532616},{"$f":"BI20*'5. UD1 Parameters'!$H$12*'5. UD1 Parameters'!$H$13*'5. UD1 Parameters'!$H$16/1000000","v":0.56938242431977015},{"$f":"BJ20","v":0.56938242431977015},105.86467649903491,null,10674515.258916238,{"$f":"'UD1 CropScenarios'!Y20","v":2665224},{"$f":"BI20+$BP$18","v":1083657.1812153261},{"$f":"(((BN20*'5. UD1 Parameters'!$H$18)+(BP20*'5. UD1 Parameters'!$H$19))*('5. UD1 Parameters'!$H$24*'5. UD1 Parameters'!$H$21))/1000","v":20.180017976402258},{"$f":"BQ20*'5. UD1 Parameters'!$H$22/1000","v":6.0136453569678734},{"$f":"((BN20+BO20+BP20)*'5. UD1 Parameters'!$H$20*'5. UD1 Parameters'!$H$23*'5. UD1 Parameters'!$H$21)/1000","v":50.997008841893731},{"$f":"BS20*'5. UD1 Parameters'!$H$22/1000","v":15.197108634884332},21.210753991852204,0.26046143127322097,105.60421506776169,null,105.60421506776169,0.93981471165149344,null,null,null,106.54402977941318,106.54402977941318,105.29529407471514,105.60421506776169,105.60421506776169,null,106.54402977941318,106.54402977941318,105.29529407471514,105.60421506776169,105.60421506776169,null,0,0,0,0,0]
[2019,{"$f":"'6. UD1 Assumptions'!C28","v":50000},{"$f":"B21*'5. UD1 Parameters'!$H$10","v":5000},{"$f":"C21*'5. UD1 Parameters'!$H$6*'5. UD1 Parameters'!$H$7*'5. UD1 Parameters'!$H$8/1000","v":87.75},{"$f":"D21*'5. UD1 Parameters'!$H$9/1000","v":2.1937500000000001},{"$f":"F20*(1+'6. UD1 Assumptions'!I28)","v":11224748.004221199},2665224,{"$f":"H20+($H$22-$H$17)/5","v":3567023.6021960694},{"$f":"'UD1 CropScenarios'!F21*'5. UD1 Parameters'!$H$12*'5. UD1 Parameters'!$H$13/1000","v":176.38889720919028},{"$f":"G21*'5. UD1 Parameters'!$H$12*'5. UD1 Parameters'!$H$13/1000","v":41.882091428571428},{"$f":"H21*'5. UD1 Parameters'!$H$12*'5. UD1 Parameters'!$H$13/1000","v":56.053228034509658},{"$f":"I21*'5. UD1 Parameters'!$H$16/1000","v":52.563891368338702},{"$f":"J21*'5. UD1 Parameters'!$H$16/1000","v":12.480863245714286},{"$f":"K21*'5. UD1 Parameters'!$H$16/1000","v":16.70386195428388},{"$f":"SUM('UD1 CropScenarios'!L21:N21)","v":81.748616568336871},{"$f":"P20+($P$22-$P$17)/5","v":12086.172000000002},{"$f":"Q20+($Q$22-$Q$17)/5","v":443589.64650000009},{"$f":"P21*'5. UD1 Parameters'!$H$14*'5. UD1 Parameters'!$H$13/1000","v":0.37985112000000004},{"$f":"Q21*'5. UD1 Parameters'!$H$15*'5. UD1 Parameters'!$H$13/1000","v":6.9706944450000012},{"$f":"R21*'5. UD1 Parameters'!$H$16/1000","v":0.11319563376000001},{"$f":"S21*'5. UD1 Parameters'!$H$16/1000","v":2.0772669446100003},{"$f":"'UD1 CropScenarios'!T21+'UD1 CropScenarios'!U21","v":2.1904625783700005},{"$f":"'UD1 CropScenarios'!O21+'UD1 CropScenarios'!V21","v":83.939079146706874},11224748.004221199,2665224,962068.5,{"$f":"((X21*'5. UD1 Parameters'!$H$18)+(Z21*'5. UD1 Parameters'!$H$19))*'5. UD1 Parameters'!$H$24*'5. UD1 Parameters'!$H$21/1000","v":20.662533578061883},{"$f":"AA21*'5. UD1 Parameters'!$H$22/1000","v":6.1574350062624408},{"$f":"((X21+Y21+Z21)*'5. UD1 Parameters'!$H$20*'5. UD1 Parameters'!$H$23*'5. UD1 Parameters'!$H$21)/1000","v":52.512571782782096},{"$f":"AC21*'5. UD1 Parameters'!$H$22/1000","v":15.648746391269066},21.806181397531507,107.93901054423837,null,null,null,{"$f":"INDEX((DirN2OManSoilPol!$U$15:$U$43),MATCH(A21,DirN2OManSoilPol!$A$15:A$43,0))","v":84.335427280377672},null,null,null,{"$f":"'6. UD1 Assumptions'!B28","v":50000},{"$f":"'6. UD1 Assumptions'!F28","v":0.1},5000,{"$f":"AP21*'5. UD1 Parameters'!$H$6*'5. UD1 Parameters'!$H$7*'5. UD1 Parameters'!$H$8/1000","v":87.75},{"$f":"AQ21*'5. UD1 Parameters'!$H$9/1000","v":2.1937500000000001},0,107.93901054423837,null,52.563891368338702,{"$f":"'UD1 CropScenarios'!F21*'6. UD1 Assumptions'!K28","v":10775758.08405235},{"$f":"AW21*'5. UD1 Parameters'!$H$12*'5. UD1 Parameters'!$H$13/1000","v":169.33334132082263},{"$f":"AX21*'5. UD1 Parameters'!$H$16/1000","v":50.461335713605145},50.461335713605145,2.1025556547335569,106.23280302317562,null,{"$f":"'6. UD1 Assumptions'!Q28*'6. UD1 Assumptions'!$O$15*'6. UD1 Assumptions'!S28","v":4.1416849482623155},{"$f":"'6. UD1 Assumptions'!Q28*'6. UD1 Assumptions'!$O$16*'6. UD1 Assumptions'!S28","v":13.805616494207719},{"$f":"'6. UD1 Assumptions'!Q28*'6. UD1 Assumptions'!$O$17*'6. UD1 Assumptions'!S28","v":3.3133479586098522},21.260649401079888,{"$f":"'UD1 CropScenarios'!BG21*'5. UD1 Parameters'!$H$27","v":10.630324700539944},{"$f":"BH21*'5. UD1 Parameters'!$H$28*1000000","v":186030.68225944904},{"$f":"BI21*'5. UD1 Parameters'!$H$12*'5. UD1 Parameters'!$H$13*'5. UD1 Parameters'!$H$16/1000000","v":0.87115510920924843},0.87115510920924843,107.10395813238488,null,10775758.08405235,{"$f":"'UD1 CropScenarios'!Y21","v":2665224},1148099.182259449,{"$f":"(((BN21*'5. UD1 Parameters'!$H$18)+(BP21*'5. UD1 Parameters'!$H$19))*('5. UD1 Parameters'!$H$24*'5. UD1 Parameters'!$H$21))/1000","v":20.541645847754822},{"$f":"BQ21*'5. UD1 Parameters'!$H$22/1000","v":6.1214104626309371},{"$f":"((BN21+BO21+BP21)*'5. UD1 Parameters'!$H$20*'5. UD1 Parameters'!$H$23*'5. UD1 Parameters'!$H$21)/1000","v":51.58282304874529},{"$f":"BS21*'5. UD1 Parameters'!$H$22/1000","v":15.371681268526096},21.493091731157033,0.31308966637447355,106.79086846601041,null,106.79086846601041,1.1481420782279628,null,null,null,107.93901054423837,107.93901054423837,106.23280302317562,106.79086846601041,106.79086846601041,null,107.93901054423837,107.93901054423837,106.23280302317562,106.79086846601041,106.79086846601041,null,0,0,0,0,0]
[2020,{"$f":"'6. UD1 Assumptions'!C29","v":49500},{"$f":"B22*'5. UD1 Parameters'!$H$10","v":4950},{"$f":"C22*'5. UD1 Parameters'!$H$6*'5. UD1 Parameters'!$H$7*'5. UD1 Parameters'!$H$8/1000","v":86.872500000000002},{"$f":"D22*'5. UD1 Parameters'!$H$9/1000","v":2.1718125000000001},{"$f":"F21*(1+'6. UD1 Assumptions'!I29)","v":11449242.964305623},2665224,{"$f":"MMS!V90","v":3583398.8615986062},{"$f":"'UD1 CropScenarios'!F22*'5. UD1 Parameters'!$H$12*'5. UD1 Parameters'!$H$13/1000","v":179.91667515337406},{"$f":"G22*'5. UD1 Parameters'!$H$12*'5. UD1 Parameters'!$H$13/1000","v":41.882091428571428},{"$f":"H22*'5. UD1 Parameters'!$H$12*'5. UD1 Parameters'!$H$13/1000","v":56.310553539406669},{"$f":"I22*'5. UD1 Parameters'!$H$16/1000","v":53.615169195705469},{"$f":"J22*'5. UD1 Parameters'!$H$16/1000","v":12.480863245714286},{"$f":"K22*'5. UD1 Parameters'!$H$16/1000","v":16.780544954743188},{"$f":"SUM('UD1 CropScenarios'!L22:N22)","v":82.876577396162944},{"$f":"MMS!V92","v":11936.960000000001},{"$f":"MMS!V91","v":438465.0465},{"$f":"P22*'5. UD1 Parameters'!$H$14*'5. UD1 Parameters'!$H$13/1000","v":0.37516160000000004},{"$f":"Q22*'5. UD1 Parameters'!$H$15*'5. UD1 Parameters'!$H$13/1000","v":6.890165016428571},{"$f":"R22*'5. UD1 Parameters'!$H$16/1000","v":0.11179815680000002},{"$f":"S22*'5. UD1 Parameters'!$H$16/1000","v":2.0532691748957141},{"$f":"'UD1 CropScenarios'!T22+'UD1 CropScenarios'!U22","v":2.1650673316957141},{"$f":"'UD1 CropScenarios'!O22+'UD1 CropScenarios'!V22","v":85.041644727858653},11449242.964305623,2665224,962068.5,{"$f":"((X22*'5. UD1 Parameters'!$H$18)+(Z22*'5. UD1 Parameters'!$H$19))*'5. UD1 Parameters'!$H$24*'5. UD1 Parameters'!$H$21/1000","v":21.015311372480269},{"$f":"AA22*'5. UD1 Parameters'!$H$22/1000","v":6.2625627889991202},{"$f":"((X22+Y22+Z22)*'5. UD1 Parameters'!$H$20*'5. UD1 Parameters'!$H$23*'5. UD1 Parameters'!$H$21)/1000","v":53.306321820223452},{"$f":"AC22*'5. UD1 Parameters'!$H$22/1000","v":15.885283902426588},22.147846691425709,109.36130391928437,null,null,null,{"$f":"INDEX((DirN2OManSoilPol!$U$15:$U$43),MATCH(A22,DirN2OManSoilPol!$A$15:A$43,0))","v":85.537079894947155},null,null,null,{"$f":"'6. UD1 Assumptions'!B29","v":49500},{"$f":"'6. UD1 Assumptions'!F29","v":0.08},3960,{"$f":"AP22*'5. UD1 Parameters'!$H$6*'5. UD1 Parameters'!$H$7*'5. UD1 Parameters'!$H$8/1000","v":69.498000000000005},{"$f":"AQ22*'5. UD1 Parameters'!$H$9/1000","v":1.7374499999999999},0.43436250000000021,108.92694141928436,null,53.615169195705469,{"$f":"'UD1 CropScenarios'!F22*'6. UD1 Assumptions'!K29","v":10876780.816090342},{"$f":"AW22*'5. UD1 Parameters'!$H$12*'5. UD1 Parameters'!$H$13/1000","v":170.92084139570537},{"$f":"AX22*'5. UD1 Parameters'!$H$16/1000","v":50.934410735920203},50.934410735920203,2.6807584597852667,107.1759806265876,null,{"$f":"'6. UD1 Assumptions'!Q29*'6. UD1 Assumptions'!$O$15*'6. UD1 Assumptions'!S29","v":5.6326915296367499},{"$f":"'6. UD1 Assumptions'!Q29*'6. UD1 Assumptions'!$O$16*'6. UD1 Assumptions'!S29","v":18.775638432122499},{"$f":"'6. UD1 Assumptions'!Q29*'6. UD1 Assumptions'!$O$17*'6. UD1 Assumptions'!S29","v":4.5061532237093997},28.914483185468651,{"$f":"'UD1 CropScenarios'!BG22*'5. UD1 Parameters'!$H$27","v":14.457241592734325},{"$f":"BH22*'5. UD1 Parameters'!$H$28*1000000","v":253001.72787285075},{"$f":"BI22*'5. UD1 Parameters'!$H$12*'5. UD1 Parameters'!$H$13*'5. UD1 Parameters'!$H$16/1000000","v":1.1847709485245785},1.1847709485245785,108.36075157511218,null,10876780.816090342,{"$f":"'UD1 CropScenarios'!Y22","v":2665224},1215070.2278728508,{"$f":"(((BN22*'5. UD1 Parameters'!$H$18)+(BP22*'5. UD1 Parameters'!$H$19))*('5. UD1 Parameters'!$H$24*'5. UD1 Parameters'!$H$21))/1000","v":20.910876284313787},{"$f":"BQ22*'5. UD1 Parameters'!$H$22/1000","v":6.2314411327255081},{"$f":"((BN22+BO22+BP22)*'5. UD1 Parameters'!$H$20*'5. UD1 Parameters'!$H$23*'5. UD1 Parameters'!$H$21)/1000","v":52.176801048298422},{"$f":"BS22*'5. UD1 Parameters'!$H$22/1000","v":15.54868671239293},21.780127845118439,0.36771884630726959,107.99303272880491,null,107.5586702288049,1.8026336904794675,null,null,null,109.36130391928437,108.92694141928436,107.1759806265876,107.99303272880491,107.5586702288049,null,109.36130391928437,108.92694141928436,107.1759806265876,107.99303272880491,107.5586702288049,null,0,0,0,0,0]
[2021,{"$f":"'6. UD1 Assumptions'!C30","v":49000},{"$f":"B23*'5. UD1 Parameters'!$H$10","v":4900},{"$f":"C23*'5. UD1 Parameters'!$H$6*'5. UD1 Parameters'!$H$7*'5. UD1 Parameters'!$H$8/1000","v":85.995000000000005},{"$f":"D23*'5. UD1 Parameters'!$H$9/1000","v":2.1498750000000002},{"$f":"F22","v":11449242.964305623},2665224,{"$f":"H22+($H$27-$H$22)/5","v":3600132.3977436288},{"$f":"'UD1 CropScenarios'!F23*'5. UD1 Parameters'!$H$12*'5. UD1 Parameters'!$H$13/1000","v":179.91667515337406},{"$f":"G23*'5. UD1 Parameters'!$H$12*'5. UD1 Parameters'!$H$13/1000","v":41.882091428571428},{"$f":"H23*'5. UD1 Parameters'!$H$12*'5. UD1 Parameters'!$H$13/1000","v":56.573509107399879},{"$f":"I23*'5. UD1 Parameters'!$H$16/1000","v":53.615169195705469},{"$f":"J23*'5. UD1 Parameters'!$H$16/1000","v":12.480863245714286},{"$f":"K23*'5. UD1 Parameters'!$H$16/1000","v":16.858905714005164},{"$f":"SUM('UD1 CropScenarios'!L23:N23)","v":82.954938155424912},{"$f":"P22+($P$27-$P$22)/5","v":11809.064},{"$f":"Q22+($Q$27-$Q$22)/5","v":438465.0465},{"$f":"P23*'5. UD1 Parameters'!$H$14*'5. UD1 Parameters'!$H$13/1000","v":0.37114201142857145},{"$f":"Q23*'5. UD1 Parameters'!$H$15*'5. UD1 Parameters'!$H$13/1000","v":6.890165016428571},{"$f":"R23*'5. UD1 Parameters'!$H$16/1000","v":0.11060031940571428},{"$f":"S23*'5. UD1 Parameters'!$H$16/1000","v":2.0532691748957141},{"$f":"'UD1 CropScenarios'!T23+'UD1 CropScenarios'!U23","v":2.1638694943014283},{"$f":"'UD1 CropScenarios'!O23+'UD1 CropScenarios'!V23","v":85.118807649726335},11449242.964305623,2665224,962068.5,{"$f":"((X23*'5. UD1 Parameters'!$H$18)+(Z23*'5. UD1 Parameters'!$H$19))*'5. UD1 Parameters'!$H$24*'5. UD1 Parameters'!$H$21/1000","v":21.015311372480269},{"$f":"AA23*'5. UD1 Parameters'!$H$22/1000","v":6.2625627889991202},{"$f":"((X23+Y23+Z23)*'5. UD1 Parameters'!$H$20*'5. UD1 Parameters'!$H$23*'5. UD1 Parameters'!$H$21)/1000","v":53.306321820223452},{"$f":"AC23*'5. UD1 Parameters'!$H$22/1000","v":15.885283902426588},22.147846691425709,109.41652934115204,null,null,null,{"$f":"INDEX((DirN2OManSoilPol!$U$15:$U$43),MATCH(A23,DirN2OManSoilPol!$A$15:A$43,0))","v":85.69126413783394},null,null,null,{"$f":"'6. UD1 Assumptions'!B30","v":49000},{"$f":"'6. UD1 Assumptions'!F30","v":0.08},3920,{"$f":"AP23*'5. UD1 Parameters'!$H$6*'5. UD1 Parameters'!$H$7*'5. UD1 Parameters'!$H$8/1000","v":68.796000000000006},{"$f":"AQ23*'5. UD1 Parameters'!$H$9/1000","v":1.7199},0.42997500000000022,108.98655434115204,null,53.615169195705469,{"$f":"'UD1 CropScenarios'!F23*'6. UD1 Assumptions'!K30","v":10647795.956804229},{"$f":"AW23*'5. UD1 Parameters'!$H$12*'5. UD1 Parameters'!$H$13/1000","v":167.3225078926379},{"$f":"AX23*'5. UD1 Parameters'!$H$16/1000","v":49.862107352006099},49.862107352006099,3.7530618436993706,106.23592398556028,null,{"$f":"'6. UD1 Assumptions'!Q30*'6. UD1 Assumptions'!$O$15*'6. UD1 Assumptions'!S30","v":7.1816817002868554},{"$f":"'6. UD1 Assumptions'!Q30*'6. UD1 Assumptions'!$O$16*'6. UD1 Assumptions'!S30","v":23.938939000956186},{"$f":"'6. UD1 Assumptions'!Q30*'6. UD1 Assumptions'!$O$17*'6. UD1 Assumptions'!S30","v":5.7453453602294848},36.865966061472527,{"$f":"'UD1 CropScenarios'!BG23*'5. UD1 Parameters'!$H$27","v":18.432983030736263},{"$f":"BH23*'5. UD1 Parameters'!$H$28*1000000","v":322577.20303788461},{"$f":"BI23*'5. UD1 Parameters'!$H$12*'5. UD1 Parameters'!$H$13*'5. UD1 Parameters'!$H$16/1000000","v":1.5105829593688369},1.5105829593688369,107.74650694492911,null,10647795.956804229,{"$f":"'UD1 CropScenarios'!Y23","v":2665224},1284645.7030378846,{"$f":"(((BN23*'5. UD1 Parameters'!$H$18)+(BP23*'5. UD1 Parameters'!$H$19))*('5. UD1 Parameters'!$H$24*'5. UD1 Parameters'!$H$21))/1000","v":20.769708713097142},{"$f":"BQ23*'5. UD1 Parameters'!$H$22/1000","v":6.1893731965029479},{"$f":"((BN23+BO23+BP23)*'5. UD1 Parameters'!$H$20*'5. UD1 Parameters'!$H$23*'5. UD1 Parameters'!$H$21)/1000","v":51.613175011584602},{"$f":"BS23*'5. UD1 Parameters'!$H$22/1000","v":15.380726153452212},21.570099349955161,0.57774734147054829,107.16875960345857,null,106.73878460345857,2.6777447376934731,null,null,null,109.41652934115204,108.98655434115204,106.23592398556028,107.16875960345857,106.73878460345857,null,109.41652934115204,108.98655434115204,106.23592398556028,107.16875960345857,106.73878460345857,null,0,0,0,0,0]
[2022,{"$f":"'6. UD1 Assumptions'!C31","v":48500},{"$f":"B24*'5. UD1 Parameters'!$H$10","v":4850},{"$f":"C24*'5. UD1 Parameters'!$H$6*'5. UD1 Parameters'!$H$7*'5. UD1 Parameters'!$H$8/1000","v":85.117500000000007},{"$f":"D24*'5. UD1 Parameters'!$H$9/1000","v":2.1279374999999998},11449242.964305623,2665224,{"$f":"H23+($H$27-$H$22)/5","v":3616865.9338886514},{"$f":"'UD1 CropScenarios'!F24*'5. UD1 Parameters'!$H$12*'5. UD1 Parameters'!$H$13/1000","v":179.91667515337406},{"$f":"G24*'5. UD1 Parameters'!$H$12*'5. UD1 Parameters'!$H$13/1000","v":41.882091428571428},{"$f":"H24*'5. UD1 Parameters'!$H$12*'5. UD1 Parameters'!$H$13/1000","v":56.836464675393096},{"$f":"I24*'5. UD1 Parameters'!$H$16/1000","v":53.615169195705469},{"$f":"J24*'5. UD1 Parameters'!$H$16/1000","v":12.480863245714286},{"$f":"K24*'5. UD1 Parameters'!$H$16/1000","v":16.937266473267144},{"$f":"SUM('UD1 CropScenarios'!L24:N24)","v":83.033298914686895},{"$f":"P23+($P$27-$P$22)/5","v":11681.168},{"$f":"Q23+($Q$27-$Q$22)/5","v":438465.0465},{"$f":"P24*'5. UD1 Parameters'!$H$14*'5. UD1 Parameters'!$H$13/1000","v":0.36712242285714286},{"$f":"Q24*'5. UD1 Parameters'!$H$15*'5. UD1 Parameters'!$H$13/1000","v":6.890165016428571},{"$f":"R24*'5. UD1 Parameters'!$H$16/1000","v":0.10940248201142858},{"$f":"S24*'5. UD1 Parameters'!$H$16/1000","v":2.0532691748957141},{"$f":"'UD1 CropScenarios'!T24+'UD1 CropScenarios'!U24","v":2.1626716569071429},{"$f":"'UD1 CropScenarios'!O24+'UD1 CropScenarios'!V24","v":85.195970571594032},11449242.964305623,2665224,962068.5,{"$f":"((X24*'5. UD1 Parameters'!$H$18)+(Z24*'5. UD1 Parameters'!$H$19))*'5. UD1 Parameters'!$H$24*'5. UD1 Parameters'!$H$21/1000","v":21.015311372480269},{"$f":"AA24*'5. UD1 Parameters'!$H$22/1000","v":6.2625627889991202},{"$f":"((X24+Y24+Z24)*'5. UD1 Parameters'!$H$20*'5. UD1 Parameters'!$H$23*'5. UD1 Parameters'!$H$21)/1000","v":53.306321820223452},{"$f":"AC24*'5. UD1 Parameters'!$H$22/1000","v":15.885283902426588},22.147846691425709,109.47175476301975,null,null,null,{"$f":"INDEX((DirN2OManSoilPol!$U$15:$U$43),MATCH(A24,DirN2OManSoilPol!$A$15:A$43,0))","v":85.845448380720725},null,null,null,{"$f":"'6. UD1 Assumptions'!B31","v":48500},{"$f":"'6. UD1 Assumptions'!F31","v":0.08},3880,{"$f":"AP24*'5. UD1 Parameters'!$H$6*'5. UD1 Parameters'!$H$7*'5. UD1 Parameters'!$H$8/1000","v":68.093999999999994},{"$f":"AQ24*'5. UD1 Parameters'!$H$9/1000","v":1.7023499999999998},0.42558750000000001,109.04616726301974,null,53.615169195705469,{"$f":"'UD1 CropScenarios'!F24*'6. UD1 Assumptions'!K31","v":10418811.097518116},{"$f":"AW24*'5. UD1 Parameters'!$H$12*'5. UD1 Parameters'!$H$13/1000","v":163.72417438957041},{"$f":"AX24*'5. UD1 Parameters'!$H$16/1000","v":48.789803968091981},48.789803968091981,4.8253652276134886,105.29586734453295,null,{"$f":"'6. UD1 Assumptions'!Q31*'6. UD1 Assumptions'!$O$15*'6. UD1 Assumptions'!S31","v":8.7903784011511128},{"$f":"'6. UD1 Assumptions'!Q31*'6. UD1 Assumptions'!$O$16*'6. UD1 Assumptions'!S31","v":29.301261337170377},{"$f":"'6. UD1 Assumptions'!Q31*'6. UD1 Assumptions'!$O$17*'6. UD1 Assumptions'!S31","v":7.0323027209208906},45.123942459242379,{"$f":"'UD1 CropScenarios'!BG24*'5. UD1 Parameters'!$H$27","v":22.561971229621189},{"$f":"BH24*'5. UD1 Parameters'!$H$28*1000000","v":394834.49651837081},{"$f":"BI24*'5. UD1 Parameters'!$H$12*'5. UD1 Parameters'!$H$13*'5. UD1 Parameters'!$H$16/1000000","v":1.8489535422674563},1.8489535422674563,107.1448208868004,null,10418811.097518116,{"$f":"'UD1 CropScenarios'!Y24","v":2665224},1356902.9965183707,{"$f":"(((BN24*'5. UD1 Parameters'!$H$18)+(BP24*'5. UD1 Parameters'!$H$19))*('5. UD1 Parameters'!$H$24*'5. UD1 Parameters'!$H$21))/1000","v":20.636969713729066},{"$f":"BQ24*'5. UD1 Parameters'!$H$22/1000","v":6.1498169746912614},{"$f":"((BN24+BO24+BP24)*'5. UD1 Parameters'!$H$20*'5. UD1 Parameters'!$H$23*'5. UD1 Parameters'!$H$21)/1000","v":51.05903111820043},{"$f":"BS24*'5. UD1 Parameters'!$H$22/1000","v":15.215591273223728},21.365408247914988,0.78243844351072056,106.36238244328968,null,105.93679494328967,3.5349598197300764,null,null,null,109.47175476301975,109.04616726301974,105.29586734453295,106.36238244328968,105.93679494328967,null,109.47175476301975,109.04616726301974,105.29586734453295,106.36238244328968,105.93679494328967,null,0,0,0,0,0]
[2023,{"$f":"'6. UD1 Assumptions'!C32","v":48000},{"$f":"B25*'5. UD1 Parameters'!$H$10","v":4800},{"$f":"C25*'5. UD1 Parameters'!$H$6*'5. UD1 Parameters'!$H$7*'5. UD1 Parameters'!$H$8/1000","v":84.24},{"$f":"D25*'5. UD1 Parameters'!$H$9/1000","v":2.1059999999999999},11449242.964305623,2665224,{"$f":"H24+($H$27-$H$22)/5","v":3633599.470033674},{"$f":"'UD1 CropScenarios'!F25*'5. UD1 Parameters'!$H$12*'5. UD1 Parameters'!$H$13/1000","v":179.91667515337406},{"$f":"G25*'5. UD1 Parameters'!$H$12*'5. UD1 Parameters'!$H$13/1000","v":41.882091428571428},{"$f":"H25*'5. UD1 Parameters'!$H$12*'5. UD1 Parameters'!$H$13/1000","v":57.099420243386312},{"$f":"I25*'5. UD1 Parameters'!$H$16/1000","v":53.615169195705469},{"$f":"J25*'5. UD1 Parameters'!$H$16/1000","v":12.480863245714286},{"$f":"K25*'5. UD1 Parameters'!$H$16/1000","v":17.01562723252912},{"$f":"SUM('UD1 CropScenarios'!L25:N25)","v":83.111659673948878},{"$f":"P24+($P$27-$P$22)/5","v":11553.271999999999},{"$f":"Q24+($Q$27-$Q$22)/5","v":438465.0465},{"$f":"P25*'5. UD1 Parameters'!$H$14*'5. UD1 Parameters'!$H$13/1000","v":0.36310283428571427},{"$f":"Q25*'5. UD1 Parameters'!$H$15*'5. UD1 Parameters'!$H$13/1000","v":6.890165016428571},{"$f":"R25*'5. UD1 Parameters'!$H$16/1000","v":0.10820464461714285},{"$f":"S25*'5. UD1 Parameters'!$H$16/1000","v":2.0532691748957141},{"$f":"'UD1 CropScenarios'!T25+'UD1 CropScenarios'!U25","v":2.1614738195128571},{"$f":"'UD1 CropScenarios'!O25+'UD1 CropScenarios'!V25","v":85.273133493461742},11449242.964305623,2665224,962068.5,{"$f":"((X25*'5. UD1 Parameters'!$H$18)+(Z25*'5. UD1 Parameters'!$H$19))*'5. UD1 Parameters'!$H$24*'5. UD1 Parameters'!$H$21/1000","v":21.015311372480269},{"$f":"AA25*'5. UD1 Parameters'!$H$22/1000","v":6.2625627889991202},{"$f":"((X25+Y25+Z25)*'5. UD1 Parameters'!$H$20*'5. UD1 Parameters'!$H$23*'5. UD1 Parameters'!$H$21)/1000","v":53.306321820223452},{"$f":"AC25*'5. UD1 Parameters'!$H$22/1000","v":15.885283902426588},22.147846691425709,109.52698018488745,null,null,null,{"$f":"INDEX((DirN2OManSoilPol!$U$15:$U$43),MATCH(A25,DirN2OManSoilPol!$A$15:A$43,0))","v":85.999632623607525},null,null,null,{"$f":"'6. UD1 Assumptions'!B32","v":48000},{"$f":"'6. UD1 Assumptions'!F32","v":0.08},3840,{"$f":"AP25*'5. UD1 Parameters'!$H$6*'5. UD1 Parameters'!$H$7*'5. UD1 Parameters'!$H$8/1000","v":67.391999999999996},{"$f":"AQ25*'5. UD1 Parameters'!$H$9/1000","v":1.6847999999999999},0.42120000000000002,109.10578018488745,null,53.615169195705469,{"$f":"'UD1 CropScenarios'!F25*'6. UD1 Assumptions'!K32","v":10189826.238232004},{"$f":"AW25*'5. UD1 Parameters'!$H$12*'5. UD1 Parameters'!$H$13/1000","v":160.12584088650291},{"$f":"AX25*'5. UD1 Parameters'!$H$16/1000","v":47.71750058417787},47.71750058417787,5.8976686115275996,104.35581070350563,null,{"$f":"'6. UD1 Assumptions'!Q32*'6. UD1 Assumptions'!$O$15*'6. UD1 Assumptions'!S32","v":10.460550297369824},{"$f":"'6. UD1 Assumptions'!Q32*'6. UD1 Assumptions'!$O$16*'6. UD1 Assumptions'!S32","v":34.868500991232743},{"$f":"'6. UD1 Assumptions'!Q32*'6. UD1 Assumptions'!$O$17*'6. UD1 Assumptions'!S32","v":8.3684402378958573},53.697491526498425,{"$f":"'UD1 CropScenarios'!BG25*'5. UD1 Parameters'!$H$27","v":26.848745763249212},{"$f":"BH25*'5. UD1 Parameters'!$H$28*1000000","v":469853.05085686123},{"$f":"BI25*'5. UD1 Parameters'!$H$12*'5. UD1 Parameters'!$H$13*'5. UD1 Parameters'!$H$16/1000000","v":2.2002547152982728},2.2002547152982728,106.5560654188039,null,10189826.238232004,{"$f":"'UD1 CropScenarios'!Y25","v":2665224},1431921.5508568613,{"$f":"(((BN25*'5. UD1 Parameters'!$H$18)+(BP25*'5. UD1 Parameters'!$H$19))*('5. UD1 Parameters'!$H$24*'5. UD1 Parameters'!$H$21))/1000","v":20.512908962771856},{"$f":"BQ25*'5. UD1 Parameters'!$H$22/1000","v":6.1128468709060133},{"$f":"((BN25+BO25+BP25)*'5. UD1 Parameters'!$H$20*'5. UD1 Parameters'!$H$23*'5. UD1 Parameters'!$H$21)/1000","v":50.514650254278479},{"$f":"BS25*'5. UD1 Parameters'!$H$22/1000","v":15.053365775774987},21.166212646681,0.98163404474470894,105.57443137405919,null,105.15323137405919,4.3737488108282605,null,null,null,109.52698018488745,109.10578018488745,104.35581070350563,105.57443137405919,105.15323137405919,null,109.52698018488745,109.10578018488745,104.35581070350563,105.57443137405919,105.15323137405919,null,0,0,0,0,0]
[2024,{"$f":"'6. UD1 Assumptions'!C33","v":47500},{"$f":"B26*'5. UD1 Parameters'!$H$10","v":4750},{"$f":"C26*'5. UD1 Parameters'!$H$6*'5. UD1 Parameters'!$H$7*'5. UD1 Parameters'!$H$8/1000","v":83.362499999999997},{"$f":"D26*'5. UD1 Parameters'!$H$9/1000","v":2.0840624999999999},11449242.964305623,2665224,{"$f":"H25+($H$27-$H$22)/5","v":3650333.0061786966},{"$f":"'UD1 CropScenarios'!F26*'5. UD1 Parameters'!$H$12*'5. UD1 Parameters'!$H$13/1000","v":179.91667515337406},{"$f":"G26*'5. UD1 Parameters'!$H$12*'5. UD1 Parameters'!$H$13/1000","v":41.882091428571428},{"$f":"H26*'5. UD1 Parameters'!$H$12*'5. UD1 Parameters'!$H$13/1000","v":57.362375811379522},{"$f":"I26*'5. UD1 Parameters'!$H$16/1000","v":53.615169195705469},{"$f":"J26*'5. UD1 Parameters'!$H$16/1000","v":12.480863245714286},{"$f":"K26*'5. UD1 Parameters'!$H$16/1000","v":17.093987991791099},{"$f":"SUM('UD1 CropScenarios'!L26:N26)","v":83.190020433210847},{"$f":"P25+($P$27-$P$22)/5","v":11425.375999999998},{"$f":"Q25+($Q$27-$Q$22)/5","v":438465.0465},{"$f":"P26*'5. UD1 Parameters'!$H$14*'5. UD1 Parameters'!$H$13/1000","v":0.35908324571428568},{"$f":"Q26*'5. UD1 Parameters'!$H$15*'5. UD1 Parameters'!$H$13/1000","v":6.890165016428571},{"$f":"R26*'5. UD1 Parameters'!$H$16/1000","v":0.10700680722285713},{"$f":"S26*'5. UD1 Parameters'!$H$16/1000","v":2.0532691748957141},{"$f":"'UD1 CropScenarios'!T26+'UD1 CropScenarios'!U26","v":2.1602759821185713},{"$f":"'UD1 CropScenarios'!O26+'UD1 CropScenarios'!V26","v":85.350296415329424},11449242.964305623,2665224,962068.5,{"$f":"((X26*'5. UD1 Parameters'!$H$18)+(Z26*'5. UD1 Parameters'!$H$19))*'5. UD1 Parameters'!$H$24*'5. UD1 Parameters'!$H$21/1000","v":21.015311372480269},{"$f":"AA26*'5. UD1 Parameters'!$H$22/1000","v":6.2625627889991202},{"$f":"((X26+Y26+Z26)*'5. UD1 Parameters'!$H$20*'5. UD1 Parameters'!$H$23*'5. UD1 Parameters'!$H$21)/1000","v":53.306321820223452},{"$f":"AC26*'5. UD1 Parameters'!$H$22/1000","v":15.885283902426588},22.147846691425709,109.58220560675514,null,null,null,{"$f":"INDEX((DirN2OManSoilPol!$U$15:$U$43),MATCH(A26,DirN2OManSoilPol!$A$15:A$43,0))","v":86.15381686649431},null,null,null,{"$f":"'6. UD1 Assumptions'!B33","v":47500},{"$f":"'6. UD1 Assumptions'!F33","v":0.08},3800,{"$f":"AP26*'5. UD1 Parameters'!$H$6*'5. UD1 Parameters'!$H$7*'5. UD1 Parameters'!$H$8/1000","v":66.69},{"$f":"AQ26*'5. UD1 Parameters'!$H$9/1000","v":1.6672499999999999},0.41681250000000003,109.16539310675513,null,53.615169195705469,{"$f":"'UD1 CropScenarios'!F26*'6. UD1 Assumptions'!K33","v":9960841.3789458908},{"$f":"AW26*'5. UD1 Parameters'!$H$12*'5. UD1 Parameters'!$H$13/1000","v":156.52750738343542},{"$f":"AX26*'5. UD1 Parameters'!$H$16/1000","v":46.645197200263759},46.645197200263759,6.9699719954417105,103.41575406247831,null,{"$f":"'6. UD1 Assumptions'!Q33*'6. UD1 Assumptions'!$O$15*'6. UD1 Assumptions'!S33","v":12.194012918076822},{"$f":"'6. UD1 Assumptions'!Q33*'6. UD1 Assumptions'!$O$16*'6. UD1 Assumptions'!S33","v":40.646709726922744},{"$f":"'6. UD1 Assumptions'!Q33*'6. UD1 Assumptions'!$O$17*'6. UD1 Assumptions'!S33","v":9.7552103344614576},62.595932979461026,{"$f":"'UD1 CropScenarios'!BG26*'5. UD1 Parameters'!$H$27","v":31.297966489730513},{"$f":"BH26*'5. UD1 Parameters'!$H$28*1000000","v":547714.41357028403},{"$f":"BI26*'5. UD1 Parameters'!$H$12*'5. UD1 Parameters'!$H$13*'5. UD1 Parameters'!$H$16/1000000","v":2.564868353833416},2.564868353833416,105.98062241631173,null,9960841.3789458908,{"$f":"'UD1 CropScenarios'!Y26","v":2665224},1509782.9135702839,{"$f":"(((BN26*'5. UD1 Parameters'!$H$18)+(BP26*'5. UD1 Parameters'!$H$19))*('5. UD1 Parameters'!$H$24*'5. UD1 Parameters'!$H$21))/1000","v":20.39778275242158},{"$f":"BQ26*'5. UD1 Parameters'!$H$22/1000","v":6.078539260221631},{"$f":"((BN26+BO26+BP26)*'5. UD1 Parameters'!$H$20*'5. UD1 Parameters'!$H$23*'5. UD1 Parameters'!$H$21)/1000","v":49.980320748539327},{"$f":"BS26*'5. UD1 Parameters'!$H$22/1000","v":14.894135583064719},20.972674843286349,1.1751718481393603,104.80545056817238,null,104.38863806817237,5.1935675385827693,null,null,null,109.58220560675514,109.16539310675513,103.41575406247831,104.80545056817238,104.38863806817237,null,109.58220560675514,109.16539310675513,103.41575406247831,104.80545056817238,104.38863806817237,null,0,0,0,0,0]
[2025,{"$f":"'6. UD1 Assumptions'!C34","v":47000},{"$f":"B27*'5. UD1 Parameters'!$H$10","v":4700},{"$f":"C27*'5. UD1 Parameters'!$H$6*'5. UD1 Parameters'!$H$7*'5. UD1 Parameters'!$H$8/1000","v":82.484999999999999},{"$f":"D27*'5. UD1 Parameters'!$H$9/1000","v":2.062125},11449242.964305623,2665224,{"$f":"MMS!W90","v":3667066.5423237192},{"$f":"'UD1 CropScenarios'!F27*'5. UD1 Parameters'!$H$12*'5. UD1 Parameters'!$H$13/1000","v":179.91667515337406},{"$f":"G27*'5. UD1 Parameters'!$H$12*'5. UD1 Parameters'!$H$13/1000","v":41.882091428571428},{"$f":"H27*'5. UD1 Parameters'!$H$12*'5. UD1 Parameters'!$H$13/1000","v":57.625331379372739},{"$f":"I27*'5. UD1 Parameters'!$H$16/1000","v":53.615169195705469},{"$f":"J27*'5. UD1 Parameters'!$H$16/1000","v":12.480863245714286},{"$f":"K27*'5. UD1 Parameters'!$H$16/1000","v":17.172348751053075},{"$f":"SUM('UD1 CropScenarios'!L27:N27)","v":83.26838119247283},{"$f":"MMS!W92","v":11297.48},{"$f":"MMS!W91","v":438465.0465},{"$f":"P27*'5. UD1 Parameters'!$H$14*'5. UD1 Parameters'!$H$13/1000","v":0.35506365714285715},{"$f":"Q27*'5. UD1 Parameters'!$H$15*'5. UD1 Parameters'!$H$13/1000","v":6.890165016428571},{"$f":"R27*'5. UD1 Parameters'!$H$16/1000","v":0.10580896982857144},{"$f":"S27*'5. UD1 Parameters'!$H$16/1000","v":2.0532691748957141},{"$f":"'UD1 CropScenarios'!T27+'UD1 CropScenarios'!U27","v":2.1590781447242855},{"$f":"'UD1 CropScenarios'!O27+'UD1 CropScenarios'!V27","v":85.427459337197121},11449242.964305623,2665224,962068.5,{"$f":"((X27*'5. UD1 Parameters'!$H$18)+(Z27*'5. UD1 Parameters'!$H$19))*'5. UD1 Parameters'!$H$24*'5. UD1 Parameters'!$H$21/1000","v":21.015311372480269},{"$f":"AA27*'5. UD1 Parameters'!$H$22/1000","v":6.2625627889991202},{"$f":"((X27+Y27+Z27)*'5. UD1 Parameters'!$H$20*'5. UD1 Parameters'!$H$23*'5. UD1 Parameters'!$H$21)/1000","v":53.306321820223452},{"$f":"AC27*'5. UD1 Parameters'!$H$22/1000","v":15.885283902426588},22.147846691425709,109.63743102862283,null,null,null,{"$f":"INDEX((DirN2OManSoilPol!$U$15:$U$43),MATCH(A27,DirN2OManSoilPol!$A$15:A$43,0))","v":86.308001109381095},null,null,null,{"$f":"'6. UD1 Assumptions'!B34","v":47000},{"$f":"'6. UD1 Assumptions'!F34","v":0.08},3760,{"$f":"AP27*'5. UD1 Parameters'!$H$6*'5. UD1 Parameters'!$H$7*'5. UD1 Parameters'!$H$8/1000","v":65.988},{"$f":"AQ27*'5. UD1 Parameters'!$H$9/1000","v":1.6496999999999999},0.41242500000000004,109.22500602862283,null,53.615169195705469,{"$f":"'UD1 CropScenarios'!F27*'6. UD1 Assumptions'!K34","v":9731856.5196597781},{"$f":"AW27*'5. UD1 Parameters'!$H$12*'5. UD1 Parameters'!$H$13/1000","v":152.92917388036796},{"$f":"AX27*'5. UD1 Parameters'!$H$16/1000","v":45.572893816349648},45.572893816349648,8.0422753793558215,102.47569742145097,null,{"$f":"'6. UD1 Assumptions'!Q34*'6. UD1 Assumptions'!$O$15*'6. UD1 Assumptions'!S34","v":13.992629823493152},{"$f":"'6. UD1 Assumptions'!Q34*'6. UD1 Assumptions'!$O$16*'6. UD1 Assumptions'!S34","v":46.642099411643841},{"$f":"'6. UD1 Assumptions'!Q34*'6. UD1 Assumptions'!$O$17*'6. UD1 Assumptions'!S34","v":11.194103858794522},71.828833093931522,{"$f":"'UD1 CropScenarios'!BG27*'5. UD1 Parameters'!$H$27","v":35.914416546965761},{"$f":"BH27*'5. UD1 Parameters'!$H$28*1000000","v":628502.28957190085},{"$f":"BI27*'5. UD1 Parameters'!$H$12*'5. UD1 Parameters'!$H$13*'5. UD1 Parameters'!$H$16/1000000","v":2.9431864360238444},2.9431864360238444,105.41888385747482,null,9731856.5196597781,{"$f":"'UD1 CropScenarios'!Y27","v":2665224},1590570.7895719009,{"$f":"(((BN27*'5. UD1 Parameters'!$H$18)+(BP27*'5. UD1 Parameters'!$H$19))*('5. UD1 Parameters'!$H$24*'5. UD1 Parameters'!$H$21))/1000","v":20.291854155262772},{"$f":"BQ27*'5. UD1 Parameters'!$H$22/1000","v":6.0469725382683066},{"$f":"((BN27+BO27+BP27)*'5. UD1 Parameters'!$H$20*'5. UD1 Parameters'!$H$23*'5. UD1 Parameters'!$H$21)/1000","v":49.456338557640571},{"$f":"BS27*'5. UD1 Parameters'!$H$22/1000","v":14.73798889017689},20.784961428445197,1.3628852629805124,104.05599859449431,null,103.64357359449431,5.9938574341285147,null,null,null,109.63743102862283,109.22500602862283,102.47569742145097,104.05599859449431,103.64357359449431,null,109.63743102862283,109.22500602862283,102.47569742145097,104.05599859449431,103.64357359449431,null,0,0,0,0,0]
[2026,{"$f":"'6. UD1 Assumptions'!C35","v":46500},{"$f":"B28*'5. UD1 Parameters'!$H$10","v":4650},{"$f":"C28*'5. UD1 Parameters'!$H$6*'5. UD1 Parameters'!$H$7*'5. UD1 Parameters'!$H$8/1000","v":81.607500000000002},{"$f":"D28*'5. UD1 Parameters'!$H$9/1000","v":2.0401875},11449242.964305623,2665224,{"$f":"H27+($H$32-$H$27)/5","v":3675618.4624506915},{"$f":"'UD1 CropScenarios'!F28*'5. UD1 Parameters'!$H$12*'5. UD1 Parameters'!$H$13/1000","v":179.91667515337406},{"$f":"G28*'5. UD1 Parameters'!$H$12*'5. UD1 Parameters'!$H$13/1000","v":41.882091428571428},{"$f":"H28*'5. UD1 Parameters'!$H$12*'5. UD1 Parameters'!$H$13/1000","v":57.759718695653724},{"$f":"I28*'5. UD1 Parameters'!$H$16/1000","v":53.615169195705469},{"$f":"J28*'5. UD1 Parameters'!$H$16/1000","v":12.480863245714286},{"$f":"K28*'5. UD1 Parameters'!$H$16/1000","v":17.212396171304807},{"$f":"SUM('UD1 CropScenarios'!L28:N28)","v":83.308428612724555},{"$f":"P27+($P$32-$P$27)/5","v":11233.531999999999},{"$f":"Q27+($Q$32-$Q$27)/5","v":439746.19650000002},{"$f":"P28*'5. UD1 Parameters'!$H$14*'5. UD1 Parameters'!$H$13/1000","v":0.35305386285714285},{"$f":"Q28*'5. UD1 Parameters'!$H$15*'5. UD1 Parameters'!$H$13/1000","v":6.9102973735714297},{"$f":"R28*'5. UD1 Parameters'!$H$16/1000","v":0.10521005113142858},{"$f":"S28*'5. UD1 Parameters'!$H$16/1000","v":2.0592686173242858},{"$f":"'UD1 CropScenarios'!T28+'UD1 CropScenarios'!U28","v":2.1644786684557142},{"$f":"'UD1 CropScenarios'!O28+'UD1 CropScenarios'!V28","v":85.472907281180269},11449242.964305623,2665224,962068.5,{"$f":"((X28*'5. UD1 Parameters'!$H$18)+(Z28*'5. UD1 Parameters'!$H$19))*'5. UD1 Parameters'!$H$24*'5. UD1 Parameters'!$H$21/1000","v":21.015311372480269},{"$f":"AA28*'5. UD1 Parameters'!$H$22/1000","v":6.2625627889991202},{"$f":"((X28+Y28+Z28)*'5. UD1 Parameters'!$H$20*'5. UD1 Parameters'!$H$23*'5. UD1 Parameters'!$H$21)/1000","v":53.306321820223452},{"$f":"AC28*'5. UD1 Parameters'!$H$22/1000","v":15.885283902426588},22.147846691425709,109.66094147260598,null,null,null,{"$f":"INDEX((DirN2OManSoilPol!$U$15:$U$43),MATCH(A28,DirN2OManSoilPol!$A$15:A$43,0))","v":86.423927252572625},null,null,null,{"$f":"'6. UD1 Assumptions'!B35","v":46500},{"$f":"'6. UD1 Assumptions'!F35","v":0.08},3720,{"$f":"AP28*'5. UD1 Parameters'!$H$6*'5. UD1 Parameters'!$H$7*'5. UD1 Parameters'!$H$8/1000","v":65.286000000000001},{"$f":"AQ28*'5. UD1 Parameters'!$H$9/1000","v":1.63215},0.40803750000000005,109.25290397260598,null,53.615169195705469,{"$f":"'UD1 CropScenarios'!F28*'6. UD1 Assumptions'!K35","v":9502871.6603736654},{"$f":"AW28*'5. UD1 Parameters'!$H$12*'5. UD1 Parameters'!$H$13/1000","v":149.33084037730046},{"$f":"AX28*'5. UD1 Parameters'!$H$16/1000","v":44.500590432435537},44.500590432435537,9.1145787632699324,101.49738268072841,null,{"$f":"'6. UD1 Assumptions'!Q35*'6. UD1 Assumptions'!$O$15*'6. UD1 Assumptions'!S35","v":15.858313799958903},{"$f":"'6. UD1 Assumptions'!Q35*'6. UD1 Assumptions'!$O$16*'6. UD1 Assumptions'!S35","v":52.861045999863016},{"$f":"'6. UD1 Assumptions'!Q35*'6. UD1 Assumptions'!$O$17*'6. UD1 Assumptions'!S35","v":12.686651039967122},81.406010839789033,{"$f":"'UD1 CropScenarios'!BG28*'5. UD1 Parameters'!$H$27","v":40.703005419894517},{"$f":"BH28*'5. UD1 Parameters'!$H$28*1000000","v":712302.59484815411},{"$f":"BI28*'5. UD1 Parameters'!$H$12*'5. UD1 Parameters'!$H$13*'5. UD1 Parameters'!$H$16/1000000","v":3.3356112941603562},3.3356112941603562,104.83299397488877,null,9502871.6603736654,{"$f":"'UD1 CropScenarios'!Y28","v":2665224},1674371.0948481541,{"$f":"(((BN28*'5. UD1 Parameters'!$H$18)+(BP28*'5. UD1 Parameters'!$H$19))*('5. UD1 Parameters'!$H$24*'5. UD1 Parameters'!$H$21))/1000","v":20.195393192967106},{"$f":"BQ28*'5. UD1 Parameters'!$H$22/1000","v":6.0182271715041979},{"$f":"((BN28+BO28+BP28)*'5. UD1 Parameters'!$H$20*'5. UD1 Parameters'!$H$23*'5. UD1 Parameters'!$H$21)/1000","v":48.943007455962857},{"$f":"BS28*'5. UD1 Parameters'!$H$22/1000","v":14.585016221876931},20.603243393381128,1.5446032980445814,103.28839067684419,null,102.88035317684418,6.7805882957618024,null,null,null,109.66094147260598,109.25290397260598,101.49738268072841,103.28839067684419,102.88035317684418,null,109.66094147260598,109.25290397260598,101.49738268072841,103.28839067684419,102.88035317684418,null,0,0,0,0,0]
[2027,{"$f":"'6. UD1 Assumptions'!C36","v":46000},{"$f":"B29*'5. UD1 Parameters'!$H$10","v":4600},{"$f":"C29*'5. UD1 Parameters'!$H$6*'5. UD1 Parameters'!$H$7*'5. UD1 Parameters'!$H$8/1000","v":80.73},{"$f":"D29*'5. UD1 Parameters'!$H$9/1000","v":2.0182500000000001},11449242.964305623,2665224,{"$f":"H28+($H$32-$H$27)/5","v":3684170.3825776638},{"$f":"'UD1 CropScenarios'!F29*'5. UD1 Parameters'!$H$12*'5. UD1 Parameters'!$H$13/1000","v":179.91667515337406},{"$f":"G29*'5. UD1 Parameters'!$H$12*'5. UD1 Parameters'!$H$13/1000","v":41.882091428571428},{"$f":"H29*'5. UD1 Parameters'!$H$12*'5. UD1 Parameters'!$H$13/1000","v":57.894106011934717},{"$f":"I29*'5. UD1 Parameters'!$H$16/1000","v":53.615169195705469},{"$f":"J29*'5. UD1 Parameters'!$H$16/1000","v":12.480863245714286},{"$f":"K29*'5. UD1 Parameters'!$H$16/1000","v":17.252443591556545},{"$f":"SUM('UD1 CropScenarios'!L29:N29)","v":83.348476032976293},{"$f":"P28+($P$32-$P$27)/5","v":11169.583999999999},{"$f":"Q28+($Q$32-$Q$27)/5","v":441027.34650000004},{"$f":"P29*'5. UD1 Parameters'!$H$14*'5. UD1 Parameters'!$H$13/1000","v":0.3510440685714285},{"$f":"Q29*'5. UD1 Parameters'!$H$15*'5. UD1 Parameters'!$H$13/1000","v":6.9304297307142857},{"$f":"R29*'5. UD1 Parameters'!$H$16/1000","v":0.10461113243428569},{"$f":"S29*'5. UD1 Parameters'!$H$16/1000","v":2.065268059752857},{"$f":"'UD1 CropScenarios'!T29+'UD1 CropScenarios'!U29","v":2.1698791921871425},{"$f":"'UD1 CropScenarios'!O29+'UD1 CropScenarios'!V29","v":85.518355225163432},11449242.964305623,2665224,962068.5,{"$f":"((X29*'5. UD1 Parameters'!$H$18)+(Z29*'5. UD1 Parameters'!$H$19))*'5. UD1 Parameters'!$H$24*'5. UD1 Parameters'!$H$21/1000","v":21.015311372480269},{"$f":"AA29*'5. UD1 Parameters'!$H$22/1000","v":6.2625627889991202},{"$f":"((X29+Y29+Z29)*'5. UD1 Parameters'!$H$20*'5. UD1 Parameters'!$H$23*'5. UD1 Parameters'!$H$21)/1000","v":53.306321820223452},{"$f":"AC29*'5. UD1 Parameters'!$H$22/1000","v":15.885283902426588},22.147846691425709,109.68445191658914,null,null,null,{"$f":"INDEX((DirN2OManSoilPol!$U$15:$U$43),MATCH(A29,DirN2OManSoilPol!$A$15:A$43,0))","v":86.539853395764169},null,null,null,{"$f":"'6. UD1 Assumptions'!B36","v":46000},{"$f":"'6. UD1 Assumptions'!F36","v":0.08},3680,{"$f":"AP29*'5. UD1 Parameters'!$H$6*'5. UD1 Parameters'!$H$7*'5. UD1 Parameters'!$H$8/1000","v":64.584000000000003},{"$f":"AQ29*'5. UD1 Parameters'!$H$9/1000","v":1.6146},0.40365000000000006,109.28080191658914,null,53.615169195705469,{"$f":"'UD1 CropScenarios'!F29*'6. UD1 Assumptions'!K36","v":9273886.8010875527},{"$f":"AW29*'5. UD1 Parameters'!$H$12*'5. UD1 Parameters'!$H$13/1000","v":145.73250687423297},{"$f":"AX29*'5. UD1 Parameters'!$H$16/1000","v":43.428287048521426},43.428287048521426,10.186882147184043,100.51906794000584,null,{"$f":"'6. UD1 Assumptions'!Q36*'6. UD1 Assumptions'!$O$15*'6. UD1 Assumptions'!S36","v":19.4105760911497},{"$f":"'6. UD1 Assumptions'!Q36*'6. UD1 Assumptions'!$O$16*'6. UD1 Assumptions'!S36","v":64.701920303832324},{"$f":"'6. UD1 Assumptions'!Q36*'6. UD1 Assumptions'!$O$17*'6. UD1 Assumptions'!S36","v":15.528460872919757},99.640957267901783,{"$f":"'UD1 CropScenarios'!BG29*'5. UD1 Parameters'!$H$27","v":49.820478633950891},{"$f":"BH29*'5. UD1 Parameters'!$H$28*1000000","v":871858.37609414058},{"$f":"BI29*'5. UD1 Parameters'!$H$12*'5. UD1 Parameters'!$H$13*'5. UD1 Parameters'!$H$16/1000000","v":4.0827882240522761},4.0827882240522761,104.60185616405812,null,9273886.8010875527,{"$f":"'UD1 CropScenarios'!Y29","v":2665224},1833926.8760941406,{"$f":"(((BN29*'5. UD1 Parameters'!$H$18)+(BP29*'5. UD1 Parameters'!$H$19))*('5. UD1 Parameters'!$H$24*'5. UD1 Parameters'!$H$21))/1000","v":20.337020869433459},{"$f":"BQ29*'5. UD1 Parameters'!$H$22/1000","v":6.0604322190911706},{"$f":"((BN29+BO29+BP29)*'5. UD1 Parameters'!$H$20*'5. UD1 Parameters'!$H$23*'5. UD1 Parameters'!$H$21)/1000","v":48.697526072892408},{"$f":"BS29*'5. UD1 Parameters'!$H$22/1000","v":14.511862769721938},20.572294988813109,1.5755517026126,103.02630446144552,null,102.62265446144552,7.0617974551436191,null,null,null,109.68445191658914,109.28080191658914,100.51906794000584,103.02630446144552,102.62265446144552,null,109.68445191658914,109.28080191658914,100.51906794000584,103.02630446144552,102.62265446144552,null,0,0,0,0,0]
[2028,{"$f":"'6. UD1 Assumptions'!C37","v":45500},{"$f":"B30*'5. UD1 Parameters'!$H$10","v":4550},{"$f":"C30*'5. UD1 Parameters'!$H$6*'5. UD1 Parameters'!$H$7*'5. UD1 Parameters'!$H$8/1000","v":79.852500000000006},{"$f":"D30*'5. UD1 Parameters'!$H$9/1000","v":1.9963125000000002},11449242.964305623,2665224,{"$f":"H29+($H$32-$H$27)/5","v":3692722.302704636},{"$f":"'UD1 CropScenarios'!F30*'5. UD1 Parameters'!$H$12*'5. UD1 Parameters'!$H$13/1000","v":179.91667515337406},{"$f":"G30*'5. UD1 Parameters'!$H$12*'5. UD1 Parameters'!$H$13/1000","v":41.882091428571428},{"$f":"H30*'5. UD1 Parameters'!$H$12*'5. UD1 Parameters'!$H$13/1000","v":58.028493328215717},{"$f":"I30*'5. UD1 Parameters'!$H$16/1000","v":53.615169195705469},{"$f":"J30*'5. UD1 Parameters'!$H$16/1000","v":12.480863245714286},{"$f":"K30*'5. UD1 Parameters'!$H$16/1000","v":17.292491011808284},{"$f":"SUM('UD1 CropScenarios'!L30:N30)","v":83.388523453228032},{"$f":"P29+($P$32-$P$27)/5","v":11105.635999999999},{"$f":"Q29+($Q$32-$Q$27)/5","v":442308.49650000007},{"$f":"P30*'5. UD1 Parameters'!$H$14*'5. UD1 Parameters'!$H$13/1000","v":0.34903427428571421},{"$f":"Q30*'5. UD1 Parameters'!$H$15*'5. UD1 Parameters'!$H$13/1000","v":6.9505620878571444},{"$f":"R30*'5. UD1 Parameters'!$H$16/1000","v":0.10401221373714283},{"$f":"S30*'5. UD1 Parameters'!$H$16/1000","v":2.0712675021814291},{"$f":"'UD1 CropScenarios'!T30+'UD1 CropScenarios'!U30","v":2.1752797159185717},{"$f":"'UD1 CropScenarios'!O30+'UD1 CropScenarios'!V30","v":85.56380316914661},11449242.964305623,2665224,962068.5,{"$f":"((X30*'5. UD1 Parameters'!$H$18)+(Z30*'5. UD1 Parameters'!$H$19))*'5. UD1 Parameters'!$H$24*'5. UD1 Parameters'!$H$21/1000","v":21.015311372480269},{"$f":"AA30*'5. UD1 Parameters'!$H$22/1000","v":6.2625627889991202},{"$f":"((X30+Y30+Z30)*'5. UD1 Parameters'!$H$20*'5. UD1 Parameters'!$H$23*'5. UD1 Parameters'!$H$21)/1000","v":53.306321820223452},{"$f":"AC30*'5. UD1 Parameters'!$H$22/1000","v":15.885283902426588},22.147846691425709,109.70796236057232,null,null,null,{"$f":"INDEX((DirN2OManSoilPol!$U$15:$U$43),MATCH(A30,DirN2OManSoilPol!$A$15:A$43,0))","v":86.655779538955713},null,null,null,{"$f":"'6. UD1 Assumptions'!B37","v":45500},{"$f":"'6. UD1 Assumptions'!F37","v":0.08},3640,{"$f":"AP30*'5. UD1 Parameters'!$H$6*'5. UD1 Parameters'!$H$7*'5. UD1 Parameters'!$H$8/1000","v":63.882000000000005},{"$f":"AQ30*'5. UD1 Parameters'!$H$9/1000","v":1.5970500000000001},0.39926250000000008,109.30869986057232,null,53.615169195705469,{"$f":"'UD1 CropScenarios'!F30*'6. UD1 Assumptions'!K37","v":9044901.94180144},{"$f":"AW30*'5. UD1 Parameters'!$H$12*'5. UD1 Parameters'!$H$13/1000","v":142.1341733711655},{"$f":"AX30*'5. UD1 Parameters'!$H$16/1000","v":42.355983664607315},42.355983664607315,11.259185531098154,99.540753199283273,null,{"$f":"'6. UD1 Assumptions'!Q37*'6. UD1 Assumptions'!$O$15*'6. UD1 Assumptions'!S37","v":21.448686580720416},{"$f":"'6. UD1 Assumptions'!Q37*'6. UD1 Assumptions'!$O$16*'6. UD1 Assumptions'!S37","v":71.495621935734718},{"$f":"'6. UD1 Assumptions'!Q37*'6. UD1 Assumptions'!$O$17*'6. UD1 Assumptions'!S37","v":17.158949264576336},110.10325778103147,{"$f":"'UD1 CropScenarios'!BG30*'5. UD1 Parameters'!$H$27","v":55.051628890515737},{"$f":"BH30*'5. UD1 Parameters'!$H$28*1000000","v":963403.50558402541},{"$f":"BI30*'5. UD1 Parameters'!$H$12*'5. UD1 Parameters'!$H$13*'5. UD1 Parameters'!$H$16/1000000","v":4.5114809875777651},4.5114809875777651,104.05223418686104,null,9044901.94180144,{"$f":"'UD1 CropScenarios'!Y30","v":2665224},1925472.0055840253,{"$f":"(((BN30*'5. UD1 Parameters'!$H$18)+(BP30*'5. UD1 Parameters'!$H$19))*('5. UD1 Parameters'!$H$24*'5. UD1 Parameters'!$H$21))/1000","v":20.264900783237771},{"$f":"BQ30*'5. UD1 Parameters'!$H$22/1000","v":6.0389404334048562},{"$f":"((BN30+BO30+BP30)*'5. UD1 Parameters'!$H$20*'5. UD1 Parameters'!$H$23*'5. UD1 Parameters'!$H$21)/1000","v":48.211578456827176},{"$f":"BS30*'5. UD1 Parameters'!$H$22/1000","v":14.367050380134499},20.405990813539354,1.7418558778863549,102.31037830897469,null,101.91111580897469,7.7968465515976391,null,null,null,109.70796236057232,109.30869986057232,99.540753199283273,102.31037830897469,101.91111580897469,null,109.70796236057232,109.30869986057232,99.540753199283273,102.31037830897469,101.91111580897469,null,0,0,0,0,0]
[2029,{"$f":"'6. UD1 Assumptions'!C38","v":45250},{"$f":"B31*'5. UD1 Parameters'!$H$10","v":4525},{"$f":"C31*'5. UD1 Parameters'!$H$6*'5. UD1 Parameters'!$H$7*'5. UD1 Parameters'!$H$8/1000","v":79.413749999999993},{"$f":"D31*'5. UD1 Parameters'!$H$9/1000","v":1.9853437499999997},11449242.964305623,2665224,{"$f":"H30+($H$32-$H$27)/5","v":3701274.2228316083},{"$f":"'UD1 CropScenarios'!F31*'5. UD1 Parameters'!$H$12*'5. UD1 Parameters'!$H$13/1000","v":179.91667515337406},{"$f":"G31*'5. UD1 Parameters'!$H$12*'5. UD1 Parameters'!$H$13/1000","v":41.882091428571428},{"$f":"H31*'5. UD1 Parameters'!$H$12*'5. UD1 Parameters'!$H$13/1000","v":58.162880644496703},{"$f":"I31*'5. UD1 Parameters'!$H$16/1000","v":53.615169195705469},{"$f":"J31*'5. UD1 Parameters'!$H$16/1000","v":12.480863245714286},{"$f":"K31*'5. UD1 Parameters'!$H$16/1000","v":17.332538432060016},{"$f":"SUM('UD1 CropScenarios'!L31:N31)","v":83.428570873479771},{"$f":"P30+($P$32-$P$27)/5","v":11041.687999999998},{"$f":"Q30+($Q$32-$Q$27)/5","v":443589.64650000009},{"$f":"P31*'5. UD1 Parameters'!$H$14*'5. UD1 Parameters'!$H$13/1000","v":0.34702447999999997},{"$f":"Q31*'5. UD1 Parameters'!$H$15*'5. UD1 Parameters'!$H$13/1000","v":6.9706944450000012},{"$f":"R31*'5. UD1 Parameters'!$H$16/1000","v":0.10341329503999999},{"$f":"S31*'5. UD1 Parameters'!$H$16/1000","v":2.0772669446100003},{"$f":"'UD1 CropScenarios'!T31+'UD1 CropScenarios'!U31","v":2.1806802396500005},{"$f":"'UD1 CropScenarios'!O31+'UD1 CropScenarios'!V31","v":85.609251113129773},11449242.964305623,2665224,962068.5,{"$f":"((X31*'5. UD1 Parameters'!$H$18)+(Z31*'5. UD1 Parameters'!$H$19))*'5. UD1 Parameters'!$H$24*'5. UD1 Parameters'!$H$21/1000","v":21.015311372480269},{"$f":"AA31*'5. UD1 Parameters'!$H$22/1000","v":6.2625627889991202},{"$f":"((X31+Y31+Z31)*'5. UD1 Parameters'!$H$20*'5. UD1 Parameters'!$H$23*'5. UD1 Parameters'!$H$21)/1000","v":53.306321820223452},{"$f":"AC31*'5. UD1 Parameters'!$H$22/1000","v":15.885283902426588},22.147846691425709,109.74244155455548,null,null,null,{"$f":"INDEX((DirN2OManSoilPol!$U$15:$U$43),MATCH(A31,DirN2OManSoilPol!$A$15:A$43,0))","v":86.771705682147271},null,null,null,{"$f":"'6. UD1 Assumptions'!B38","v":45250},{"$f":"'6. UD1 Assumptions'!F38","v":0.08},3620,{"$f":"AP31*'5. UD1 Parameters'!$H$6*'5. UD1 Parameters'!$H$7*'5. UD1 Parameters'!$H$8/1000","v":63.531000000000006},{"$f":"AQ31*'5. UD1 Parameters'!$H$9/1000","v":1.5882750000000001},0.39706874999999964,109.34537280455548,null,53.615169195705469,{"$f":"'UD1 CropScenarios'!F31*'6. UD1 Assumptions'!K38","v":8815917.0825153273},{"$f":"AW31*'5. UD1 Parameters'!$H$12*'5. UD1 Parameters'!$H$13/1000","v":138.53583986809801},{"$f":"AX31*'5. UD1 Parameters'!$H$16/1000","v":41.283680280693211},41.283680280693211,12.331488915012258,98.573407208560724,null,{"$f":"'6. UD1 Assumptions'!Q38*'6. UD1 Assumptions'!$O$15*'6. UD1 Assumptions'!S38","v":23.560557259437509},{"$f":"'6. UD1 Assumptions'!Q38*'6. UD1 Assumptions'!$O$16*'6. UD1 Assumptions'!S38","v":78.535190864791687},{"$f":"'6. UD1 Assumptions'!Q38*'6. UD1 Assumptions'!$O$17*'6. UD1 Assumptions'!S38","v":18.848445807550004},120.94419393177921,{"$f":"'UD1 CropScenarios'!BG31*'5. UD1 Parameters'!$H$27","v":60.472096965889605},{"$f":"BH31*'5. UD1 Parameters'!$H$28*1000000","v":1058261.6969030683},{"$f":"BI31*'5. UD1 Parameters'!$H$12*'5. UD1 Parameters'!$H$13*'5. UD1 Parameters'!$H$16/1000000","v":4.9556883463546546},4.9556883463546546,103.52909555491537,null,8815917.0825153273,{"$f":"'UD1 CropScenarios'!Y31","v":2665224},2020330.1969030683,{"$f":"(((BN31*'5. UD1 Parameters'!$H$18)+(BP31*'5. UD1 Parameters'!$H$19))*('5. UD1 Parameters'!$H$24*'5. UD1 Parameters'!$H$21))/1000","v":20.203193177076589},{"$f":"BQ31*'5. UD1 Parameters'!$H$22/1000","v":6.0205515667688232},{"$f":"((BN31+BO31+BP31)*'5. UD1 Parameters'!$H$20*'5. UD1 Parameters'!$H$23*'5. UD1 Parameters'!$H$21)/1000","v":47.737344880800755},{"$f":"BS31*'5. UD1 Parameters'!$H$22/1000","v":14.225728774478624},20.246280341247449,1.9015663501782605,101.62752920473712,null,101.23046045473711,8.5119810998183709,null,null,null,109.74244155455548,109.34537280455548,98.573407208560724,101.62752920473712,101.23046045473711,null,109.74244155455548,109.34537280455548,98.573407208560724,101.62752920473712,101.23046045473711,null,0,0,0,0,0]
[2030,{"$f":"'6. UD1 Assumptions'!C39","v":45000},{"$f":"B32*'5. UD1 Parameters'!$H$10","v":4500},{"$f":"C32*'5. UD1 Parameters'!$H$6*'5. UD1 Parameters'!$H$7*'5. UD1 Parameters'!$H$8/1000","v":78.974999999999994},{"$f":"D32*'5. UD1 Parameters'!$H$9/1000","v":1.9743749999999998},11449242.964305623,2665224,{"$f":"MMS!X90","v":3709826.1429585796},{"$f":"'UD1 CropScenarios'!F32*'5. UD1 Parameters'!$H$12*'5. UD1 Parameters'!$H$13/1000","v":179.91667515337406},{"$f":"G32*'5. UD1 Parameters'!$H$12*'5. UD1 Parameters'!$H$13/1000","v":41.882091428571428},{"$f":"H32*'5. UD1 Parameters'!$H$12*'5. UD1 Parameters'!$H$13/1000","v":58.297267960777688},{"$f":"I32*'5. UD1 Parameters'!$H$16/1000","v":53.615169195705469},{"$f":"J32*'5. UD1 Parameters'!$H$16/1000","v":12.480863245714286},{"$f":"K32*'5. UD1 Parameters'!$H$16/1000","v":17.372585852311751},{"$f":"SUM('UD1 CropScenarios'!L32:N32)","v":83.46861829373151},{"$f":"MMS!X92","v":10977.74},{"$f":"MMS!X91","v":444870.7965},{"$f":"P32*'5. UD1 Parameters'!$H$14*'5. UD1 Parameters'!$H$13/1000","v":0.34501468571428567},{"$f":"Q32*'5. UD1 Parameters'!$H$15*'5. UD1 Parameters'!$H$13/1000","v":6.9908268021428572},{"$f":"R32*'5. UD1 Parameters'!$H$16/1000","v":0.10281437634285713},{"$f":"S32*'5. UD1 Parameters'!$H$16/1000","v":2.0832663870385715},{"$f":"'UD1 CropScenarios'!T32+'UD1 CropScenarios'!U32","v":2.1860807633814288},{"$f":"'UD1 CropScenarios'!O32+'UD1 CropScenarios'!V32","v":85.654699057112936},11449242.964305623,2665224,962068.5,{"$f":"((X32*'5. UD1 Parameters'!$H$18)+(Z32*'5. UD1 Parameters'!$H$19))*'5. UD1 Parameters'!$H$24*'5. UD1 Parameters'!$H$21/1000","v":21.015311372480269},{"$f":"AA32*'5. UD1 Parameters'!$H$22/1000","v":6.2625627889991202},{"$f":"((X32+Y32+Z32)*'5. UD1 Parameters'!$H$20*'5. UD1 Parameters'!$H$23*'5. UD1 Parameters'!$H$21)/1000","v":53.306321820223452},{"$f":"AC32*'5. UD1 Parameters'!$H$22/1000","v":15.885283902426588},22.147846691425709,109.77692074853864,null,null,null,{"$f":"INDEX((DirN2OManSoilPol!$U$15:$U$43),MATCH(A32,DirN2OManSoilPol!$A$15:A$43,0))","v":86.887631825338815},null,null,null,{"$f":"'6. UD1 Assumptions'!B39","v":45000},{"$f":"'6. UD1 Assumptions'!F39","v":0.08},3600,{"$f":"AP32*'5. UD1 Parameters'!$H$6*'5. UD1 Parameters'!$H$7*'5. UD1 Parameters'!$H$8/1000","v":63.180000000000007},{"$f":"AQ32*'5. UD1 Parameters'!$H$9/1000","v":1.5795000000000001},0.39487499999999964,109.38204574853864,null,53.615169195705469,{"$f":"'UD1 CropScenarios'!F32*'6. UD1 Assumptions'!K39","v":8586932.2232292145},{"$f":"AW32*'5. UD1 Parameters'!$H$12*'5. UD1 Parameters'!$H$13/1000","v":134.93750636503052},{"$f":"AX32*'5. UD1 Parameters'!$H$16/1000","v":40.211376896779093},40.211376896779093,13.403792298926376,97.606061217838146,null,{"$f":"'6. UD1 Assumptions'!Q39*'6. UD1 Assumptions'!$O$15*'6. UD1 Assumptions'!S39","v":25.748323290670992},{"$f":"'6. UD1 Assumptions'!Q39*'6. UD1 Assumptions'!$O$16*'6. UD1 Assumptions'!S39","v":85.827744302236638},{"$f":"'6. UD1 Assumptions'!Q39*'6. UD1 Assumptions'!$O$17*'6. UD1 Assumptions'!S39","v":20.598658632536797},132.17472622544443,{"$f":"'UD1 CropScenarios'!BG32*'5. UD1 Parameters'!$H$27","v":66.087363112722215},{"$f":"BH32*'5. UD1 Parameters'!$H$28*1000000","v":1156528.8544726388},{"$f":"BI32*'5. UD1 Parameters'!$H$12*'5. UD1 Parameters'!$H$13*'5. UD1 Parameters'!$H$16/1000000","v":5.4158594070875861},5.4158594070875861,103.02192062492573,null,8586932.2232292145,{"$f":"'UD1 CropScenarios'!Y32","v":2665224},2118597.354472639,{"$f":"(((BN32*'5. UD1 Parameters'!$H$18)+(BP32*'5. UD1 Parameters'!$H$19))*('5. UD1 Parameters'!$H$24*'5. UD1 Parameters'!$H$21))/1000","v":20.152199464845634},{"$f":"BQ32*'5. UD1 Parameters'!$H$22/1000","v":6.0053554405239984},{"$f":"((BN32+BO32+BP32)*'5. UD1 Parameters'!$H$20*'5. UD1 Parameters'!$H$23*'5. UD1 Parameters'!$H$21)/1000","v":47.275164435445831},{"$f":"BS32*'5. UD1 Parameters'!$H$22/1000","v":14.087999001762856},20.093354442286856,2.0544922491388533,100.96742837578688,null,100.57255337578688,9.2043673727517614,null,null,null,109.77692074853864,109.38204574853864,97.606061217838146,100.96742837578688,100.57255337578688,null,109.77692074853864,109.38204574853864,97.606061217838146,100.96742837578688,100.57255337578688,null,0,0,0,0,0]
[2035,{"$f":"'6. UD1 Assumptions'!C40","v":44000},{"$f":"B33*'5. UD1 Parameters'!$H$10","v":4400},{"$f":"C33*'5. UD1 Parameters'!$H$6*'5. UD1 Parameters'!$H$7*'5. UD1 Parameters'!$H$8/1000","v":77.22},{"$f":"D33*'5. UD1 Parameters'!$H$9/1000","v":1.9305000000000001},11449242.964305623,2665224,{"$f":"MMS!Y90","v":3816834.4316734448},{"$f":"'UD1 CropScenarios'!F33*'5. UD1 Parameters'!$H$12*'5. UD1 Parameters'!$H$13/1000","v":179.91667515337406},{"$f":"G33*'5. UD1 Parameters'!$H$12*'5. UD1 Parameters'!$H$13/1000","v":41.882091428571428},{"$f":"H33*'5. UD1 Parameters'!$H$12*'5. UD1 Parameters'!$H$13/1000","v":59.97882678343985},{"$f":"I33*'5. UD1 Parameters'!$H$16/1000","v":53.615169195705469},{"$f":"J33*'5. UD1 Parameters'!$H$16/1000","v":12.480863245714286},{"$f":"K33*'5. UD1 Parameters'!$H$16/1000","v":17.873690381465074},{"$f":"SUM('UD1 CropScenarios'!L33:N33)","v":83.969722822884819},{"$f":"MMS!Y92","v":10977.74},{"$f":"MMS!Y91","v":447433.09649999999},{"$f":"P33*'5. UD1 Parameters'!$H$14*'5. UD1 Parameters'!$H$13/1000","v":0.34501468571428567},{"$f":"Q33*'5. UD1 Parameters'!$H$15*'5. UD1 Parameters'!$H$13/1000","v":7.0310915164285719},{"$f":"R33*'5. UD1 Parameters'!$H$16/1000","v":0.10281437634285713},{"$f":"S33*'5. UD1 Parameters'!$H$16/1000","v":2.0952652718957143},{"$f":"'UD1 CropScenarios'!T33+'UD1 CropScenarios'!U33","v":2.1980796482385716},{"$f":"'UD1 CropScenarios'!O33+'UD1 CropScenarios'!V33","v":86.167802471123395},11449242.964305623,2665224,962068.5,{"$f":"((X33*'5. UD1 Parameters'!$H$18)+(Z33*'5. UD1 Parameters'!$H$19))*'5. UD1 Parameters'!$H$24*'5. UD1 Parameters'!$H$21/1000","v":21.015311372480269},{"$f":"AA33*'5. UD1 Parameters'!$H$22/1000","v":6.2625627889991202},{"$f":"((X33+Y33+Z33)*'5. UD1 Parameters'!$H$20*'5. UD1 Parameters'!$H$23*'5. UD1 Parameters'!$H$21)/1000","v":53.306321820223452},{"$f":"AC33*'5. UD1 Parameters'!$H$22/1000","v":15.885283902426588},22.147846691425709,110.2461491625491,null,null,null,{"$f":"INDEX((DirN2OManSoilPol!$U$15:$U$43),MATCH(A33,DirN2OManSoilPol!$A$15:A$43,0))","v":87.844501596530336},null,null,null,{"$f":"'6. UD1 Assumptions'!B40","v":44000},{"$f":"'6. UD1 Assumptions'!F40","v":7.0000000000000007E-2},3080.0000000000005,{"$f":"AP33*'5. UD1 Parameters'!$H$6*'5. UD1 Parameters'!$H$7*'5. UD1 Parameters'!$H$8/1000","v":54.054000000000016},{"$f":"AQ33*'5. UD1 Parameters'!$H$9/1000","v":1.3513500000000003},0.57914999999999983,109.6669991625491,null,53.615169195705469,{"$f":"'UD1 CropScenarios'!F33*'6. UD1 Assumptions'!K40","v":8014470.0750139328},{"$f":"AW33*'5. UD1 Parameters'!$H$12*'5. UD1 Parameters'!$H$13/1000","v":125.9416726073618},{"$f":"AX33*'5. UD1 Parameters'!$H$16/1000","v":37.530618436993812},37.530618436993812,16.084550758711657,95.838297529244386,null,{"$f":"'6. UD1 Assumptions'!Q40*'6. UD1 Assumptions'!$O$15*'6. UD1 Assumptions'!S40","v":33.166267703120177},{"$f":"'6. UD1 Assumptions'!Q40*'6. UD1 Assumptions'!$O$16*'6. UD1 Assumptions'!S40","v":110.55422567706727},{"$f":"'6. UD1 Assumptions'!Q40*'6. UD1 Assumptions'!$O$17*'6. UD1 Assumptions'!S40","v":26.533014162496141},170.25350754268356,{"$f":"'UD1 CropScenarios'!BG33*'5. UD1 Parameters'!$H$27","v":85.126753771341782},{"$f":"BH33*'5. UD1 Parameters'!$H$28*1000000","v":1489718.1909984814},{"$f":"BI33*'5. UD1 Parameters'!$H$12*'5. UD1 Parameters'!$H$13*'5. UD1 Parameters'!$H$16/1000000","v":6.9761374715614597},6.9761374715614597,102.81443500080584,null,8014470.0750139328,{"$f":"'UD1 CropScenarios'!Y33","v":2665224},2451786.6909984816,{"$f":"(((BN33*'5. UD1 Parameters'!$H$18)+(BP33*'5. UD1 Parameters'!$H$19))*('5. UD1 Parameters'!$H$24*'5. UD1 Parameters'!$H$21))/1000","v":20.299782575302839},{"$f":"BQ33*'5. UD1 Parameters'!$H$22/1000","v":6.0493352074402456},{"$f":"((BN33+BO33+BP33)*'5. UD1 Parameters'!$H$20*'5. UD1 Parameters'!$H$23*'5. UD1 Parameters'!$H$21)/1000","v":46.42916413697246},{"$f":"BS33*'5. UD1 Parameters'!$H$22/1000","v":13.835890912817792},19.885226120258039,2.2626205711676697,100.55181442963817,null,99.972664429638172,10.27348473291093,null,null,null,110.2461491625491,109.6669991625491,95.838297529244386,100.55181442963817,99.972664429638172,null,110.2461491625491,109.6669991625491,95.838297529244386,100.55181442963817,99.972664429638172,null,0,0,0,0,0]
[2040,{"$f":"'6. UD1 Assumptions'!C41","v":43000},{"$f":"B34*'5. UD1 Parameters'!$H$10","v":4300},{"$f":"C34*'5. UD1 Parameters'!$H$6*'5. UD1 Parameters'!$H$7*'5. UD1 Parameters'!$H$8/1000","v":75.465000000000003},{"$f":"D34*'5. UD1 Parameters'!$H$9/1000","v":1.886625},11449242.964305623,2665224,{"$f":"MMS!Z90","v":3922135.7595364386},{"$f":"'UD1 CropScenarios'!F34*'5. UD1 Parameters'!$H$12*'5. UD1 Parameters'!$H$13/1000","v":179.91667515337406},{"$f":"G34*'5. UD1 Parameters'!$H$12*'5. UD1 Parameters'!$H$13/1000","v":41.882091428571428},{"$f":"H34*'5. UD1 Parameters'!$H$12*'5. UD1 Parameters'!$H$13/1000","v":61.633561935572608},{"$f":"I34*'5. UD1 Parameters'!$H$16/1000","v":53.615169195705469},{"$f":"J34*'5. UD1 Parameters'!$H$16/1000","v":12.480863245714286},{"$f":"K34*'5. UD1 Parameters'!$H$16/1000","v":18.366801456800637},{"$f":"SUM('UD1 CropScenarios'!L34:N34)","v":84.462833898220396},{"$f":"MMS!Z92","v":10977.74},{"$f":"MMS!Z91","v":451276.5465},{"$f":"P34*'5. UD1 Parameters'!$H$14*'5. UD1 Parameters'!$H$13/1000","v":0.34501468571428567},{"$f":"Q34*'5. UD1 Parameters'!$H$15*'5. UD1 Parameters'!$H$13/1000","v":7.0914885878571434},{"$f":"R34*'5. UD1 Parameters'!$H$16/1000","v":0.10281437634285713},{"$f":"S34*'5. UD1 Parameters'!$H$16/1000","v":2.1132635991814288},{"$f":"'UD1 CropScenarios'!T34+'UD1 CropScenarios'!U34","v":2.2160779755242861},{"$f":"'UD1 CropScenarios'!O34+'UD1 CropScenarios'!V34","v":86.678911873744681},11449242.964305623,2665224,962068.5,{"$f":"((X34*'5. UD1 Parameters'!$H$18)+(Z34*'5. UD1 Parameters'!$H$19))*'5. UD1 Parameters'!$H$24*'5. UD1 Parameters'!$H$21/1000","v":21.015311372480269},{"$f":"AA34*'5. UD1 Parameters'!$H$22/1000","v":6.2625627889991202},{"$f":"((X34+Y34+Z34)*'5. UD1 Parameters'!$H$20*'5. UD1 Parameters'!$H$23*'5. UD1 Parameters'!$H$21)/1000","v":53.306321820223452},{"$f":"AC34*'5. UD1 Parameters'!$H$22/1000","v":15.885283902426588},22.147846691425709,110.71338356517039,null,null,null,{"$f":"INDEX((DirN2OManSoilPol!$U$15:$U$43),MATCH(A34,DirN2OManSoilPol!$A$15:A$43,0))","v":88.793377913904109},null,null,null,{"$f":"'6. UD1 Assumptions'!B41","v":43000},{"$f":"'6. UD1 Assumptions'!F41","v":0.06},2580,{"$f":"AP34*'5. UD1 Parameters'!$H$6*'5. UD1 Parameters'!$H$7*'5. UD1 Parameters'!$H$8/1000","v":45.279000000000003},{"$f":"AQ34*'5. UD1 Parameters'!$H$9/1000","v":1.1319750000000002},0.75464999999999982,109.95873356517039,null,53.615169195705469,{"$f":"'UD1 CropScenarios'!F34*'6. UD1 Assumptions'!K41","v":7442007.926798651},{"$f":"AW34*'5. UD1 Parameters'!$H$12*'5. UD1 Parameters'!$H$13/1000","v":116.94583884969309},{"$f":"AX34*'5. UD1 Parameters'!$H$16/1000","v":34.849859977208546},34.849859977208546,18.765309218496924,94.062540386832893,null,{"$f":"'6. UD1 Assumptions'!Q41*'6. UD1 Assumptions'!$O$15*'6. UD1 Assumptions'!S41","v":41.849416554065328},{"$f":"'6. UD1 Assumptions'!Q41*'6. UD1 Assumptions'!$O$16*'6. UD1 Assumptions'!S41","v":139.49805518021773},{"$f":"'6. UD1 Assumptions'!Q41*'6. UD1 Assumptions'!$O$17*'6. UD1 Assumptions'!S41","v":33.479533243252256},214.82700497753532,{"$f":"'UD1 CropScenarios'!BG34*'5. UD1 Parameters'!$H$27","v":107.41350248876766},{"$f":"BH34*'5. UD1 Parameters'!$H$28*1000000","v":1879736.2935534343},{"$f":"BI34*'5. UD1 Parameters'!$H$12*'5. UD1 Parameters'!$H$13*'5. UD1 Parameters'!$H$16/1000000","v":8.8025365289545121},8.8025365289545121,102.8650769157874,null,7442007.926798651,{"$f":"'UD1 CropScenarios'!Y34","v":2665224},2841804.7935534343,{"$f":"(((BN34*'5. UD1 Parameters'!$H$18)+(BP34*'5. UD1 Parameters'!$H$19))*('5. UD1 Parameters'!$H$24*'5. UD1 Parameters'!$H$21))/1000","v":20.625970378994392},{"$f":"BQ34*'5. UD1 Parameters'!$H$22/1000","v":6.1465391729403294},{"$f":"((BN34+BO34+BP34)*'5. UD1 Parameters'!$H$20*'5. UD1 Parameters'!$H$23*'5. UD1 Parameters'!$H$21)/1000","v":45.784094118387721},{"$f":"BS34*'5. UD1 Parameters'!$H$22/1000","v":13.643660047279539},19.790199220219868,2.3576474712058406,100.50742944458156,null,99.752779444581563,10.960604120588826,null,null,null,110.71338356517039,109.95873356517039,94.062540386832893,100.50742944458156,99.752779444581563,null,110.71338356517039,109.95873356517039,94.062540386832893,100.50742944458156,99.752779444581563,null,0,0,0,0,0]
[2045,{"$f":"'6. UD1 Assumptions'!C42","v":42000},{"$f":"B35*'5. UD1 Parameters'!$H$10","v":4200},{"$f":"C35*'5. UD1 Parameters'!$H$6*'5. UD1 Parameters'!$H$7*'5. UD1 Parameters'!$H$8/1000","v":73.709999999999994},{"$f":"D35*'5. UD1 Parameters'!$H$9/1000","v":1.8427499999999997},11449242.964305623,2665224,{"$f":"MMS!AA90","v":4040586.2370510357},{"$f":"'UD1 CropScenarios'!F35*'5. UD1 Parameters'!$H$12*'5. UD1 Parameters'!$H$13/1000","v":179.91667515337406},{"$f":"G35*'5. UD1 Parameters'!$H$12*'5. UD1 Parameters'!$H$13/1000","v":41.882091428571428},{"$f":"H35*'5. UD1 Parameters'!$H$12*'5. UD1 Parameters'!$H$13/1000","v":63.494926582230569},{"$f":"I35*'5. UD1 Parameters'!$H$16/1000","v":53.615169195705469},{"$f":"J35*'5. UD1 Parameters'!$H$16/1000","v":12.480863245714286},{"$f":"K35*'5. UD1 Parameters'!$H$16/1000","v":18.921488121504709},{"$f":"SUM('UD1 CropScenarios'!L35:N35)","v":85.01752056292446},{"$f":"MMS!AA92","v":11047.017},{"$f":"MMS!AA91","v":457682.2965},{"$f":"P35*'5. UD1 Parameters'!$H$14*'5. UD1 Parameters'!$H$13/1000","v":0.34719196285714282},{"$f":"Q35*'5. UD1 Parameters'!$H$15*'5. UD1 Parameters'!$H$13/1000","v":7.1921503735714287},{"$f":"R35*'5. UD1 Parameters'!$H$16/1000","v":0.10346320493142856},{"$f":"S35*'5. UD1 Parameters'!$H$16/1000","v":2.1432608113242857},{"$f":"'UD1 CropScenarios'!T35+'UD1 CropScenarios'!U35","v":2.2467240162557141},{"$f":"'UD1 CropScenarios'!O35+'UD1 CropScenarios'!V35","v":87.264244579180172},11449242.964305623,2665224,962068.5,{"$f":"((X35*'5. UD1 Parameters'!$H$18)+(Z35*'5. UD1 Parameters'!$H$19))*'5. UD1 Parameters'!$H$24*'5. UD1 Parameters'!$H$21/1000","v":21.015311372480269},{"$f":"AA35*'5. UD1 Parameters'!$H$22/1000","v":6.2625627889991202},{"$f":"((X35+Y35+Z35)*'5. UD1 Parameters'!$H$20*'5. UD1 Parameters'!$H$23*'5. UD1 Parameters'!$H$21)/1000","v":53.306321820223452},{"$f":"AC35*'5. UD1 Parameters'!$H$22/1000","v":15.885283902426588},22.147846691425709,111.25484127060588,null,null,null,{"$f":"INDEX((DirN2OManSoilPol!$U$15:$U$43),MATCH(A35,DirN2OManSoilPol!$A$15:A$43,0))","v":89.798661719710978},null,null,null,{"$f":"'6. UD1 Assumptions'!B42","v":42000},{"$f":"'6. UD1 Assumptions'!F42","v":0.06},2520,{"$f":"AP35*'5. UD1 Parameters'!$H$6*'5. UD1 Parameters'!$H$7*'5. UD1 Parameters'!$H$8/1000","v":44.225999999999999},{"$f":"AQ35*'5. UD1 Parameters'!$H$9/1000","v":1.10565},0.73709999999999964,110.51774127060588,null,53.615169195705469,{"$f":"'UD1 CropScenarios'!F35*'6. UD1 Assumptions'!K42","v":6869545.7785833692},{"$f":"AW35*'5. UD1 Parameters'!$H$12*'5. UD1 Parameters'!$H$13/1000","v":107.95000509202438},{"$f":"AX35*'5. UD1 Parameters'!$H$16/1000","v":32.169101517423265},32.169101517423265,21.446067678282205,92.343190732854481,null,{"$f":"'6. UD1 Assumptions'!Q42*'6. UD1 Assumptions'!$O$15*'6. UD1 Assumptions'!S42","v":51.980779622771799},{"$f":"'6. UD1 Assumptions'!Q42*'6. UD1 Assumptions'!$O$16*'6. UD1 Assumptions'!S42","v":173.26926540923935},{"$f":"'6. UD1 Assumptions'!Q42*'6. UD1 Assumptions'!$O$17*'6. UD1 Assumptions'!S42","v":41.584623698217442},266.8346687302286,{"$f":"'UD1 CropScenarios'!BG35*'5. UD1 Parameters'!$H$27","v":133.4173343651143},{"$f":"BH35*'5. UD1 Parameters'!$H$28*1000000","v":2334803.3513895008},{"$f":"BI35*'5. UD1 Parameters'!$H$12*'5. UD1 Parameters'!$H$13*'5. UD1 Parameters'!$H$16/1000000","v":10.933550551221119},10.933550551221119,103.2767412840756,null,6869545.7785833692,{"$f":"'UD1 CropScenarios'!Y35","v":2665224},3296871.8513895008,{"$f":"(((BN35*'5. UD1 Parameters'!$H$18)+(BP35*'5. UD1 Parameters'!$H$19))*('5. UD1 Parameters'!$H$24*'5. UD1 Parameters'!$H$21))/1000","v":21.156597756426585},{"$f":"BQ35*'5. UD1 Parameters'!$H$22/1000","v":6.3046661314151224},{"$f":"((BN35+BO35+BP35)*'5. UD1 Parameters'!$H$20*'5. UD1 Parameters'!$H$23*'5. UD1 Parameters'!$H$21)/1000","v":45.369018620261215},{"$f":"BS35*'5. UD1 Parameters'!$H$22/1000","v":13.519967548837842},19.824633680252965,2.3232130111727436,100.95352827290286,null,100.21642827290286,11.03841299770302,null,null,null,111.25484127060588,110.51774127060588,92.343190732854481,100.95352827290286,100.21642827290286,null,111.25484127060588,110.51774127060588,92.343190732854481,100.95352827290286,100.21642827290286,null,0,0,0,0,0]
[2050,{"$f":"'6. UD1 Assumptions'!C43","v":40000},{"$f":"B36*'5. UD1 Parameters'!$H$10","v":4000},{"$f":"C36*'5. UD1 Parameters'!$H$6*'5. UD1 Parameters'!$H$7*'5. UD1 Parameters'!$H$8/1000","v":70.2},{"$f":"D36*'5. UD1 Parameters'!$H$9/1000","v":1.7549999999999999},11449242.964305623,2665224,{"$f":"MMS!AB90","v":4159036.7145656329},{"$f":"'UD1 CropScenarios'!F36*'5. UD1 Parameters'!$H$12*'5. UD1 Parameters'!$H$13/1000","v":179.91667515337406},{"$f":"G36*'5. UD1 Parameters'!$H$12*'5. UD1 Parameters'!$H$13/1000","v":41.882091428571428},{"$f":"H36*'5. UD1 Parameters'!$H$12*'5. UD1 Parameters'!$H$13/1000","v":65.356291228888523},{"$f":"I36*'5. UD1 Parameters'!$H$16/1000","v":53.615169195705469},{"$f":"J36*'5. UD1 Parameters'!$H$16/1000","v":12.480863245714286},{"$f":"K36*'5. UD1 Parameters'!$H$16/1000","v":19.47617478620878},{"$f":"SUM('UD1 CropScenarios'!L36:N36)","v":85.572207227628525},{"$f":"MMS!AB92","v":11116.294},{"$f":"MMS!AB91","v":464088.0465},{"$f":"P36*'5. UD1 Parameters'!$H$14*'5. UD1 Parameters'!$H$13/1000","v":0.34936923999999997},{"$f":"Q36*'5. UD1 Parameters'!$H$15*'5. UD1 Parameters'!$H$13/1000","v":7.292812159285714},{"$f":"R36*'5. UD1 Parameters'!$H$16/1000","v":0.10411203351999999},{"$f":"S36*'5. UD1 Parameters'!$H$16/1000","v":2.1732580234671426},{"$f":"'UD1 CropScenarios'!T36+'UD1 CropScenarios'!U36","v":2.2773700569871425},{"$f":"'UD1 CropScenarios'!O36+'UD1 CropScenarios'!V36","v":87.849577284615663},11449242.964305623,2665224,962068.5,{"$f":"((X36*'5. UD1 Parameters'!$H$18)+(Z36*'5. UD1 Parameters'!$H$19))*'5. UD1 Parameters'!$H$24*'5. UD1 Parameters'!$H$21/1000","v":21.015311372480269},{"$f":"AA36*'5. UD1 Parameters'!$H$22/1000","v":6.2625627889991202},{"$f":"((X36+Y36+Z36)*'5. UD1 Parameters'!$H$20*'5. UD1 Parameters'!$H$23*'5. UD1 Parameters'!$H$21)/1000","v":53.306321820223452},{"$f":"AC36*'5. UD1 Parameters'!$H$22/1000","v":15.885283902426588},22.147846691425709,111.75242397604137,null,null,null,{"$f":"INDEX((DirN2OManSoilPol!$U$15:$U$43),MATCH(A36,DirN2OManSoilPol!$A$15:A$43,0))","v":90.803945525517847},null,null,null,{"$f":"'6. UD1 Assumptions'!B43","v":40000},{"$f":"'6. UD1 Assumptions'!F43","v":0.05},2000,{"$f":"AP36*'5. UD1 Parameters'!$H$6*'5. UD1 Parameters'!$H$7*'5. UD1 Parameters'!$H$8/1000","v":35.1},{"$f":"AQ36*'5. UD1 Parameters'!$H$9/1000","v":0.87749999999999995},0.87749999999999995,110.87492397604137,null,53.615169195705469,{"$f":"'UD1 CropScenarios'!F36*'6. UD1 Assumptions'!K43","v":6297083.6303680874},{"$f":"AW36*'5. UD1 Parameters'!$H$12*'5. UD1 Parameters'!$H$13/1000","v":98.954171334355664},{"$f":"AX36*'5. UD1 Parameters'!$H$16/1000","v":29.488343057637987},29.488343057637987,24.126826138067482,90.579966078876069,null,{"$f":"'6. UD1 Assumptions'!Q43*'6. UD1 Assumptions'!$O$15*'6. UD1 Assumptions'!S43","v":63.767756574302318},{"$f":"'6. UD1 Assumptions'!Q43*'6. UD1 Assumptions'!$O$16*'6. UD1 Assumptions'!S43","v":212.55918858100773},{"$f":"'6. UD1 Assumptions'!Q43*'6. UD1 Assumptions'!$O$17*'6. UD1 Assumptions'!S43","v":51.014205259441852},327.34115041475189,{"$f":"'UD1 CropScenarios'!BG36*'5. UD1 Parameters'!$H$27","v":163.67057520737595},{"$f":"BH36*'5. UD1 Parameters'!$H$28*1000000","v":2864235.0661290796},{"$f":"BI36*'5. UD1 Parameters'!$H$12*'5. UD1 Parameters'!$H$13*'5. UD1 Parameters'!$H$16/1000000","v":13.41280363824446},13.41280363824446,103.99276971712052,null,6297083.6303680874,{"$f":"'UD1 CropScenarios'!Y36","v":2665224},3826303.5661290796,{"$f":"(((BN36*'5. UD1 Parameters'!$H$18)+(BP36*'5. UD1 Parameters'!$H$19))*('5. UD1 Parameters'!$H$24*'5. UD1 Parameters'!$H$21))/1000","v":21.920942626984104},{"$f":"BQ36*'5. UD1 Parameters'!$H$22/1000","v":6.5324409028412624},{"$f":"((BN36+BO36+BP36)*'5. UD1 Parameters'!$H$20*'5. UD1 Parameters'!$H$23*'5. UD1 Parameters'!$H$21)/1000","v":45.216875301900693},{"$f":"BS36*'5. UD1 Parameters'!$H$22/1000","v":13.474628839966407},20.007069742807669,2.1407769486180399,101.85199276850248,null,100.97449276850249,10.777931207538884,null,null,null,111.75242397604137,110.87492397604137,90.579966078876069,101.85199276850248,100.97449276850249,null,111.75242397604137,110.87492397604137,90.579966078876069,101.85199276850248,100.97449276850249,null,0,0,0,0,0]
[null,null,null,null,null,null,null,null,null,null,null,null,null,null,null,null,null,null,null,null,null,null,null,null,null,null,null,null,null,null,null,null,null,null,null,null,null,null,null,null,null,null,null,null,null,null,null,null,null,null,null,null,null,"*"]
[null,null,null,null,null,null,null,null,null,null,null,null,null,null,null,null,null,null,null,null,null,null,null,null,null,null,null,null,null,null,null,null,null,null,null,null,null,null,null,null,null,null,null,null,null,null,null,null,null,null,null,null,null,"Red in Chem"]
[null,null,null,null,null,null,null,null,null,null,null,null,null,null,null,null,null,null,null,null,null,null,null,null,null,null,null,null,null,null,null,null,null,null,null,null,null,null,null,null,null,null,null,null,null,null,null,null,null,null,null,null,null,"Fert Only"]

{"sheet":"UD2 CropScenarios","index":21,"n_rows":39,"n_cols":98,"rows_kept":39,"cut":false,"hidden":true,"merged":[[1,47,1,63],[1,65,1,74],[3,1,3,31],[3,43,3,45],[4,1,4,4],[4,5,4,22],[4,23,4,30],[4,39,4,45],[4,60,6,60],[4,65,5,72],[5,5,5,14],[5,15,5,21],[5,55,5,58],[5,59,6,59],[5,73,5,74]]}
["This worksheet summarises the various emissions scenarios for management of cropland.",null,null,null,null,null,null,null,null,null,null,null,null,null,null,null,null,null,null,null,null,null,null,null,null,null,null,null,null,null,null,null,null,null,null,null,null,null,null,null,null,null,null,null,null,null,null,46,47,48,49,50,51,52,53,54,55,56,57,58,59,60,61,62,63,64,65,66,67,68,69,70,71,72,73,74,75,76]
[null,1,2,3,4,5,6,7,8,9,10,11,12,13,14,15,16,17,18,19,20,21,22,23,24,25,26,27,28,29,30,31,32,33,34,35,36,37,38,39,40,41,42,43,44,45,null,"Direct N2O",null,null,null,null,null,null,null,null,null,null,null,null,null,null,null,null,null,"Indirect N2O",null,null,null,null,null,null,null,null,null,null,"Total ER","Total ER"]
[" "," "," "," "," ",null,null,null,null,null,null,null,null,null,null,null,null,null,null,null,null,null,null,null,null,null,null,null,null,null,null,null,null,null,null,null,null,null,null,null,null,null,null,null,null,null,null,null,null,null,null,null,null,null,null,null,null,null,null,null,null,null,null,null,null,"This worksheet calculates the indirect N2O emissions from managed soils."]
[null,"Business-as-Usual (BAU)",null,null,null,null,null,null,null,null,null,null,null,null,null,null,null,null,null,null,null,null,null,null,null,null,null,null,null,null,null,null,null,null,null,null,null,null,null,null,null,null,null,"CROP BURN (Gg CO2e)",null,null,null,"CHEMICAL FERTILIZER ",null,null,null,"(Gg CO2e)","(Gg CO2e)","(Gg CO2e)",null,"Biofarming",null,null,null,null,null,"GgCO2e","GgCO2e","GgCO2e",null,"It follows the calculations given in sheet 3.C.5. Indirect N2O Emissions from managed soils in the IPCC tool.",null,null,null,null,null,null,null,null,null,null,"GgCO2e","reduction"]
[null,"Crop Burn ",null,null,null,"DirN2OManSoil",null,null,null,null,null,null,null,null,null,null,null,null,null,null,null,null,null,"IndN2OManSoil",null,null,null,null,null,null,null,null,null,null,null,null,null,null,null,"Crop Burn Sc 1",null,null,null,null,null,null,null,null,null,null,null,null,null,null,null,null,null,null,null,null,"N in compost (kg)",null,null,null,null,"This scenario includes the combination of reduced chemical fertilizers & use of compost generated from MSW"]
[null,null,null,null,null,"N2O emissions from managed soils - 1/3",null,null,null,null,null,null,null,null,null,"N2O emissions from urine and dung inputs to grazed soils - 3/3",null,null,null,null,null,null,"N2O Em","This worksheet calculates the indirect N2O emissions from managed soils. It follows the calculations given in sheet 3.C.5. Indirect N2O Emissions from managed soils in the IPCC tool.",null,null,null,null,null,null,null," ",null,null,null,null,null,null,null,null,null,null,null,null,null,null,null,null,null,null,null,null,null,null,null,"Organic waste composted (Gg)",null,null,null,"Compost (Gg)",null,null,null,null,null,null,null,null,null,null,null,null,null,"Biofarming - GgCO2e"]
["Year","Area Available (ha)","Area Burnt (ha)","GHG (tCH4)","GHG (GgCO2e) BAU  ","Fertilizer (kg N/yr)","Crop Residues (kg N/yr)","Manure (kg N/yr)","N2O fert (t/yr)","N2O CropRes (t/yr)","N2O Manure (t/yr)","CO2e Fert (Gg/yr)","CO2e CropRes (Gg/yr)","CO2e Manure (Gg/yr)","CO2e subtotal (Gg/yr)","Cattle,poultry,pigs (kgN/yr)","sheep & other (kgN/yr)","N2O cpp (t/yr)","N2O s&o (t/yr)","CO2e cpp (Gg/yr)","CO2e s&o (Gg/yr)","CO2e subtotal (Gg/yr)","DirN2OManSoil CO2e total (Gg/yr)","Fertilizer (kg N/yr)","CropResidues (kg N/yr)","Manure (kg N/yr)","N2O Volatilised (t/yr)","CO2e Volatilised (Gg/yr)","N2O leached (y/yr)","CO2e leached (Gg/yr)","IndN2OManSoil CO2e Total (Gg/yr)","Total (BAU)",null,null,null,"DirN2OManSoilPol",null,null,null,"Area Available (ha)","% Area Burnt","Area Burnt (ha)","GHG (tCH4)","GHG due to CropBurn (Gg CO2e)","Reduction in GHG (Gg CO2e)","Nett GHG (Gg CO2e)",null,"BAU","Fertilizer (kg N/yr)","N2O Fert (t)","CO2e Fert (Gg)","ER","Change","Total-change",null,"Food","Garden","Paper","Total",null,null,"Total CO2e (Gg)","Change","Total+ change",null,"Reduced fertilizer (KgN/yr)","CropResidues (kgN/yr)","Manure (kg N/yr)","N2O Volatized (t/yr)","CO2e Volatized (Gg/yr)","N2O leached (y/yr)","CO2e leached (Gg/yr)","CO2e Total (Gg)","Change","TotalDirN2O-Change",null,null,null,null,null,null,"BAU","SC1","SC2","SC3","SC4"]
[2006,{"$f":"'6. UD2 Assumptions'!C15","v":70800},{"$f":"B8*'5. UD2 Parameters'!$H$10","v":7080},{"$f":"C8*'5. UD2 Parameters'!$H$6*'5. UD2 Parameters'!$H$7*'5. UD2 Parameters'!$H$8/1000","v":124.25400000000002},{"$f":"D8*'5. UD2 Parameters'!$H$9/1000","v":3.1063500000000004},7526219,3316504,2933111.5548999999,{"$f":"'UD2 CropScenarios'!F8*'5. UD2 Parameters'!$H$12*'5. UD2 Parameters'!$H$13/1000","v":118.26915571428572},{"$f":"G8*'5. UD2 Parameters'!$H$12*'5. UD2 Parameters'!$H$13/1000","v":52.116491428571429},{"$f":"H8*'5. UD2 Parameters'!$H$12*'5. UD2 Parameters'!$H$13/1000","v":46.091753005571427},{"$f":"I8*'5. UD2 Parameters'!$H$16/1000","v":35.24420840285714},{"$f":"J8*'5. UD2 Parameters'!$H$16/1000","v":15.530714445714286},{"$f":"K8*'5. UD2 Parameters'!$H$16/1000","v":13.735342395660286},{"$f":"SUM('UD2 CropScenarios'!L8:N8)","v":64.510265244231718},null,451428.39,{"$f":"P8*'5. UD2 Parameters'!$H$14*'5. UD2 Parameters'!$H$13/1000","v":0},{"$f":"Q8*'5. UD2 Parameters'!$H$15*'5. UD2 Parameters'!$H$13/1000","v":7.0938747000000006},{"$f":"R8*'5. UD2 Parameters'!$H$16/1000","v":0},{"$f":"S8*'5. UD2 Parameters'!$H$16/1000","v":2.1139746606000003},{"$f":"'UD2 CropScenarios'!T8+'UD2 CropScenarios'!U8","v":2.1139746606000003},{"$f":"'UD2 CropScenarios'!O8+'UD2 CropScenarios'!V8","v":66.624239904831711},{"$f":"F8","v":7526219},{"$f":"G8","v":3316504},962068.5,{"$f":"(((X8*'5. UD2 Parameters'!$H$18)+(Z8*'5. UD2 Parameters'!$H$19))*('5. UD2 Parameters'!$H$24*'5. UD2 Parameters'!$H$21))/1000","v":14.850559428571431},{"$f":"AA8*'5. UD2 Parameters'!$H$22/1000","v":4.4254667097142866},{"$f":"((X8+Y8+Z8)*'5. UD2 Parameters'!$H$20*'5. UD2 Parameters'!$H$23*'5. UD2 Parameters'!$H$21)/1000","v":41.73836994642857},{"$f":"AC8*'5. UD2 Parameters'!$H$22/1000","v":12.438034244035714},{"$f":"AB8+AD8","v":16.863500953750002},{"$f":"E8+W8+AE8","v":86.594090858581723},null,null,null,{"$f":"INDEX((DirN2OManSoilPol!$U$15:$U$43),MATCH(A8,DirN2OManSoilPol!$A$15:A$43,0))","v":66.624239904831711},null,null,null,{"$f":"'6. UD2 Assumptions'!B15","v":70800},{"$f":"'6. UD2 Assumptions'!F15","v":0.1},{"$f":"AN8*AO8","v":7080},{"$f":"AP8*'5. UD2 Parameters'!$H$6*'5. UD2 Parameters'!$H$7*'5. UD2 Parameters'!$H$8/1000","v":124.25400000000002},{"$f":"AQ8*'5. UD2 Parameters'!$H$9/1000","v":3.1063500000000004},{"$f":"E8-AR8","v":0},{"$f":"AF8-AS8","v":86.594090858581723},null,{"$f":"L8","v":35.24420840285714},{"$f":"'UD2 CropScenarios'!F8*'6. UD2 Assumptions'!K15","v":7526219},{"$f":"AW8*'5. UD2 Parameters'!$H$12*'5. UD2 Parameters'!$H$13/1000","v":118.26915571428572},{"$f":"AX8*'5. UD2 Parameters'!$H$16/1000","v":35.24420840285714},{"$f":"AY8","v":35.24420840285714},{"$f":"AV8-AZ8","v":0},{"$f":"E8+AJ8+AE8-BA8","v":86.594090858581723},null,null,null,null,null,null,null,null,null,{"$f":"BB8+BK8","v":86.594090858581723},null,{"$f":"AW8","v":7526219},{"$f":"'UD2 CropScenarios'!Y8","v":3316504},{"$f":"'UD2 CropScenarios'!Z8","v":962068.5},{"$f":"(((BN8*'5. UD2 Parameters'!$H$18)+(BP8*'5. UD2 Parameters'!$H$19))*('5. UD2 Parameters'!$H$24*'5. UD2 Parameters'!$H$21))/1000","v":14.850559428571431},{"$f":"BQ8*'5. UD2 Parameters'!$H$22/1000","v":4.4254667097142866},{"$f":"((BN8+BO8+BP8)*'5. UD2 Parameters'!$H$20*'5. UD2 Parameters'!$H$23*'5. UD2 Parameters'!$H$21)/1000","v":41.73836994642857},{"$f":"BS8*'5. UD2 Parameters'!$H$22/1000","v":12.438034244035714},{"$f":"BR8+BT8","v":16.863500953750002},{"$f":"AE8-BU8","v":0},{"$f":"BL8-BV8","v":86.594090858581723},null,{"$f":"BW8-AS8","v":86.594090858581723},{"$f":"AF8-BY8","v":0},null,null,null,{"$f":"AF8","v":86.594090858581723},{"$f":"AT8","v":86.594090858581723},{"$f":"BB8","v":86.594090858581723},{"$f":"BW8","v":86.594090858581723},{"$f":"BY8","v":86.594090858581723},null,86.594090858581723,86.594090858581723,86.594090858581723,86.594090858581723,86.594090858581723,null,{"$f":"CD8-CJ8","v":0},{"$f":"CE8-CK8","v":0},0,0,0]
[2007,{"$f":"'6. UD2 Assumptions'!C16","v":68520},{"$f":"B9*'5. UD2 Parameters'!$H$10","v":6852},{"$f":"C9*'5. UD2 Parameters'!$H$6*'5. UD2 Parameters'!$H$7*'5. UD2 Parameters'!$H$8/1000","v":120.2526},{"$f":"D9*'5. UD2 Parameters'!$H$9/1000","v":3.0063149999999998},7267732,3208625,2990028.0913,{"$f":"'UD2 CropScenarios'!F9*'5. UD2 Parameters'!$H$12*'5. UD2 Parameters'!$H$13/1000","v":114.20721714285715},{"$f":"G9*'5. UD2 Parameters'!$H$12*'5. UD2 Parameters'!$H$13/1000","v":50.421250000000001},{"$f":"H9*'5. UD2 Parameters'!$H$12*'5. UD2 Parameters'!$H$13/1000","v":46.98615572042857},{"$f":"I9*'5. UD2 Parameters'!$H$16/1000","v":34.033750708571432},{"$f":"J9*'5. UD2 Parameters'!$H$16/1000","v":15.025532499999999},{"$f":"K9*'5. UD2 Parameters'!$H$16/1000","v":14.001874404687715},{"$f":"SUM('UD2 CropScenarios'!L9:N9)","v":63.061157613259141},null,409968,{"$f":"P9*'5. UD2 Parameters'!$H$14*'5. UD2 Parameters'!$H$13/1000","v":0},{"$f":"Q9*'5. UD2 Parameters'!$H$15*'5. UD2 Parameters'!$H$13/1000","v":6.4423542857142859},{"$f":"R9*'5. UD2 Parameters'!$H$16/1000","v":0},{"$f":"S9*'5. UD2 Parameters'!$H$16/1000","v":1.9198215771428573},{"$f":"'UD2 CropScenarios'!T9+'UD2 CropScenarios'!U9","v":1.9198215771428573},{"$f":"'UD2 CropScenarios'!O9+'UD2 CropScenarios'!V9","v":64.980979190401996},{"$f":"F9","v":7267732},3208625,962068.5,{"$f":"((X9*'5. UD2 Parameters'!$H$18)+(Z9*'5. UD2 Parameters'!$H$19))*'5. UD2 Parameters'!$H$24*'5. UD2 Parameters'!$H$21/1000","v":14.444365571428575},{"$f":"AA9*'5. UD2 Parameters'!$H$22/1000","v":4.3044209402857154},{"$f":"((X9+Y9+Z9)*'5. UD2 Parameters'!$H$20*'5. UD2 Parameters'!$H$23*'5. UD2 Parameters'!$H$21)/1000","v":40.443004446428567},{"$f":"AC9*'5. UD2 Parameters'!$H$22/1000","v":12.052015325035713},16.356436265321427,{"$f":"E9+W9+AE9","v":84.343730455723431},null,null,null,{"$f":"INDEX((DirN2OManSoilPol!$U$15:$U$43),MATCH(A9,DirN2OManSoilPol!$A$15:A$43,0))","v":64.980979190401996},null,null,null,{"$f":"'6. UD2 Assumptions'!B16","v":68520},{"$f":"'6. UD2 Assumptions'!F16","v":0.1},6852,{"$f":"AP9*'5. UD2 Parameters'!$H$6*'5. UD2 Parameters'!$H$7*'5. UD2 Parameters'!$H$8/1000","v":120.2526},{"$f":"AQ9*'5. UD2 Parameters'!$H$9/1000","v":3.0063149999999998},0,84.343730455723431,null,{"$f":"L9","v":34.033750708571432},{"$f":"'UD2 CropScenarios'!F9*'6. UD2 Assumptions'!K16","v":7267732},{"$f":"AW9*'5. UD2 Parameters'!$H$12*'5. UD2 Parameters'!$H$13/1000","v":114.20721714285715},{"$f":"AX9*'5. UD2 Parameters'!$H$16/1000","v":34.033750708571432},{"$f":"AY9","v":34.033750708571432},0,84.343730455723431,null,null,null,null,null,null,null,null,null,84.343730455723431,null,{"$f":"AW9","v":7267732},{"$f":"'UD2 CropScenarios'!Y9","v":3208625},{"$f":"'UD2 CropScenarios'!Z9","v":962068.5},{"$f":"(((BN9*'5. UD2 Parameters'!$H$18)+(BP9*'5. UD2 Parameters'!$H$19))*('5. UD2 Parameters'!$H$24*'5. UD2 Parameters'!$H$21))/1000","v":14.444365571428575},{"$f":"BQ9*'5. UD2 Parameters'!$H$22/1000","v":4.3044209402857154},{"$f":"((BN9+BO9+BP9)*'5. UD2 Parameters'!$H$20*'5. UD2 Parameters'!$H$23*'5. UD2 Parameters'!$H$21)/1000","v":40.443004446428567},{"$f":"BS9*'5. UD2 Parameters'!$H$22/1000","v":12.052015325035713},16.356436265321427,{"$f":"AE9-BU9","v":0},84.343730455723431,null,84.343730455723431,0,null,null,null,{"$f":"AF9","v":84.343730455723431},{"$f":"AT9","v":84.343730455723431},{"$f":"BB9","v":84.343730455723431},{"$f":"BW9","v":84.343730455723431},{"$f":"BY9","v":84.343730455723431},null,84.343730455723431,84.343730455723431,84.343730455723431,84.343730455723431,84.343730455723431,null,{"$f":"CD9-CJ9","v":0},0,0,0,0]
[2008,{"$f":"'6. UD2 Assumptions'!C17","v":65440},{"$f":"B10*'5. UD2 Parameters'!$H$10","v":6544},{"$f":"C10*'5. UD2 Parameters'!$H$6*'5. UD2 Parameters'!$H$7*'5. UD2 Parameters'!$H$8/1000","v":114.84720000000002},{"$f":"D10*'5. UD2 Parameters'!$H$9/1000","v":2.8711800000000003},6807140,3064362,2878426.2456999999,{"$f":"'UD2 CropScenarios'!F10*'5. UD2 Parameters'!$H$12*'5. UD2 Parameters'!$H$13/1000","v":106.96934285714285},{"$f":"G10*'5. UD2 Parameters'!$H$12*'5. UD2 Parameters'!$H$13/1000","v":48.154259999999994},{"$f":"H10*'5. UD2 Parameters'!$H$12*'5. UD2 Parameters'!$H$13/1000","v":45.232412432428575},{"$f":"I10*'5. UD2 Parameters'!$H$16/1000","v":31.876864171428569},{"$f":"J10*'5. UD2 Parameters'!$H$16/1000","v":14.349969479999999},{"$f":"K10*'5. UD2 Parameters'!$H$16/1000","v":13.479258904863714},{"$f":"SUM('UD2 CropScenarios'!L10:N10)","v":59.706092556292276},null,409968,{"$f":"P10*'5. UD2 Parameters'!$H$14*'5. UD2 Parameters'!$H$13/1000","v":0},{"$f":"Q10*'5. UD2 Parameters'!$H$15*'5. UD2 Parameters'!$H$13/1000","v":6.4423542857142859},{"$f":"R10*'5. UD2 Parameters'!$H$16/1000","v":0},{"$f":"S10*'5. UD2 Parameters'!$H$16/1000","v":1.9198215771428573},{"$f":"'UD2 CropScenarios'!T10+'UD2 CropScenarios'!U10","v":1.9198215771428573},{"$f":"'UD2 CropScenarios'!O10+'UD2 CropScenarios'!V10","v":61.625914133435131},6807140,3064362,962068.5,{"$f":"((X10*'5. UD2 Parameters'!$H$18)+(Z10*'5. UD2 Parameters'!$H$19))*'5. UD2 Parameters'!$H$24*'5. UD2 Parameters'!$H$21/1000","v":13.720578142857143},{"$f":"AA10*'5. UD2 Parameters'!$H$22/1000","v":4.0887322865714291},{"$f":"((X10+Y10+Z10)*'5. UD2 Parameters'!$H$20*'5. UD2 Parameters'!$H$23*'5. UD2 Parameters'!$H$21)/1000","v":38.30440998214285},{"$f":"AC10*'5. UD2 Parameters'!$H$22/1000","v":11.414714174678569},15.503446461249997,80.00054059468512,null,null,null,{"$f":"INDEX((DirN2OManSoilPol!$U$15:$U$43),MATCH(A10,DirN2OManSoilPol!$A$15:A$43,0))","v":61.625914133435131},null,null,null,{"$f":"'6. UD2 Assumptions'!B17","v":65440},{"$f":"'6. UD2 Assumptions'!F17","v":0.1},6544,{"$f":"AP10*'5. UD2 Parameters'!$H$6*'5. UD2 Parameters'!$H$7*'5. UD2 Parameters'!$H$8/1000","v":114.84720000000002},{"$f":"AQ10*'5. UD2 Parameters'!$H$9/1000","v":2.8711800000000003},0,80.00054059468512,null,31.876864171428569,{"$f":"'UD2 CropScenarios'!F10*'6. UD2 Assumptions'!K17","v":6807140},{"$f":"AW10*'5. UD2 Parameters'!$H$12*'5. UD2 Parameters'!$H$13/1000","v":106.96934285714285},{"$f":"AX10*'5. UD2 Parameters'!$H$16/1000","v":31.876864171428569},31.876864171428569,0,80.00054059468512,null,null,null,null,null,null,null,null,null,80.00054059468512,null,6807140,{"$f":"'UD2 CropScenarios'!Y10","v":3064362},{"$f":"'UD2 CropScenarios'!Z10","v":962068.5},{"$f":"(((BN10*'5. UD2 Parameters'!$H$18)+(BP10*'5. UD2 Parameters'!$H$19))*('5. UD2 Parameters'!$H$24*'5. UD2 Parameters'!$H$21))/1000","v":13.720578142857143},{"$f":"BQ10*'5. UD2 Parameters'!$H$22/1000","v":4.0887322865714291},{"$f":"((BN10+BO10+BP10)*'5. UD2 Parameters'!$H$20*'5. UD2 Parameters'!$H$23*'5. UD2 Parameters'!$H$21)/1000","v":38.30440998214285},{"$f":"BS10*'5. UD2 Parameters'!$H$22/1000","v":11.414714174678569},15.503446461249997,0,80.00054059468512,null,80.00054059468512,0,null,null,null,80.00054059468512,80.00054059468512,80.00054059468512,80.00054059468512,80.00054059468512,null,80.00054059468512,80.00054059468512,80.00054059468512,80.00054059468512,80.00054059468512,null,0,0,0,0,0]
[2009,{"$f":"'6. UD2 Assumptions'!C18","v":65850},{"$f":"B11*'5. UD2 Parameters'!$H$10","v":6585},{"$f":"C11*'5. UD2 Parameters'!$H$6*'5. UD2 Parameters'!$H$7*'5. UD2 Parameters'!$H$8/1000","v":115.56675000000001},{"$f":"D11*'5. UD2 Parameters'!$H$9/1000","v":2.8891687500000001},6616456,3013169,2637317.4032999999,{"$f":"'UD2 CropScenarios'!F11*'5. UD2 Parameters'!$H$12*'5. UD2 Parameters'!$H$13/1000","v":103.97287999999999},{"$f":"G11*'5. UD2 Parameters'!$H$12*'5. UD2 Parameters'!$H$13/1000","v":47.349798571428572},{"$f":"H11*'5. UD2 Parameters'!$H$12*'5. UD2 Parameters'!$H$13/1000","v":41.443559194714283},{"$f":"I11*'5. UD2 Parameters'!$H$16/1000","v":30.983918239999994},{"$f":"J11*'5. UD2 Parameters'!$H$16/1000","v":14.110239974285713},{"$f":"K11*'5. UD2 Parameters'!$H$16/1000","v":12.350180640024856},{"$f":"SUM('UD2 CropScenarios'!L11:N11)","v":57.444338854310558},67844.831250000003,417977.60087999998,{"$f":"P11*'5. UD2 Parameters'!$H$14*'5. UD2 Parameters'!$H$13/1000","v":2.1322661250000001},{"$f":"Q11*'5. UD2 Parameters'!$H$15*'5. UD2 Parameters'!$H$13/1000","v":6.5682194423999993},{"$f":"R11*'5. UD2 Parameters'!$H$16/1000","v":0.63541530525000012},{"$f":"S11*'5. UD2 Parameters'!$H$16/1000","v":1.9573293938351999},{"$f":"'UD2 CropScenarios'!T11+'UD2 CropScenarios'!U11","v":2.5927446990852001},{"$f":"'UD2 CropScenarios'!O11+'UD2 CropScenarios'!V11","v":60.03708355339576},6616456,3013169,962068.5,{"$f":"((X11*'5. UD2 Parameters'!$H$18)+(Z11*'5. UD2 Parameters'!$H$19))*'5. UD2 Parameters'!$H$24*'5. UD2 Parameters'!$H$21/1000","v":13.420931857142858},{"$f":"AA11*'5. UD2 Parameters'!$H$22/1000","v":3.9994376934285714},{"$f":"((X11+Y11+Z11)*'5. UD2 Parameters'!$H$20*'5. UD2 Parameters'!$H$23*'5. UD2 Parameters'!$H$21)/1000","v":37.449202017857139},{"$f":"AC11*'5. UD2 Parameters'!$H$22/1000","v":11.159862201321427},15.159299894749999,78.085552198145763,null,null,null,{"$f":"INDEX((DirN2OManSoilPol!$U$15:$U$43),MATCH(A11,DirN2OManSoilPol!$A$15:A$43,0))","v":60.03708355339576},null,null,null,{"$f":"'6. UD2 Assumptions'!B18","v":65850},{"$f":"'6. UD2 Assumptions'!F18","v":0.1},6585,{"$f":"AP11*'5. UD2 Parameters'!$H$6*'5. UD2 Parameters'!$H$7*'5. UD2 Parameters'!$H$8/1000","v":115.56675000000001},{"$f":"AQ11*'5. UD2 Parameters'!$H$9/1000","v":2.8891687500000001},0,78.085552198145763,null,30.983918239999994,{"$f":"'UD2 CropScenarios'!F11*'6. UD2 Assumptions'!K18","v":6616456},{"$f":"AW11*'5. UD2 Parameters'!$H$12*'5. UD2 Parameters'!$H$13/1000","v":103.97287999999999},{"$f":"AX11*'5. UD2 Parameters'!$H$16/1000","v":30.983918239999994},30.983918239999994,0,78.085552198145763,null,null,null,null,null,null,null,null,null,78.085552198145763,null,6616456,{"$f":"'UD2 CropScenarios'!Y11","v":3013169},{"$f":"'UD2 CropScenarios'!Z11","v":962068.5},{"$f":"(((BN11*'5. UD2 Parameters'!$H$18)+(BP11*'5. UD2 Parameters'!$H$19))*('5. UD2 Parameters'!$H$24*'5. UD2 Parameters'!$H$21))/1000","v":13.420931857142859},{"$f":"BQ11*'5. UD2 Parameters'!$H$22/1000","v":3.9994376934285718},{"$f":"((BN11+BO11+BP11)*'5. UD2 Parameters'!$H$20*'5. UD2 Parameters'!$H$23*'5. UD2 Parameters'!$H$21)/1000","v":37.449202017857139},{"$f":"BS11*'5. UD2 Parameters'!$H$22/1000","v":11.159862201321427},15.159299894749999,0,78.085552198145763,null,78.085552198145763,0,null,null,null,78.085552198145763,78.085552198145763,78.085552198145763,78.085552198145763,78.085552198145763,null,78.085552198145763,78.085552198145763,78.085552198145763,78.085552198145763,78.085552198145763,null,0,0,0,0,0]
[2010,{"$f":"'6. UD2 Assumptions'!C19","v":64130},{"$f":"B12*'5. UD2 Parameters'!$H$10","v":6413},{"$f":"C12*'5. UD2 Parameters'!$H$6*'5. UD2 Parameters'!$H$7*'5. UD2 Parameters'!$H$8/1000","v":112.54815000000001},{"$f":"D12*'5. UD2 Parameters'!$H$9/1000","v":2.8137037500000002},7468310,3012269,3508672.6663000002,{"$f":"'UD2 CropScenarios'!F12*'5. UD2 Parameters'!$H$12*'5. UD2 Parameters'!$H$13/1000","v":117.35915714285714},{"$f":"G12*'5. UD2 Parameters'!$H$12*'5. UD2 Parameters'!$H$13/1000","v":47.335655714285721},{"$f":"H12*'5. UD2 Parameters'!$H$12*'5. UD2 Parameters'!$H$13/1000","v":55.136284756142857},{"$f":"I12*'5. UD2 Parameters'!$H$16/1000","v":34.973028828571429},{"$f":"J12*'5. UD2 Parameters'!$H$16/1000","v":14.106025402857146},{"$f":"K12*'5. UD2 Parameters'!$H$16/1000","v":16.430612857330573},{"$f":"SUM('UD2 CropScenarios'!L12:N12)","v":65.509667088759144},10606.575150000001,409968,{"$f":"P12*'5. UD2 Parameters'!$H$14*'5. UD2 Parameters'!$H$13/1000","v":0.3333495047142857},{"$f":"Q12*'5. UD2 Parameters'!$H$15*'5. UD2 Parameters'!$H$13/1000","v":6.4423542857142859},{"$f":"R12*'5. UD2 Parameters'!$H$16/1000","v":9.9338152404857147E-2},{"$f":"S12*'5. UD2 Parameters'!$H$16/1000","v":1.9198215771428573},{"$f":"'UD2 CropScenarios'!T12+'UD2 CropScenarios'!U12","v":2.0191597295477144},{"$f":"'UD2 CropScenarios'!O12+'UD2 CropScenarios'!V12","v":67.528826818306854},7468310,3012269,962068.5,{"$f":"((X12*'5. UD2 Parameters'!$H$18)+(Z12*'5. UD2 Parameters'!$H$19))*'5. UD2 Parameters'!$H$24*'5. UD2 Parameters'!$H$21/1000","v":14.759559571428571},{"$f":"AA12*'5. UD2 Parameters'!$H$22/1000","v":4.3983487522857141},{"$f":"((X12+Y12+Z12)*'5. UD2 Parameters'!$H$20*'5. UD2 Parameters'!$H$23*'5. UD2 Parameters'!$H$21)/1000","v":40.457932232142852},{"$f":"AC12*'5. UD2 Parameters'!$H$22/1000","v":12.05646380517857},16.454812557464283,86.797343125771135,null,null,null,{"$f":"INDEX((DirN2OManSoilPol!$U$15:$U$43),MATCH(A12,DirN2OManSoilPol!$A$15:A$43,0))","v":67.528826818306854},null,null,null,{"$f":"'6. UD2 Assumptions'!B19","v":64130},{"$f":"'6. UD2 Assumptions'!F19","v":0.1},6413,{"$f":"AP12*'5. UD2 Parameters'!$H$6*'5. UD2 Parameters'!$H$7*'5. UD2 Parameters'!$H$8/1000","v":112.54815000000001},{"$f":"AQ12*'5. UD2 Parameters'!$H$9/1000","v":2.8137037500000002},0,86.797343125771135,null,34.973028828571429,{"$f":"'UD2 CropScenarios'!F12*'6. UD2 Assumptions'!K19","v":7468310},{"$f":"AW12*'5. UD2 Parameters'!$H$12*'5. UD2 Parameters'!$H$13/1000","v":117.35915714285714},{"$f":"AX12*'5. UD2 Parameters'!$H$16/1000","v":34.973028828571429},34.973028828571429,0,86.797343125771135,null,null,null,null,null,null,null,null,null,86.797343125771135,null,7468310,{"$f":"'UD2 CropScenarios'!Y12","v":3012269},{"$f":"'UD2 CropScenarios'!Z12","v":962068.5},{"$f":"(((BN12*'5. UD2 Parameters'!$H$18)+(BP12*'5. UD2 Parameters'!$H$19))*('5. UD2 Parameters'!$H$24*'5. UD2 Parameters'!$H$21))/1000","v":14.759559571428571},{"$f":"BQ12*'5. UD2 Parameters'!$H$22/1000","v":4.3983487522857141},{"$f":"((BN12+BO12+BP12)*'5. UD2 Parameters'!$H$20*'5. UD2 Parameters'!$H$23*'5. UD2 Parameters'!$H$21)/1000","v":40.457932232142852},{"$f":"BS12*'5. UD2 Parameters'!$H$22/1000","v":12.05646380517857},16.454812557464283,0,86.797343125771135,null,86.797343125771135,0,null,null,null,86.797343125771135,86.797343125771135,86.797343125771135,86.797343125771135,86.797343125771135,null,86.797343125771135,86.797343125771135,86.797343125771135,86.797343125771135,86.797343125771135,null,0,0,0,0,0]
[2011,{"$f":"'6. UD2 Assumptions'!C20","v":61730},{"$f":"B13*'5. UD2 Parameters'!$H$10","v":6173},{"$f":"C13*'5. UD2 Parameters'!$H$6*'5. UD2 Parameters'!$H$7*'5. UD2 Parameters'!$H$8/1000","v":108.33615},{"$f":"D13*'5. UD2 Parameters'!$H$9/1000","v":2.70840375},7834140,2902017,3528789,{"$f":"'UD2 CropScenarios'!F13*'5. UD2 Parameters'!$H$12*'5. UD2 Parameters'!$H$13/1000","v":123.1079142857143},{"$f":"G13*'5. UD2 Parameters'!$H$12*'5. UD2 Parameters'!$H$13/1000","v":45.603124285714287},{"$f":"H13*'5. UD2 Parameters'!$H$12*'5. UD2 Parameters'!$H$13/1000","v":55.452398571428567},{"$f":"I13*'5. UD2 Parameters'!$H$16/1000","v":36.686158457142859},{"$f":"J13*'5. UD2 Parameters'!$H$16/1000","v":13.589731037142858},{"$f":"K13*'5. UD2 Parameters'!$H$16/1000","v":16.524814774285716},{"$f":"SUM('UD2 CropScenarios'!L13:N13)","v":66.800704268571437},11286.422325,420000,{"$f":"P13*'5. UD2 Parameters'!$H$14*'5. UD2 Parameters'!$H$13/1000","v":0.35471613021428566},{"$f":"Q13*'5. UD2 Parameters'!$H$15*'5. UD2 Parameters'!$H$13/1000","v":6.6},{"$f":"R13*'5. UD2 Parameters'!$H$16/1000","v":0.10570540680385714},{"$f":"S13*'5. UD2 Parameters'!$H$16/1000","v":1.9667999999999999},{"$f":"'UD2 CropScenarios'!T13+'UD2 CropScenarios'!U13","v":2.0725054068038569},{"$f":"'UD2 CropScenarios'!O13+'UD2 CropScenarios'!V13","v":68.873209675375293},7834140,2902017,962068.5,{"$f":"((X13*'5. UD2 Parameters'!$H$18)+(Z13*'5. UD2 Parameters'!$H$19))*'5. UD2 Parameters'!$H$24*'5. UD2 Parameters'!$H$21/1000","v":15.334435285714285},{"$f":"AA13*'5. UD2 Parameters'!$H$22/1000","v":4.5696617151428569},{"$f":"((X13+Y13+Z13)*'5. UD2 Parameters'!$H$20*'5. UD2 Parameters'!$H$23*'5. UD2 Parameters'!$H$21)/1000","v":41.361583017857143},{"$f":"AC13*'5. UD2 Parameters'!$H$22/1000","v":12.325751739321429},16.895413454464286,88.477026879839585,null,null,null,{"$f":"INDEX((DirN2OManSoilPol!$U$15:$U$43),MATCH(A13,DirN2OManSoilPol!$A$15:A$43,0))","v":68.873209675375293},null,null,null,{"$f":"'6. UD2 Assumptions'!B20","v":61730},{"$f":"'6. UD2 Assumptions'!F20","v":0.1},6173,{"$f":"AP13*'5. UD2 Parameters'!$H$6*'5. UD2 Parameters'!$H$7*'5. UD2 Parameters'!$H$8/1000","v":108.33615},{"$f":"AQ13*'5. UD2 Parameters'!$H$9/1000","v":2.70840375},0,88.477026879839585,null,36.686158457142859,{"$f":"'UD2 CropScenarios'!F13*'6. UD2 Assumptions'!K20","v":7834140},{"$f":"AW13*'5. UD2 Parameters'!$H$12*'5. UD2 Parameters'!$H$13/1000","v":123.1079142857143},{"$f":"AX13*'5. UD2 Parameters'!$H$16/1000","v":36.686158457142859},36.686158457142859,0,88.477026879839585,null,null,null,null,null,null,null,null,null,88.477026879839585,null,7834140,{"$f":"'UD2 CropScenarios'!Y13","v":2902017},{"$f":"'UD2 CropScenarios'!Z13","v":962068.5},{"$f":"(((BN13*'5. UD2 Parameters'!$H$18)+(BP13*'5. UD2 Parameters'!$H$19))*('5. UD2 Parameters'!$H$24*'5. UD2 Parameters'!$H$21))/1000","v":15.334435285714285},{"$f":"BQ13*'5. UD2 Parameters'!$H$22/1000","v":4.5696617151428569},{"$f":"((BN13+BO13+BP13)*'5. UD2 Parameters'!$H$20*'5. UD2 Parameters'!$H$23*'5. UD2 Parameters'!$H$21)/1000","v":41.361583017857143},{"$f":"BS13*'5. UD2 Parameters'!$H$22/1000","v":12.325751739321429},16.895413454464286,0,88.477026879839585,null,88.477026879839585,0,null,null,null,88.477026879839585,88.477026879839585,88.477026879839585,88.477026879839585,88.477026879839585,null,88.477026879839585,88.477026879839585,88.477026879839585,88.477026879839585,88.477026879839585,null,0,0,0,0,0]
[2012,{"$f":"'6. UD2 Assumptions'!C21","v":57160},{"$f":"B14*'5. UD2 Parameters'!$H$10","v":5716},{"$f":"C14*'5. UD2 Parameters'!$H$6*'5. UD2 Parameters'!$H$7*'5. UD2 Parameters'!$H$8/1000","v":100.3158},{"$f":"D14*'5. UD2 Parameters'!$H$9/1000","v":2.507895},9700004,2697461,3437753.0843000002,{"$f":"'UD2 CropScenarios'!F14*'5. UD2 Parameters'!$H$12*'5. UD2 Parameters'!$H$13/1000","v":152.42863428571431},{"$f":"G14*'5. UD2 Parameters'!$H$12*'5. UD2 Parameters'!$H$13/1000","v":42.388672857142851},{"$f":"H14*'5. UD2 Parameters'!$H$12*'5. UD2 Parameters'!$H$13/1000","v":54.021834181857145},{"$f":"I14*'5. UD2 Parameters'!$H$16/1000","v":45.423733017142865},{"$f":"J14*'5. UD2 Parameters'!$H$16/1000","v":12.631824511428569},{"$f":"K14*'5. UD2 Parameters'!$H$16/1000","v":16.09850658619343},{"$f":"SUM('UD2 CropScenarios'!L14:N14)","v":74.154064114764864},14442.256125,462125.79920000001,{"$f":"P14*'5. UD2 Parameters'!$H$14*'5. UD2 Parameters'!$H$13/1000","v":0.45389947821428567},{"$f":"Q14*'5. UD2 Parameters'!$H$15*'5. UD2 Parameters'!$H$13/1000","v":7.2619768445714277},{"$f":"R14*'5. UD2 Parameters'!$H$16/1000","v":0.13526204450785712},{"$f":"S14*'5. UD2 Parameters'!$H$16/1000","v":2.1640690996822856},{"$f":"'UD2 CropScenarios'!T14+'UD2 CropScenarios'!U14","v":2.2993311441901425},{"$f":"'UD2 CropScenarios'!O14+'UD2 CropScenarios'!V14","v":76.453395258955013},9700004,2697461,962068.5,{"$f":"((X14*'5. UD2 Parameters'!$H$18)+(Z14*'5. UD2 Parameters'!$H$19))*'5. UD2 Parameters'!$H$24*'5. UD2 Parameters'!$H$21/1000","v":18.266507285714287},{"$f":"AA14*'5. UD2 Parameters'!$H$22/1000","v":5.4434191711428577},{"$f":"((X14+Y14+Z14)*'5. UD2 Parameters'!$H$20*'5. UD2 Parameters'!$H$23*'5. UD2 Parameters'!$H$21)/1000","v":47.235493446428571},{"$f":"AC14*'5. UD2 Parameters'!$H$22/1000","v":14.076177047035713},19.51959621817857,98.480886477133595,null,null,null,{"$f":"INDEX((DirN2OManSoilPol!$U$15:$U$43),MATCH(A14,DirN2OManSoilPol!$A$15:A$43,0))","v":76.453395258955013},null,null,null,{"$f":"'6. UD2 Assumptions'!B21","v":57160},{"$f":"'6. UD2 Assumptions'!F21","v":0.1},5716,{"$f":"AP14*'5. UD2 Parameters'!$H$6*'5. UD2 Parameters'!$H$7*'5. UD2 Parameters'!$H$8/1000","v":100.3158},{"$f":"AQ14*'5. UD2 Parameters'!$H$9/1000","v":2.507895},0,98.480886477133595,null,45.423733017142865,{"$f":"'UD2 CropScenarios'!F14*'6. UD2 Assumptions'!K21","v":9700004},{"$f":"AW14*'5. UD2 Parameters'!$H$12*'5. UD2 Parameters'!$H$13/1000","v":152.42863428571431},{"$f":"AX14*'5. UD2 Parameters'!$H$16/1000","v":45.423733017142865},45.423733017142865,0,98.480886477133595,null,null,null,null,null,null,null,null,null,98.480886477133595,null,9700004,{"$f":"'UD2 CropScenarios'!Y14","v":2697461},{"$f":"'UD2 CropScenarios'!Z14","v":962068.5},{"$f":"(((BN14*'5. UD2 Parameters'!$H$18)+(BP14*'5. UD2 Parameters'!$H$19))*('5. UD2 Parameters'!$H$24*'5. UD2 Parameters'!$H$21))/1000","v":18.266507285714287},{"$f":"BQ14*'5. UD2 Parameters'!$H$22/1000","v":5.4434191711428577},{"$f":"((BN14+BO14+BP14)*'5. UD2 Parameters'!$H$20*'5. UD2 Parameters'!$H$23*'5. UD2 Parameters'!$H$21)/1000","v":47.235493446428571},{"$f":"BS14*'5. UD2 Parameters'!$H$22/1000","v":14.076177047035713},19.51959621817857,0,98.480886477133595,null,98.480886477133595,0,null,null,null,98.480886477133595,98.480886477133595,98.480886477133595,98.480886477133595,98.480886477133595,null,98.480886477133595,98.480886477133595,98.480886477133595,98.480886477133595,98.480886477133595,null,0,0,0,0,0]
[2013,{"$f":"'6. UD2 Assumptions'!C22","v":56464},{"$f":"B15*'5. UD2 Parameters'!$H$10","v":5646.4000000000005},{"$f":"C15*'5. UD2 Parameters'!$H$6*'5. UD2 Parameters'!$H$7*'5. UD2 Parameters'!$H$8/1000","v":99.094320000000025},{"$f":"D15*'5. UD2 Parameters'!$H$9/1000","v":2.4773580000000006},9967255,2665224,3379421.6993,{"$f":"'UD2 CropScenarios'!F15*'5. UD2 Parameters'!$H$12*'5. UD2 Parameters'!$H$13/1000","v":156.62829285714287},{"$f":"G15*'5. UD2 Parameters'!$H$12*'5. UD2 Parameters'!$H$13/1000","v":41.882091428571428},{"$f":"H15*'5. UD2 Parameters'!$H$12*'5. UD2 Parameters'!$H$13/1000","v":53.105198131857144},{"$f":"I15*'5. UD2 Parameters'!$H$16/1000","v":46.675231271428572},{"$f":"J15*'5. UD2 Parameters'!$H$16/1000","v":12.480863245714286},{"$f":"K15*'5. UD2 Parameters'!$H$16/1000","v":15.825349043293429},{"$f":"SUM('UD2 CropScenarios'!L15:N15)","v":74.98144356043629},13170.0906,464088.0465,{"$f":"P15*'5. UD2 Parameters'!$H$14*'5. UD2 Parameters'!$H$13/1000","v":0.41391713314285716},{"$f":"Q15*'5. UD2 Parameters'!$H$15*'5. UD2 Parameters'!$H$13/1000","v":7.292812159285714},{"$f":"R15*'5. UD2 Parameters'!$H$16/1000","v":0.12334730567657144},{"$f":"S15*'5. UD2 Parameters'!$H$16/1000","v":2.1732580234671426},{"$f":"'UD2 CropScenarios'!T15+'UD2 CropScenarios'!U15","v":2.2966053291437141},{"$f":"'UD2 CropScenarios'!O15+'UD2 CropScenarios'!V15","v":77.278048889580006},9967255,2665224,962068.5,{"$f":"((X15*'5. UD2 Parameters'!$H$18)+(Z15*'5. UD2 Parameters'!$H$19))*'5. UD2 Parameters'!$H$24*'5. UD2 Parameters'!$H$21/1000","v":18.686473142857142},{"$f":"AA15*'5. UD2 Parameters'!$H$22/1000","v":5.568568996571428},{"$f":"((X15+Y15+Z15)*'5. UD2 Parameters'!$H$20*'5. UD2 Parameters'!$H$23*'5. UD2 Parameters'!$H$21)/1000","v":48.066435803571423},{"$f":"AC15*'5. UD2 Parameters'!$H$22/1000","v":14.323797869464284},19.892366866035712,99.647773755615717,null,null,null,{"$f":"INDEX((DirN2OManSoilPol!$U$15:$U$43),MATCH(A15,DirN2OManSoilPol!$A$15:A$43,0))","v":77.278048889580006},null,null,null,{"$f":"'6. UD2 Assumptions'!B22","v":56464},{"$f":"'6. UD2 Assumptions'!F22","v":0.1},5646.4000000000005,{"$f":"AP15*'5. UD2 Parameters'!$H$6*'5. UD2 Parameters'!$H$7*'5. UD2 Parameters'!$H$8/1000","v":99.094320000000025},{"$f":"AQ15*'5. UD2 Parameters'!$H$9/1000","v":2.4773580000000006},0,99.647773755615717,null,46.675231271428572,{"$f":"'UD2 CropScenarios'!F15*'6. UD2 Assumptions'!K22","v":9967255},{"$f":"AW15*'5. UD2 Parameters'!$H$12*'5. UD2 Parameters'!$H$13/1000","v":156.62829285714287},{"$f":"AX15*'5. UD2 Parameters'!$H$16/1000","v":46.675231271428572},46.675231271428572,0,99.647773755615717,null,null,null,null,null,null,null,null,null,99.647773755615717,null,9967255,{"$f":"'UD2 CropScenarios'!Y15","v":2665224},{"$f":"'UD2 CropScenarios'!Z15","v":962068.5},{"$f":"(((BN15*'5. UD2 Parameters'!$H$18)+(BP15*'5. UD2 Parameters'!$H$19))*('5. UD2 Parameters'!$H$24*'5. UD2 Parameters'!$H$21))/1000","v":18.686473142857142},{"$f":"BQ15*'5. UD2 Parameters'!$H$22/1000","v":5.568568996571428},{"$f":"((BN15+BO15+BP15)*'5. UD2 Parameters'!$H$20*'5. UD2 Parameters'!$H$23*'5. UD2 Parameters'!$H$21)/1000","v":48.066435803571423},{"$f":"BS15*'5. UD2 Parameters'!$H$22/1000","v":14.323797869464284},19.892366866035712,0,99.647773755615717,null,99.647773755615717,0,null,null,null,99.647773755615717,99.647773755615717,99.647773755615717,99.647773755615717,99.647773755615717,null,99.647773755615717,99.647773755615717,99.647773755615717,99.647773755615717,99.647773755615717,null,0,0,0,0,0]
[2014,{"$f":"'6. UD2 Assumptions'!C23","v":50694},{"$f":"B16*'5. UD2 Parameters'!$H$10","v":5069.4000000000005},{"$f":"C16*'5. UD2 Parameters'!$H$6*'5. UD2 Parameters'!$H$7*'5. UD2 Parameters'!$H$8/1000","v":88.967970000000022},{"$f":"D16*'5. UD2 Parameters'!$H$9/1000","v":2.2241992500000007},{"$f":"F15*(1+'6. UD2 Assumptions'!I23)","v":10166600.1},{"$f":"G15","v":2665224},{"$f":"H15+(H17-H15)/2","v":3440472.1319429623},{"$f":"'UD2 CropScenarios'!F16*'5. UD2 Parameters'!$H$12*'5. UD2 Parameters'!$H$13/1000","v":159.76085871428572},{"$f":"G16*'5. UD2 Parameters'!$H$12*'5. UD2 Parameters'!$H$13/1000","v":41.882091428571428},{"$f":"H16*'5. UD2 Parameters'!$H$12*'5. UD2 Parameters'!$H$13/1000","v":54.064562073389403},{"$f":"I16*'5. UD2 Parameters'!$H$16/1000","v":47.608735896857141},{"$f":"J16*'5. UD2 Parameters'!$H$16/1000","v":12.480863245714286},{"$f":"K16*'5. UD2 Parameters'!$H$16/1000","v":16.111239497870042},{"$f":"SUM('UD2 CropScenarios'!L16:N16)","v":76.200838640441475},{"$f":"P15+(P17-P15)/2","v":12926.5553},{"$f":"Q15","v":464088.0465},{"$f":"P16*'5. UD2 Parameters'!$H$14*'5. UD2 Parameters'!$H$13/1000","v":0.40626316657142858},{"$f":"Q16*'5. UD2 Parameters'!$H$15*'5. UD2 Parameters'!$H$13/1000","v":7.292812159285714},{"$f":"R16*'5. UD2 Parameters'!$H$16/1000","v":0.12106642363828571},{"$f":"S16*'5. UD2 Parameters'!$H$16/1000","v":2.1732580234671426},{"$f":"'UD2 CropScenarios'!T16+'UD2 CropScenarios'!U16","v":2.2943244471054283},{"$f":"'UD2 CropScenarios'!O16+'UD2 CropScenarios'!V16","v":78.495163087546899},10166600.1,2665224,962068.5,{"$f":"((X16*'5. UD2 Parameters'!$H$18)+(Z16*'5. UD2 Parameters'!$H$19))*'5. UD2 Parameters'!$H$24*'5. UD2 Parameters'!$H$21/1000","v":18.999729728571431},{"$f":"AA16*'5. UD2 Parameters'!$H$22/1000","v":5.6619194591142872},{"$f":"((X16+Y16+Z16)*'5. UD2 Parameters'!$H$20*'5. UD2 Parameters'!$H$23*'5. UD2 Parameters'!$H$21)/1000","v":48.771263121428568},{"$f":"AC16*'5. UD2 Parameters'!$H$22/1000","v":14.533836410185714},20.195755869300001,100.9151182068469,null,null,null,{"$f":"INDEX((DirN2OManSoilPol!$U$15:$U$43),MATCH(A16,DirN2OManSoilPol!$A$15:A$43,0))","v":78.495163087546899},null,null,null,{"$f":"'6. UD2 Assumptions'!B23","v":50694},{"$f":"'6. UD2 Assumptions'!F23","v":0.1},5069.4000000000005,{"$f":"AP16*'5. UD2 Parameters'!$H$6*'5. UD2 Parameters'!$H$7*'5. UD2 Parameters'!$H$8/1000","v":88.967970000000022},{"$f":"AQ16*'5. UD2 Parameters'!$H$9/1000","v":2.2241992500000007},0,100.9151182068469,null,47.608735896857141,{"$f":"'UD2 CropScenarios'!F16*'6. UD2 Assumptions'!K23","v":10166600.1},{"$f":"AW16*'5. UD2 Parameters'!$H$12*'5. UD2 Parameters'!$H$13/1000","v":159.76085871428572},{"$f":"AX16*'5. UD2 Parameters'!$H$16/1000","v":47.608735896857141},47.608735896857141,0,100.9151182068469,null,null,null,null,null,null,null,null,null,100.9151182068469,null,10166600.1,{"$f":"'UD2 CropScenarios'!Y16","v":2665224},{"$f":"'UD2 CropScenarios'!Z16","v":962068.5},{"$f":"(((BN16*'5. UD2 Parameters'!$H$18)+(BP16*'5. UD2 Parameters'!$H$19))*('5. UD2 Parameters'!$H$24*'5. UD2 Parameters'!$H$21))/1000","v":18.999729728571431},{"$f":"BQ16*'5. UD2 Parameters'!$H$22/1000","v":5.6619194591142872},{"$f":"((BN16+BO16+BP16)*'5. UD2 Parameters'!$H$20*'5. UD2 Parameters'!$H$23*'5. UD2 Parameters'!$H$21)/1000","v":48.771263121428568},{"$f":"BS16*'5. UD2 Parameters'!$H$22/1000","v":14.533836410185714},20.195755869300001,0,100.9151182068469,null,100.9151182068469,0,null,null,null,100.9151182068469,100.9151182068469,100.9151182068469,100.9151182068469,100.9151182068469,null,100.9151182068469,100.9151182068469,100.9151182068469,100.9151182068469,100.9151182068469,null,0,0,0,0,0]
[2015,{"$f":"'6. UD2 Assumptions'!C24","v":52387},{"$f":"B17*'5. UD2 Parameters'!$H$10","v":5238.7000000000007},{"$f":"C17*'5. UD2 Parameters'!$H$6*'5. UD2 Parameters'!$H$7*'5. UD2 Parameters'!$H$8/1000","v":91.939185000000009},{"$f":"D17*'5. UD2 Parameters'!$H$9/1000","v":2.2984796250000006},{"$f":"F16*(1+'6. UD2 Assumptions'!I24)","v":10369932.102},2665224,{"$f":"MMS!U90","v":3501522.5645859241},{"$f":"'UD2 CropScenarios'!F17*'5. UD2 Parameters'!$H$12*'5. UD2 Parameters'!$H$13/1000","v":162.95607588857141},{"$f":"G17*'5. UD2 Parameters'!$H$12*'5. UD2 Parameters'!$H$13/1000","v":41.882091428571428},{"$f":"H17*'5. UD2 Parameters'!$H$12*'5. UD2 Parameters'!$H$13/1000","v":55.02392601492167},{"$f":"I17*'5. UD2 Parameters'!$H$16/1000","v":48.560910614794281},{"$f":"J17*'5. UD2 Parameters'!$H$16/1000","v":12.480863245714286},{"$f":"K17*'5. UD2 Parameters'!$H$16/1000","v":16.397129952446658},{"$f":"SUM('UD2 CropScenarios'!L17:N17)","v":77.438903812955232},{"$f":"MMS!U92","v":12683.02},{"$f":"MMS!U91","v":464088.0465},{"$f":"P17*'5. UD2 Parameters'!$H$14*'5. UD2 Parameters'!$H$13/1000","v":0.3986092},{"$f":"Q17*'5. UD2 Parameters'!$H$15*'5. UD2 Parameters'!$H$13/1000","v":7.292812159285714},{"$f":"R17*'5. UD2 Parameters'!$H$16/1000","v":0.1187855416},{"$f":"S17*'5. UD2 Parameters'!$H$16/1000","v":2.1732580234671426},{"$f":"'UD2 CropScenarios'!T17+'UD2 CropScenarios'!U17","v":2.2920435650671425},{"$f":"'UD2 CropScenarios'!O17+'UD2 CropScenarios'!V17","v":79.730947378022378},10369932.102,2665224,962068.5,{"$f":"((X17*'5. UD2 Parameters'!$H$18)+(Z17*'5. UD2 Parameters'!$H$19))*'5. UD2 Parameters'!$H$24*'5. UD2 Parameters'!$H$21/1000","v":19.319251446000003},{"$f":"AA17*'5. UD2 Parameters'!$H$22/1000","v":5.7571369309080014},{"$f":"((X17+Y17+Z17)*'5. UD2 Parameters'!$H$20*'5. UD2 Parameters'!$H$23*'5. UD2 Parameters'!$H$21)/1000","v":49.49018698564285},{"$f":"AC17*'5. UD2 Parameters'!$H$22/1000","v":14.748075721721568},20.50521265262957,102.53463965565194,null,null,null,{"$f":"INDEX((DirN2OManSoilPol!$U$15:$U$43),MATCH(A17,DirN2OManSoilPol!$A$15:A$43,0))","v":79.730947378022378},null,null,null,{"$f":"'6. UD2 Assumptions'!B24","v":52387},{"$f":"'6. UD2 Assumptions'!F24","v":0.1},5238.7000000000007,{"$f":"AP17*'5. UD2 Parameters'!$H$6*'5. UD2 Parameters'!$H$7*'5. UD2 Parameters'!$H$8/1000","v":91.939185000000009},{"$f":"AQ17*'5. UD2 Parameters'!$H$9/1000","v":2.2984796250000006},0,102.53463965565194,null,48.560910614794281,{"$f":"'UD2 CropScenarios'!F17*'6. UD2 Assumptions'!K24","v":10369932.102},{"$f":"AW17*'5. UD2 Parameters'!$H$12*'5. UD2 Parameters'!$H$13/1000","v":162.95607588857141},{"$f":"AX17*'5. UD2 Parameters'!$H$16/1000","v":48.560910614794281},48.560910614794281,0,102.53463965565194,null,null,null,null,null,null,null,null,null,102.53463965565194,null,10369932.102,{"$f":"'UD2 CropScenarios'!Y17","v":2665224},{"$f":"'UD2 CropScenarios'!Z17","v":962068.5},{"$f":"(((BN17*'5. UD2 Parameters'!$H$18)+(BP17*'5. UD2 Parameters'!$H$19))*('5. UD2 Parameters'!$H$24*'5. UD2 Parameters'!$H$21))/1000","v":19.319251446000003},{"$f":"BQ17*'5. UD2 Parameters'!$H$22/1000","v":5.7571369309080014},{"$f":"((BN17+BO17+BP17)*'5. UD2 Parameters'!$H$20*'5. UD2 Parameters'!$H$23*'5. UD2 Parameters'!$H$21)/1000","v":49.49018698564285},{"$f":"BS17*'5. UD2 Parameters'!$H$22/1000","v":14.748075721721568},20.50521265262957,0,102.53463965565194,null,102.53463965565194,0,null,null,null,102.53463965565194,102.53463965565194,102.53463965565194,102.53463965565194,102.53463965565194,null,102.53463965565194,102.53463965565194,102.53463965565194,102.53463965565194,102.53463965565194,null,0,0,0,0,0]
[2016,{"$f":"'6. UD2 Assumptions'!C25","v":52000},{"$f":"B18*'5. UD2 Parameters'!$H$10","v":5200},{"$f":"C18*'5. UD2 Parameters'!$H$6*'5. UD2 Parameters'!$H$7*'5. UD2 Parameters'!$H$8/1000","v":91.26},{"$f":"D18*'5. UD2 Parameters'!$H$9/1000","v":2.2814999999999999},{"$f":"F17*(1+'6. UD2 Assumptions'!I25)","v":10577330.744039999},2665224,{"$f":"H17+($H$22-$H$17)/5","v":3517897.8239884605},{"$f":"'UD2 CropScenarios'!F18*'5. UD2 Parameters'!$H$12*'5. UD2 Parameters'!$H$13/1000","v":166.21519740634284},{"$f":"G18*'5. UD2 Parameters'!$H$12*'5. UD2 Parameters'!$H$13/1000","v":41.882091428571428},{"$f":"H18*'5. UD2 Parameters'!$H$12*'5. UD2 Parameters'!$H$13/1000","v":55.281251519818667},{"$f":"I18*'5. UD2 Parameters'!$H$16/1000","v":49.532128827090162},{"$f":"J18*'5. UD2 Parameters'!$H$16/1000","v":12.480863245714286},{"$f":"K18*'5. UD2 Parameters'!$H$16/1000","v":16.473812952905963},{"$f":"SUM('UD2 CropScenarios'!L18:N18)","v":78.48680502571041},{"$f":"P17+($P$22-$P$17)/5","v":12533.808000000001},{"$f":"Q17+($Q$22-$Q$17)/5","v":458963.44650000002},{"$f":"P18*'5. UD2 Parameters'!$H$14*'5. UD2 Parameters'!$H$13/1000","v":0.39391968000000005},{"$f":"Q18*'5. UD2 Parameters'!$H$15*'5. UD2 Parameters'!$H$13/1000","v":7.2122827307142865},{"$f":"R18*'5. UD2 Parameters'!$H$16/1000","v":0.11738806464000001},{"$f":"S18*'5. UD2 Parameters'!$H$16/1000","v":2.1492602537528573},{"$f":"'UD2 CropScenarios'!T18+'UD2 CropScenarios'!U18","v":2.2666483183928574},{"$f":"'UD2 CropScenarios'!O18+'UD2 CropScenarios'!V18","v":80.753453344103264},10577330.744039999,2665224,962068.5,{"$f":"((X18*'5. UD2 Parameters'!$H$18)+(Z18*'5. UD2 Parameters'!$H$19))*'5. UD2 Parameters'!$H$24*'5. UD2 Parameters'!$H$21/1000","v":19.645163597777145},{"$f":"AA18*'5. UD2 Parameters'!$H$22/1000","v":5.8542587521375893},{"$f":"((X18+Y18+Z18)*'5. UD2 Parameters'!$H$20*'5. UD2 Parameters'!$H$23*'5. UD2 Parameters'!$H$21)/1000","v":50.223489327141422},{"$f":"AC18*'5. UD2 Parameters'!$H$22/1000","v":14.966599819488144},20.820858571625735,103.85581191572899,null,null,null,{"$f":"INDEX((DirN2OManSoilPol!$U$15:$U$43),MATCH(A18,DirN2OManSoilPol!$A$15:A$43,0))","v":80.852540377520967},null,null,null,{"$f":"'6. UD2 Assumptions'!B25","v":52000},{"$f":"'6. UD2 Assumptions'!F25","v":0.1},5200,{"$f":"AP18*'5. UD2 Parameters'!$H$6*'5. UD2 Parameters'!$H$7*'5. UD2 Parameters'!$H$8/1000","v":91.26},{"$f":"AQ18*'5. UD2 Parameters'!$H$9/1000","v":2.2814999999999999},0,103.85581191572899,null,49.532128827090162,{"$f":"'UD2 CropScenarios'!F18*'6. UD2 Assumptions'!K25","v":10471557.436599599},{"$f":"AW18*'5. UD2 Parameters'!$H$12*'5. UD2 Parameters'!$H$13/1000","v":164.55304543227942},{"$f":"AX18*'5. UD2 Parameters'!$H$16/1000","v":49.036807538819268},49.036807538819268,0.49532128827089394,103.45957766087579,null,null,null,null,null,null,null,null,null,103.45957766087579,null,10471557.436599599,{"$f":"'UD2 CropScenarios'!Y18","v":2665224},{"$f":"'UD2 CropScenarios'!Z18","v":962068.5},{"$f":"(((BN18*'5. UD2 Parameters'!$H$18)+(BP18*'5. UD2 Parameters'!$H$19))*('5. UD2 Parameters'!$H$24*'5. UD2 Parameters'!$H$21))/1000","v":19.4789484003708},{"$f":"BQ18*'5. UD2 Parameters'!$H$22/1000","v":5.8047266233104979},{"$f":"((BN18+BO18+BP18)*'5. UD2 Parameters'!$H$20*'5. UD2 Parameters'!$H$23*'5. UD2 Parameters'!$H$21)/1000","v":49.849505132977143},{"$f":"BS18*'5. UD2 Parameters'!$H$22/1000","v":14.855152529627189},20.659879152937688,0.1609794186880471,103.29859824218775,null,103.29859824218775,0.55721367354124141,null,null,null,103.85581191572899,103.85581191572899,103.45957766087579,103.29859824218775,103.29859824218775,null,103.85581191572899,103.85581191572899,103.45957766087579,103.29859824218775,103.29859824218775,null,0,0,0,0,0]
[2017,{"$f":"'6. UD2 Assumptions'!C26","v":51000},{"$f":"B19*'5. UD2 Parameters'!$H$10","v":5100},{"$f":"C19*'5. UD2 Parameters'!$H$6*'5. UD2 Parameters'!$H$7*'5. UD2 Parameters'!$H$8/1000","v":89.504999999999995},{"$f":"D19*'5. UD2 Parameters'!$H$9/1000","v":2.237625},{"$f":"F18*(1+'6. UD2 Assumptions'!I26)","v":10788877.3589208},2665224,{"$f":"H18+($H$22-$H$17)/5","v":3534273.0833909968},{"$f":"'UD2 CropScenarios'!F19*'5. UD2 Parameters'!$H$12*'5. UD2 Parameters'!$H$13/1000","v":169.53950135446971},{"$f":"G19*'5. UD2 Parameters'!$H$12*'5. UD2 Parameters'!$H$13/1000","v":41.882091428571428},{"$f":"H19*'5. UD2 Parameters'!$H$12*'5. UD2 Parameters'!$H$13/1000","v":55.538577024715664},{"$f":"I19*'5. UD2 Parameters'!$H$16/1000","v":50.522771403631971},{"$f":"J19*'5. UD2 Parameters'!$H$16/1000","v":12.480863245714286},{"$f":"K19*'5. UD2 Parameters'!$H$16/1000","v":16.550495953365267},{"$f":"SUM('UD2 CropScenarios'!L19:N19)","v":79.554130602711524},{"$f":"P18+($P$22-$P$17)/5","v":12384.596000000001},{"$f":"Q18+($Q$22-$Q$17)/5","v":453838.84650000004},{"$f":"P19*'5. UD2 Parameters'!$H$14*'5. UD2 Parameters'!$H$13/1000","v":0.38923016000000005},{"$f":"Q19*'5. UD2 Parameters'!$H$15*'5. UD2 Parameters'!$H$13/1000","v":7.1317533021428581},{"$f":"R19*'5. UD2 Parameters'!$H$16/1000","v":0.11599058768000002},{"$f":"S19*'5. UD2 Parameters'!$H$16/1000","v":2.1252624840385717},{"$f":"'UD2 CropScenarios'!T19+'UD2 CropScenarios'!U19","v":2.2412530717185715},{"$f":"'UD2 CropScenarios'!O19+'UD2 CropScenarios'!V19","v":81.795383674430099},10788877.3589208,2665224,962068.5,{"$f":"((X19*'5. UD2 Parameters'!$H$18)+(Z19*'5. UD2 Parameters'!$H$19))*'5. UD2 Parameters'!$H$24*'5. UD2 Parameters'!$H$21/1000","v":19.977593992589828},{"$f":"AA19*'5. UD2 Parameters'!$H$22/1000","v":5.9533230097917684},{"$f":"((X19+Y19+Z19)*'5. UD2 Parameters'!$H$20*'5. UD2 Parameters'!$H$23*'5. UD2 Parameters'!$H$21)/1000","v":50.97145771546996},{"$f":"AC19*'5. UD2 Parameters'!$H$22/1000","v":15.18949439921005},21.142817409001818,105.17582608343191,null,null,null,{"$f":"INDEX((DirN2OManSoilPol!$U$15:$U$43),MATCH(A19,DirN2OManSoilPol!$A$15:A$43,0))","v":81.993557741265491},null,null,null,{"$f":"'6. UD2 Assumptions'!B26","v":51000},{"$f":"'6. UD2 Assumptions'!F26","v":0.1},5100,{"$f":"AP19*'5. UD2 Parameters'!$H$6*'5. UD2 Parameters'!$H$7*'5. UD2 Parameters'!$H$8/1000","v":89.504999999999995},{"$f":"AQ19*'5. UD2 Parameters'!$H$9/1000","v":2.237625},0,105.17582608343191,null,50.522771403631971,{"$f":"'UD2 CropScenarios'!F19*'6. UD2 Assumptions'!K26","v":10573099.811742384},{"$f":"AW19*'5. UD2 Parameters'!$H$12*'5. UD2 Parameters'!$H$13/1000","v":166.14871132738034},{"$f":"AX19*'5. UD2 Parameters'!$H$16/1000","v":49.512315975559346},49.512315975559346,1.0104554280726248,104.36354472219469,null,{"$f":"'6. UD2 Assumptions'!Q26*'6. UD2 Assumptions'!$O$15*'6. UD2 Assumptions'!S26","v":1.3269527579976663},{"$f":"'6. UD2 Assumptions'!Q26*'6. UD2 Assumptions'!$O$16*'6. UD2 Assumptions'!S26","v":4.4231758599922202},{"$f":"'6. UD2 Assumptions'!Q26*'6. UD2 Assumptions'!$O$17*'6. UD2 Assumptions'!S26","v":1.0615622063981329},{"$f":"BD19+BE19+BF19","v":6.8116908243880196},{"$f":"'UD2 CropScenarios'!BG19*'5. UD2 Parameters'!$H$27","v":3.4058454121940098},{"$f":"BH19*'5. UD2 Parameters'!$H$28*1000000","v":59602.294713395175},{"$f":"BI19*'5. UD2 Parameters'!$H$12*'5. UD2 Parameters'!$H$13*'5. UD2 Parameters'!$H$16/1000000","v":0.27910903152929911},{"$f":"BJ19","v":0.27910903152929911},104.64265375372399,null,10573099.811742384,{"$f":"'UD2 CropScenarios'!Y19","v":2665224},{"$f":"BI19+$BP$18","v":1021670.7947133952},{"$f":"(((BN19*'5. UD2 Parameters'!$H$18)+(BP19*'5. UD2 Parameters'!$H$19))*('5. UD2 Parameters'!$H$24*'5. UD2 Parameters'!$H$21))/1000","v":19.825836487551562},{"$f":"BQ19*'5. UD2 Parameters'!$H$22/1000","v":5.9080992732903663},{"$f":"((BN19+BO19+BP19)*'5. UD2 Parameters'!$H$20*'5. UD2 Parameters'!$H$23*'5. UD2 Parameters'!$H$21)/1000","v":50.419266644254357},{"$f":"BS19*'5. UD2 Parameters'!$H$22/1000","v":15.024941459987799},20.933040733278165,0.20977667572365277,104.43287707800033,null,104.43287707800033,0.74294900543158349,null,null,null,105.17582608343191,105.17582608343191,104.36354472219469,104.43287707800033,104.43287707800033,null,105.17582608343191,105.17582608343191,104.36354472219469,104.43287707800033,104.43287707800033,null,0,0,0,0,0]
[2018,{"$f":"'6. UD2 Assumptions'!C27","v":50500},{"$f":"B20*'5. UD2 Parameters'!$H$10","v":5050},{"$f":"C20*'5. UD2 Parameters'!$H$6*'5. UD2 Parameters'!$H$7*'5. UD2 Parameters'!$H$8/1000","v":88.627499999999998},{"$f":"D20*'5. UD2 Parameters'!$H$9/1000","v":2.2156875},{"$f":"F19*(1+'6. UD2 Assumptions'!I27)","v":11004654.906099215},2665224,{"$f":"H19+($H$22-$H$17)/5","v":3550648.3427935331},{"$f":"'UD2 CropScenarios'!F20*'5. UD2 Parameters'!$H$12*'5. UD2 Parameters'!$H$13/1000","v":172.9302913815591},{"$f":"G20*'5. UD2 Parameters'!$H$12*'5. UD2 Parameters'!$H$13/1000","v":41.882091428571428},{"$f":"H20*'5. UD2 Parameters'!$H$12*'5. UD2 Parameters'!$H$13/1000","v":55.795902529612661},{"$f":"I20*'5. UD2 Parameters'!$H$16/1000","v":51.53322683170461},{"$f":"J20*'5. UD2 Parameters'!$H$16/1000","v":12.480863245714286},{"$f":"K20*'5. UD2 Parameters'!$H$16/1000","v":16.627178953824572},{"$f":"SUM('UD2 CropScenarios'!L20:N20)","v":80.641269031243468},{"$f":"P19+($P$22-$P$17)/5","v":12235.384000000002},{"$f":"Q19+($Q$22-$Q$17)/5","v":448714.24650000007},{"$f":"P20*'5. UD2 Parameters'!$H$14*'5. UD2 Parameters'!$H$13/1000","v":0.38454064000000004},{"$f":"Q20*'5. UD2 Parameters'!$H$15*'5. UD2 Parameters'!$H$13/1000","v":7.0512238735714297},{"$f":"R20*'5. UD2 Parameters'!$H$16/1000","v":0.11459311072000002},{"$f":"S20*'5. UD2 Parameters'!$H$16/1000","v":2.101264714324286},{"$f":"'UD2 CropScenarios'!T20+'UD2 CropScenarios'!U20","v":2.215857825044286},{"$f":"'UD2 CropScenarios'!O20+'UD2 CropScenarios'!V20","v":82.857126856287749},11004654.906099215,2665224,962068.5,{"$f":"((X20*'5. UD2 Parameters'!$H$18)+(Z20*'5. UD2 Parameters'!$H$19))*'5. UD2 Parameters'!$H$24*'5. UD2 Parameters'!$H$21/1000","v":20.316672995298767},{"$f":"AA20*'5. UD2 Parameters'!$H$22/1000","v":6.0543685525990325},{"$f":"((X20+Y20+Z20)*'5. UD2 Parameters'!$H$20*'5. UD2 Parameters'!$H$23*'5. UD2 Parameters'!$H$21)/1000","v":51.734385471565076},{"$f":"AC20*'5. UD2 Parameters'!$H$22/1000","v":15.416846870526394},21.471215423125425,106.54402977941318,null,null,null,{"$f":"INDEX((DirN2OManSoilPol!$U$15:$U$43),MATCH(A20,DirN2OManSoilPol!$A$15:A$43,0))","v":83.154387956540859},null,null,null,{"$f":"'6. UD2 Assumptions'!B27","v":50500},{"$f":"'6. UD2 Assumptions'!F27","v":0.1},5050,{"$f":"AP20*'5. UD2 Parameters'!$H$6*'5. UD2 Parameters'!$H$7*'5. UD2 Parameters'!$H$8/1000","v":88.627499999999998},{"$f":"AQ20*'5. UD2 Parameters'!$H$9/1000","v":2.2156875},0,106.54402977941318,null,51.53322683170461,{"$f":"'UD2 CropScenarios'!F20*'6. UD2 Assumptions'!K27","v":10674515.258916238},{"$f":"AW20*'5. UD2 Parameters'!$H$12*'5. UD2 Parameters'!$H$13/1000","v":167.74238264011234},{"$f":"AX20*'5. UD2 Parameters'!$H$16/1000","v":49.987230026753473},49.987230026753473,1.5459968049511374,105.29529407471514,null,{"$f":"'6. UD2 Assumptions'!Q27*'6. UD2 Assumptions'!$O$15*'6. UD2 Assumptions'!S27","v":2.7069836263152389},{"$f":"'6. UD2 Assumptions'!Q27*'6. UD2 Assumptions'!$O$16*'6. UD2 Assumptions'!S27","v":9.0232787543841297},{"$f":"'6. UD2 Assumptions'!Q27*'6. UD2 Assumptions'!$O$17*'6. UD2 Assumptions'!S27","v":2.1655869010521913},13.895849281751559,{"$f":"'UD2 CropScenarios'!BG20*'5. UD2 Parameters'!$H$27","v":6.9479246408757795},{"$f":"BH20*'5. UD2 Parameters'!$H$28*1000000","v":121588.68121532616},{"$f":"BI20*'5. UD2 Parameters'!$H$12*'5. UD2 Parameters'!$H$13*'5. UD2 Parameters'!$H$16/1000000","v":0.56938242431977015},{"$f":"BJ20","v":0.56938242431977015},105.86467649903491,null,10674515.258916238,{"$f":"'UD2 CropScenarios'!Y20","v":2665224},{"$f":"BI20+$BP$18","v":1083657.1812153261},{"$f":"(((BN20*'5. UD2 Parameters'!$H$18)+(BP20*'5. UD2 Parameters'!$H$19))*('5. UD2 Parameters'!$H$24*'5. UD2 Parameters'!$H$21))/1000","v":20.180017976402258},{"$f":"BQ20*'5. UD2 Parameters'!$H$22/1000","v":6.0136453569678734},{"$f":"((BN20+BO20+BP20)*'5. UD2 Parameters'!$H$20*'5. UD2 Parameters'!$H$23*'5. UD2 Parameters'!$H$21)/1000","v":50.997008841893731},{"$f":"BS20*'5. UD2 Parameters'!$H$22/1000","v":15.197108634884332},21.210753991852204,0.26046143127322097,105.60421506776169,null,105.60421506776169,0.93981471165149344,null,null,null,106.54402977941318,106.54402977941318,105.29529407471514,105.60421506776169,105.60421506776169,null,106.54402977941318,106.54402977941318,105.29529407471514,105.60421506776169,105.60421506776169,null,0,0,0,0,0]
[2019,{"$f":"'6. UD2 Assumptions'!C28","v":50000},{"$f":"B21*'5. UD2 Parameters'!$H$10","v":5000},{"$f":"C21*'5. UD2 Parameters'!$H$6*'5. UD2 Parameters'!$H$7*'5. UD2 Parameters'!$H$8/1000","v":87.75},{"$f":"D21*'5. UD2 Parameters'!$H$9/1000","v":2.1937500000000001},{"$f":"F20*(1+'6. UD2 Assumptions'!I28)","v":11224748.004221199},2665224,{"$f":"H20+($H$22-$H$17)/5","v":3567023.6021960694},{"$f":"'UD2 CropScenarios'!F21*'5. UD2 Parameters'!$H$12*'5. UD2 Parameters'!$H$13/1000","v":176.38889720919028},{"$f":"G21*'5. UD2 Parameters'!$H$12*'5. UD2 Parameters'!$H$13/1000","v":41.882091428571428},{"$f":"H21*'5. UD2 Parameters'!$H$12*'5. UD2 Parameters'!$H$13/1000","v":56.053228034509658},{"$f":"I21*'5. UD2 Parameters'!$H$16/1000","v":52.563891368338702},{"$f":"J21*'5. UD2 Parameters'!$H$16/1000","v":12.480863245714286},{"$f":"K21*'5. UD2 Parameters'!$H$16/1000","v":16.70386195428388},{"$f":"SUM('UD2 CropScenarios'!L21:N21)","v":81.748616568336871},{"$f":"P20+($P$22-$P$17)/5","v":12086.172000000002},{"$f":"Q20+($Q$22-$Q$17)/5","v":443589.64650000009},{"$f":"P21*'5. UD2 Parameters'!$H$14*'5. UD2 Parameters'!$H$13/1000","v":0.37985112000000004},{"$f":"Q21*'5. UD2 Parameters'!$H$15*'5. UD2 Parameters'!$H$13/1000","v":6.9706944450000012},{"$f":"R21*'5. UD2 Parameters'!$H$16/1000","v":0.11319563376000001},{"$f":"S21*'5. UD2 Parameters'!$H$16/1000","v":2.0772669446100003},{"$f":"'UD2 CropScenarios'!T21+'UD2 CropScenarios'!U21","v":2.1904625783700005},{"$f":"'UD2 CropScenarios'!O21+'UD2 CropScenarios'!V21","v":83.939079146706874},11224748.004221199,2665224,962068.5,{"$f":"((X21*'5. UD2 Parameters'!$H$18)+(Z21*'5. UD2 Parameters'!$H$19))*'5. UD2 Parameters'!$H$24*'5. UD2 Parameters'!$H$21/1000","v":20.662533578061883},{"$f":"AA21*'5. UD2 Parameters'!$H$22/1000","v":6.1574350062624408},{"$f":"((X21+Y21+Z21)*'5. UD2 Parameters'!$H$20*'5. UD2 Parameters'!$H$23*'5. UD2 Parameters'!$H$21)/1000","v":52.512571782782096},{"$f":"AC21*'5. UD2 Parameters'!$H$22/1000","v":15.648746391269066},21.806181397531507,107.93901054423837,null,null,null,{"$f":"INDEX((DirN2OManSoilPol!$U$15:$U$43),MATCH(A21,DirN2OManSoilPol!$A$15:A$43,0))","v":84.335427280377672},null,null,null,{"$f":"'6. UD2 Assumptions'!B28","v":50000},{"$f":"'6. UD2 Assumptions'!F28","v":0.1},5000,{"$f":"AP21*'5. UD2 Parameters'!$H$6*'5. UD2 Parameters'!$H$7*'5. UD2 Parameters'!$H$8/1000","v":87.75},{"$f":"AQ21*'5. UD2 Parameters'!$H$9/1000","v":2.1937500000000001},0,107.93901054423837,null,52.563891368338702,{"$f":"'UD2 CropScenarios'!F21*'6. UD2 Assumptions'!K28","v":10775758.08405235},{"$f":"AW21*'5. UD2 Parameters'!$H$12*'5. UD2 Parameters'!$H$13/1000","v":169.33334132082263},{"$f":"AX21*'5. UD2 Parameters'!$H$16/1000","v":50.461335713605145},50.461335713605145,2.1025556547335569,106.23280302317562,null,{"$f":"'6. UD2 Assumptions'!Q28*'6. UD2 Assumptions'!$O$15*'6. UD2 Assumptions'!S28","v":4.1416849482623155},{"$f":"'6. UD2 Assumptions'!Q28*'6. UD2 Assumptions'!$O$16*'6. UD2 Assumptions'!S28","v":13.805616494207719},{"$f":"'6. UD2 Assumptions'!Q28*'6. UD2 Assumptions'!$O$17*'6. UD2 Assumptions'!S28","v":3.3133479586098522},21.260649401079888,{"$f":"'UD2 CropScenarios'!BG21*'5. UD2 Parameters'!$H$27","v":10.630324700539944},{"$f":"BH21*'5. UD2 Parameters'!$H$28*1000000","v":186030.68225944904},{"$f":"BI21*'5. UD2 Parameters'!$H$12*'5. UD2 Parameters'!$H$13*'5. UD2 Parameters'!$H$16/1000000","v":0.87115510920924843},0.87115510920924843,107.10395813238488,null,10775758.08405235,{"$f":"'UD2 CropScenarios'!Y21","v":2665224},1148099.182259449,{"$f":"(((BN21*'5. UD2 Parameters'!$H$18)+(BP21*'5. UD2 Parameters'!$H$19))*('5. UD2 Parameters'!$H$24*'5. UD2 Parameters'!$H$21))/1000","v":20.541645847754822},{"$f":"BQ21*'5. UD2 Parameters'!$H$22/1000","v":6.1214104626309371},{"$f":"((BN21+BO21+BP21)*'5. UD2 Parameters'!$H$20*'5. UD2 Parameters'!$H$23*'5. UD2 Parameters'!$H$21)/1000","v":51.58282304874529},{"$f":"BS21*'5. UD2 Parameters'!$H$22/1000","v":15.371681268526096},21.493091731157033,0.31308966637447355,106.79086846601041,null,106.79086846601041,1.1481420782279628,null,null,null,107.93901054423837,107.93901054423837,106.23280302317562,106.79086846601041,106.79086846601041,null,107.93901054423837,107.93901054423837,106.23280302317562,106.79086846601041,106.79086846601041,null,0,0,0,0,0]
[2020,{"$f":"'6. UD2 Assumptions'!C29","v":49500},{"$f":"B22*'5. UD2 Parameters'!$H$10","v":4950},{"$f":"C22*'5. UD2 Parameters'!$H$6*'5. UD2 Parameters'!$H$7*'5. UD2 Parameters'!$H$8/1000","v":86.872500000000002},{"$f":"D22*'5. UD2 Parameters'!$H$9/1000","v":2.1718125000000001},{"$f":"F21*(1+'6. UD2 Assumptions'!I29)","v":11449242.964305623},2665224,{"$f":"MMS!V90","v":3583398.8615986062},{"$f":"'UD2 CropScenarios'!F22*'5. UD2 Parameters'!$H$12*'5. UD2 Parameters'!$H$13/1000","v":179.91667515337406},{"$f":"G22*'5. UD2 Parameters'!$H$12*'5. UD2 Parameters'!$H$13/1000","v":41.882091428571428},{"$f":"H22*'5. UD2 Parameters'!$H$12*'5. UD2 Parameters'!$H$13/1000","v":56.310553539406669},{"$f":"I22*'5. UD2 Parameters'!$H$16/1000","v":53.615169195705469},{"$f":"J22*'5. UD2 Parameters'!$H$16/1000","v":12.480863245714286},{"$f":"K22*'5. UD2 Parameters'!$H$16/1000","v":16.780544954743188},{"$f":"SUM('UD2 CropScenarios'!L22:N22)","v":82.876577396162944},{"$f":"MMS!V92","v":11936.960000000001},{"$f":"MMS!V91","v":438465.0465},{"$f":"P22*'5. UD2 Parameters'!$H$14*'5. UD2 Parameters'!$H$13/1000","v":0.37516160000000004},{"$f":"Q22*'5. UD2 Parameters'!$H$15*'5. UD2 Parameters'!$H$13/1000","v":6.890165016428571},{"$f":"R22*'5. UD2 Parameters'!$H$16/1000","v":0.11179815680000002},{"$f":"S22*'5. UD2 Parameters'!$H$16/1000","v":2.0532691748957141},{"$f":"'UD2 CropScenarios'!T22+'UD2 CropScenarios'!U22","v":2.1650673316957141},{"$f":"'UD2 CropScenarios'!O22+'UD2 CropScenarios'!V22","v":85.041644727858653},11449242.964305623,2665224,962068.5,{"$f":"((X22*'5. UD2 Parameters'!$H$18)+(Z22*'5. UD2 Parameters'!$H$19))*'5. UD2 Parameters'!$H$24*'5. UD2 Parameters'!$H$21/1000","v":21.015311372480269},{"$f":"AA22*'5. UD2 Parameters'!$H$22/1000","v":6.2625627889991202},{"$f":"((X22+Y22+Z22)*'5. UD2 Parameters'!$H$20*'5. UD2 Parameters'!$H$23*'5. UD2 Parameters'!$H$21)/1000","v":53.306321820223452},{"$f":"AC22*'5. UD2 Parameters'!$H$22/1000","v":15.885283902426588},22.147846691425709,109.36130391928437,null,null,null,{"$f":"INDEX((DirN2OManSoilPol!$U$15:$U$43),MATCH(A22,DirN2OManSoilPol!$A$15:A$43,0))","v":85.537079894947155},null,null,null,{"$f":"'6. UD2 Assumptions'!B29","v":49500},{"$f":"'6. UD2 Assumptions'!F29","v":0.08},3960,{"$f":"AP22*'5. UD2 Parameters'!$H$6*'5. UD2 Parameters'!$H$7*'5. UD2 Parameters'!$H$8/1000","v":69.498000000000005},{"$f":"AQ22*'5. UD2 Parameters'!$H$9/1000","v":1.7374499999999999},0.43436250000000021,108.92694141928436,null,53.615169195705469,{"$f":"'UD2 CropScenarios'!F22*'6. UD2 Assumptions'!K29","v":10876780.816090342},{"$f":"AW22*'5. UD2 Parameters'!$H$12*'5. UD2 Parameters'!$H$13/1000","v":170.92084139570537},{"$f":"AX22*'5. UD2 Parameters'!$H$16/1000","v":50.934410735920203},50.934410735920203,2.6807584597852667,107.1759806265876,null,{"$f":"'6. UD2 Assumptions'!Q29*'6. UD2 Assumptions'!$O$15*'6. UD2 Assumptions'!S29","v":5.6326915296367499},{"$f":"'6. UD2 Assumptions'!Q29*'6. UD2 Assumptions'!$O$16*'6. UD2 Assumptions'!S29","v":18.775638432122499},{"$f":"'6. UD2 Assumptions'!Q29*'6. UD2 Assumptions'!$O$17*'6. UD2 Assumptions'!S29","v":4.5061532237093997},28.914483185468651,{"$f":"'UD2 CropScenarios'!BG22*'5. UD2 Parameters'!$H$27","v":14.457241592734325},{"$f":"BH22*'5. UD2 Parameters'!$H$28*1000000","v":253001.72787285075},{"$f":"BI22*'5. UD2 Parameters'!$H$12*'5. UD2 Parameters'!$H$13*'5. UD2 Parameters'!$H$16/1000000","v":1.1847709485245785},1.1847709485245785,108.36075157511218,null,10876780.816090342,{"$f":"'UD2 CropScenarios'!Y22","v":2665224},1215070.2278728508,{"$f":"(((BN22*'5. UD2 Parameters'!$H$18)+(BP22*'5. UD2 Parameters'!$H$19))*('5. UD2 Parameters'!$H$24*'5. UD2 Parameters'!$H$21))/1000","v":20.910876284313787},{"$f":"BQ22*'5. UD2 Parameters'!$H$22/1000","v":6.2314411327255081},{"$f":"((BN22+BO22+BP22)*'5. UD2 Parameters'!$H$20*'5. UD2 Parameters'!$H$23*'5. UD2 Parameters'!$H$21)/1000","v":52.176801048298422},{"$f":"BS22*'5. UD2 Parameters'!$H$22/1000","v":15.54868671239293},21.780127845118439,0.36771884630726959,107.99303272880491,null,107.5586702288049,1.8026336904794675,null,null,null,109.36130391928437,108.92694141928436,107.1759806265876,107.99303272880491,107.5586702288049,null,109.36130391928437,108.92694141928436,107.1759806265876,107.99303272880491,107.5586702288049,null,0,0,0,0,0]
[2021,{"$f":"'6. UD2 Assumptions'!C30","v":49000},{"$f":"B23*'5. UD2 Parameters'!$H$10","v":4900},{"$f":"C23*'5. UD2 Parameters'!$H$6*'5. UD2 Parameters'!$H$7*'5. UD2 Parameters'!$H$8/1000","v":85.995000000000005},{"$f":"D23*'5. UD2 Parameters'!$H$9/1000","v":2.1498750000000002},{"$f":"F22","v":11449242.964305623},2665224,{"$f":"H22+($H$27-$H$22)/5","v":3600132.3977436288},{"$f":"'UD2 CropScenarios'!F23*'5. UD2 Parameters'!$H$12*'5. UD2 Parameters'!$H$13/1000","v":179.91667515337406},{"$f":"G23*'5. UD2 Parameters'!$H$12*'5. UD2 Parameters'!$H$13/1000","v":41.882091428571428},{"$f":"H23*'5. UD2 Parameters'!$H$12*'5. UD2 Parameters'!$H$13/1000","v":56.573509107399879},{"$f":"I23*'5. UD2 Parameters'!$H$16/1000","v":53.615169195705469},{"$f":"J23*'5. UD2 Parameters'!$H$16/1000","v":12.480863245714286},{"$f":"K23*'5. UD2 Parameters'!$H$16/1000","v":16.858905714005164},{"$f":"SUM('UD2 CropScenarios'!L23:N23)","v":82.954938155424912},{"$f":"P22+($P$27-$P$22)/5","v":11809.064},{"$f":"Q22+($Q$27-$Q$22)/5","v":438465.0465},{"$f":"P23*'5. UD2 Parameters'!$H$14*'5. UD2 Parameters'!$H$13/1000","v":0.37114201142857145},{"$f":"Q23*'5. UD2 Parameters'!$H$15*'5. UD2 Parameters'!$H$13/1000","v":6.890165016428571},{"$f":"R23*'5. UD2 Parameters'!$H$16/1000","v":0.11060031940571428},{"$f":"S23*'5. UD2 Parameters'!$H$16/1000","v":2.0532691748957141},{"$f":"'UD2 CropScenarios'!T23+'UD2 CropScenarios'!U23","v":2.1638694943014283},{"$f":"'UD2 CropScenarios'!O23+'UD2 CropScenarios'!V23","v":85.118807649726335},11449242.964305623,2665224,962068.5,{"$f":"((X23*'5. UD2 Parameters'!$H$18)+(Z23*'5. UD2 Parameters'!$H$19))*'5. UD2 Parameters'!$H$24*'5. UD2 Parameters'!$H$21/1000","v":21.015311372480269},{"$f":"AA23*'5. UD2 Parameters'!$H$22/1000","v":6.2625627889991202},{"$f":"((X23+Y23+Z23)*'5. UD2 Parameters'!$H$20*'5. UD2 Parameters'!$H$23*'5. UD2 Parameters'!$H$21)/1000","v":53.306321820223452},{"$f":"AC23*'5. UD2 Parameters'!$H$22/1000","v":15.885283902426588},22.147846691425709,109.41652934115204,null,null,null,{"$f":"INDEX((DirN2OManSoilPol!$U$15:$U$43),MATCH(A23,DirN2OManSoilPol!$A$15:A$43,0))","v":85.69126413783394},null,null,null,{"$f":"'6. UD2 Assumptions'!B30","v":49000},{"$f":"'6. UD2 Assumptions'!F30","v":0.08},3920,{"$f":"AP23*'5. UD2 Parameters'!$H$6*'5. UD2 Parameters'!$H$7*'5. UD2 Parameters'!$H$8/1000","v":68.796000000000006},{"$f":"AQ23*'5. UD2 Parameters'!$H$9/1000","v":1.7199},0.42997500000000022,108.98655434115204,null,53.615169195705469,{"$f":"'UD2 CropScenarios'!F23*'6. UD2 Assumptions'!K30","v":10647795.956804229},{"$f":"AW23*'5. UD2 Parameters'!$H$12*'5. UD2 Parameters'!$H$13/1000","v":167.3225078926379},{"$f":"AX23*'5. UD2 Parameters'!$H$16/1000","v":49.862107352006099},49.862107352006099,3.7530618436993706,106.23592398556028,null,{"$f":"'6. UD2 Assumptions'!Q30*'6. UD2 Assumptions'!$O$15*'6. UD2 Assumptions'!S30","v":7.1816817002868554},{"$f":"'6. UD2 Assumptions'!Q30*'6. UD2 Assumptions'!$O$16*'6. UD2 Assumptions'!S30","v":23.938939000956186},{"$f":"'6. UD2 Assumptions'!Q30*'6. UD2 Assumptions'!$O$17*'6. UD2 Assumptions'!S30","v":5.7453453602294848},36.865966061472527,{"$f":"'UD2 CropScenarios'!BG23*'5. UD2 Parameters'!$H$27","v":18.432983030736263},{"$f":"BH23*'5. UD2 Parameters'!$H$28*1000000","v":322577.20303788461},{"$f":"BI23*'5. UD2 Parameters'!$H$12*'5. UD2 Parameters'!$H$13*'5. UD2 Parameters'!$H$16/1000000","v":1.5105829593688369},1.5105829593688369,107.74650694492911,null,10647795.956804229,{"$f":"'UD2 CropScenarios'!Y23","v":2665224},1284645.7030378846,{"$f":"(((BN23*'5. UD2 Parameters'!$H$18)+(BP23*'5. UD2 Parameters'!$H$19))*('5. UD2 Parameters'!$H$24*'5. UD2 Parameters'!$H$21))/1000","v":20.769708713097142},{"$f":"BQ23*'5. UD2 Parameters'!$H$22/1000","v":6.1893731965029479},{"$f":"((BN23+BO23+BP23)*'5. UD2 Parameters'!$H$20*'5. UD2 Parameters'!$H$23*'5. UD2 Parameters'!$H$21)/1000","v":51.613175011584602},{"$f":"BS23*'5. UD2 Parameters'!$H$22/1000","v":15.380726153452212},21.570099349955161,0.57774734147054829,107.16875960345857,null,106.73878460345857,2.6777447376934731,null,null,null,109.41652934115204,108.98655434115204,106.23592398556028,107.16875960345857,106.73878460345857,null,109.41652934115204,108.98655434115204,106.23592398556028,107.16875960345857,106.73878460345857,null,0,0,0,0,0]
[2022,{"$f":"'6. UD2 Assumptions'!C31","v":48500},{"$f":"B24*'5. UD2 Parameters'!$H$10","v":4850},{"$f":"C24*'5. UD2 Parameters'!$H$6*'5. UD2 Parameters'!$H$7*'5. UD2 Parameters'!$H$8/1000","v":85.117500000000007},{"$f":"D24*'5. UD2 Parameters'!$H$9/1000","v":2.1279374999999998},11449242.964305623,2665224,{"$f":"H23+($H$27-$H$22)/5","v":3616865.9338886514},{"$f":"'UD2 CropScenarios'!F24*'5. UD2 Parameters'!$H$12*'5. UD2 Parameters'!$H$13/1000","v":179.91667515337406},{"$f":"G24*'5. UD2 Parameters'!$H$12*'5. UD2 Parameters'!$H$13/1000","v":41.882091428571428},{"$f":"H24*'5. UD2 Parameters'!$H$12*'5. UD2 Parameters'!$H$13/1000","v":56.836464675393096},{"$f":"I24*'5. UD2 Parameters'!$H$16/1000","v":53.615169195705469},{"$f":"J24*'5. UD2 Parameters'!$H$16/1000","v":12.480863245714286},{"$f":"K24*'5. UD2 Parameters'!$H$16/1000","v":16.937266473267144},{"$f":"SUM('UD2 CropScenarios'!L24:N24)","v":83.033298914686895},{"$f":"P23+($P$27-$P$22)/5","v":11681.168},{"$f":"Q23+($Q$27-$Q$22)/5","v":438465.0465},{"$f":"P24*'5. UD2 Parameters'!$H$14*'5. UD2 Parameters'!$H$13/1000","v":0.36712242285714286},{"$f":"Q24*'5. UD2 Parameters'!$H$15*'5. UD2 Parameters'!$H$13/1000","v":6.890165016428571},{"$f":"R24*'5. UD2 Parameters'!$H$16/1000","v":0.10940248201142858},{"$f":"S24*'5. UD2 Parameters'!$H$16/1000","v":2.0532691748957141},{"$f":"'UD2 CropScenarios'!T24+'UD2 CropScenarios'!U24","v":2.1626716569071429},{"$f":"'UD2 CropScenarios'!O24+'UD2 CropScenarios'!V24","v":85.195970571594032},11449242.964305623,2665224,962068.5,{"$f":"((X24*'5. UD2 Parameters'!$H$18)+(Z24*'5. UD2 Parameters'!$H$19))*'5. UD2 Parameters'!$H$24*'5. UD2 Parameters'!$H$21/1000","v":21.015311372480269},{"$f":"AA24*'5. UD2 Parameters'!$H$22/1000","v":6.2625627889991202},{"$f":"((X24+Y24+Z24)*'5. UD2 Parameters'!$H$20*'5. UD2 Parameters'!$H$23*'5. UD2 Parameters'!$H$21)/1000","v":53.306321820223452},{"$f":"AC24*'5. UD2 Parameters'!$H$22/1000","v":15.885283902426588},22.147846691425709,109.47175476301975,null,null,null,{"$f":"INDEX((DirN2OManSoilPol!$U$15:$U$43),MATCH(A24,DirN2OManSoilPol!$A$15:A$43,0))","v":85.845448380720725},null,null,null,{"$f":"'6. UD2 Assumptions'!B31","v":48500},{"$f":"'6. UD2 Assumptions'!F31","v":0.08},3880,{"$f":"AP24*'5. UD2 Parameters'!$H$6*'5. UD2 Parameters'!$H$7*'5. UD2 Parameters'!$H$8/1000","v":68.093999999999994},{"$f":"AQ24*'5. UD2 Parameters'!$H$9/1000","v":1.7023499999999998},0.42558750000000001,109.04616726301974,null,53.615169195705469,{"$f":"'UD2 CropScenarios'!F24*'6. UD2 Assumptions'!K31","v":10418811.097518116},{"$f":"AW24*'5. UD2 Parameters'!$H$12*'5. UD2 Parameters'!$H$13/1000","v":163.72417438957041},{"$f":"AX24*'5. UD2 Parameters'!$H$16/1000","v":48.789803968091981},48.789803968091981,4.8253652276134886,105.29586734453295,null,{"$f":"'6. UD2 Assumptions'!Q31*'6. UD2 Assumptions'!$O$15*'6. UD2 Assumptions'!S31","v":8.7903784011511128},{"$f":"'6. UD2 Assumptions'!Q31*'6. UD2 Assumptions'!$O$16*'6. UD2 Assumptions'!S31","v":29.301261337170377},{"$f":"'6. UD2 Assumptions'!Q31*'6. UD2 Assumptions'!$O$17*'6. UD2 Assumptions'!S31","v":7.0323027209208906},45.123942459242379,{"$f":"'UD2 CropScenarios'!BG24*'5. UD2 Parameters'!$H$27","v":22.561971229621189},{"$f":"BH24*'5. UD2 Parameters'!$H$28*1000000","v":394834.49651837081},{"$f":"BI24*'5. UD2 Parameters'!$H$12*'5. UD2 Parameters'!$H$13*'5. UD2 Parameters'!$H$16/1000000","v":1.8489535422674563},1.8489535422674563,107.1448208868004,null,10418811.097518116,{"$f":"'UD2 CropScenarios'!Y24","v":2665224},1356902.9965183707,{"$f":"(((BN24*'5. UD2 Parameters'!$H$18)+(BP24*'5. UD2 Parameters'!$H$19))*('5. UD2 Parameters'!$H$24*'5. UD2 Parameters'!$H$21))/1000","v":20.636969713729066},{"$f":"BQ24*'5. UD2 Parameters'!$H$22/1000","v":6.1498169746912614},{"$f":"((BN24+BO24+BP24)*'5. UD2 Parameters'!$H$20*'5. UD2 Parameters'!$H$23*'5. UD2 Parameters'!$H$21)/1000","v":51.05903111820043},{"$f":"BS24*'5. UD2 Parameters'!$H$22/1000","v":15.215591273223728},21.365408247914988,0.78243844351072056,106.36238244328968,null,105.93679494328967,3.5349598197300764,null,null,null,109.47175476301975,109.04616726301974,105.29586734453295,106.36238244328968,105.93679494328967,null,109.47175476301975,109.04616726301974,105.29586734453295,106.36238244328968,105.93679494328967,null,0,0,0,0,0]
[2023,{"$f":"'6. UD2 Assumptions'!C32","v":48000},{"$f":"B25*'5. UD2 Parameters'!$H$10","v":4800},{"$f":"C25*'5. UD2 Parameters'!$H$6*'5. UD2 Parameters'!$H$7*'5. UD2 Parameters'!$H$8/1000","v":84.24},{"$f":"D25*'5. UD2 Parameters'!$H$9/1000","v":2.1059999999999999},11449242.964305623,2665224,{"$f":"H24+($H$27-$H$22)/5","v":3633599.470033674},{"$f":"'UD2 CropScenarios'!F25*'5. UD2 Parameters'!$H$12*'5. UD2 Parameters'!$H$13/1000","v":179.91667515337406},{"$f":"G25*'5. UD2 Parameters'!$H$12*'5. UD2 Parameters'!$H$13/1000","v":41.882091428571428},{"$f":"H25*'5. UD2 Parameters'!$H$12*'5. UD2 Parameters'!$H$13/1000","v":57.099420243386312},{"$f":"I25*'5. UD2 Parameters'!$H$16/1000","v":53.615169195705469},{"$f":"J25*'5. UD2 Parameters'!$H$16/1000","v":12.480863245714286},{"$f":"K25*'5. UD2 Parameters'!$H$16/1000","v":17.01562723252912},{"$f":"SUM('UD2 CropScenarios'!L25:N25)","v":83.111659673948878},{"$f":"P24+($P$27-$P$22)/5","v":11553.271999999999},{"$f":"Q24+($Q$27-$Q$22)/5","v":438465.0465},{"$f":"P25*'5. UD2 Parameters'!$H$14*'5. UD2 Parameters'!$H$13/1000","v":0.36310283428571427},{"$f":"Q25*'5. UD2 Parameters'!$H$15*'5. UD2 Parameters'!$H$13/1000","v":6.890165016428571},{"$f":"R25*'5. UD2 Parameters'!$H$16/1000","v":0.10820464461714285},{"$f":"S25*'5. UD2 Parameters'!$H$16/1000","v":2.0532691748957141},{"$f":"'UD2 CropScenarios'!T25+'UD2 CropScenarios'!U25","v":2.1614738195128571},{"$f":"'UD2 CropScenarios'!O25+'UD2 CropScenarios'!V25","v":85.273133493461742},11449242.964305623,2665224,962068.5,{"$f":"((X25*'5. UD2 Parameters'!$H$18)+(Z25*'5. UD2 Parameters'!$H$19))*'5. UD2 Parameters'!$H$24*'5. UD2 Parameters'!$H$21/1000","v":21.015311372480269},{"$f":"AA25*'5. UD2 Parameters'!$H$22/1000","v":6.2625627889991202},{"$f":"((X25+Y25+Z25)*'5. UD2 Parameters'!$H$20*'5. UD2 Parameters'!$H$23*'5. UD2 Parameters'!$H$21)/1000","v":53.306321820223452},{"$f":"AC25*'5. UD2 Parameters'!$H$22/1000","v":15.885283902426588},22.147846691425709,109.52698018488745,null,null,null,{"$f":"INDEX((DirN2OManSoilPol!$U$15:$U$43),MATCH(A25,DirN2OManSoilPol!$A$15:A$43,0))","v":85.999632623607525},null,null,null,{"$f":"'6. UD2 Assumptions'!B32","v":48000},{"$f":"'6. UD2 Assumptions'!F32","v":0.08},3840,{"$f":"AP25*'5. UD2 Parameters'!$H$6*'5. UD2 Parameters'!$H$7*'5. UD2 Parameters'!$H$8/1000","v":67.391999999999996},{"$f":"AQ25*'5. UD2 Parameters'!$H$9/1000","v":1.6847999999999999},0.42120000000000002,109.10578018488745,null,53.615169195705469,{"$f":"'UD2 CropScenarios'!F25*'6. UD2 Assumptions'!K32","v":10189826.238232004},{"$f":"AW25*'5. UD2 Parameters'!$H$12*'5. UD2 Parameters'!$H$13/1000","v":160.12584088650291},{"$f":"AX25*'5. UD2 Parameters'!$H$16/1000","v":47.71750058417787},47.71750058417787,5.8976686115275996,104.35581070350563,null,{"$f":"'6. UD2 Assumptions'!Q32*'6. UD2 Assumptions'!$O$15*'6. UD2 Assumptions'!S32","v":10.460550297369824},{"$f":"'6. UD2 Assumptions'!Q32*'6. UD2 Assumptions'!$O$16*'6. UD2 Assumptions'!S32","v":34.868500991232743},{"$f":"'6. UD2 Assumptions'!Q32*'6. UD2 Assumptions'!$O$17*'6. UD2 Assumptions'!S32","v":8.3684402378958573},53.697491526498425,{"$f":"'UD2 CropScenarios'!BG25*'5. UD2 Parameters'!$H$27","v":26.848745763249212},{"$f":"BH25*'5. UD2 Parameters'!$H$28*1000000","v":469853.05085686123},{"$f":"BI25*'5. UD2 Parameters'!$H$12*'5. UD2 Parameters'!$H$13*'5. UD2 Parameters'!$H$16/1000000","v":2.2002547152982728},2.2002547152982728,106.5560654188039,null,10189826.238232004,{"$f":"'UD2 CropScenarios'!Y25","v":2665224},1431921.5508568613,{"$f":"(((BN25*'5. UD2 Parameters'!$H$18)+(BP25*'5. UD2 Parameters'!$H$19))*('5. UD2 Parameters'!$H$24*'5. UD2 Parameters'!$H$21))/1000","v":20.512908962771856},{"$f":"BQ25*'5. UD2 Parameters'!$H$22/1000","v":6.1128468709060133},{"$f":"((BN25+BO25+BP25)*'5. UD2 Parameters'!$H$20*'5. UD2 Parameters'!$H$23*'5. UD2 Parameters'!$H$21)/1000","v":50.514650254278479},{"$f":"BS25*'5. UD2 Parameters'!$H$22/1000","v":15.053365775774987},21.166212646681,0.98163404474470894,105.57443137405919,null,105.15323137405919,4.3737488108282605,null,null,null,109.52698018488745,109.10578018488745,104.35581070350563,105.57443137405919,105.15323137405919,null,109.52698018488745,109.10578018488745,104.35581070350563,105.57443137405919,105.15323137405919,null,0,0,0,0,0]
[2024,{"$f":"'6. UD2 Assumptions'!C33","v":47500},{"$f":"B26*'5. UD2 Parameters'!$H$10","v":4750},{"$f":"C26*'5. UD2 Parameters'!$H$6*'5. UD2 Parameters'!$H$7*'5. UD2 Parameters'!$H$8/1000","v":83.362499999999997},{"$f":"D26*'5. UD2 Parameters'!$H$9/1000","v":2.0840624999999999},11449242.964305623,2665224,{"$f":"H25+($H$27-$H$22)/5","v":3650333.0061786966},{"$f":"'UD2 CropScenarios'!F26*'5. UD2 Parameters'!$H$12*'5. UD2 Parameters'!$H$13/1000","v":179.91667515337406},{"$f":"G26*'5. UD2 Parameters'!$H$12*'5. UD2 Parameters'!$H$13/1000","v":41.882091428571428},{"$f":"H26*'5. UD2 Parameters'!$H$12*'5. UD2 Parameters'!$H$13/1000","v":57.362375811379522},{"$f":"I26*'5. UD2 Parameters'!$H$16/1000","v":53.615169195705469},{"$f":"J26*'5. UD2 Parameters'!$H$16/1000","v":12.480863245714286},{"$f":"K26*'5. UD2 Parameters'!$H$16/1000","v":17.093987991791099},{"$f":"SUM('UD2 CropScenarios'!L26:N26)","v":83.190020433210847},{"$f":"P25+($P$27-$P$22)/5","v":11425.375999999998},{"$f":"Q25+($Q$27-$Q$22)/5","v":438465.0465},{"$f":"P26*'5. UD2 Parameters'!$H$14*'5. UD2 Parameters'!$H$13/1000","v":0.35908324571428568},{"$f":"Q26*'5. UD2 Parameters'!$H$15*'5. UD2 Parameters'!$H$13/1000","v":6.890165016428571},{"$f":"R26*'5. UD2 Parameters'!$H$16/1000","v":0.10700680722285713},{"$f":"S26*'5. UD2 Parameters'!$H$16/1000","v":2.0532691748957141},{"$f":"'UD2 CropScenarios'!T26+'UD2 CropScenarios'!U26","v":2.1602759821185713},{"$f":"'UD2 CropScenarios'!O26+'UD2 CropScenarios'!V26","v":85.350296415329424},11449242.964305623,2665224,962068.5,{"$f":"((X26*'5. UD2 Parameters'!$H$18)+(Z26*'5. UD2 Parameters'!$H$19))*'5. UD2 Parameters'!$H$24*'5. UD2 Parameters'!$H$21/1000","v":21.015311372480269},{"$f":"AA26*'5. UD2 Parameters'!$H$22/1000","v":6.2625627889991202},{"$f":"((X26+Y26+Z26)*'5. UD2 Parameters'!$H$20*'5. UD2 Parameters'!$H$23*'5. UD2 Parameters'!$H$21)/1000","v":53.306321820223452},{"$f":"AC26*'5. UD2 Parameters'!$H$22/1000","v":15.885283902426588},22.147846691425709,109.58220560675514,null,null,null,{"$f":"INDEX((DirN2OManSoilPol!$U$15:$U$43),MATCH(A26,DirN2OManSoilPol!$A$15:A$43,0))","v":86.15381686649431},null,null,null,{"$f":"'6. UD2 Assumptions'!B33","v":47500},{"$f":"'6. UD2 Assumptions'!F33","v":0.08},3800,{"$f":"AP26*'5. UD2 Parameters'!$H$6*'5. UD2 Parameters'!$H$7*'5. UD2 Parameters'!$H$8/1000","v":66.69},{"$f":"AQ26*'5. UD2 Parameters'!$H$9/1000","v":1.6672499999999999},0.41681250000000003,109.16539310675513,null,53.615169195705469,{"$f":"'UD2 CropScenarios'!F26*'6. UD2 Assumptions'!K33","v":9960841.3789458908},{"$f":"AW26*'5. UD2 Parameters'!$H$12*'5. UD2 Parameters'!$H$13/1000","v":156.52750738343542},{"$f":"AX26*'5. UD2 Parameters'!$H$16/1000","v":46.645197200263759},46.645197200263759,6.9699719954417105,103.41575406247831,null,{"$f":"'6. UD2 Assumptions'!Q33*'6. UD2 Assumptions'!$O$15*'6. UD2 Assumptions'!S33","v":12.194012918076822},{"$f":"'6. UD2 Assumptions'!Q33*'6. UD2 Assumptions'!$O$16*'6. UD2 Assumptions'!S33","v":40.646709726922744},{"$f":"'6. UD2 Assumptions'!Q33*'6. UD2 Assumptions'!$O$17*'6. UD2 Assumptions'!S33","v":9.7552103344614576},62.595932979461026,{"$f":"'UD2 CropScenarios'!BG26*'5. UD2 Parameters'!$H$27","v":31.297966489730513},{"$f":"BH26*'5. UD2 Parameters'!$H$28*1000000","v":547714.41357028403},{"$f":"BI26*'5. UD2 Parameters'!$H$12*'5. UD2 Parameters'!$H$13*'5. UD2 Parameters'!$H$16/1000000","v":2.564868353833416},2.564868353833416,105.98062241631173,null,9960841.3789458908,{"$f":"'UD2 CropScenarios'!Y26","v":2665224},1509782.9135702839,{"$f":"(((BN26*'5. UD2 Parameters'!$H$18)+(BP26*'5. UD2 Parameters'!$H$19))*('5. UD2 Parameters'!$H$24*'5. UD2 Parameters'!$H$21))/1000","v":20.39778275242158},{"$f":"BQ26*'5. UD2 Parameters'!$H$22/1000","v":6.078539260221631},{"$f":"((BN26+BO26+BP26)*'5. UD2 Parameters'!$H$20*'5. UD2 Parameters'!$H$23*'5. UD2 Parameters'!$H$21)/1000","v":49.980320748539327},{"$f":"BS26*'5. UD2 Parameters'!$H$22/1000","v":14.894135583064719},20.972674843286349,1.1751718481393603,104.80545056817238,null,104.38863806817237,5.1935675385827693,null,null,null,109.58220560675514,109.16539310675513,103.41575406247831,104.80545056817238,104.38863806817237,null,109.58220560675514,109.16539310675513,103.41575406247831,104.80545056817238,104.38863806817237,null,0,0,0,0,0]
[2025,{"$f":"'6. UD2 Assumptions'!C34","v":47000},{"$f":"B27*'5. UD2 Parameters'!$H$10","v":4700},{"$f":"C27*'5. UD2 Parameters'!$H$6*'5. UD2 Parameters'!$H$7*'5. UD2 Parameters'!$H$8/1000","v":82.484999999999999},{"$f":"D27*'5. UD2 Parameters'!$H$9/1000","v":2.062125},11449242.964305623,2665224,{"$f":"MMS!W90","v":3667066.5423237192},{"$f":"'UD2 CropScenarios'!F27*'5. UD2 Parameters'!$H$12*'5. UD2 Parameters'!$H$13/1000","v":179.91667515337406},{"$f":"G27*'5. UD2 Parameters'!$H$12*'5. UD2 Parameters'!$H$13/1000","v":41.882091428571428},{"$f":"H27*'5. UD2 Parameters'!$H$12*'5. UD2 Parameters'!$H$13/1000","v":57.625331379372739},{"$f":"I27*'5. UD2 Parameters'!$H$16/1000","v":53.615169195705469},{"$f":"J27*'5. UD2 Parameters'!$H$16/1000","v":12.480863245714286},{"$f":"K27*'5. UD2 Parameters'!$H$16/1000","v":17.172348751053075},{"$f":"SUM('UD2 CropScenarios'!L27:N27)","v":83.26838119247283},{"$f":"MMS!W92","v":11297.48},{"$f":"MMS!W91","v":438465.0465},{"$f":"P27*'5. UD2 Parameters'!$H$14*'5. UD2 Parameters'!$H$13/1000","v":0.35506365714285715},{"$f":"Q27*'5. UD2 Parameters'!$H$15*'5. UD2 Parameters'!$H$13/1000","v":6.890165016428571},{"$f":"R27*'5. UD2 Parameters'!$H$16/1000","v":0.10580896982857144},{"$f":"S27*'5. UD2 Parameters'!$H$16/1000","v":2.0532691748957141},{"$f":"'UD2 CropScenarios'!T27+'UD2 CropScenarios'!U27","v":2.1590781447242855},{"$f":"'UD2 CropScenarios'!O27+'UD2 CropScenarios'!V27","v":85.427459337197121},11449242.964305623,2665224,962068.5,{"$f":"((X27*'5. UD2 Parameters'!$H$18)+(Z27*'5. UD2 Parameters'!$H$19))*'5. UD2 Parameters'!$H$24*'5. UD2 Parameters'!$H$21/1000","v":21.015311372480269},{"$f":"AA27*'5. UD2 Parameters'!$H$22/1000","v":6.2625627889991202},{"$f":"((X27+Y27+Z27)*'5. UD2 Parameters'!$H$20*'5. UD2 Parameters'!$H$23*'5. UD2 Parameters'!$H$21)/1000","v":53.306321820223452},{"$f":"AC27*'5. UD2 Parameters'!$H$22/1000","v":15.885283902426588},22.147846691425709,109.63743102862283,null,null,null,{"$f":"INDEX((DirN2OManSoilPol!$U$15:$U$43),MATCH(A27,DirN2OManSoilPol!$A$15:A$43,0))","v":86.308001109381095},null,null,null,{"$f":"'6. UD2 Assumptions'!B34","v":47000},{"$f":"'6. UD2 Assumptions'!F34","v":0.08},3760,{"$f":"AP27*'5. UD2 Parameters'!$H$6*'5. UD2 Parameters'!$H$7*'5. UD2 Parameters'!$H$8/1000","v":65.988},{"$f":"AQ27*'5. UD2 Parameters'!$H$9/1000","v":1.6496999999999999},0.41242500000000004,109.22500602862283,null,53.615169195705469,{"$f":"'UD2 CropScenarios'!F27*'6. UD2 Assumptions'!K34","v":9731856.5196597781},{"$f":"AW27*'5. UD2 Parameters'!$H$12*'5. UD2 Parameters'!$H$13/1000","v":152.92917388036796},{"$f":"AX27*'5. UD2 Parameters'!$H$16/1000","v":45.572893816349648},45.572893816349648,8.0422753793558215,102.47569742145097,null,{"$f":"'6. UD2 Assumptions'!Q34*'6. UD2 Assumptions'!$O$15*'6. UD2 Assumptions'!S34","v":13.992629823493152},{"$f":"'6. UD2 Assumptions'!Q34*'6. UD2 Assumptions'!$O$16*'6. UD2 Assumptions'!S34","v":46.642099411643841},{"$f":"'6. UD2 Assumptions'!Q34*'6. UD2 Assumptions'!$O$17*'6. UD2 Assumptions'!S34","v":11.194103858794522},71.828833093931522,{"$f":"'UD2 CropScenarios'!BG27*'5. UD2 Parameters'!$H$27","v":35.914416546965761},{"$f":"BH27*'5. UD2 Parameters'!$H$28*1000000","v":628502.28957190085},{"$f":"BI27*'5. UD2 Parameters'!$H$12*'5. UD2 Parameters'!$H$13*'5. UD2 Parameters'!$H$16/1000000","v":2.9431864360238444},2.9431864360238444,105.41888385747482,null,9731856.5196597781,{"$f":"'UD2 CropScenarios'!Y27","v":2665224},1590570.7895719009,{"$f":"(((BN27*'5. UD2 Parameters'!$H$18)+(BP27*'5. UD2 Parameters'!$H$19))*('5. UD2 Parameters'!$H$24*'5. UD2 Parameters'!$H$21))/1000","v":20.291854155262772},{"$f":"BQ27*'5. UD2 Parameters'!$H$22/1000","v":6.0469725382683066},{"$f":"((BN27+BO27+BP27)*'5. UD2 Parameters'!$H$20*'5. UD2 Parameters'!$H$23*'5. UD2 Parameters'!$H$21)/1000","v":49.456338557640571},{"$f":"BS27*'5. UD2 Parameters'!$H$22/1000","v":14.73798889017689},20.784961428445197,1.3628852629805124,104.05599859449431,null,103.64357359449431,5.9938574341285147,null,null,null,109.63743102862283,109.22500602862283,102.47569742145097,104.05599859449431,103.64357359449431,null,109.63743102862283,109.22500602862283,102.47569742145097,104.05599859449431,103.64357359449431,null,0,0,0,0,0]
[2026,{"$f":"'6. UD2 Assumptions'!C35","v":46500},{"$f":"B28*'5. UD2 Parameters'!$H$10","v":4650},{"$f":"C28*'5. UD2 Parameters'!$H$6*'5. UD2 Parameters'!$H$7*'5. UD2 Parameters'!$H$8/1000","v":81.607500000000002},{"$f":"D28*'5. UD2 Parameters'!$H$9/1000","v":2.0401875},11449242.964305623,2665224,{"$f":"H27+($H$32-$H$27)/5","v":3675618.4624506915},{"$f":"'UD2 CropScenarios'!F28*'5. UD2 Parameters'!$H$12*'5. UD2 Parameters'!$H$13/1000","v":179.91667515337406},{"$f":"G28*'5. UD2 Parameters'!$H$12*'5. UD2 Parameters'!$H$13/1000","v":41.882091428571428},{"$f":"H28*'5. UD2 Parameters'!$H$12*'5. UD2 Parameters'!$H$13/1000","v":57.759718695653724},{"$f":"I28*'5. UD2 Parameters'!$H$16/1000","v":53.615169195705469},{"$f":"J28*'5. UD2 Parameters'!$H$16/1000","v":12.480863245714286},{"$f":"K28*'5. UD2 Parameters'!$H$16/1000","v":17.212396171304807},{"$f":"SUM('UD2 CropScenarios'!L28:N28)","v":83.308428612724555},{"$f":"P27+($P$32-$P$27)/5","v":11233.531999999999},{"$f":"Q27+($Q$32-$Q$27)/5","v":439746.19650000002},{"$f":"P28*'5. UD2 Parameters'!$H$14*'5. UD2 Parameters'!$H$13/1000","v":0.35305386285714285},{"$f":"Q28*'5. UD2 Parameters'!$H$15*'5. UD2 Parameters'!$H$13/1000","v":6.9102973735714297},{"$f":"R28*'5. UD2 Parameters'!$H$16/1000","v":0.10521005113142858},{"$f":"S28*'5. UD2 Parameters'!$H$16/1000","v":2.0592686173242858},{"$f":"'UD2 CropScenarios'!T28+'UD2 CropScenarios'!U28","v":2.1644786684557142},{"$f":"'UD2 CropScenarios'!O28+'UD2 CropScenarios'!V28","v":85.472907281180269},11449242.964305623,2665224,962068.5,{"$f":"((X28*'5. UD2 Parameters'!$H$18)+(Z28*'5. UD2 Parameters'!$H$19))*'5. UD2 Parameters'!$H$24*'5. UD2 Parameters'!$H$21/1000","v":21.015311372480269},{"$f":"AA28*'5. UD2 Parameters'!$H$22/1000","v":6.2625627889991202},{"$f":"((X28+Y28+Z28)*'5. UD2 Parameters'!$H$20*'5. UD2 Parameters'!$H$23*'5. UD2 Parameters'!$H$21)/1000","v":53.306321820223452},{"$f":"AC28*'5. UD2 Parameters'!$H$22/1000","v":15.885283902426588},22.147846691425709,109.66094147260598,null,null,null,{"$f":"INDEX((DirN2OManSoilPol!$U$15:$U$43),MATCH(A28,DirN2OManSoilPol!$A$15:A$43,0))","v":86.423927252572625},null,null,null,{"$f":"'6. UD2 Assumptions'!B35","v":46500},{"$f":"'6. UD2 Assumptions'!F35","v":0.08},3720,{"$f":"AP28*'5. UD2 Parameters'!$H$6*'5. UD2 Parameters'!$H$7*'5. UD2 Parameters'!$H$8/1000","v":65.286000000000001},{"$f":"AQ28*'5. UD2 Parameters'!$H$9/1000","v":1.63215},0.40803750000000005,109.25290397260598,null,53.615169195705469,{"$f":"'UD2 CropScenarios'!F28*'6. UD2 Assumptions'!K35","v":9502871.6603736654},{"$f":"AW28*'5. UD2 Parameters'!$H$12*'5. UD2 Parameters'!$H$13/1000","v":149.33084037730046},{"$f":"AX28*'5. UD2 Parameters'!$H$16/1000","v":44.500590432435537},44.500590432435537,9.1145787632699324,101.49738268072841,null,{"$f":"'6. UD2 Assumptions'!Q35*'6. UD2 Assumptions'!$O$15*'6. UD2 Assumptions'!S35","v":15.858313799958903},{"$f":"'6. UD2 Assumptions'!Q35*'6. UD2 Assumptions'!$O$16*'6. UD2 Assumptions'!S35","v":52.861045999863016},{"$f":"'6. UD2 Assumptions'!Q35*'6. UD2 Assumptions'!$O$17*'6. UD2 Assumptions'!S35","v":12.686651039967122},81.406010839789033,{"$f":"'UD2 CropScenarios'!BG28*'5. UD2 Parameters'!$H$27","v":40.703005419894517},{"$f":"BH28*'5. UD2 Parameters'!$H$28*1000000","v":712302.59484815411},{"$f":"BI28*'5. UD2 Parameters'!$H$12*'5. UD2 Parameters'!$H$13*'5. UD2 Parameters'!$H$16/1000000","v":3.3356112941603562},3.3356112941603562,104.83299397488877,null,9502871.6603736654,{"$f":"'UD2 CropScenarios'!Y28","v":2665224},1674371.0948481541,{"$f":"(((BN28*'5. UD2 Parameters'!$H$18)+(BP28*'5. UD2 Parameters'!$H$19))*('5. UD2 Parameters'!$H$24*'5. UD2 Parameters'!$H$21))/1000","v":20.195393192967106},{"$f":"BQ28*'5. UD2 Parameters'!$H$22/1000","v":6.0182271715041979},{"$f":"((BN28+BO28+BP28)*'5. UD2 Parameters'!$H$20*'5. UD2 Parameters'!$H$23*'5. UD2 Parameters'!$H$21)/1000","v":48.943007455962857},{"$f":"BS28*'5. UD2 Parameters'!$H$22/1000","v":14.585016221876931},20.603243393381128,1.5446032980445814,103.28839067684419,null,102.88035317684418,6.7805882957618024,null,null,null,109.66094147260598,109.25290397260598,101.49738268072841,103.28839067684419,102.88035317684418,null,109.66094147260598,109.25290397260598,101.49738268072841,103.28839067684419,102.88035317684418,null,0,0,0,0,0]
[2027,{"$f":"'6. UD2 Assumptions'!C36","v":46000},{"$f":"B29*'5. UD2 Parameters'!$H$10","v":4600},{"$f":"C29*'5. UD2 Parameters'!$H$6*'5. UD2 Parameters'!$H$7*'5. UD2 Parameters'!$H$8/1000","v":80.73},{"$f":"D29*'5. UD2 Parameters'!$H$9/1000","v":2.0182500000000001},11449242.964305623,2665224,{"$f":"H28+($H$32-$H$27)/5","v":3684170.3825776638},{"$f":"'UD2 CropScenarios'!F29*'5. UD2 Parameters'!$H$12*'5. UD2 Parameters'!$H$13/1000","v":179.91667515337406},{"$f":"G29*'5. UD2 Parameters'!$H$12*'5. UD2 Parameters'!$H$13/1000","v":41.882091428571428},{"$f":"H29*'5. UD2 Parameters'!$H$12*'5. UD2 Parameters'!$H$13/1000","v":57.894106011934717},{"$f":"I29*'5. UD2 Parameters'!$H$16/1000","v":53.615169195705469},{"$f":"J29*'5. UD2 Parameters'!$H$16/1000","v":12.480863245714286},{"$f":"K29*'5. UD2 Parameters'!$H$16/1000","v":17.252443591556545},{"$f":"SUM('UD2 CropScenarios'!L29:N29)","v":83.348476032976293},{"$f":"P28+($P$32-$P$27)/5","v":11169.583999999999},{"$f":"Q28+($Q$32-$Q$27)/5","v":441027.34650000004},{"$f":"P29*'5. UD2 Parameters'!$H$14*'5. UD2 Parameters'!$H$13/1000","v":0.3510440685714285},{"$f":"Q29*'5. UD2 Parameters'!$H$15*'5. UD2 Parameters'!$H$13/1000","v":6.9304297307142857},{"$f":"R29*'5. UD2 Parameters'!$H$16/1000","v":0.10461113243428569},{"$f":"S29*'5. UD2 Parameters'!$H$16/1000","v":2.065268059752857},{"$f":"'UD2 CropScenarios'!T29+'UD2 CropScenarios'!U29","v":2.1698791921871425},{"$f":"'UD2 CropScenarios'!O29+'UD2 CropScenarios'!V29","v":85.518355225163432},11449242.964305623,2665224,962068.5,{"$f":"((X29*'5. UD2 Parameters'!$H$18)+(Z29*'5. UD2 Parameters'!$H$19))*'5. UD2 Parameters'!$H$24*'5. UD2 Parameters'!$H$21/1000","v":21.015311372480269},{"$f":"AA29*'5. UD2 Parameters'!$H$22/1000","v":6.2625627889991202},{"$f":"((X29+Y29+Z29)*'5. UD2 Parameters'!$H$20*'5. UD2 Parameters'!$H$23*'5. UD2 Parameters'!$H$21)/1000","v":53.306321820223452},{"$f":"AC29*'5. UD2 Parameters'!$H$22/1000","v":15.885283902426588},22.147846691425709,109.68445191658914,null,null,null,{"$f":"INDEX((DirN2OManSoilPol!$U$15:$U$43),MATCH(A29,DirN2OManSoilPol!$A$15:A$43,0))","v":86.539853395764169},null,null,null,{"$f":"'6. UD2 Assumptions'!B36","v":46000},{"$f":"'6. UD2 Assumptions'!F36","v":0.08},3680,{"$f":"AP29*'5. UD2 Parameters'!$H$6*'5. UD2 Parameters'!$H$7*'5. UD2 Parameters'!$H$8/1000","v":64.584000000000003},{"$f":"AQ29*'5. UD2 Parameters'!$H$9/1000","v":1.6146},0.40365000000000006,109.28080191658914,null,53.615169195705469,{"$f":"'UD2 CropScenarios'!F29*'6. UD2 Assumptions'!K36","v":9273886.8010875527},{"$f":"AW29*'5. UD2 Parameters'!$H$12*'5. UD2 Parameters'!$H$13/1000","v":145.73250687423297},{"$f":"AX29*'5. UD2 Parameters'!$H$16/1000","v":43.428287048521426},43.428287048521426,10.186882147184043,100.51906794000584,null,{"$f":"'6. UD2 Assumptions'!Q36*'6. UD2 Assumptions'!$O$15*'6. UD2 Assumptions'!S36","v":19.4105760911497},{"$f":"'6. UD2 Assumptions'!Q36*'6. UD2 Assumptions'!$O$16*'6. UD2 Assumptions'!S36","v":64.701920303832324},{"$f":"'6. UD2 Assumptions'!Q36*'6. UD2 Assumptions'!$O$17*'6. UD2 Assumptions'!S36","v":15.528460872919757},99.640957267901783,{"$f":"'UD2 CropScenarios'!BG29*'5. UD2 Parameters'!$H$27","v":49.820478633950891},{"$f":"BH29*'5. UD2 Parameters'!$H$28*1000000","v":871858.37609414058},{"$f":"BI29*'5. UD2 Parameters'!$H$12*'5. UD2 Parameters'!$H$13*'5. UD2 Parameters'!$H$16/1000000","v":4.0827882240522761},4.0827882240522761,104.60185616405812,null,9273886.8010875527,{"$f":"'UD2 CropScenarios'!Y29","v":2665224},1833926.8760941406,{"$f":"(((BN29*'5. UD2 Parameters'!$H$18)+(BP29*'5. UD2 Parameters'!$H$19))*('5. UD2 Parameters'!$H$24*'5. UD2 Parameters'!$H$21))/1000","v":20.337020869433459},{"$f":"BQ29*'5. UD2 Parameters'!$H$22/1000","v":6.0604322190911706},{"$f":"((BN29+BO29+BP29)*'5. UD2 Parameters'!$H$20*'5. UD2 Parameters'!$H$23*'5. UD2 Parameters'!$H$21)/1000","v":48.697526072892408},{"$f":"BS29*'5. UD2 Parameters'!$H$22/1000","v":14.511862769721938},20.572294988813109,1.5755517026126,103.02630446144552,null,102.62265446144552,7.0617974551436191,null,null,null,109.68445191658914,109.28080191658914,100.51906794000584,103.02630446144552,102.62265446144552,null,109.68445191658914,109.28080191658914,100.51906794000584,103.02630446144552,102.62265446144552,null,0,0,0,0,0]
[2028,{"$f":"'6. UD2 Assumptions'!C37","v":45500},{"$f":"B30*'5. UD2 Parameters'!$H$10","v":4550},{"$f":"C30*'5. UD2 Parameters'!$H$6*'5. UD2 Parameters'!$H$7*'5. UD2 Parameters'!$H$8/1000","v":79.852500000000006},{"$f":"D30*'5. UD2 Parameters'!$H$9/1000","v":1.9963125000000002},11449242.964305623,2665224,{"$f":"H29+($H$32-$H$27)/5","v":3692722.302704636},{"$f":"'UD2 CropScenarios'!F30*'5. UD2 Parameters'!$H$12*'5. UD2 Parameters'!$H$13/1000","v":179.91667515337406},{"$f":"G30*'5. UD2 Parameters'!$H$12*'5. UD2 Parameters'!$H$13/1000","v":41.882091428571428},{"$f":"H30*'5. UD2 Parameters'!$H$12*'5. UD2 Parameters'!$H$13/1000","v":58.028493328215717},{"$f":"I30*'5. UD2 Parameters'!$H$16/1000","v":53.615169195705469},{"$f":"J30*'5. UD2 Parameters'!$H$16/1000","v":12.480863245714286},{"$f":"K30*'5. UD2 Parameters'!$H$16/1000","v":17.292491011808284},{"$f":"SUM('UD2 CropScenarios'!L30:N30)","v":83.388523453228032},{"$f":"P29+($P$32-$P$27)/5","v":11105.635999999999},{"$f":"Q29+($Q$32-$Q$27)/5","v":442308.49650000007},{"$f":"P30*'5. UD2 Parameters'!$H$14*'5. UD2 Parameters'!$H$13/1000","v":0.34903427428571421},{"$f":"Q30*'5. UD2 Parameters'!$H$15*'5. UD2 Parameters'!$H$13/1000","v":6.9505620878571444},{"$f":"R30*'5. UD2 Parameters'!$H$16/1000","v":0.10401221373714283},{"$f":"S30*'5. UD2 Parameters'!$H$16/1000","v":2.0712675021814291},{"$f":"'UD2 CropScenarios'!T30+'UD2 CropScenarios'!U30","v":2.1752797159185717},{"$f":"'UD2 CropScenarios'!O30+'UD2 CropScenarios'!V30","v":85.56380316914661},11449242.964305623,2665224,962068.5,{"$f":"((X30*'5. UD2 Parameters'!$H$18)+(Z30*'5. UD2 Parameters'!$H$19))*'5. UD2 Parameters'!$H$24*'5. UD2 Parameters'!$H$21/1000","v":21.015311372480269},{"$f":"AA30*'5. UD2 Parameters'!$H$22/1000","v":6.2625627889991202},{"$f":"((X30+Y30+Z30)*'5. UD2 Parameters'!$H$20*'5. UD2 Parameters'!$H$23*'5. UD2 Parameters'!$H$21)/1000","v":53.306321820223452},{"$f":"AC30*'5. UD2 Parameters'!$H$22/1000","v":15.885283902426588},22.147846691425709,109.70796236057232,null,null,null,{"$f":"INDEX((DirN2OManSoilPol!$U$15:$U$43),MATCH(A30,DirN2OManSoilPol!$A$15:A$43,0))","v":86.655779538955713},null,null,null,{"$f":"'6. UD2 Assumptions'!B37","v":45500},{"$f":"'6. UD2 Assumptions'!F37","v":0.08},3640,{"$f":"AP30*'5. UD2 Parameters'!$H$6*'5. UD2 Parameters'!$H$7*'5. UD2 Parameters'!$H$8/1000","v":63.882000000000005},{"$f":"AQ30*'5. UD2 Parameters'!$H$9/1000","v":1.5970500000000001},0.39926250000000008,109.30869986057232,null,53.615169195705469,{"$f":"'UD2 CropScenarios'!F30*'6. UD2 Assumptions'!K37","v":9044901.94180144},{"$f":"AW30*'5. UD2 Parameters'!$H$12*'5. UD2 Parameters'!$H$13/1000","v":142.1341733711655},{"$f":"AX30*'5. UD2 Parameters'!$H$16/1000","v":42.355983664607315},42.355983664607315,11.259185531098154,99.540753199283273,null,{"$f":"'6. UD2 Assumptions'!Q37*'6. UD2 Assumptions'!$O$15*'6. UD2 Assumptions'!S37","v":21.448686580720416},{"$f":"'6. UD2 Assumptions'!Q37*'6. UD2 Assumptions'!$O$16*'6. UD2 Assumptions'!S37","v":71.495621935734718},{"$f":"'6. UD2 Assumptions'!Q37*'6. UD2 Assumptions'!$O$17*'6. UD2 Assumptions'!S37","v":17.158949264576336},110.10325778103147,{"$f":"'UD2 CropScenarios'!BG30*'5. UD2 Parameters'!$H$27","v":55.051628890515737},{"$f":"BH30*'5. UD2 Parameters'!$H$28*1000000","v":963403.50558402541},{"$f":"BI30*'5. UD2 Parameters'!$H$12*'5. UD2 Parameters'!$H$13*'5. UD2 Parameters'!$H$16/1000000","v":4.5114809875777651},4.5114809875777651,104.05223418686104,null,9044901.94180144,{"$f":"'UD2 CropScenarios'!Y30","v":2665224},1925472.0055840253,{"$f":"(((BN30*'5. UD2 Parameters'!$H$18)+(BP30*'5. UD2 Parameters'!$H$19))*('5. UD2 Parameters'!$H$24*'5. UD2 Parameters'!$H$21))/1000","v":20.264900783237771},{"$f":"BQ30*'5. UD2 Parameters'!$H$22/1000","v":6.0389404334048562},{"$f":"((BN30+BO30+BP30)*'5. UD2 Parameters'!$H$20*'5. UD2 Parameters'!$H$23*'5. UD2 Parameters'!$H$21)/1000","v":48.211578456827176},{"$f":"BS30*'5. UD2 Parameters'!$H$22/1000","v":14.367050380134499},20.405990813539354,1.7418558778863549,102.31037830897469,null,101.91111580897469,7.7968465515976391,null,null,null,109.70796236057232,109.30869986057232,99.540753199283273,102.31037830897469,101.91111580897469,null,109.70796236057232,109.30869986057232,99.540753199283273,102.31037830897469,101.91111580897469,null,0,0,0,0,0]
[2029,{"$f":"'6. UD2 Assumptions'!C38","v":45250},{"$f":"B31*'5. UD2 Parameters'!$H$10","v":4525},{"$f":"C31*'5. UD2 Parameters'!$H$6*'5. UD2 Parameters'!$H$7*'5. UD2 Parameters'!$H$8/1000","v":79.413749999999993},{"$f":"D31*'5. UD2 Parameters'!$H$9/1000","v":1.9853437499999997},11449242.964305623,2665224,{"$f":"H30+($H$32-$H$27)/5","v":3701274.2228316083},{"$f":"'UD2 CropScenarios'!F31*'5. UD2 Parameters'!$H$12*'5. UD2 Parameters'!$H$13/1000","v":179.91667515337406},{"$f":"G31*'5. UD2 Parameters'!$H$12*'5. UD2 Parameters'!$H$13/1000","v":41.882091428571428},{"$f":"H31*'5. UD2 Parameters'!$H$12*'5. UD2 Parameters'!$H$13/1000","v":58.162880644496703},{"$f":"I31*'5. UD2 Parameters'!$H$16/1000","v":53.615169195705469},{"$f":"J31*'5. UD2 Parameters'!$H$16/1000","v":12.480863245714286},{"$f":"K31*'5. UD2 Parameters'!$H$16/1000","v":17.332538432060016},{"$f":"SUM('UD2 CropScenarios'!L31:N31)","v":83.428570873479771},{"$f":"P30+($P$32-$P$27)/5","v":11041.687999999998},{"$f":"Q30+($Q$32-$Q$27)/5","v":443589.64650000009},{"$f":"P31*'5. UD2 Parameters'!$H$14*'5. UD2 Parameters'!$H$13/1000","v":0.34702447999999997},{"$f":"Q31*'5. UD2 Parameters'!$H$15*'5. UD2 Parameters'!$H$13/1000","v":6.9706944450000012},{"$f":"R31*'5. UD2 Parameters'!$H$16/1000","v":0.10341329503999999},{"$f":"S31*'5. UD2 Parameters'!$H$16/1000","v":2.0772669446100003},{"$f":"'UD2 CropScenarios'!T31+'UD2 CropScenarios'!U31","v":2.1806802396500005},{"$f":"'UD2 CropScenarios'!O31+'UD2 CropScenarios'!V31","v":85.609251113129773},11449242.964305623,2665224,962068.5,{"$f":"((X31*'5. UD2 Parameters'!$H$18)+(Z31*'5. UD2 Parameters'!$H$19))*'5. UD2 Parameters'!$H$24*'5. UD2 Parameters'!$H$21/1000","v":21.015311372480269},{"$f":"AA31*'5. UD2 Parameters'!$H$22/1000","v":6.2625627889991202},{"$f":"((X31+Y31+Z31)*'5. UD2 Parameters'!$H$20*'5. UD2 Parameters'!$H$23*'5. UD2 Parameters'!$H$21)/1000","v":53.306321820223452},{"$f":"AC31*'5. UD2 Parameters'!$H$22/1000","v":15.885283902426588},22.147846691425709,109.74244155455548,null,null,null,{"$f":"INDEX((DirN2OManSoilPol!$U$15:$U$43),MATCH(A31,DirN2OManSoilPol!$A$15:A$43,0))","v":86.771705682147271},null,null,null,{"$f":"'6. UD2 Assumptions'!B38","v":45250},{"$f":"'6. UD2 Assumptions'!F38","v":0.08},3620,{"$f":"AP31*'5. UD2 Parameters'!$H$6*'5. UD2 Parameters'!$H$7*'5. UD2 Parameters'!$H$8/1000","v":63.531000000000006},{"$f":"AQ31*'5. UD2 Parameters'!$H$9/1000","v":1.5882750000000001},0.39706874999999964,109.34537280455548,null,53.615169195705469,{"$f":"'UD2 CropScenarios'!F31*'6. UD2 Assumptions'!K38","v":8815917.0825153273},{"$f":"AW31*'5. UD2 Parameters'!$H$12*'5. UD2 Parameters'!$H$13/1000","v":138.53583986809801},{"$f":"AX31*'5. UD2 Parameters'!$H$16/1000","v":41.283680280693211},41.283680280693211,12.331488915012258,98.573407208560724,null,{"$f":"'6. UD2 Assumptions'!Q38*'6. UD2 Assumptions'!$O$15*'6. UD2 Assumptions'!S38","v":23.560557259437509},{"$f":"'6. UD2 Assumptions'!Q38*'6. UD2 Assumptions'!$O$16*'6. UD2 Assumptions'!S38","v":78.535190864791687},{"$f":"'6. UD2 Assumptions'!Q38*'6. UD2 Assumptions'!$O$17*'6. UD2 Assumptions'!S38","v":18.848445807550004},120.94419393177921,{"$f":"'UD2 CropScenarios'!BG31*'5. UD2 Parameters'!$H$27","v":60.472096965889605},{"$f":"BH31*'5. UD2 Parameters'!$H$28*1000000","v":1058261.6969030683},{"$f":"BI31*'5. UD2 Parameters'!$H$12*'5. UD2 Parameters'!$H$13*'5. UD2 Parameters'!$H$16/1000000","v":4.9556883463546546},4.9556883463546546,103.52909555491537,null,8815917.0825153273,{"$f":"'UD2 CropScenarios'!Y31","v":2665224},2020330.1969030683,{"$f":"(((BN31*'5. UD2 Parameters'!$H$18)+(BP31*'5. UD2 Parameters'!$H$19))*('5. UD2 Parameters'!$H$24*'5. UD2 Parameters'!$H$21))/1000","v":20.203193177076589},{"$f":"BQ31*'5. UD2 Parameters'!$H$22/1000","v":6.0205515667688232},{"$f":"((BN31+BO31+BP31)*'5. UD2 Parameters'!$H$20*'5. UD2 Parameters'!$H$23*'5. UD2 Parameters'!$H$21)/1000","v":47.737344880800755},{"$f":"BS31*'5. UD2 Parameters'!$H$22/1000","v":14.225728774478624},20.246280341247449,1.9015663501782605,101.62752920473712,null,101.23046045473711,8.5119810998183709,null,null,null,109.74244155455548,109.34537280455548,98.573407208560724,101.62752920473712,101.23046045473711,null,109.74244155455548,109.34537280455548,98.573407208560724,101.62752920473712,101.23046045473711,null,0,0,0,0,0]
[2030,{"$f":"'6. UD2 Assumptions'!C39","v":45000},{"$f":"B32*'5. UD2 Parameters'!$H$10","v":4500},{"$f":"C32*'5. UD2 Parameters'!$H$6*'5. UD2 Parameters'!$H$7*'5. UD2 Parameters'!$H$8/1000","v":78.974999999999994},{"$f":"D32*'5. UD2 Parameters'!$H$9/1000","v":1.9743749999999998},11449242.964305623,2665224,{"$f":"MMS!X90","v":3709826.1429585796},{"$f":"'UD2 CropScenarios'!F32*'5. UD2 Parameters'!$H$12*'5. UD2 Parameters'!$H$13/1000","v":179.91667515337406},{"$f":"G32*'5. UD2 Parameters'!$H$12*'5. UD2 Parameters'!$H$13/1000","v":41.882091428571428},{"$f":"H32*'5. UD2 Parameters'!$H$12*'5. UD2 Parameters'!$H$13/1000","v":58.297267960777688},{"$f":"I32*'5. UD2 Parameters'!$H$16/1000","v":53.615169195705469},{"$f":"J32*'5. UD2 Parameters'!$H$16/1000","v":12.480863245714286},{"$f":"K32*'5. UD2 Parameters'!$H$16/1000","v":17.372585852311751},{"$f":"SUM('UD2 CropScenarios'!L32:N32)","v":83.46861829373151},{"$f":"MMS!X92","v":10977.74},{"$f":"MMS!X91","v":444870.7965},{"$f":"P32*'5. UD2 Parameters'!$H$14*'5. UD2 Parameters'!$H$13/1000","v":0.34501468571428567},{"$f":"Q32*'5. UD2 Parameters'!$H$15*'5. UD2 Parameters'!$H$13/1000","v":6.9908268021428572},{"$f":"R32*'5. UD2 Parameters'!$H$16/1000","v":0.10281437634285713},{"$f":"S32*'5. UD2 Parameters'!$H$16/1000","v":2.0832663870385715},{"$f":"'UD2 CropScenarios'!T32+'UD2 CropScenarios'!U32","v":2.1860807633814288},{"$f":"'UD2 CropScenarios'!O32+'UD2 CropScenarios'!V32","v":85.654699057112936},11449242.964305623,2665224,962068.5,{"$f":"((X32*'5. UD2 Parameters'!$H$18)+(Z32*'5. UD2 Parameters'!$H$19))*'5. UD2 Parameters'!$H$24*'5. UD2 Parameters'!$H$21/1000","v":21.015311372480269},{"$f":"AA32*'5. UD2 Parameters'!$H$22/1000","v":6.2625627889991202},{"$f":"((X32+Y32+Z32)*'5. UD2 Parameters'!$H$20*'5. UD2 Parameters'!$H$23*'5. UD2 Parameters'!$H$21)/1000","v":53.306321820223452},{"$f":"AC32*'5. UD2 Parameters'!$H$22/1000","v":15.885283902426588},22.147846691425709,109.77692074853864,null,null,null,{"$f":"INDEX((DirN2OManSoilPol!$U$15:$U$43),MATCH(A32,DirN2OManSoilPol!$A$15:A$43,0))","v":86.887631825338815},null,null,null,{"$f":"'6. UD2 Assumptions'!B39","v":45000},{"$f":"'6. UD2 Assumptions'!F39","v":0.08},3600,{"$f":"AP32*'5. UD2 Parameters'!$H$6*'5. UD2 Parameters'!$H$7*'5. UD2 Parameters'!$H$8/1000","v":63.180000000000007},{"$f":"AQ32*'5. UD2 Parameters'!$H$9/1000","v":1.5795000000000001},0.39487499999999964,109.38204574853864,null,53.615169195705469,{"$f":"'UD2 CropScenarios'!F32*'6. UD2 Assumptions'!K39","v":8586932.2232292145},{"$f":"AW32*'5. UD2 Parameters'!$H$12*'5. UD2 Parameters'!$H$13/1000","v":134.93750636503052},{"$f":"AX32*'5. UD2 Parameters'!$H$16/1000","v":40.211376896779093},40.211376896779093,13.403792298926376,97.606061217838146,null,{"$f":"'6. UD2 Assumptions'!Q39*'6. UD2 Assumptions'!$O$15*'6. UD2 Assumptions'!S39","v":25.748323290670992},{"$f":"'6. UD2 Assumptions'!Q39*'6. UD2 Assumptions'!$O$16*'6. UD2 Assumptions'!S39","v":85.827744302236638},{"$f":"'6. UD2 Assumptions'!Q39*'6. UD2 Assumptions'!$O$17*'6. UD2 Assumptions'!S39","v":20.598658632536797},132.17472622544443,{"$f":"'UD2 CropScenarios'!BG32*'5. UD2 Parameters'!$H$27","v":66.087363112722215},{"$f":"BH32*'5. UD2 Parameters'!$H$28*1000000","v":1156528.8544726388},{"$f":"BI32*'5. UD2 Parameters'!$H$12*'5. UD2 Parameters'!$H$13*'5. UD2 Parameters'!$H$16/1000000","v":5.4158594070875861},5.4158594070875861,103.02192062492573,null,8586932.2232292145,{"$f":"'UD2 CropScenarios'!Y32","v":2665224},2118597.354472639,{"$f":"(((BN32*'5. UD2 Parameters'!$H$18)+(BP32*'5. UD2 Parameters'!$H$19))*('5. UD2 Parameters'!$H$24*'5. UD2 Parameters'!$H$21))/1000","v":20.152199464845634},{"$f":"BQ32*'5. UD2 Parameters'!$H$22/1000","v":6.0053554405239984},{"$f":"((BN32+BO32+BP32)*'5. UD2 Parameters'!$H$20*'5. UD2 Parameters'!$H$23*'5. UD2 Parameters'!$H$21)/1000","v":47.275164435445831},{"$f":"BS32*'5. UD2 Parameters'!$H$22/1000","v":14.087999001762856},20.093354442286856,2.0544922491388533,100.96742837578688,null,100.57255337578688,9.2043673727517614,null,null,null,109.77692074853864,109.38204574853864,97.606061217838146,100.96742837578688,100.57255337578688,null,109.77692074853864,109.38204574853864,97.606061217838146,100.96742837578688,100.57255337578688,null,0,0,0,0,0]
[2035,{"$f":"'6. UD2 Assumptions'!C40","v":44000},{"$f":"B33*'5. UD2 Parameters'!$H$10","v":4400},{"$f":"C33*'5. UD2 Parameters'!$H$6*'5. UD2 Parameters'!$H$7*'5. UD2 Parameters'!$H$8/1000","v":77.22},{"$f":"D33*'5. UD2 Parameters'!$H$9/1000","v":1.9305000000000001},11449242.964305623,2665224,{"$f":"MMS!Y90","v":3816834.4316734448},{"$f":"'UD2 CropScenarios'!F33*'5. UD2 Parameters'!$H$12*'5. UD2 Parameters'!$H$13/1000","v":179.91667515337406},{"$f":"G33*'5. UD2 Parameters'!$H$12*'5. UD2 Parameters'!$H$13/1000","v":41.882091428571428},{"$f":"H33*'5. UD2 Parameters'!$H$12*'5. UD2 Parameters'!$H$13/1000","v":59.97882678343985},{"$f":"I33*'5. UD2 Parameters'!$H$16/1000","v":53.615169195705469},{"$f":"J33*'5. UD2 Parameters'!$H$16/1000","v":12.480863245714286},{"$f":"K33*'5. UD2 Parameters'!$H$16/1000","v":17.873690381465074},{"$f":"SUM('UD2 CropScenarios'!L33:N33)","v":83.969722822884819},{"$f":"MMS!Y92","v":10977.74},{"$f":"MMS!Y91","v":447433.09649999999},{"$f":"P33*'5. UD2 Parameters'!$H$14*'5. UD2 Parameters'!$H$13/1000","v":0.34501468571428567},{"$f":"Q33*'5. UD2 Parameters'!$H$15*'5. UD2 Parameters'!$H$13/1000","v":7.0310915164285719},{"$f":"R33*'5. UD2 Parameters'!$H$16/1000","v":0.10281437634285713},{"$f":"S33*'5. UD2 Parameters'!$H$16/1000","v":2.0952652718957143},{"$f":"'UD2 CropScenarios'!T33+'UD2 CropScenarios'!U33","v":2.1980796482385716},{"$f":"'UD2 CropScenarios'!O33+'UD2 CropScenarios'!V33","v":86.167802471123395},11449242.964305623,2665224,962068.5,{"$f":"((X33*'5. UD2 Parameters'!$H$18)+(Z33*'5. UD2 Parameters'!$H$19))*'5. UD2 Parameters'!$H$24*'5. UD2 Parameters'!$H$21/1000","v":21.015311372480269},{"$f":"AA33*'5. UD2 Parameters'!$H$22/1000","v":6.2625627889991202},{"$f":"((X33+Y33+Z33)*'5. UD2 Parameters'!$H$20*'5. UD2 Parameters'!$H$23*'5. UD2 Parameters'!$H$21)/1000","v":53.306321820223452},{"$f":"AC33*'5. UD2 Parameters'!$H$22/1000","v":15.885283902426588},22.147846691425709,110.2461491625491,null,null,null,{"$f":"INDEX((DirN2OManSoilPol!$U$15:$U$43),MATCH(A33,DirN2OManSoilPol!$A$15:A$43,0))","v":87.844501596530336},null,null,null,{"$f":"'6. UD2 Assumptions'!B40","v":44000},{"$f":"'6. UD2 Assumptions'!F40","v":7.0000000000000007E-2},3080.0000000000005,{"$f":"AP33*'5. UD2 Parameters'!$H$6*'5. UD2 Parameters'!$H$7*'5. UD2 Parameters'!$H$8/1000","v":54.054000000000016},{"$f":"AQ33*'5. UD2 Parameters'!$H$9/1000","v":1.3513500000000003},0.57914999999999983,109.6669991625491,null,53.615169195705469,{"$f":"'UD2 CropScenarios'!F33*'6. UD2 Assumptions'!K40","v":8014470.0750139328},{"$f":"AW33*'5. UD2 Parameters'!$H$12*'5. UD2 Parameters'!$H$13/1000","v":125.9416726073618},{"$f":"AX33*'5. UD2 Parameters'!$H$16/1000","v":37.530618436993812},37.530618436993812,16.084550758711657,95.838297529244386,null,{"$f":"'6. UD2 Assumptions'!Q40*'6. UD2 Assumptions'!$O$15*'6. UD2 Assumptions'!S40","v":33.166267703120177},{"$f":"'6. UD2 Assumptions'!Q40*'6. UD2 Assumptions'!$O$16*'6. UD2 Assumptions'!S40","v":110.55422567706727},{"$f":"'6. UD2 Assumptions'!Q40*'6. UD2 Assumptions'!$O$17*'6. UD2 Assumptions'!S40","v":26.533014162496141},170.25350754268356,{"$f":"'UD2 CropScenarios'!BG33*'5. UD2 Parameters'!$H$27","v":85.126753771341782},{"$f":"BH33*'5. UD2 Parameters'!$H$28*1000000","v":1489718.1909984814},{"$f":"BI33*'5. UD2 Parameters'!$H$12*'5. UD2 Parameters'!$H$13*'5. UD2 Parameters'!$H$16/1000000","v":6.9761374715614597},6.9761374715614597,102.81443500080584,null,8014470.0750139328,{"$f":"'UD2 CropScenarios'!Y33","v":2665224},2451786.6909984816,{"$f":"(((BN33*'5. UD2 Parameters'!$H$18)+(BP33*'5. UD2 Parameters'!$H$19))*('5. UD2 Parameters'!$H$24*'5. UD2 Parameters'!$H$21))/1000","v":20.299782575302839},{"$f":"BQ33*'5. UD2 Parameters'!$H$22/1000","v":6.0493352074402456},{"$f":"((BN33+BO33+BP33)*'5. UD2 Parameters'!$H$20*'5. UD2 Parameters'!$H$23*'5. UD2 Parameters'!$H$21)/1000","v":46.42916413697246},{"$f":"BS33*'5. UD2 Parameters'!$H$22/1000","v":13.835890912817792},19.885226120258039,2.2626205711676697,100.55181442963817,null,99.972664429638172,10.27348473291093,null,null,null,110.2461491625491,109.6669991625491,95.838297529244386,100.55181442963817,99.972664429638172,null,110.2461491625491,109.6669991625491,95.838297529244386,100.55181442963817,99.972664429638172,null,0,0,0,0,0]
[2040,{"$f":"'6. UD2 Assumptions'!C41","v":43000},{"$f":"B34*'5. UD2 Parameters'!$H$10","v":4300},{"$f":"C34*'5. UD2 Parameters'!$H$6*'5. UD2 Parameters'!$H$7*'5. UD2 Parameters'!$H$8/1000","v":75.465000000000003},{"$f":"D34*'5. UD2 Parameters'!$H$9/1000","v":1.886625},11449242.964305623,2665224,{"$f":"MMS!Z90","v":3922135.7595364386},{"$f":"'UD2 CropScenarios'!F34*'5. UD2 Parameters'!$H$12*'5. UD2 Parameters'!$H$13/1000","v":179.91667515337406},{"$f":"G34*'5. UD2 Parameters'!$H$12*'5. UD2 Parameters'!$H$13/1000","v":41.882091428571428},{"$f":"H34*'5. UD2 Parameters'!$H$12*'5. UD2 Parameters'!$H$13/1000","v":61.633561935572608},{"$f":"I34*'5. UD2 Parameters'!$H$16/1000","v":53.615169195705469},{"$f":"J34*'5. UD2 Parameters'!$H$16/1000","v":12.480863245714286},{"$f":"K34*'5. UD2 Parameters'!$H$16/1000","v":18.366801456800637},{"$f":"SUM('UD2 CropScenarios'!L34:N34)","v":84.462833898220396},{"$f":"MMS!Z92","v":10977.74},{"$f":"MMS!Z91","v":451276.5465},{"$f":"P34*'5. UD2 Parameters'!$H$14*'5. UD2 Parameters'!$H$13/1000","v":0.34501468571428567},{"$f":"Q34*'5. UD2 Parameters'!$H$15*'5. UD2 Parameters'!$H$13/1000","v":7.0914885878571434},{"$f":"R34*'5. UD2 Parameters'!$H$16/1000","v":0.10281437634285713},{"$f":"S34*'5. UD2 Parameters'!$H$16/1000","v":2.1132635991814288},{"$f":"'UD2 CropScenarios'!T34+'UD2 CropScenarios'!U34","v":2.2160779755242861},{"$f":"'UD2 CropScenarios'!O34+'UD2 CropScenarios'!V34","v":86.678911873744681},11449242.964305623,2665224,962068.5,{"$f":"((X34*'5. UD2 Parameters'!$H$18)+(Z34*'5. UD2 Parameters'!$H$19))*'5. UD2 Parameters'!$H$24*'5. UD2 Parameters'!$H$21/1000","v":21.015311372480269},{"$f":"AA34*'5. UD2 Parameters'!$H$22/1000","v":6.2625627889991202},{"$f":"((X34+Y34+Z34)*'5. UD2 Parameters'!$H$20*'5. UD2 Parameters'!$H$23*'5. UD2 Parameters'!$H$21)/1000","v":53.306321820223452},{"$f":"AC34*'5. UD2 Parameters'!$H$22/1000","v":15.885283902426588},22.147846691425709,110.71338356517039,null,null,null,{"$f":"INDEX((DirN2OManSoilPol!$U$15:$U$43),MATCH(A34,DirN2OManSoilPol!$A$15:A$43,0))","v":88.793377913904109},null,null,null,{"$f":"'6. UD2 Assumptions'!B41","v":43000},{"$f":"'6. UD2 Assumptions'!F41","v":0.06},2580,{"$f":"AP34*'5. UD2 Parameters'!$H$6*'5. UD2 Parameters'!$H$7*'5. UD2 Parameters'!$H$8/1000","v":45.279000000000003},{"$f":"AQ34*'5. UD2 Parameters'!$H$9/1000","v":1.1319750000000002},0.75464999999999982,109.95873356517039,null,53.615169195705469,{"$f":"'UD2 CropScenarios'!F34*'6. UD2 Assumptions'!K41","v":7442007.926798651},{"$f":"AW34*'5. UD2 Parameters'!$H$12*'5. UD2 Parameters'!$H$13/1000","v":116.94583884969309},{"$f":"AX34*'5. UD2 Parameters'!$H$16/1000","v":34.849859977208546},34.849859977208546,18.765309218496924,94.062540386832893,null,{"$f":"'6. UD2 Assumptions'!Q41*'6. UD2 Assumptions'!$O$15*'6. UD2 Assumptions'!S41","v":41.849416554065328},{"$f":"'6. UD2 Assumptions'!Q41*'6. UD2 Assumptions'!$O$16*'6. UD2 Assumptions'!S41","v":139.49805518021773},{"$f":"'6. UD2 Assumptions'!Q41*'6. UD2 Assumptions'!$O$17*'6. UD2 Assumptions'!S41","v":33.479533243252256},214.82700497753532,{"$f":"'UD2 CropScenarios'!BG34*'5. UD2 Parameters'!$H$27","v":107.41350248876766},{"$f":"BH34*'5. UD2 Parameters'!$H$28*1000000","v":1879736.2935534343},{"$f":"BI34*'5. UD2 Parameters'!$H$12*'5. UD2 Parameters'!$H$13*'5. UD2 Parameters'!$H$16/1000000","v":8.8025365289545121},8.8025365289545121,102.8650769157874,null,7442007.926798651,{"$f":"'UD2 CropScenarios'!Y34","v":2665224},2841804.7935534343,{"$f":"(((BN34*'5. UD2 Parameters'!$H$18)+(BP34*'5. UD2 Parameters'!$H$19))*('5. UD2 Parameters'!$H$24*'5. UD2 Parameters'!$H$21))/1000","v":20.625970378994392},{"$f":"BQ34*'5. UD2 Parameters'!$H$22/1000","v":6.1465391729403294},{"$f":"((BN34+BO34+BP34)*'5. UD2 Parameters'!$H$20*'5. UD2 Parameters'!$H$23*'5. UD2 Parameters'!$H$21)/1000","v":45.784094118387721},{"$f":"BS34*'5. UD2 Parameters'!$H$22/1000","v":13.643660047279539},19.790199220219868,2.3576474712058406,100.50742944458156,null,99.752779444581563,10.960604120588826,null,null,null,110.71338356517039,109.95873356517039,94.062540386832893,100.50742944458156,99.752779444581563,null,110.71338356517039,109.95873356517039,94.062540386832893,100.50742944458156,99.752779444581563,null,0,0,0,0,0]
[2045,{"$f":"'6. UD2 Assumptions'!C42","v":42000},{"$f":"B35*'5. UD2 Parameters'!$H$10","v":4200},{"$f":"C35*'5. UD2 Parameters'!$H$6*'5. UD2 Parameters'!$H$7*'5. UD2 Parameters'!$H$8/1000","v":73.709999999999994},{"$f":"D35*'5. UD2 Parameters'!$H$9/1000","v":1.8427499999999997},11449242.964305623,2665224,{"$f":"MMS!AA90","v":4040586.2370510357},{"$f":"'UD2 CropScenarios'!F35*'5. UD2 Parameters'!$H$12*'5. UD2 Parameters'!$H$13/1000","v":179.91667515337406},{"$f":"G35*'5. UD2 Parameters'!$H$12*'5. UD2 Parameters'!$H$13/1000","v":41.882091428571428},{"$f":"H35*'5. UD2 Parameters'!$H$12*'5. UD2 Parameters'!$H$13/1000","v":63.494926582230569},{"$f":"I35*'5. UD2 Parameters'!$H$16/1000","v":53.615169195705469},{"$f":"J35*'5. UD2 Parameters'!$H$16/1000","v":12.480863245714286},{"$f":"K35*'5. UD2 Parameters'!$H$16/1000","v":18.921488121504709},{"$f":"SUM('UD2 CropScenarios'!L35:N35)","v":85.01752056292446},{"$f":"MMS!AA92","v":11047.017},{"$f":"MMS!AA91","v":457682.2965},{"$f":"P35*'5. UD2 Parameters'!$H$14*'5. UD2 Parameters'!$H$13/1000","v":0.34719196285714282},{"$f":"Q35*'5. UD2 Parameters'!$H$15*'5. UD2 Parameters'!$H$13/1000","v":7.1921503735714287},{"$f":"R35*'5. UD2 Parameters'!$H$16/1000","v":0.10346320493142856},{"$f":"S35*'5. UD2 Parameters'!$H$16/1000","v":2.1432608113242857},{"$f":"'UD2 CropScenarios'!T35+'UD2 CropScenarios'!U35","v":2.2467240162557141},{"$f":"'UD2 CropScenarios'!O35+'UD2 CropScenarios'!V35","v":87.264244579180172},11449242.964305623,2665224,962068.5,{"$f":"((X35*'5. UD2 Parameters'!$H$18)+(Z35*'5. UD2 Parameters'!$H$19))*'5. UD2 Parameters'!$H$24*'5. UD2 Parameters'!$H$21/1000","v":21.015311372480269},{"$f":"AA35*'5. UD2 Parameters'!$H$22/1000","v":6.2625627889991202},{"$f":"((X35+Y35+Z35)*'5. UD2 Parameters'!$H$20*'5. UD2 Parameters'!$H$23*'5. UD2 Parameters'!$H$21)/1000","v":53.306321820223452},{"$f":"AC35*'5. UD2 Parameters'!$H$22/1000","v":15.885283902426588},22.147846691425709,111.25484127060588,null,null,null,{"$f":"INDEX((DirN2OManSoilPol!$U$15:$U$43),MATCH(A35,DirN2OManSoilPol!$A$15:A$43,0))","v":89.798661719710978},null,null,null,{"$f":"'6. UD2 Assumptions'!B42","v":42000},{"$f":"'6. UD2 Assumptions'!F42","v":0.06},2520,{"$f":"AP35*'5. UD2 Parameters'!$H$6*'5. UD2 Parameters'!$H$7*'5. UD2 Parameters'!$H$8/1000","v":44.225999999999999},{"$f":"AQ35*'5. UD2 Parameters'!$H$9/1000","v":1.10565},0.73709999999999964,110.51774127060588,null,53.615169195705469,{"$f":"'UD2 CropScenarios'!F35*'6. UD2 Assumptions'!K42","v":6869545.7785833692},{"$f":"AW35*'5. UD2 Parameters'!$H$12*'5. UD2 Parameters'!$H$13/1000","v":107.95000509202438},{"$f":"AX35*'5. UD2 Parameters'!$H$16/1000","v":32.169101517423265},32.169101517423265,21.446067678282205,92.343190732854481,null,{"$f":"'6. UD2 Assumptions'!Q42*'6. UD2 Assumptions'!$O$15*'6. UD2 Assumptions'!S42","v":51.980779622771799},{"$f":"'6. UD2 Assumptions'!Q42*'6. UD2 Assumptions'!$O$16*'6. UD2 Assumptions'!S42","v":173.26926540923935},{"$f":"'6. UD2 Assumptions'!Q42*'6. UD2 Assumptions'!$O$17*'6. UD2 Assumptions'!S42","v":41.584623698217442},266.8346687302286,{"$f":"'UD2 CropScenarios'!BG35*'5. UD2 Parameters'!$H$27","v":133.4173343651143},{"$f":"BH35*'5. UD2 Parameters'!$H$28*1000000","v":2334803.3513895008},{"$f":"BI35*'5. UD2 Parameters'!$H$12*'5. UD2 Parameters'!$H$13*'5. UD2 Parameters'!$H$16/1000000","v":10.933550551221119},10.933550551221119,103.2767412840756,null,6869545.7785833692,{"$f":"'UD2 CropScenarios'!Y35","v":2665224},3296871.8513895008,{"$f":"(((BN35*'5. UD2 Parameters'!$H$18)+(BP35*'5. UD2 Parameters'!$H$19))*('5. UD2 Parameters'!$H$24*'5. UD2 Parameters'!$H$21))/1000","v":21.156597756426585},{"$f":"BQ35*'5. UD2 Parameters'!$H$22/1000","v":6.3046661314151224},{"$f":"((BN35+BO35+BP35)*'5. UD2 Parameters'!$H$20*'5. UD2 Parameters'!$H$23*'5. UD2 Parameters'!$H$21)/1000","v":45.369018620261215},{"$f":"BS35*'5. UD2 Parameters'!$H$22/1000","v":13.519967548837842},19.824633680252965,2.3232130111727436,100.95352827290286,null,100.21642827290286,11.03841299770302,null,null,null,111.25484127060588,110.51774127060588,92.343190732854481,100.95352827290286,100.21642827290286,null,111.25484127060588,110.51774127060588,92.343190732854481,100.95352827290286,100.21642827290286,null,0,0,0,0,0]
[2050,{"$f":"'6. UD2 Assumptions'!C43","v":40000},{"$f":"B36*'5. UD2 Parameters'!$H$10","v":4000},{"$f":"C36*'5. UD2 Parameters'!$H$6*'5. UD2 Parameters'!$H$7*'5. UD2 Parameters'!$H$8/1000","v":70.2},{"$f":"D36*'5. UD2 Parameters'!$H$9/1000","v":1.7549999999999999},11449242.964305623,2665224,{"$f":"MMS!AB90","v":4159036.7145656329},{"$f":"'UD2 CropScenarios'!F36*'5. UD2 Parameters'!$H$12*'5. UD2 Parameters'!$H$13/1000","v":179.91667515337406},{"$f":"G36*'5. UD2 Parameters'!$H$12*'5. UD2 Parameters'!$H$13/1000","v":41.882091428571428},{"$f":"H36*'5. UD2 Parameters'!$H$12*'5. UD2 Parameters'!$H$13/1000","v":65.356291228888523},{"$f":"I36*'5. UD2 Parameters'!$H$16/1000","v":53.615169195705469},{"$f":"J36*'5. UD2 Parameters'!$H$16/1000","v":12.480863245714286},{"$f":"K36*'5. UD2 Parameters'!$H$16/1000","v":19.47617478620878},{"$f":"SUM('UD2 CropScenarios'!L36:N36)","v":85.572207227628525},{"$f":"MMS!AB92","v":11116.294},{"$f":"MMS!AB91","v":464088.0465},{"$f":"P36*'5. UD2 Parameters'!$H$14*'5. UD2 Parameters'!$H$13/1000","v":0.34936923999999997},{"$f":"Q36*'5. UD2 Parameters'!$H$15*'5. UD2 Parameters'!$H$13/1000","v":7.292812159285714},{"$f":"R36*'5. UD2 Parameters'!$H$16/1000","v":0.10411203351999999},{"$f":"S36*'5. UD2 Parameters'!$H$16/1000","v":2.1732580234671426},{"$f":"'UD2 CropScenarios'!T36+'UD2 CropScenarios'!U36","v":2.2773700569871425},{"$f":"'UD2 CropScenarios'!O36+'UD2 CropScenarios'!V36","v":87.849577284615663},11449242.964305623,2665224,962068.5,{"$f":"((X36*'5. UD2 Parameters'!$H$18)+(Z36*'5. UD2 Parameters'!$H$19))*'5. UD2 Parameters'!$H$24*'5. UD2 Parameters'!$H$21/1000","v":21.015311372480269},{"$f":"AA36*'5. UD2 Parameters'!$H$22/1000","v":6.2625627889991202},{"$f":"((X36+Y36+Z36)*'5. UD2 Parameters'!$H$20*'5. UD2 Parameters'!$H$23*'5. UD2 Parameters'!$H$21)/1000","v":53.306321820223452},{"$f":"AC36*'5. UD2 Parameters'!$H$22/1000","v":15.885283902426588},22.147846691425709,111.75242397604137,null,null,null,{"$f":"INDEX((DirN2OManSoilPol!$U$15:$U$43),MATCH(A36,DirN2OManSoilPol!$A$15:A$43,0))","v":90.803945525517847},null,null,null,{"$f":"'6. UD2 Assumptions'!B43","v":40000},{"$f":"'6. UD2 Assumptions'!F43","v":0.05},2000,{"$f":"AP36*'5. UD2 Parameters'!$H$6*'5. UD2 Parameters'!$H$7*'5. UD2 Parameters'!$H$8/1000","v":35.1},{"$f":"AQ36*'5. UD2 Parameters'!$H$9/1000","v":0.87749999999999995},0.87749999999999995,110.87492397604137,null,53.615169195705469,{"$f":"'UD2 CropScenarios'!F36*'6. UD2 Assumptions'!K43","v":6297083.6303680874},{"$f":"AW36*'5. UD2 Parameters'!$H$12*'5. UD2 Parameters'!$H$13/1000","v":98.954171334355664},{"$f":"AX36*'5. UD2 Parameters'!$H$16/1000","v":29.488343057637987},29.488343057637987,24.126826138067482,90.579966078876069,null,{"$f":"'6. UD2 Assumptions'!Q43*'6. UD2 Assumptions'!$O$15*'6. UD2 Assumptions'!S43","v":63.767756574302318},{"$f":"'6. UD2 Assumptions'!Q43*'6. UD2 Assumptions'!$O$16*'6. UD2 Assumptions'!S43","v":212.55918858100773},{"$f":"'6. UD2 Assumptions'!Q43*'6. UD2 Assumptions'!$O$17*'6. UD2 Assumptions'!S43","v":51.014205259441852},327.34115041475189,{"$f":"'UD2 CropScenarios'!BG36*'5. UD2 Parameters'!$H$27","v":163.67057520737595},{"$f":"BH36*'5. UD2 Parameters'!$H$28*1000000","v":2864235.0661290796},{"$f":"BI36*'5. UD2 Parameters'!$H$12*'5. UD2 Parameters'!$H$13*'5. UD2 Parameters'!$H$16/1000000","v":13.41280363824446},13.41280363824446,103.99276971712052,null,6297083.6303680874,{"$f":"'UD2 CropScenarios'!Y36","v":2665224},3826303.5661290796,{"$f":"(((BN36*'5. UD2 Parameters'!$H$18)+(BP36*'5. UD2 Parameters'!$H$19))*('5. UD2 Parameters'!$H$24*'5. UD2 Parameters'!$H$21))/1000","v":21.920942626984104},{"$f":"BQ36*'5. UD2 Parameters'!$H$22/1000","v":6.5324409028412624},{"$f":"((BN36+BO36+BP36)*'5. UD2 Parameters'!$H$20*'5. UD2 Parameters'!$H$23*'5. UD2 Parameters'!$H$21)/1000","v":45.216875301900693},{"$f":"BS36*'5. UD2 Parameters'!$H$22/1000","v":13.474628839966407},20.007069742807669,2.1407769486180399,101.85199276850248,null,100.97449276850249,10.777931207538884,null,null,null,111.75242397604137,110.87492397604137,90.579966078876069,101.85199276850248,100.97449276850249,null,111.75242397604137,110.87492397604137,90.579966078876069,101.85199276850248,100.97449276850249,null,0,0,0,0,0]
[null,null,null,null,null,null,null,null,null,null,null,null,null,null,null,null,null,null,null,null,null,null,null,null,null,null,null,null,null,null,null,null,null,null,null,null,null,null,null,null,null,null,null,null,null,null,null,null,null,null,null,null,null,"*"]
[null,null,null,null,null,null,null,null,null,null,null,null,null,null,null,null,null,null,null,null,null,null,null,null,null,null,null,null,null,null,null,null,null,null,null,null,null,null,null,null,null,null,null,null,null,null,null,null,null,null,null,null,null,"Red in Chem"]
[null,null,null,null,null,null,null,null,null,null,null,null,null,null,null,null,null,null,null,null,null,null,null,null,null,null,null,null,null,null,null,null,null,null,null,null,null,null,null,null,null,null,null,null,null,null,null,null,null,null,null,null,null,"Fert Only"]

{"sheet":"All TNC Plots","index":22,"n_rows":32,"n_cols":65,"rows_kept":32,"cut":false,"hidden":true,"merged":[]}
["Year","Area of sugar cane available (ha)","Area of sugar cane burnt (ha)","GHG Emissions from burnt sugar cane (tCH4)","GHG Emissions from burnt sugar cane (GgCO2e)","Nitrogen from Chemical Fertilizers (kgN/yr)","Nitrogen from Crop Residues (kgN/yr)","Nitrogen from Manure (kgN/yr)","N2O Emissions from Chemical Fertilizers (t/yr)","N2O Emissions from Crop Residues (t/yr)","N2O Emissions from Manure (t/yr)","CO2e Emissions from Chemical Fertilizer  (Gg/yr)","CO2e Emissions from Crop Residues (Gg/yr)","CO2e Emissions from Manure (Gg/yr)","Total CO2e Emissions from Chemical Fertilizers, Crop Residues and Manure (Gg/yr)","Nitrogen from (Cattle, Poultry, Pigs) (kgN/yr)","Nitrogen from (Sheep & Other sources) (kgN/yr)","N2O Emissions from (Cattle, Poultry, Pigs) (t/yr)","N2O Emissions from (Sheep & Other sources)  (t/yr)","CO2e Emissions from (Cattle, Poultry, Pigs) (Gg/yr)","CO2e Emissions from (Sheep & Other sources) (Gg/yr)","Total CO2e Emissions animal sources (Gg/yr)","Total  CO2e Emissions from Direct sources (Gg/yr)","Nitrogen from Indirect Fertilizers (kg N/yr)","Nitrogen from Indirect Crop Residues (kg N/yr)","Nitrogen from Indirect Manure (kg N/yr)","N2O Volatilised from Indirect sources (t/yr)","CO2e Volatilised from Indirect sources (Gg/yr)","N2O leached from Indirect sources (y/yr)","CO2e leached from Indirect sources (Gg/yr)"," Total  CO2e Emissions from Indirect sources (Gg/yr)  ","Total  CO2e Emissions from Managed Soils (Gg/yr)","Area of sugar cane available (ha)","Percentage of sugar cane area burnt (%)","Area of sugar cane burnt (ha)","GHG Emissions from burnt sugar cane (tCH4)","GHG Emissions from burnt sugar cane (Gg CO2e)","Reduction in GHG Emissions due to Scenario (Gg CO2e)","GHG Emissions (Nett) due to Reduced Crop Burn Scenario (Gg CO2e)"," (BAU Scenario) CO2e Emissions from Chemical Fertilizers (Gg/yr)","Nitrogen from Reduction in Chemical Fertilizers  (kg N/yr)","N2O Emissions from Reduction in Chemical Fertilizers (t)","CO2e Emissions from Reduction in Chemical Fertilizers (Gg)","GHG Emissions due to Scenario (Gg CO2e)","Reduction in GHG Emissions due to Scenario (Gg CO2e)","GHG Emissions (Nett) due to Reduced Fertilizer Use Scenario (Gg CO2e)","Organic waste composted from Food (Gg)","Organic waste composted from Garden (Gg)","Organic waste composted from Paper (Gg)","Total Organic waste from MSW (Gg)","Total Compost from MSW (Gg)","Total Nitrogen in Compost from MSW (kg)","Total CO2e Emissions due to Scenario (Gg CO2e)"," GHG Emissions (Nett) due to Biofarming Scenario (Gg CO2e) ","Nitrogen from Reduction of Fertilizers (KgN/yr)","Nitrogen from Crop Residues (kgN/yr)","SC3 :Nitrogen from Manure incl Biofarming sources (kg N/yr)","N2O Volatilised from Indirect sources (t/yr)","CO2e Volatilised from Indirect sources (Gg/yr)  ","N2O leached from Indirect sources (y/yr)","CO2e leached from Indirect sources (Gg/yr)","Total  CO2e Emissions from Indirect sources (Gg/yr)  ","Reduction in GHG Emissions due to Scenario (Gg CO2e)","Total CO2e Emissions with Biofarming (Reduced Fertilizers + Compost)  ","GHG Emissions under Biofarming and Crop Burn Reduction "]
["TNC","BAU ","BAU ","BAU ","BAU ","BAU ","BAU ","BAU ","BAU ","BAU ","BAU ","BAU ","BAU ","BAU ","BAU ","BAU ","BAU ","BAU ","BAU ","BAU ","BAU ","BAU ","BAU ","BAU ","BAU ","BAU ","BAU ","BAU ","BAU ","BAU ","BAU ","BAU ","SC1","SC1","SC1","SC1","SC1","SC1","SC1","SC2","SC2","SC2","SC2","SC2","SC2","SC2","SC3 ","SC3 ","SC3","SC3","SC3","SC3","SC3","SC3","SC3","SC3","SC3","SC3","SC3","SC3","SC3","SC3","SC3","SC3","SC4 "]
[null,1,2,3,4,5,6,7,8,9,10,11,12,13,14,15,16,17,18,19,20,21,22,23,24,25,26,27,28,29,30,31,32,33,34,35,36,37,38,39,40,41,42,43,44,45,46,47,48,49,50,51,52,53,54,55,56,57,58,59,60,61,62,63,64]
[{"$f":"'TNC CropScenarios'!A8","v":2006},{"$f":"'TNC CropScenarios'!B8","v":70800},{"$f":"'TNC CropScenarios'!C8","v":7080},{"$f":"'TNC CropScenarios'!D8","v":124.25400000000002},{"$f":"'TNC CropScenarios'!E8","v":3.1063500000000004},{"$f":"'TNC CropScenarios'!F8","v":7526219},{"$f":"'TNC CropScenarios'!G8","v":3316504},{"$f":"'TNC CropScenarios'!H8","v":2933111.5548999999},{"$f":"'TNC CropScenarios'!I8","v":118.26915571428572},{"$f":"'TNC CropScenarios'!J8","v":52.116491428571429},{"$f":"'TNC CropScenarios'!K8","v":46.091753005571427},{"$f":"'TNC CropScenarios'!L8","v":35.24420840285714},{"$f":"'TNC CropScenarios'!M8","v":15.530714445714286},{"$f":"'TNC CropScenarios'!N8","v":13.735342395660286},{"$f":"'TNC CropScenarios'!O8","v":64.510265244231718},{"$f":"'TNC CropScenarios'!P8","v":0},{"$f":"'TNC CropScenarios'!Q8","v":451428.39},{"$f":"'TNC CropScenarios'!R8","v":0},{"$f":"'TNC CropScenarios'!S8","v":7.0938747000000006},{"$f":"'TNC CropScenarios'!T8","v":0},{"$f":"'TNC CropScenarios'!U8","v":2.1139746606000003},{"$f":"'TNC CropScenarios'!V8","v":2.1139746606000003},{"$f":"'TNC CropScenarios'!W8","v":66.624239904831711},{"$f":"'TNC CropScenarios'!X8","v":7526219},{"$f":"'TNC CropScenarios'!Y8","v":3316504},{"$f":"'TNC CropScenarios'!Z8","v":962068.5},{"$f":"'TNC CropScenarios'!AA8","v":14.850559428571431},{"$f":"'TNC CropScenarios'!AB8","v":4.4254667097142866},{"$f":"'TNC CropScenarios'!AC8","v":41.73836994642857},{"$f":"'TNC CropScenarios'!AD8","v":12.438034244035714},{"$f":"'TNC CropScenarios'!AE8","v":16.863500953750002},{"$f":"'TNC CropScenarios'!AF8","v":86.594090858581723},{"$f":"'TNC CropScenarios'!AN8","v":70800},{"$f":"'TNC CropScenarios'!AO8","v":0.1},{"$f":"'TNC CropScenarios'!AP8","v":7080},{"$f":"'TNC CropScenarios'!AQ8","v":124.25400000000002},{"$f":"'TNC CropScenarios'!AR8","v":3.1063500000000004},{"$f":"'TNC CropScenarios'!AS8","v":0},{"$f":"'TNC CropScenarios'!AT8","v":86.594090858581723},{"$f":"'TNC CropScenarios'!AV8","v":35.24420840285714},{"$f":"'TNC CropScenarios'!AW8","v":7526219},{"$f":"'TNC CropScenarios'!AX8","v":118.26915571428572},{"$f":"'TNC CropScenarios'!AY8","v":35.24420840285714},{"$f":"'TNC CropScenarios'!AZ8","v":35.24420840285714},{"$f":"'TNC CropScenarios'!BA8","v":0},{"$f":"'TNC CropScenarios'!BB8","v":86.594090858581723},{"$f":"'TNC CropScenarios'!BD8","v":0},{"$f":"'TNC CropScenarios'!BE8","v":0},{"$f":"'TNC CropScenarios'!BF8","v":0},{"$f":"'TNC CropScenarios'!BG8","v":0},{"$f":"'TNC CropScenarios'!BH8","v":0},{"$f":"'TNC CropScenarios'!BI8","v":0},{"$f":"'TNC CropScenarios'!BJ8","v":0},{"$f":"'TNC CropScenarios'!BL8","v":86.594090858581723},{"$f":"'TNC CropScenarios'!BN8","v":7526219},{"$f":"'TNC CropScenarios'!BO8","v":3316504},{"$f":"'TNC CropScenarios'!BP8","v":962068.5},{"$f":"'TNC CropScenarios'!BQ8","v":14.850559428571431},{"$f":"'TNC CropScenarios'!BR8","v":4.4254667097142866},{"$f":"'TNC CropScenarios'!BS8","v":41.73836994642857},{"$f":"'TNC CropScenarios'!BT8","v":12.438034244035714},{"$f":"'TNC CropScenarios'!BU8","v":16.863500953750002},{"$f":"'TNC CropScenarios'!BV8","v":0},{"$f":"'TNC CropScenarios'!BW8","v":86.594090858581723},{"$f":"'TNC CropScenarios'!BY8","v":86.594090858581723}]
[{"$f":"'TNC CropScenarios'!A9","v":2007},{"$f":"'TNC CropScenarios'!B9","v":68520},{"$f":"'TNC CropScenarios'!C9","v":6852},{"$f":"'TNC CropScenarios'!D9","v":120.2526},{"$f":"'TNC CropScenarios'!E9","v":3.0063149999999998},{"$f":"'TNC CropScenarios'!F9","v":7267732},{"$f":"'TNC CropScenarios'!G9","v":3208625},{"$f":"'TNC CropScenarios'!H9","v":2990028.0913},{"$f":"'TNC CropScenarios'!I9","v":114.20721714285715},{"$f":"'TNC CropScenarios'!J9","v":50.421250000000001},{"$f":"'TNC CropScenarios'!K9","v":46.98615572042857},{"$f":"'TNC CropScenarios'!L9","v":34.033750708571432},{"$f":"'TNC CropScenarios'!M9","v":15.025532499999999},{"$f":"'TNC CropScenarios'!N9","v":14.001874404687715},{"$f":"'TNC CropScenarios'!O9","v":63.061157613259141},{"$f":"'TNC CropScenarios'!P9","v":0},{"$f":"'TNC CropScenarios'!Q9","v":409968},{"$f":"'TNC CropScenarios'!R9","v":0},{"$f":"'TNC CropScenarios'!S9","v":6.4423542857142859},{"$f":"'TNC CropScenarios'!T9","v":0},{"$f":"'TNC CropScenarios'!U9","v":1.9198215771428573},{"$f":"'TNC CropScenarios'!V9","v":1.9198215771428573},{"$f":"'TNC CropScenarios'!W9","v":64.980979190401996},{"$f":"'TNC CropScenarios'!X9","v":7267732},{"$f":"'TNC CropScenarios'!Y9","v":3208625},{"$f":"'TNC CropScenarios'!Z9","v":962068.5},{"$f":"'TNC CropScenarios'!AA9","v":14.444365571428575},{"$f":"'TNC CropScenarios'!AB9","v":4.3044209402857154},{"$f":"'TNC CropScenarios'!AC9","v":40.443004446428567},{"$f":"'TNC CropScenarios'!AD9","v":12.052015325035713},{"$f":"'TNC CropScenarios'!AE9","v":16.356436265321427},{"$f":"'TNC CropScenarios'!AF9","v":84.343730455723431},{"$f":"'TNC CropScenarios'!AN9","v":68520},{"$f":"'TNC CropScenarios'!AO9","v":0.1},{"$f":"'TNC CropScenarios'!AP9","v":6852},{"$f":"'TNC CropScenarios'!AQ9","v":120.2526},{"$f":"'TNC CropScenarios'!AR9","v":3.0063149999999998},{"$f":"'TNC CropScenarios'!AS9","v":0},{"$f":"'TNC CropScenarios'!AT9","v":84.343730455723431},{"$f":"'TNC CropScenarios'!AV9","v":34.033750708571432},{"$f":"'TNC CropScenarios'!AW9","v":7267732},{"$f":"'TNC CropScenarios'!AX9","v":114.20721714285715},{"$f":"'TNC CropScenarios'!AY9","v":34.033750708571432},{"$f":"'TNC CropScenarios'!AZ9","v":34.033750708571432},{"$f":"'TNC CropScenarios'!BA9","v":0},{"$f":"'TNC CropScenarios'!BB9","v":84.343730455723431},{"$f":"'TNC CropScenarios'!BD9","v":0},{"$f":"'TNC CropScenarios'!BE9","v":0},{"$f":"'TNC CropScenarios'!BF9","v":0},{"$f":"'TNC CropScenarios'!BG9","v":0},{"$f":"'TNC CropScenarios'!BH9","v":0},{"$f":"'TNC CropScenarios'!BI9","v":0},{"$f":"'TNC CropScenarios'!BJ9","v":0},{"$f":"'TNC CropScenarios'!BL9","v":84.343730455723431},{"$f":"'TNC CropScenarios'!BN9","v":7267732},{"$f":"'TNC CropScenarios'!BO9","v":3208625},{"$f":"'TNC CropScenarios'!BP9","v":962068.5},{"$f":"'TNC CropScenarios'!BQ9","v":14.444365571428575},{"$f":"'TNC CropScenarios'!BR9","v":4.3044209402857154},{"$f":"'TNC CropScenarios'!BS9","v":40.443004446428567},{"$f":"'TNC CropScenarios'!BT9","v":12.052015325035713},{"$f":"'TNC CropScenarios'!BU9","v":16.356436265321427},{"$f":"'TNC CropScenarios'!BV9","v":0},{"$f":"'TNC CropScenarios'!BW9","v":84.343730455723431},{"$f":"'TNC CropScenarios'!BY9","v":84.343730455723431}]
[{"$f":"'TNC CropScenarios'!A10","v":2008},{"$f":"'TNC CropScenarios'!B10","v":65440},{"$f":"'TNC CropScenarios'!C10","v":6544},{"$f":"'TNC CropScenarios'!D10","v":114.84720000000002},{"$f":"'TNC CropScenarios'!E10","v":2.8711800000000003},{"$f":"'TNC CropScenarios'!F10","v":6807140},{"$f":"'TNC CropScenarios'!G10","v":3064362},{"$f":"'TNC CropScenarios'!H10","v":2878426.2456999999},{"$f":"'TNC CropScenarios'!I10","v":106.96934285714285},{"$f":"'TNC CropScenarios'!J10","v":48.154259999999994},{"$f":"'TNC CropScenarios'!K10","v":45.232412432428575},{"$f":"'TNC CropScenarios'!L10","v":31.876864171428569},{"$f":"'TNC CropScenarios'!M10","v":14.349969479999999},{"$f":"'TNC CropScenarios'!N10","v":13.479258904863714},{"$f":"'TNC CropScenarios'!O10","v":59.706092556292276},{"$f":"'TNC CropScenarios'!P10","v":0},{"$f":"'TNC CropScenarios'!Q10","v":409968},{"$f":"'TNC CropScenarios'!R10","v":0},{"$f":"'TNC CropScenarios'!S10","v":6.4423542857142859},{"$f":"'TNC CropScenarios'!T10","v":0},{"$f":"'TNC CropScenarios'!U10","v":1.9198215771428573},{"$f":"'TNC CropScenarios'!V10","v":1.9198215771428573},{"$f":"'TNC CropScenarios'!W10","v":61.625914133435131},{"$f":"'TNC CropScenarios'!X10","v":6807140},{"$f":"'TNC CropScenarios'!Y10","v":3064362},{"$f":"'TNC CropScenarios'!Z10","v":962068.5},{"$f":"'TNC CropScenarios'!AA10","v":13.720578142857143},{"$f":"'TNC CropScenarios'!AB10","v":4.0887322865714291},{"$f":"'TNC CropScenarios'!AC10","v":38.30440998214285},{"$f":"'TNC CropScenarios'!AD10","v":11.414714174678569},{"$f":"'TNC CropScenarios'!AE10","v":15.503446461249997},{"$f":"'TNC CropScenarios'!AF10","v":80.00054059468512},{"$f":"'TNC CropScenarios'!AN10","v":65440},{"$f":"'TNC CropScenarios'!AO10","v":0.1},{"$f":"'TNC CropScenarios'!AP10","v":6544},{"$f":"'TNC CropScenarios'!AQ10","v":114.84720000000002},{"$f":"'TNC CropScenarios'!AR10","v":2.8711800000000003},{"$f":"'TNC CropScenarios'!AS10","v":0},{"$f":"'TNC CropScenarios'!AT10","v":80.00054059468512},{"$f":"'TNC CropScenarios'!AV10","v":31.876864171428569},{"$f":"'TNC CropScenarios'!AW10","v":6807140},{"$f":"'TNC CropScenarios'!AX10","v":106.96934285714285},{"$f":"'TNC CropScenarios'!AY10","v":31.876864171428569},{"$f":"'TNC CropScenarios'!AZ10","v":31.876864171428569},{"$f":"'TNC CropScenarios'!BA10","v":0},{"$f":"'TNC CropScenarios'!BB10","v":80.00054059468512},{"$f":"'TNC CropScenarios'!BD10","v":0},{"$f":"'TNC CropScenarios'!BE10","v":0},{"$f":"'TNC CropScenarios'!BF10","v":0},{"$f":"'TNC CropScenarios'!BG10","v":0},{"$f":"'TNC CropScenarios'!BH10","v":0},{"$f":"'TNC CropScenarios'!BI10","v":0},{"$f":"'TNC CropScenarios'!BJ10","v":0},{"$f":"'TNC CropScenarios'!BL10","v":80.00054059468512},{"$f":"'TNC CropScenarios'!BN10","v":6807140},{"$f":"'TNC CropScenarios'!BO10","v":3064362},{"$f":"'TNC CropScenarios'!BP10","v":962068.5},{"$f":"'TNC CropScenarios'!BQ10","v":13.720578142857143},{"$f":"'TNC CropScenarios'!BR10","v":4.0887322865714291},{"$f":"'TNC CropScenarios'!BS10","v":38.30440998214285},{"$f":"'TNC CropScenarios'!BT10","v":11.414714174678569},{"$f":"'TNC CropScenarios'!BU10","v":15.503446461249997},{"$f":"'TNC CropScenarios'!BV10","v":0},{"$f":"'TNC CropScenarios'!BW10","v":80.00054059468512},{"$f":"'TNC CropScenarios'!BY10","v":80.00054059468512}]
[{"$f":"'TNC CropScenarios'!A11","v":2009},{"$f":"'TNC CropScenarios'!B11","v":65850},{"$f":"'TNC CropScenarios'!C11","v":6585},{"$f":"'TNC CropScenarios'!D11","v":115.56675000000001},{"$f":"'TNC CropScenarios'!E11","v":2.8891687500000001},{"$f":"'TNC CropScenarios'!F11","v":6616456},{"$f":"'TNC CropScenarios'!G11","v":3013169},{"$f":"'TNC CropScenarios'!H11","v":2637317.4032999999},{"$f":"'TNC CropScenarios'!I11","v":103.97287999999999},{"$f":"'TNC CropScenarios'!J11","v":47.349798571428572},{"$f":"'TNC CropScenarios'!K11","v":41.443559194714283},{"$f":"'TNC CropScenarios'!L11","v":30.983918239999994},{"$f":"'TNC CropScenarios'!M11","v":14.110239974285713},{"$f":"'TNC CropScenarios'!N11","v":12.350180640024856},{"$f":"'TNC CropScenarios'!O11","v":57.444338854310558},{"$f":"'TNC CropScenarios'!P11","v":67844.831250000003},{"$f":"'TNC CropScenarios'!Q11","v":417977.60087999998},{"$f":"'TNC CropScenarios'!R11","v":2.1322661250000001},{"$f":"'TNC CropScenarios'!S11","v":6.5682194423999993},{"$f":"'TNC CropScenarios'!T11","v":0.63541530525000012},{"$f":"'TNC CropScenarios'!U11","v":1.9573293938351999},{"$f":"'TNC CropScenarios'!V11","v":2.5927446990852001},{"$f":"'TNC CropScenarios'!W11","v":60.03708355339576},{"$f":"'TNC CropScenarios'!X11","v":6616456},{"$f":"'TNC CropScenarios'!Y11","v":3013169},{"$f":"'TNC CropScenarios'!Z11","v":962068.5},{"$f":"'TNC CropScenarios'!AA11","v":13.420931857142858},{"$f":"'TNC CropScenarios'!AB11","v":3.9994376934285714},{"$f":"'TNC CropScenarios'!AC11","v":37.449202017857139},{"$f":"'TNC CropScenarios'!AD11","v":11.159862201321427},{"$f":"'TNC CropScenarios'!AE11","v":15.159299894749999},{"$f":"'TNC CropScenarios'!AF11","v":78.085552198145763},{"$f":"'TNC CropScenarios'!AN11","v":65850},{"$f":"'TNC CropScenarios'!AO11","v":0.1},{"$f":"'TNC CropScenarios'!AP11","v":6585},{"$f":"'TNC CropScenarios'!AQ11","v":115.56675000000001},{"$f":"'TNC CropScenarios'!AR11","v":2.8891687500000001},{"$f":"'TNC CropScenarios'!AS11","v":0},{"$f":"'TNC CropScenarios'!AT11","v":78.085552198145763},{"$f":"'TNC CropScenarios'!AV11","v":30.983918239999994},{"$f":"'TNC CropScenarios'!AW11","v":6616456},{"$f":"'TNC CropScenarios'!AX11","v":103.97287999999999},{"$f":"'TNC CropScenarios'!AY11","v":30.983918239999994},{"$f":"'TNC CropScenarios'!AZ11","v":30.983918239999994},{"$f":"'TNC CropScenarios'!BA11","v":0},{"$f":"'TNC CropScenarios'!BB11","v":78.085552198145763},{"$f":"'TNC CropScenarios'!BD11","v":0},{"$f":"'TNC CropScenarios'!BE11","v":0},{"$f":"'TNC CropScenarios'!BF11","v":0},{"$f":"'TNC CropScenarios'!BG11","v":0},{"$f":"'TNC CropScenarios'!BH11","v":0},{"$f":"'TNC CropScenarios'!BI11","v":0},{"$f":"'TNC CropScenarios'!BJ11","v":0},{"$f":"'TNC CropScenarios'!BL11","v":78.085552198145763},{"$f":"'TNC CropScenarios'!BN11","v":6616456},{"$f":"'TNC CropScenarios'!BO11","v":3013169},{"$f":"'TNC CropScenarios'!BP11","v":962068.5},{"$f":"'TNC CropScenarios'!BQ11","v":13.420931857142859},{"$f":"'TNC CropScenarios'!BR11","v":3.9994376934285718},{"$f":"'TNC CropScenarios'!BS11","v":37.449202017857139},{"$f":"'TNC CropScenarios'!BT11","v":11.159862201321427},{"$f":"'TNC CropScenarios'!BU11","v":15.159299894749999},{"$f":"'TNC CropScenarios'!BV11","v":0},{"$f":"'TNC CropScenarios'!BW11","v":78.085552198145763},{"$f":"'TNC CropScenarios'!BY11","v":78.085552198145763}]
[{"$f":"'TNC CropScenarios'!A12","v":2010},{"$f":"'TNC CropScenarios'!B12","v":64130},{"$f":"'TNC CropScenarios'!C12","v":6413},{"$f":"'TNC CropScenarios'!D12","v":112.54815000000001},{"$f":"'TNC CropScenarios'!E12","v":2.8137037500000002},{"$f":"'TNC CropScenarios'!F12","v":7468310},{"$f":"'TNC CropScenarios'!G12","v":3012269},{"$f":"'TNC CropScenarios'!H12","v":3508672.6663000002},{"$f":"'TNC CropScenarios'!I12","v":117.35915714285714},{"$f":"'TNC CropScenarios'!J12","v":47.335655714285721},{"$f":"'TNC CropScenarios'!K12","v":55.136284756142857},{"$f":"'TNC CropScenarios'!L12","v":34.973028828571429},{"$f":"'TNC CropScenarios'!M12","v":14.106025402857146},{"$f":"'TNC CropScenarios'!N12","v":16.430612857330573},{"$f":"'TNC CropScenarios'!O12","v":65.509667088759144},{"$f":"'TNC CropScenarios'!P12","v":10606.575150000001},{"$f":"'TNC CropScenarios'!Q12","v":409968},{"$f":"'TNC CropScenarios'!R12","v":0.3333495047142857},{"$f":"'TNC CropScenarios'!S12","v":6.4423542857142859},{"$f":"'TNC CropScenarios'!T12","v":9.9338152404857147E-2},{"$f":"'TNC CropScenarios'!U12","v":1.9198215771428573},{"$f":"'TNC CropScenarios'!V12","v":2.0191597295477144},{"$f":"'TNC CropScenarios'!W12","v":67.528826818306854},{"$f":"'TNC CropScenarios'!X12","v":7468310},{"$f":"'TNC CropScenarios'!Y12","v":3012269},{"$f":"'TNC CropScenarios'!Z12","v":962068.5},{"$f":"'TNC CropScenarios'!AA12","v":14.759559571428571},{"$f":"'TNC CropScenarios'!AB12","v":4.3983487522857141},{"$f":"'TNC CropScenarios'!AC12","v":40.457932232142852},{"$f":"'TNC CropScenarios'!AD12","v":12.05646380517857},{"$f":"'TNC CropScenarios'!AE12","v":16.454812557464283},{"$f":"'TNC CropScenarios'!AF12","v":86.797343125771135},{"$f":"'TNC CropScenarios'!AN12","v":64130},{"$f":"'TNC CropScenarios'!AO12","v":0.1},{"$f":"'TNC CropScenarios'!AP12","v":6413},{"$f":"'TNC CropScenarios'!AQ12","v":112.54815000000001},{"$f":"'TNC CropScenarios'!AR12","v":2.8137037500000002},{"$f":"'TNC CropScenarios'!AS12","v":0},{"$f":"'TNC CropScenarios'!AT12","v":86.797343125771135},{"$f":"'TNC CropScenarios'!AV12","v":34.973028828571429},{"$f":"'TNC CropScenarios'!AW12","v":7468310},{"$f":"'TNC CropScenarios'!AX12","v":117.35915714285714},{"$f":"'TNC CropScenarios'!AY12","v":34.973028828571429},{"$f":"'TNC CropScenarios'!AZ12","v":34.973028828571429},{"$f":"'TNC CropScenarios'!BA12","v":0},{"$f":"'TNC CropScenarios'!BB12","v":86.797343125771135},{"$f":"'TNC CropScenarios'!BD12","v":0},{"$f":"'TNC CropScenarios'!BE12","v":0},{"$f":"'TNC CropScenarios'!BF12","v":0},{"$f":"'TNC CropScenarios'!BG12","v":0},{"$f":"'TNC CropScenarios'!BH12","v":0},{"$f":"'TNC CropScenarios'!BI12","v":0},{"$f":"'TNC CropScenarios'!BJ12","v":0},{"$f":"'TNC CropScenarios'!BL12","v":86.797343125771135},{"$f":"'TNC CropScenarios'!BN12","v":7468310},{"$f":"'TNC CropScenarios'!BO12","v":3012269},{"$f":"'TNC CropScenarios'!BP12","v":962068.5},{"$f":"'TNC CropScenarios'!BQ12","v":14.759559571428571},{"$f":"'TNC CropScenarios'!BR12","v":4.3983487522857141},{"$f":"'TNC CropScenarios'!BS12","v":40.457932232142852},{"$f":"'TNC CropScenarios'!BT12","v":12.05646380517857},{"$f":"'TNC CropScenarios'!BU12","v":16.454812557464283},{"$f":"'TNC CropScenarios'!BV12","v":0},{"$f":"'TNC CropScenarios'!BW12","v":86.797343125771135},{"$f":"'TNC CropScenarios'!BY12","v":86.797343125771135}]
[{"$f":"'TNC CropScenarios'!A13","v":2011},{"$f":"'TNC CropScenarios'!B13","v":61730},{"$f":"'TNC CropScenarios'!C13","v":6173},{"$f":"'TNC CropScenarios'!D13","v":108.33615},{"$f":"'TNC CropScenarios'!E13","v":2.70840375},{"$f":"'TNC CropScenarios'!F13","v":7834140},{"$f":"'TNC CropScenarios'!G13","v":2902017},{"$f":"'TNC CropScenarios'!H13","v":3528789},{"$f":"'TNC CropScenarios'!I13","v":123.1079142857143},{"$f":"'TNC CropScenarios'!J13","v":45.603124285714287},{"$f":"'TNC CropScenarios'!K13","v":55.452398571428567},{"$f":"'TNC CropScenarios'!L13","v":36.686158457142859},{"$f":"'TNC CropScenarios'!M13","v":13.589731037142858},{"$f":"'TNC CropScenarios'!N13","v":16.524814774285716},{"$f":"'TNC CropScenarios'!O13","v":66.800704268571437},{"$f":"'TNC CropScenarios'!P13","v":11286.422325},{"$f":"'TNC CropScenarios'!Q13","v":420000},{"$f":"'TNC CropScenarios'!R13","v":0.35471613021428566},{"$f":"'TNC CropScenarios'!S13","v":6.6},{"$f":"'TNC CropScenarios'!T13","v":0.10570540680385714},{"$f":"'TNC CropScenarios'!U13","v":1.9667999999999999},{"$f":"'TNC CropScenarios'!V13","v":2.0725054068038569},{"$f":"'TNC CropScenarios'!W13","v":68.873209675375293},{"$f":"'TNC CropScenarios'!X13","v":7834140},{"$f":"'TNC CropScenarios'!Y13","v":2902017},{"$f":"'TNC CropScenarios'!Z13","v":962068.5},{"$f":"'TNC CropScenarios'!AA13","v":15.334435285714285},{"$f":"'TNC CropScenarios'!AB13","v":4.5696617151428569},{"$f":"'TNC CropScenarios'!AC13","v":41.361583017857143},{"$f":"'TNC CropScenarios'!AD13","v":12.325751739321429},{"$f":"'TNC CropScenarios'!AE13","v":16.895413454464286},{"$f":"'TNC CropScenarios'!AF13","v":88.477026879839585},{"$f":"'TNC CropScenarios'!AN13","v":61730},{"$f":"'TNC CropScenarios'!AO13","v":0.1},{"$f":"'TNC CropScenarios'!AP13","v":6173},{"$f":"'TNC CropScenarios'!AQ13","v":108.33615},{"$f":"'TNC CropScenarios'!AR13","v":2.70840375},{"$f":"'TNC CropScenarios'!AS13","v":0},{"$f":"'TNC CropScenarios'!AT13","v":88.477026879839585},{"$f":"'TNC CropScenarios'!AV13","v":36.686158457142859},{"$f":"'TNC CropScenarios'!AW13","v":7834140},{"$f":"'TNC CropScenarios'!AX13","v":123.1079142857143},{"$f":"'TNC CropScenarios'!AY13","v":36.686158457142859},{"$f":"'TNC CropScenarios'!AZ13","v":36.686158457142859},{"$f":"'TNC CropScenarios'!BA13","v":0},{"$f":"'TNC CropScenarios'!BB13","v":88.477026879839585},{"$f":"'TNC CropScenarios'!BD13","v":0},{"$f":"'TNC CropScenarios'!BE13","v":0},{"$f":"'TNC CropScenarios'!BF13","v":0},{"$f":"'TNC CropScenarios'!BG13","v":0},{"$f":"'TNC CropScenarios'!BH13","v":0},{"$f":"'TNC CropScenarios'!BI13","v":0},{"$f":"'TNC CropScenarios'!BJ13","v":0},{"$f":"'TNC CropScenarios'!BL13","v":88.477026879839585},{"$f":"'TNC CropScenarios'!BN13","v":7834140},{"$f":"'TNC CropScenarios'!BO13","v":2902017},{"$f":"'TNC CropScenarios'!BP13","v":962068.5},{"$f":"'TNC CropScenarios'!BQ13","v":15.334435285714285},{"$f":"'TNC CropScenarios'!BR13","v":4.5696617151428569},{"$f":"'TNC CropScenarios'!BS13","v":41.361583017857143},{"$f":"'TNC CropScenarios'!BT13","v":12.325751739321429},{"$f":"'TNC CropScenarios'!BU13","v":16.895413454464286},{"$f":"'TNC CropScenarios'!BV13","v":0},{"$f":"'TNC CropScenarios'!BW13","v":88.477026879839585},{"$f":"'TNC CropScenarios'!BY13","v":88.477026879839585}]
[{"$f":"'TNC CropScenarios'!A14","v":2012},{"$f":"'TNC CropScenarios'!B14","v":57160},{"$f":"'TNC CropScenarios'!C14","v":5716},{"$f":"'TNC CropScenarios'!D14","v":100.3158},{"$f":"'TNC CropScenarios'!E14","v":2.507895},{"$f":"'TNC CropScenarios'!F14","v":9700004},{"$f":"'TNC CropScenarios'!G14","v":2697461},{"$f":"'TNC CropScenarios'!H14","v":3437753.0843000002},{"$f":"'TNC CropScenarios'!I14","v":152.42863428571431},{"$f":"'TNC CropScenarios'!J14","v":42.388672857142851},{"$f":"'TNC CropScenarios'!K14","v":54.021834181857145},{"$f":"'TNC CropScenarios'!L14","v":45.423733017142865},{"$f":"'TNC CropScenarios'!M14","v":12.631824511428569},{"$f":"'TNC CropScenarios'!N14","v":16.09850658619343},{"$f":"'TNC CropScenarios'!O14","v":74.154064114764864},{"$f":"'TNC CropScenarios'!P14","v":14442.256125},{"$f":"'TNC CropScenarios'!Q14","v":462125.79920000001},{"$f":"'TNC CropScenarios'!R14","v":0.45389947821428567},{"$f":"'TNC CropScenarios'!S14","v":7.2619768445714277},{"$f":"'TNC CropScenarios'!T14","v":0.13526204450785712},{"$f":"'TNC CropScenarios'!U14","v":2.1640690996822856},{"$f":"'TNC CropScenarios'!V14","v":2.2993311441901425},{"$f":"'TNC CropScenarios'!W14","v":76.453395258955013},{"$f":"'TNC CropScenarios'!X14","v":9700004},{"$f":"'TNC CropScenarios'!Y14","v":2697461},{"$f":"'TNC CropScenarios'!Z14","v":962068.5},{"$f":"'TNC CropScenarios'!AA14","v":18.266507285714287},{"$f":"'TNC CropScenarios'!AB14","v":5.4434191711428577},{"$f":"'TNC CropScenarios'!AC14","v":47.235493446428571},{"$f":"'TNC CropScenarios'!AD14","v":14.076177047035713},{"$f":"'TNC CropScenarios'!AE14","v":19.51959621817857},{"$f":"'TNC CropScenarios'!AF14","v":98.480886477133595},{"$f":"'TNC CropScenarios'!AN14","v":57160},{"$f":"'TNC CropScenarios'!AO14","v":0.1},{"$f":"'TNC CropScenarios'!AP14","v":5716},{"$f":"'TNC CropScenarios'!AQ14","v":100.3158},{"$f":"'TNC CropScenarios'!AR14","v":2.507895},{"$f":"'TNC CropScenarios'!AS14","v":0},{"$f":"'TNC CropScenarios'!AT14","v":98.480886477133595},{"$f":"'TNC CropScenarios'!AV14","v":45.423733017142865},{"$f":"'TNC CropScenarios'!AW14","v":9700004},{"$f":"'TNC CropScenarios'!AX14","v":152.42863428571431},{"$f":"'TNC CropScenarios'!AY14","v":45.423733017142865},{"$f":"'TNC CropScenarios'!AZ14","v":45.423733017142865},{"$f":"'TNC CropScenarios'!BA14","v":0},{"$f":"'TNC CropScenarios'!BB14","v":98.480886477133595},{"$f":"'TNC CropScenarios'!BD14","v":0},{"$f":"'TNC CropScenarios'!BE14","v":0},{"$f":"'TNC CropScenarios'!BF14","v":0},{"$f":"'TNC CropScenarios'!BG14","v":0},{"$f":"'TNC CropScenarios'!BH14","v":0},{"$f":"'TNC CropScenarios'!BI14","v":0},{"$f":"'TNC CropScenarios'!BJ14","v":0},{"$f":"'TNC CropScenarios'!BL14","v":98.480886477133595},{"$f":"'TNC CropScenarios'!BN14","v":9700004},{"$f":"'TNC CropScenarios'!BO14","v":2697461},{"$f":"'TNC CropScenarios'!BP14","v":962068.5},{"$f":"'TNC CropScenarios'!BQ14","v":18.266507285714287},{"$f":"'TNC CropScenarios'!BR14","v":5.4434191711428577},{"$f":"'TNC CropScenarios'!BS14","v":47.235493446428571},{"$f":"'TNC CropScenarios'!BT14","v":14.076177047035713},{"$f":"'TNC CropScenarios'!BU14","v":19.51959621817857},{"$f":"'TNC CropScenarios'!BV14","v":0},{"$f":"'TNC CropScenarios'!BW14","v":98.480886477133595},{"$f":"'TNC CropScenarios'!BY14","v":98.480886477133595}]
[{"$f":"'TNC CropScenarios'!A15","v":2013},{"$f":"'TNC CropScenarios'!B15","v":56464},{"$f":"'TNC CropScenarios'!C15","v":5646.4000000000005},{"$f":"'TNC CropScenarios'!D15","v":99.094320000000025},{"$f":"'TNC CropScenarios'!E15","v":2.4773580000000006},{"$f":"'TNC CropScenarios'!F15","v":9967255},{"$f":"'TNC CropScenarios'!G15","v":2665224},{"$f":"'TNC CropScenarios'!H15","v":3379421.6993},{"$f":"'TNC CropScenarios'!I15","v":156.62829285714287},{"$f":"'TNC CropScenarios'!J15","v":41.882091428571428},{"$f":"'TNC CropScenarios'!K15","v":53.105198131857144},{"$f":"'TNC CropScenarios'!L15","v":46.675231271428572},{"$f":"'TNC CropScenarios'!M15","v":12.480863245714286},{"$f":"'TNC CropScenarios'!N15","v":15.825349043293429},{"$f":"'TNC CropScenarios'!O15","v":74.98144356043629},{"$f":"'TNC CropScenarios'!P15","v":13170.0906},{"$f":"'TNC CropScenarios'!Q15","v":464088.0465},{"$f":"'TNC CropScenarios'!R15","v":0.41391713314285716},{"$f":"'TNC CropScenarios'!S15","v":7.292812159285714},{"$f":"'TNC CropScenarios'!T15","v":0.12334730567657144},{"$f":"'TNC CropScenarios'!U15","v":2.1732580234671426},{"$f":"'TNC CropScenarios'!V15","v":2.2966053291437141},{"$f":"'TNC CropScenarios'!W15","v":77.278048889580006},{"$f":"'TNC CropScenarios'!X15","v":9967255},{"$f":"'TNC CropScenarios'!Y15","v":2665224},{"$f":"'TNC CropScenarios'!Z15","v":962068.5},{"$f":"'TNC CropScenarios'!AA15","v":18.686473142857142},{"$f":"'TNC CropScenarios'!AB15","v":5.568568996571428},{"$f":"'TNC CropScenarios'!AC15","v":48.066435803571423},{"$f":"'TNC CropScenarios'!AD15","v":14.323797869464284},{"$f":"'TNC CropScenarios'!AE15","v":19.892366866035712},{"$f":"'TNC CropScenarios'!AF15","v":99.647773755615717},{"$f":"'TNC CropScenarios'!AN15","v":56464},{"$f":"'TNC CropScenarios'!AO15","v":0.1},{"$f":"'TNC CropScenarios'!AP15","v":5646.4000000000005},{"$f":"'TNC CropScenarios'!AQ15","v":99.094320000000025},{"$f":"'TNC CropScenarios'!AR15","v":2.4773580000000006},{"$f":"'TNC CropScenarios'!AS15","v":0},{"$f":"'TNC CropScenarios'!AT15","v":99.647773755615717},{"$f":"'TNC CropScenarios'!AV15","v":46.675231271428572},{"$f":"'TNC CropScenarios'!AW15","v":9967255},{"$f":"'TNC CropScenarios'!AX15","v":156.62829285714287},{"$f":"'TNC CropScenarios'!AY15","v":46.675231271428572},{"$f":"'TNC CropScenarios'!AZ15","v":46.675231271428572},{"$f":"'TNC CropScenarios'!BA15","v":0},{"$f":"'TNC CropScenarios'!BB15","v":99.647773755615717},{"$f":"'TNC CropScenarios'!BD15","v":0},{"$f":"'TNC CropScenarios'!BE15","v":0},{"$f":"'TNC CropScenarios'!BF15","v":0},{"$f":"'TNC CropScenarios'!BG15","v":0},{"$f":"'TNC CropScenarios'!BH15","v":0},{"$f":"'TNC CropScenarios'!BI15","v":0},{"$f":"'TNC CropScenarios'!BJ15","v":0},{"$f":"'TNC CropScenarios'!BL15","v":99.647773755615717},{"$f":"'TNC CropScenarios'!BN15","v":9967255},{"$f":"'TNC CropScenarios'!BO15","v":2665224},{"$f":"'TNC CropScenarios'!BP15","v":962068.5},{"$f":"'TNC CropScenarios'!BQ15","v":18.686473142857142},{"$f":"'TNC CropScenarios'!BR15","v":5.568568996571428},{"$f":"'TNC CropScenarios'!BS15","v":48.066435803571423},{"$f":"'TNC CropScenarios'!BT15","v":14.323797869464284},{"$f":"'TNC CropScenarios'!BU15","v":19.892366866035712},{"$f":"'TNC CropScenarios'!BV15","v":0},{"$f":"'TNC CropScenarios'!BW15","v":99.647773755615717},{"$f":"'TNC CropScenarios'!BY15","v":99.647773755615717}]
[{"$f":"'TNC CropScenarios'!A16","v":2014},{"$f":"'TNC CropScenarios'!B16","v":50694},{"$f":"'TNC CropScenarios'!C16","v":5069.4000000000005},{"$f":"'TNC CropScenarios'!D16","v":88.967970000000022},{"$f":"'TNC CropScenarios'!E16","v":2.2241992500000007},{"$f":"'TNC CropScenarios'!F16","v":10166600.1},{"$f":"'TNC CropScenarios'!G16","v":2665224},{"$f":"'TNC CropScenarios'!H16","v":3440472.1319429623},{"$f":"'TNC CropScenarios'!I16","v":159.76085871428572},{"$f":"'TNC CropScenarios'!J16","v":41.882091428571428},{"$f":"'TNC CropScenarios'!K16","v":54.064562073389403},{"$f":"'TNC CropScenarios'!L16","v":47.608735896857141},{"$f":"'TNC CropScenarios'!M16","v":12.480863245714286},{"$f":"'TNC CropScenarios'!N16","v":16.111239497870042},{"$f":"'TNC CropScenarios'!O16","v":76.200838640441475},{"$f":"'TNC CropScenarios'!P16","v":12926.5553},{"$f":"'TNC CropScenarios'!Q16","v":464088.0465},{"$f":"'TNC CropScenarios'!R16","v":0.40626316657142858},{"$f":"'TNC CropScenarios'!S16","v":7.292812159285714},{"$f":"'TNC CropScenarios'!T16","v":0.12106642363828571},{"$f":"'TNC CropScenarios'!U16","v":2.1732580234671426},{"$f":"'TNC CropScenarios'!V16","v":2.2943244471054283},{"$f":"'TNC CropScenarios'!W16","v":78.495163087546899},{"$f":"'TNC CropScenarios'!X16","v":10166600.1},{"$f":"'TNC CropScenarios'!Y16","v":2665224},{"$f":"'TNC CropScenarios'!Z16","v":962068.5},{"$f":"'TNC CropScenarios'!AA16","v":18.999729728571431},{"$f":"'TNC CropScenarios'!AB16","v":5.6619194591142872},{"$f":"'TNC CropScenarios'!AC16","v":48.771263121428568},{"$f":"'TNC CropScenarios'!AD16","v":14.533836410185714},{"$f":"'TNC CropScenarios'!AE16","v":20.195755869300001},{"$f":"'TNC CropScenarios'!AF16","v":100.9151182068469},{"$f":"'TNC CropScenarios'!AN16","v":50694},{"$f":"'TNC CropScenarios'!AO16","v":0.1},{"$f":"'TNC CropScenarios'!AP16","v":5069.4000000000005},{"$f":"'TNC CropScenarios'!AQ16","v":88.967970000000022},{"$f":"'TNC CropScenarios'!AR16","v":2.2241992500000007},{"$f":"'TNC CropScenarios'!AS16","v":0},{"$f":"'TNC CropScenarios'!AT16","v":100.9151182068469},{"$f":"'TNC CropScenarios'!AV16","v":47.608735896857141},{"$f":"'TNC CropScenarios'!AW16","v":10166600.1},{"$f":"'TNC CropScenarios'!AX16","v":159.76085871428572},{"$f":"'TNC CropScenarios'!AY16","v":47.608735896857141},{"$f":"'TNC CropScenarios'!AZ16","v":47.608735896857141},{"$f":"'TNC CropScenarios'!BA16","v":0},{"$f":"'TNC CropScenarios'!BB16","v":100.9151182068469},{"$f":"'TNC CropScenarios'!BD16","v":0},{"$f":"'TNC CropScenarios'!BE16","v":0},{"$f":"'TNC CropScenarios'!BF16","v":0},{"$f":"'TNC CropScenarios'!BG16","v":0},{"$f":"'TNC CropScenarios'!BH16","v":0},{"$f":"'TNC CropScenarios'!BI16","v":0},{"$f":"'TNC CropScenarios'!BJ16","v":0},{"$f":"'TNC CropScenarios'!BL16","v":100.9151182068469},{"$f":"'TNC CropScenarios'!BN16","v":10166600.1},{"$f":"'TNC CropScenarios'!BO16","v":2665224},{"$f":"'TNC CropScenarios'!BP16","v":962068.5},{"$f":"'TNC CropScenarios'!BQ16","v":18.999729728571431},{"$f":"'TNC CropScenarios'!BR16","v":5.6619194591142872},{"$f":"'TNC CropScenarios'!BS16","v":48.771263121428568},{"$f":"'TNC CropScenarios'!BT16","v":14.533836410185714},{"$f":"'TNC CropScenarios'!BU16","v":20.195755869300001},{"$f":"'TNC CropScenarios'!BV16","v":0},{"$f":"'TNC CropScenarios'!BW16","v":100.9151182068469},{"$f":"'TNC CropScenarios'!BY16","v":100.9151182068469}]
[{"$f":"'TNC CropScenarios'!A17","v":2015},{"$f":"'TNC CropScenarios'!B17","v":52387},{"$f":"'TNC CropScenarios'!C17","v":5238.7000000000007},{"$f":"'TNC CropScenarios'!D17","v":91.939185000000009},{"$f":"'TNC CropScenarios'!E17","v":2.2984796250000006},{"$f":"'TNC CropScenarios'!F17","v":10369932.102},{"$f":"'TNC CropScenarios'!G17","v":2665224},{"$f":"'TNC CropScenarios'!H17","v":3501522.5645859241},{"$f":"'TNC CropScenarios'!I17","v":162.95607588857141},{"$f":"'TNC CropScenarios'!J17","v":41.882091428571428},{"$f":"'TNC CropScenarios'!K17","v":55.02392601492167},{"$f":"'TNC CropScenarios'!L17","v":48.560910614794281},{"$f":"'TNC CropScenarios'!M17","v":12.480863245714286},{"$f":"'TNC CropScenarios'!N17","v":16.397129952446658},{"$f":"'TNC CropScenarios'!O17","v":77.438903812955232},{"$f":"'TNC CropScenarios'!P17","v":12683.02},{"$f":"'TNC CropScenarios'!Q17","v":464088.0465},{"$f":"'TNC CropScenarios'!R17","v":0.3986092},{"$f":"'TNC CropScenarios'!S17","v":7.292812159285714},{"$f":"'TNC CropScenarios'!T17","v":0.1187855416},{"$f":"'TNC CropScenarios'!U17","v":2.1732580234671426},{"$f":"'TNC CropScenarios'!V17","v":2.2920435650671425},{"$f":"'TNC CropScenarios'!W17","v":79.730947378022378},{"$f":"'TNC CropScenarios'!X17","v":10369932.102},{"$f":"'TNC CropScenarios'!Y17","v":2665224},{"$f":"'TNC CropScenarios'!Z17","v":962068.5},{"$f":"'TNC CropScenarios'!AA17","v":19.319251446000003},{"$f":"'TNC CropScenarios'!AB17","v":5.7571369309080014},{"$f":"'TNC CropScenarios'!AC17","v":49.49018698564285},{"$f":"'TNC CropScenarios'!AD17","v":14.748075721721568},{"$f":"'TNC CropScenarios'!AE17","v":20.50521265262957},{"$f":"'TNC CropScenarios'!AF17","v":102.53463965565194},{"$f":"'TNC CropScenarios'!AN17","v":52387},{"$f":"'TNC CropScenarios'!AO17","v":0.1},{"$f":"'TNC CropScenarios'!AP17","v":5238.7000000000007},{"$f":"'TNC CropScenarios'!AQ17","v":91.939185000000009},{"$f":"'TNC CropScenarios'!AR17","v":2.2984796250000006},{"$f":"'TNC CropScenarios'!AS17","v":0},{"$f":"'TNC CropScenarios'!AT17","v":102.53463965565194},{"$f":"'TNC CropScenarios'!AV17","v":48.560910614794281},{"$f":"'TNC CropScenarios'!AW17","v":10369932.102},{"$f":"'TNC CropScenarios'!AX17","v":162.95607588857141},{"$f":"'TNC CropScenarios'!AY17","v":48.560910614794281},{"$f":"'TNC CropScenarios'!AZ17","v":48.560910614794281},{"$f":"'TNC CropScenarios'!BA17","v":0},{"$f":"'TNC CropScenarios'!BB17","v":102.53463965565194},{"$f":"'TNC CropScenarios'!BD17","v":0},{"$f":"'TNC CropScenarios'!BE17","v":0},{"$f":"'TNC CropScenarios'!BF17","v":0},{"$f":"'TNC CropScenarios'!BG17","v":0},{"$f":"'TNC CropScenarios'!BH17","v":0},{"$f":"'TNC CropScenarios'!BI17","v":0},{"$f":"'TNC CropScenarios'!BJ17","v":0},{"$f":"'TNC CropScenarios'!BL17","v":102.53463965565194},{"$f":"'TNC CropScenarios'!BN17","v":10369932.102},{"$f":"'TNC CropScenarios'!BO17","v":2665224},{"$f":"'TNC CropScenarios'!BP17","v":962068.5},{"$f":"'TNC CropScenarios'!BQ17","v":19.319251446000003},{"$f":"'TNC CropScenarios'!BR17","v":5.7571369309080014},{"$f":"'TNC CropScenarios'!BS17","v":49.49018698564285},{"$f":"'TNC CropScenarios'!BT17","v":14.748075721721568},{"$f":"'TNC CropScenarios'!BU17","v":20.50521265262957},{"$f":"'TNC CropScenarios'!BV17","v":0},{"$f":"'TNC CropScenarios'!BW17","v":102.53463965565194},{"$f":"'TNC CropScenarios'!BY17","v":102.53463965565194}]
[{"$f":"'TNC CropScenarios'!A18","v":2016},{"$f":"'TNC CropScenarios'!B18","v":52000},{"$f":"'TNC CropScenarios'!C18","v":5200},{"$f":"'TNC CropScenarios'!D18","v":91.26},{"$f":"'TNC CropScenarios'!E18","v":2.2814999999999999},{"$f":"'TNC CropScenarios'!F18","v":10577330.744039999},{"$f":"'TNC CropScenarios'!G18","v":2665224},{"$f":"'TNC CropScenarios'!H18","v":3517897.8239884605},{"$f":"'TNC CropScenarios'!I18","v":166.21519740634284},{"$f":"'TNC CropScenarios'!J18","v":41.882091428571428},{"$f":"'TNC CropScenarios'!K18","v":55.281251519818667},{"$f":"'TNC CropScenarios'!L18","v":49.532128827090162},{"$f":"'TNC CropScenarios'!M18","v":12.480863245714286},{"$f":"'TNC CropScenarios'!N18","v":16.473812952905963},{"$f":"'TNC CropScenarios'!O18","v":78.48680502571041},{"$f":"'TNC CropScenarios'!P18","v":12533.808000000001},{"$f":"'TNC CropScenarios'!Q18","v":458963.44650000002},{"$f":"'TNC CropScenarios'!R18","v":0.39391968000000005},{"$f":"'TNC CropScenarios'!S18","v":7.2122827307142865},{"$f":"'TNC CropScenarios'!T18","v":0.11738806464000001},{"$f":"'TNC CropScenarios'!U18","v":2.1492602537528573},{"$f":"'TNC CropScenarios'!V18","v":2.2666483183928574},{"$f":"'TNC CropScenarios'!W18","v":80.753453344103264},{"$f":"'TNC CropScenarios'!X18","v":10577330.744039999},{"$f":"'TNC CropScenarios'!Y18","v":2665224},{"$f":"'TNC CropScenarios'!Z18","v":962068.5},{"$f":"'TNC CropScenarios'!AA18","v":19.645163597777145},{"$f":"'TNC CropScenarios'!AB18","v":5.8542587521375893},{"$f":"'TNC CropScenarios'!AC18","v":50.223489327141422},{"$f":"'TNC CropScenarios'!AD18","v":14.966599819488144},{"$f":"'TNC CropScenarios'!AE18","v":20.820858571625735},{"$f":"'TNC CropScenarios'!AF18","v":103.85581191572899},{"$f":"'TNC CropScenarios'!AN18","v":52000},{"$f":"'TNC CropScenarios'!AO18","v":0.1},{"$f":"'TNC CropScenarios'!AP18","v":5200},{"$f":"'TNC CropScenarios'!AQ18","v":91.26},{"$f":"'TNC CropScenarios'!AR18","v":2.2814999999999999},{"$f":"'TNC CropScenarios'!AS18","v":0},{"$f":"'TNC CropScenarios'!AT18","v":103.85581191572899},{"$f":"'TNC CropScenarios'!AV18","v":49.532128827090162},{"$f":"'TNC CropScenarios'!AW18","v":10471557.436599599},{"$f":"'TNC CropScenarios'!AX18","v":164.55304543227942},{"$f":"'TNC CropScenarios'!AY18","v":49.036807538819268},{"$f":"'TNC CropScenarios'!AZ18","v":49.036807538819268},{"$f":"'TNC CropScenarios'!BA18","v":0.49532128827089394},{"$f":"'TNC CropScenarios'!BB18","v":103.45957766087579},{"$f":"'TNC CropScenarios'!BD18","v":0},{"$f":"'TNC CropScenarios'!BE18","v":0},{"$f":"'TNC CropScenarios'!BF18","v":0},{"$f":"'TNC CropScenarios'!BG18","v":0},{"$f":"'TNC CropScenarios'!BH18","v":0},{"$f":"'TNC CropScenarios'!BI18","v":0},{"$f":"'TNC CropScenarios'!BJ18","v":0},{"$f":"'TNC CropScenarios'!BL18","v":103.45957766087579},{"$f":"'TNC CropScenarios'!BN18","v":10471557.436599599},{"$f":"'TNC CropScenarios'!BO18","v":2665224},{"$f":"'TNC CropScenarios'!BP18","v":962068.5},{"$f":"'TNC CropScenarios'!BQ18","v":19.4789484003708},{"$f":"'TNC CropScenarios'!BR18","v":5.8047266233104979},{"$f":"'TNC CropScenarios'!BS18","v":49.849505132977143},{"$f":"'TNC CropScenarios'!BT18","v":14.855152529627189},{"$f":"'TNC CropScenarios'!BU18","v":20.659879152937688},{"$f":"'TNC CropScenarios'!BV18","v":0.1609794186880471},{"$f":"'TNC CropScenarios'!BW18","v":103.29859824218775},{"$f":"'TNC CropScenarios'!BY18","v":103.29859824218775}]
[{"$f":"'TNC CropScenarios'!A19","v":2017},{"$f":"'TNC CropScenarios'!B19","v":51000},{"$f":"'TNC CropScenarios'!C19","v":5100},{"$f":"'TNC CropScenarios'!D19","v":89.504999999999995},{"$f":"'TNC CropScenarios'!E19","v":2.237625},{"$f":"'TNC CropScenarios'!F19","v":10788877.3589208},{"$f":"'TNC CropScenarios'!G19","v":2665224},{"$f":"'TNC CropScenarios'!H19","v":3534273.0833909968},{"$f":"'TNC CropScenarios'!I19","v":169.53950135446971},{"$f":"'TNC CropScenarios'!J19","v":41.882091428571428},{"$f":"'TNC CropScenarios'!K19","v":55.538577024715664},{"$f":"'TNC CropScenarios'!L19","v":50.522771403631971},{"$f":"'TNC CropScenarios'!M19","v":12.480863245714286},{"$f":"'TNC CropScenarios'!N19","v":16.550495953365267},{"$f":"'TNC CropScenarios'!O19","v":79.554130602711524},{"$f":"'TNC CropScenarios'!P19","v":12384.596000000001},{"$f":"'TNC CropScenarios'!Q19","v":453838.84650000004},{"$f":"'TNC CropScenarios'!R19","v":0.38923016000000005},{"$f":"'TNC CropScenarios'!S19","v":7.1317533021428581},{"$f":"'TNC CropScenarios'!T19","v":0.11599058768000002},{"$f":"'TNC CropScenarios'!U19","v":2.1252624840385717},{"$f":"'TNC CropScenarios'!V19","v":2.2412530717185715},{"$f":"'TNC CropScenarios'!W19","v":81.795383674430099},{"$f":"'TNC CropScenarios'!X19","v":10788877.3589208},{"$f":"'TNC CropScenarios'!Y19","v":2665224},{"$f":"'TNC CropScenarios'!Z19","v":962068.5},{"$f":"'TNC CropScenarios'!AA19","v":19.977593992589828},{"$f":"'TNC CropScenarios'!AB19","v":5.9533230097917684},{"$f":"'TNC CropScenarios'!AC19","v":50.97145771546996},{"$f":"'TNC CropScenarios'!AD19","v":15.18949439921005},{"$f":"'TNC CropScenarios'!AE19","v":21.142817409001818},{"$f":"'TNC CropScenarios'!AF19","v":105.17582608343191},{"$f":"'TNC CropScenarios'!AN19","v":51000},{"$f":"'TNC CropScenarios'!AO19","v":0.1},{"$f":"'TNC CropScenarios'!AP19","v":5100},{"$f":"'TNC CropScenarios'!AQ19","v":89.504999999999995},{"$f":"'TNC CropScenarios'!AR19","v":2.237625},{"$f":"'TNC CropScenarios'!AS19","v":0},{"$f":"'TNC CropScenarios'!AT19","v":105.17582608343191},{"$f":"'TNC CropScenarios'!AV19","v":50.522771403631971},{"$f":"'TNC CropScenarios'!AW19","v":10573099.811742384},{"$f":"'TNC CropScenarios'!AX19","v":166.14871132738034},{"$f":"'TNC CropScenarios'!AY19","v":49.512315975559346},{"$f":"'TNC CropScenarios'!AZ19","v":49.512315975559346},{"$f":"'TNC CropScenarios'!BA19","v":1.0104554280726248},{"$f":"'TNC CropScenarios'!BB19","v":104.36354472219469},{"$f":"'TNC CropScenarios'!BD19","v":1.3269527579976663},{"$f":"'TNC CropScenarios'!BE19","v":4.4231758599922202},{"$f":"'TNC CropScenarios'!BF19","v":1.0615622063981329},{"$f":"'TNC CropScenarios'!BG19","v":6.8116908243880196},{"$f":"'TNC CropScenarios'!BH19","v":3.4058454121940098},{"$f":"'TNC CropScenarios'!BI19","v":59602.294713395175},{"$f":"'TNC CropScenarios'!BJ19","v":0.27910903152929911},{"$f":"'TNC CropScenarios'!BL19","v":104.64265375372399},{"$f":"'TNC CropScenarios'!BN19","v":10573099.811742384},{"$f":"'TNC CropScenarios'!BO19","v":2665224},{"$f":"'TNC CropScenarios'!BP19","v":1021670.7947133952},{"$f":"'TNC CropScenarios'!BQ19","v":19.825836487551562},{"$f":"'TNC CropScenarios'!BR19","v":5.9080992732903663},{"$f":"'TNC CropScenarios'!BS19","v":50.419266644254357},{"$f":"'TNC CropScenarios'!BT19","v":15.024941459987799},{"$f":"'TNC CropScenarios'!BU19","v":20.933040733278165},{"$f":"'TNC CropScenarios'!BV19","v":0.20977667572365277},{"$f":"'TNC CropScenarios'!BW19","v":104.43287707800033},{"$f":"'TNC CropScenarios'!BY19","v":104.43287707800033}]
[{"$f":"'TNC CropScenarios'!A20","v":2018},{"$f":"'TNC CropScenarios'!B20","v":50500},{"$f":"'TNC CropScenarios'!C20","v":5050},{"$f":"'TNC CropScenarios'!D20","v":88.627499999999998},{"$f":"'TNC CropScenarios'!E20","v":2.2156875},{"$f":"'TNC CropScenarios'!F20","v":11004654.906099215},{"$f":"'TNC CropScenarios'!G20","v":2665224},{"$f":"'TNC CropScenarios'!H20","v":3550648.3427935331},{"$f":"'TNC CropScenarios'!I20","v":172.9302913815591},{"$f":"'TNC CropScenarios'!J20","v":41.882091428571428},{"$f":"'TNC CropScenarios'!K20","v":55.795902529612661},{"$f":"'TNC CropScenarios'!L20","v":51.53322683170461},{"$f":"'TNC CropScenarios'!M20","v":12.480863245714286},{"$f":"'TNC CropScenarios'!N20","v":16.627178953824572},{"$f":"'TNC CropScenarios'!O20","v":80.641269031243468},{"$f":"'TNC CropScenarios'!P20","v":12235.384000000002},{"$f":"'TNC CropScenarios'!Q20","v":448714.24650000007},{"$f":"'TNC CropScenarios'!R20","v":0.38454064000000004},{"$f":"'TNC CropScenarios'!S20","v":7.0512238735714297},{"$f":"'TNC CropScenarios'!T20","v":0.11459311072000002},{"$f":"'TNC CropScenarios'!U20","v":2.101264714324286},{"$f":"'TNC CropScenarios'!V20","v":2.215857825044286},{"$f":"'TNC CropScenarios'!W20","v":82.857126856287749},{"$f":"'TNC CropScenarios'!X20","v":11004654.906099215},{"$f":"'TNC CropScenarios'!Y20","v":2665224},{"$f":"'TNC CropScenarios'!Z20","v":962068.5},{"$f":"'TNC CropScenarios'!AA20","v":20.316672995298767},{"$f":"'TNC CropScenarios'!AB20","v":6.0543685525990325},{"$f":"'TNC CropScenarios'!AC20","v":51.734385471565076},{"$f":"'TNC CropScenarios'!AD20","v":15.416846870526394},{"$f":"'TNC CropScenarios'!AE20","v":21.471215423125425},{"$f":"'TNC CropScenarios'!AF20","v":106.54402977941318},{"$f":"'TNC CropScenarios'!AN20","v":50500},{"$f":"'TNC CropScenarios'!AO20","v":0.1},{"$f":"'TNC CropScenarios'!AP20","v":5050},{"$f":"'TNC CropScenarios'!AQ20","v":88.627499999999998},{"$f":"'TNC CropScenarios'!AR20","v":2.2156875},{"$f":"'TNC CropScenarios'!AS20","v":0},{"$f":"'TNC CropScenarios'!AT20","v":106.54402977941318},{"$f":"'TNC CropScenarios'!AV20","v":51.53322683170461},{"$f":"'TNC CropScenarios'!AW20","v":10674515.258916238},{"$f":"'TNC CropScenarios'!AX20","v":167.74238264011234},{"$f":"'TNC CropScenarios'!AY20","v":49.987230026753473},{"$f":"'TNC CropScenarios'!AZ20","v":49.987230026753473},{"$f":"'TNC CropScenarios'!BA20","v":1.5459968049511374},{"$f":"'TNC CropScenarios'!BB20","v":105.29529407471514},{"$f":"'TNC CropScenarios'!BD20","v":2.7069836263152389},{"$f":"'TNC CropScenarios'!BE20","v":9.0232787543841297},{"$f":"'TNC CropScenarios'!BF20","v":2.1655869010521913},{"$f":"'TNC CropScenarios'!BG20","v":13.895849281751559},{"$f":"'TNC CropScenarios'!BH20","v":6.9479246408757795},{"$f":"'TNC CropScenarios'!BI20","v":121588.68121532616},{"$f":"'TNC CropScenarios'!BJ20","v":0.56938242431977015},{"$f":"'TNC CropScenarios'!BL20","v":105.86467649903491},{"$f":"'TNC CropScenarios'!BN20","v":10674515.258916238},{"$f":"'TNC CropScenarios'!BO20","v":2665224},{"$f":"'TNC CropScenarios'!BP20","v":1083657.1812153261},{"$f":"'TNC CropScenarios'!BQ20","v":20.180017976402258},{"$f":"'TNC CropScenarios'!BR20","v":6.0136453569678734},{"$f":"'TNC CropScenarios'!BS20","v":50.997008841893731},{"$f":"'TNC CropScenarios'!BT20","v":15.197108634884332},{"$f":"'TNC CropScenarios'!BU20","v":21.210753991852204},{"$f":"'TNC CropScenarios'!BV20","v":0.26046143127322097},{"$f":"'TNC CropScenarios'!BW20","v":105.60421506776169},{"$f":"'TNC CropScenarios'!BY20","v":105.60421506776169}]
[{"$f":"'TNC CropScenarios'!A21","v":2019},{"$f":"'TNC CropScenarios'!B21","v":50000},{"$f":"'TNC CropScenarios'!C21","v":5000},{"$f":"'TNC CropScenarios'!D21","v":87.75},{"$f":"'TNC CropScenarios'!E21","v":2.1937500000000001},{"$f":"'TNC CropScenarios'!F21","v":11224748.004221199},{"$f":"'TNC CropScenarios'!G21","v":2665224},{"$f":"'TNC CropScenarios'!H21","v":3567023.6021960694},{"$f":"'TNC CropScenarios'!I21","v":176.38889720919028},{"$f":"'TNC CropScenarios'!J21","v":41.882091428571428},{"$f":"'TNC CropScenarios'!K21","v":56.053228034509658},{"$f":"'TNC CropScenarios'!L21","v":52.563891368338702},{"$f":"'TNC CropScenarios'!M21","v":12.480863245714286},{"$f":"'TNC CropScenarios'!N21","v":16.70386195428388},{"$f":"'TNC CropScenarios'!O21","v":81.748616568336871},{"$f":"'TNC CropScenarios'!P21","v":12086.172000000002},{"$f":"'TNC CropScenarios'!Q21","v":443589.64650000009},{"$f":"'TNC CropScenarios'!R21","v":0.37985112000000004},{"$f":"'TNC CropScenarios'!S21","v":6.9706944450000012},{"$f":"'TNC CropScenarios'!T21","v":0.11319563376000001},{"$f":"'TNC CropScenarios'!U21","v":2.0772669446100003},{"$f":"'TNC CropScenarios'!V21","v":2.1904625783700005},{"$f":"'TNC CropScenarios'!W21","v":83.939079146706874},{"$f":"'TNC CropScenarios'!X21","v":11224748.004221199},{"$f":"'TNC CropScenarios'!Y21","v":2665224},{"$f":"'TNC CropScenarios'!Z21","v":962068.5},{"$f":"'TNC CropScenarios'!AA21","v":20.662533578061883},{"$f":"'TNC CropScenarios'!AB21","v":6.1574350062624408},{"$f":"'TNC CropScenarios'!AC21","v":52.512571782782096},{"$f":"'TNC CropScenarios'!AD21","v":15.648746391269066},{"$f":"'TNC CropScenarios'!AE21","v":21.806181397531507},{"$f":"'TNC CropScenarios'!AF21","v":107.93901054423837},{"$f":"'TNC CropScenarios'!AN21","v":50000},{"$f":"'TNC CropScenarios'!AO21","v":0.1},{"$f":"'TNC CropScenarios'!AP21","v":5000},{"$f":"'TNC CropScenarios'!AQ21","v":87.75},{"$f":"'TNC CropScenarios'!AR21","v":2.1937500000000001},{"$f":"'TNC CropScenarios'!AS21","v":0},{"$f":"'TNC CropScenarios'!AT21","v":107.93901054423837},{"$f":"'TNC CropScenarios'!AV21","v":52.563891368338702},{"$f":"'TNC CropScenarios'!AW21","v":10775758.08405235},{"$f":"'TNC CropScenarios'!AX21","v":169.33334132082263},{"$f":"'TNC CropScenarios'!AY21","v":50.461335713605145},{"$f":"'TNC CropScenarios'!AZ21","v":50.461335713605145},{"$f":"'TNC CropScenarios'!BA21","v":2.1025556547335569},{"$f":"'TNC CropScenarios'!BB21","v":106.23280302317562},{"$f":"'TNC CropScenarios'!BD21","v":4.1416849482623155},{"$f":"'TNC CropScenarios'!BE21","v":13.805616494207719},{"$f":"'TNC CropScenarios'!BF21","v":3.3133479586098522},{"$f":"'TNC CropScenarios'!BG21","v":21.260649401079888},{"$f":"'TNC CropScenarios'!BH21","v":10.630324700539944},{"$f":"'TNC CropScenarios'!BI21","v":186030.68225944904},{"$f":"'TNC CropScenarios'!BJ21","v":0.87115510920924843},{"$f":"'TNC CropScenarios'!BL21","v":107.10395813238488},{"$f":"'TNC CropScenarios'!BN21","v":10775758.08405235},{"$f":"'TNC CropScenarios'!BO21","v":2665224},{"$f":"'TNC CropScenarios'!BP21","v":1148099.182259449},{"$f":"'TNC CropScenarios'!BQ21","v":20.541645847754822},{"$f":"'TNC CropScenarios'!BR21","v":6.1214104626309371},{"$f":"'TNC CropScenarios'!BS21","v":51.58282304874529},{"$f":"'TNC CropScenarios'!BT21","v":15.371681268526096},{"$f":"'TNC CropScenarios'!BU21","v":21.493091731157033},{"$f":"'TNC CropScenarios'!BV21","v":0.31308966637447355},{"$f":"'TNC CropScenarios'!BW21","v":106.79086846601041},{"$f":"'TNC CropScenarios'!BY21","v":106.79086846601041}]
[{"$f":"'TNC CropScenarios'!A22","v":2020},{"$f":"'TNC CropScenarios'!B22","v":49500},{"$f":"'TNC CropScenarios'!C22","v":4950},{"$f":"'TNC CropScenarios'!D22","v":86.872500000000002},{"$f":"'TNC CropScenarios'!E22","v":2.1718125000000001},{"$f":"'TNC CropScenarios'!F22","v":11449242.964305623},{"$f":"'TNC CropScenarios'!G22","v":2665224},{"$f":"'TNC CropScenarios'!H22","v":3583398.8615986062},{"$f":"'TNC CropScenarios'!I22","v":179.91667515337406},{"$f":"'TNC CropScenarios'!J22","v":41.882091428571428},{"$f":"'TNC CropScenarios'!K22","v":56.310553539406669},{"$f":"'TNC CropScenarios'!L22","v":53.615169195705469},{"$f":"'TNC CropScenarios'!M22","v":12.480863245714286},{"$f":"'TNC CropScenarios'!N22","v":16.780544954743188},{"$f":"'TNC CropScenarios'!O22","v":82.876577396162944},{"$f":"'TNC CropScenarios'!P22","v":11936.960000000001},{"$f":"'TNC CropScenarios'!Q22","v":438465.0465},{"$f":"'TNC CropScenarios'!R22","v":0.37516160000000004},{"$f":"'TNC CropScenarios'!S22","v":6.890165016428571},{"$f":"'TNC CropScenarios'!T22","v":0.11179815680000002},{"$f":"'TNC CropScenarios'!U22","v":2.0532691748957141},{"$f":"'TNC CropScenarios'!V22","v":2.1650673316957141},{"$f":"'TNC CropScenarios'!W22","v":85.041644727858653},{"$f":"'TNC CropScenarios'!X22","v":11449242.964305623},{"$f":"'TNC CropScenarios'!Y22","v":2665224},{"$f":"'TNC CropScenarios'!Z22","v":962068.5},{"$f":"'TNC CropScenarios'!AA22","v":21.015311372480269},{"$f":"'TNC CropScenarios'!AB22","v":6.2625627889991202},{"$f":"'TNC CropScenarios'!AC22","v":53.306321820223452},{"$f":"'TNC CropScenarios'!AD22","v":15.885283902426588},{"$f":"'TNC CropScenarios'!AE22","v":22.147846691425709},{"$f":"'TNC CropScenarios'!AF22","v":109.36130391928437},{"$f":"'TNC CropScenarios'!AN22","v":49500},{"$f":"'TNC CropScenarios'!AO22","v":0.08},{"$f":"'TNC CropScenarios'!AP22","v":3960},{"$f":"'TNC CropScenarios'!AQ22","v":69.498000000000005},{"$f":"'TNC CropScenarios'!AR22","v":1.7374499999999999},{"$f":"'TNC CropScenarios'!AS22","v":0.43436250000000021},{"$f":"'TNC CropScenarios'!AT22","v":108.92694141928436},{"$f":"'TNC CropScenarios'!AV22","v":53.615169195705469},{"$f":"'TNC CropScenarios'!AW22","v":10876780.816090342},{"$f":"'TNC CropScenarios'!AX22","v":170.92084139570537},{"$f":"'TNC CropScenarios'!AY22","v":50.934410735920203},{"$f":"'TNC CropScenarios'!AZ22","v":50.934410735920203},{"$f":"'TNC CropScenarios'!BA22","v":2.6807584597852667},{"$f":"'TNC CropScenarios'!BB22","v":107.1759806265876},{"$f":"'TNC CropScenarios'!BD22","v":5.6326915296367499},{"$f":"'TNC CropScenarios'!BE22","v":18.775638432122499},{"$f":"'TNC CropScenarios'!BF22","v":4.5061532237093997},{"$f":"'TNC CropScenarios'!BG22","v":28.914483185468651},{"$f":"'TNC CropScenarios'!BH22","v":14.457241592734325},{"$f":"'TNC CropScenarios'!BI22","v":253001.72787285075},{"$f":"'TNC CropScenarios'!BJ22","v":1.1847709485245785},{"$f":"'TNC CropScenarios'!BL22","v":108.36075157511218},{"$f":"'TNC CropScenarios'!BN22","v":10876780.816090342},{"$f":"'TNC CropScenarios'!BO22","v":2665224},{"$f":"'TNC CropScenarios'!BP22","v":1215070.2278728508},{"$f":"'TNC CropScenarios'!BQ22","v":20.910876284313787},{"$f":"'TNC CropScenarios'!BR22","v":6.2314411327255081},{"$f":"'TNC CropScenarios'!BS22","v":52.176801048298422},{"$f":"'TNC CropScenarios'!BT22","v":15.54868671239293},{"$f":"'TNC CropScenarios'!BU22","v":21.780127845118439},{"$f":"'TNC CropScenarios'!BV22","v":0.36771884630726959},{"$f":"'TNC CropScenarios'!BW22","v":107.99303272880491},{"$f":"'TNC CropScenarios'!BY22","v":107.5586702288049}]
[{"$f":"'TNC CropScenarios'!A23","v":2021},{"$f":"'TNC CropScenarios'!B23","v":49000},{"$f":"'TNC CropScenarios'!C23","v":4900},{"$f":"'TNC CropScenarios'!D23","v":85.995000000000005},{"$f":"'TNC CropScenarios'!E23","v":2.1498750000000002},{"$f":"'TNC CropScenarios'!F23","v":11449242.964305623},{"$f":"'TNC CropScenarios'!G23","v":2665224},{"$f":"'TNC CropScenarios'!H23","v":3600132.3977436288},{"$f":"'TNC CropScenarios'!I23","v":179.91667515337406},{"$f":"'TNC CropScenarios'!J23","v":41.882091428571428},{"$f":"'TNC CropScenarios'!K23","v":56.573509107399879},{"$f":"'TNC CropScenarios'!L23","v":53.615169195705469},{"$f":"'TNC CropScenarios'!M23","v":12.480863245714286},{"$f":"'TNC CropScenarios'!N23","v":16.858905714005164},{"$f":"'TNC CropScenarios'!O23","v":82.954938155424912},{"$f":"'TNC CropScenarios'!P23","v":11809.064},{"$f":"'TNC CropScenarios'!Q23","v":438465.0465},{"$f":"'TNC CropScenarios'!R23","v":0.37114201142857145},{"$f":"'TNC CropScenarios'!S23","v":6.890165016428571},{"$f":"'TNC CropScenarios'!T23","v":0.11060031940571428},{"$f":"'TNC CropScenarios'!U23","v":2.0532691748957141},{"$f":"'TNC CropScenarios'!V23","v":2.1638694943014283},{"$f":"'TNC CropScenarios'!W23","v":85.118807649726335},{"$f":"'TNC CropScenarios'!X23","v":11449242.964305623},{"$f":"'TNC CropScenarios'!Y23","v":2665224},{"$f":"'TNC CropScenarios'!Z23","v":962068.5},{"$f":"'TNC CropScenarios'!AA23","v":21.015311372480269},{"$f":"'TNC CropScenarios'!AB23","v":6.2625627889991202},{"$f":"'TNC CropScenarios'!AC23","v":53.306321820223452},{"$f":"'TNC CropScenarios'!AD23","v":15.885283902426588},{"$f":"'TNC CropScenarios'!AE23","v":22.147846691425709},{"$f":"'TNC CropScenarios'!AF23","v":109.41652934115204},{"$f":"'TNC CropScenarios'!AN23","v":49000},{"$f":"'TNC CropScenarios'!AO23","v":0.08},{"$f":"'TNC CropScenarios'!AP23","v":3920},{"$f":"'TNC CropScenarios'!AQ23","v":68.796000000000006},{"$f":"'TNC CropScenarios'!AR23","v":1.7199},{"$f":"'TNC CropScenarios'!AS23","v":0.42997500000000022},{"$f":"'TNC CropScenarios'!AT23","v":108.98655434115204},{"$f":"'TNC CropScenarios'!AV23","v":53.615169195705469},{"$f":"'TNC CropScenarios'!AW23","v":10647795.956804229},{"$f":"'TNC CropScenarios'!AX23","v":167.3225078926379},{"$f":"'TNC CropScenarios'!AY23","v":49.862107352006099},{"$f":"'TNC CropScenarios'!AZ23","v":49.862107352006099},{"$f":"'TNC CropScenarios'!BA23","v":3.7530618436993706},{"$f":"'TNC CropScenarios'!BB23","v":106.23592398556028},{"$f":"'TNC CropScenarios'!BD23","v":7.1816817002868554},{"$f":"'TNC CropScenarios'!BE23","v":23.938939000956186},{"$f":"'TNC CropScenarios'!BF23","v":5.7453453602294848},{"$f":"'TNC CropScenarios'!BG23","v":36.865966061472527},{"$f":"'TNC CropScenarios'!BH23","v":18.432983030736263},{"$f":"'TNC CropScenarios'!BI23","v":322577.20303788461},{"$f":"'TNC CropScenarios'!BJ23","v":1.5105829593688369},{"$f":"'TNC CropScenarios'!BL23","v":107.74650694492911},{"$f":"'TNC CropScenarios'!BN23","v":10647795.956804229},{"$f":"'TNC CropScenarios'!BO23","v":2665224},{"$f":"'TNC CropScenarios'!BP23","v":1284645.7030378846},{"$f":"'TNC CropScenarios'!BQ23","v":20.769708713097142},{"$f":"'TNC CropScenarios'!BR23","v":6.1893731965029479},{"$f":"'TNC CropScenarios'!BS23","v":51.613175011584602},{"$f":"'TNC CropScenarios'!BT23","v":15.380726153452212},{"$f":"'TNC CropScenarios'!BU23","v":21.570099349955161},{"$f":"'TNC CropScenarios'!BV23","v":0.57774734147054829},{"$f":"'TNC CropScenarios'!BW23","v":107.16875960345857},{"$f":"'TNC CropScenarios'!BY23","v":106.73878460345857}]
[{"$f":"'TNC CropScenarios'!A24","v":2022},{"$f":"'TNC CropScenarios'!B24","v":48500},{"$f":"'TNC CropScenarios'!C24","v":4850},{"$f":"'TNC CropScenarios'!D24","v":85.117500000000007},{"$f":"'TNC CropScenarios'!E24","v":2.1279374999999998},{"$f":"'TNC CropScenarios'!F24","v":11449242.964305623},{"$f":"'TNC CropScenarios'!G24","v":2665224},{"$f":"'TNC CropScenarios'!H24","v":3616865.9338886514},{"$f":"'TNC CropScenarios'!I24","v":179.91667515337406},{"$f":"'TNC CropScenarios'!J24","v":41.882091428571428},{"$f":"'TNC CropScenarios'!K24","v":56.836464675393096},{"$f":"'TNC CropScenarios'!L24","v":53.615169195705469},{"$f":"'TNC CropScenarios'!M24","v":12.480863245714286},{"$f":"'TNC CropScenarios'!N24","v":16.937266473267144},{"$f":"'TNC CropScenarios'!O24","v":83.033298914686895},{"$f":"'TNC CropScenarios'!P24","v":11681.168},{"$f":"'TNC CropScenarios'!Q24","v":438465.0465},{"$f":"'TNC CropScenarios'!R24","v":0.36712242285714286},{"$f":"'TNC CropScenarios'!S24","v":6.890165016428571},{"$f":"'TNC CropScenarios'!T24","v":0.10940248201142858},{"$f":"'TNC CropScenarios'!U24","v":2.0532691748957141},{"$f":"'TNC CropScenarios'!V24","v":2.1626716569071429},{"$f":"'TNC CropScenarios'!W24","v":85.195970571594032},{"$f":"'TNC CropScenarios'!X24","v":11449242.964305623},{"$f":"'TNC CropScenarios'!Y24","v":2665224},{"$f":"'TNC CropScenarios'!Z24","v":962068.5},{"$f":"'TNC CropScenarios'!AA24","v":21.015311372480269},{"$f":"'TNC CropScenarios'!AB24","v":6.2625627889991202},{"$f":"'TNC CropScenarios'!AC24","v":53.306321820223452},{"$f":"'TNC CropScenarios'!AD24","v":15.885283902426588},{"$f":"'TNC CropScenarios'!AE24","v":22.147846691425709},{"$f":"'TNC CropScenarios'!AF24","v":109.47175476301975},{"$f":"'TNC CropScenarios'!AN24","v":48500},{"$f":"'TNC CropScenarios'!AO24","v":0.08},{"$f":"'TNC CropScenarios'!AP24","v":3880},{"$f":"'TNC CropScenarios'!AQ24","v":68.093999999999994},{"$f":"'TNC CropScenarios'!AR24","v":1.7023499999999998},{"$f":"'TNC CropScenarios'!AS24","v":0.42558750000000001},{"$f":"'TNC CropScenarios'!AT24","v":109.04616726301974},{"$f":"'TNC CropScenarios'!AV24","v":53.615169195705469},{"$f":"'TNC CropScenarios'!AW24","v":10418811.097518116},{"$f":"'TNC CropScenarios'!AX24","v":163.72417438957041},{"$f":"'TNC CropScenarios'!AY24","v":48.789803968091981},{"$f":"'TNC CropScenarios'!AZ24","v":48.789803968091981},{"$f":"'TNC CropScenarios'!BA24","v":4.8253652276134886},{"$f":"'TNC CropScenarios'!BB24","v":105.29586734453295},{"$f":"'TNC CropScenarios'!BD24","v":8.7903784011511128},{"$f":"'TNC CropScenarios'!BE24","v":29.301261337170377},{"$f":"'TNC CropScenarios'!BF24","v":7.0323027209208906},{"$f":"'TNC CropScenarios'!BG24","v":45.123942459242379},{"$f":"'TNC CropScenarios'!BH24","v":22.561971229621189},{"$f":"'TNC CropScenarios'!BI24","v":394834.49651837081},{"$f":"'TNC CropScenarios'!BJ24","v":1.8489535422674563},{"$f":"'TNC CropScenarios'!BL24","v":107.1448208868004},{"$f":"'TNC CropScenarios'!BN24","v":10418811.097518116},{"$f":"'TNC CropScenarios'!BO24","v":2665224},{"$f":"'TNC CropScenarios'!BP24","v":1356902.9965183707},{"$f":"'TNC CropScenarios'!BQ24","v":20.636969713729066},{"$f":"'TNC CropScenarios'!BR24","v":6.1498169746912614},{"$f":"'TNC CropScenarios'!BS24","v":51.05903111820043},{"$f":"'TNC CropScenarios'!BT24","v":15.215591273223728},{"$f":"'TNC CropScenarios'!BU24","v":21.365408247914988},{"$f":"'TNC CropScenarios'!BV24","v":0.78243844351072056},{"$f":"'TNC CropScenarios'!BW24","v":106.36238244328968},{"$f":"'TNC CropScenarios'!BY24","v":105.93679494328967}]
[{"$f":"'TNC CropScenarios'!A25","v":2023},{"$f":"'TNC CropScenarios'!B25","v":48000},{"$f":"'TNC CropScenarios'!C25","v":4800},{"$f":"'TNC CropScenarios'!D25","v":84.24},{"$f":"'TNC CropScenarios'!E25","v":2.1059999999999999},{"$f":"'TNC CropScenarios'!F25","v":11449242.964305623},{"$f":"'TNC CropScenarios'!G25","v":2665224},{"$f":"'TNC CropScenarios'!H25","v":3633599.470033674},{"$f":"'TNC CropScenarios'!I25","v":179.91667515337406},{"$f":"'TNC CropScenarios'!J25","v":41.882091428571428},{"$f":"'TNC CropScenarios'!K25","v":57.099420243386312},{"$f":"'TNC CropScenarios'!L25","v":53.615169195705469},{"$f":"'TNC CropScenarios'!M25","v":12.480863245714286},{"$f":"'TNC CropScenarios'!N25","v":17.01562723252912},{"$f":"'TNC CropScenarios'!O25","v":83.111659673948878},{"$f":"'TNC CropScenarios'!P25","v":11553.271999999999},{"$f":"'TNC CropScenarios'!Q25","v":438465.0465},{"$f":"'TNC CropScenarios'!R25","v":0.36310283428571427},{"$f":"'TNC CropScenarios'!S25","v":6.890165016428571},{"$f":"'TNC CropScenarios'!T25","v":0.10820464461714285},{"$f":"'TNC CropScenarios'!U25","v":2.0532691748957141},{"$f":"'TNC CropScenarios'!V25","v":2.1614738195128571},{"$f":"'TNC CropScenarios'!W25","v":85.273133493461742},{"$f":"'TNC CropScenarios'!X25","v":11449242.964305623},{"$f":"'TNC CropScenarios'!Y25","v":2665224},{"$f":"'TNC CropScenarios'!Z25","v":962068.5},{"$f":"'TNC CropScenarios'!AA25","v":21.015311372480269},{"$f":"'TNC CropScenarios'!AB25","v":6.2625627889991202},{"$f":"'TNC CropScenarios'!AC25","v":53.306321820223452},{"$f":"'TNC CropScenarios'!AD25","v":15.885283902426588},{"$f":"'TNC CropScenarios'!AE25","v":22.147846691425709},{"$f":"'TNC CropScenarios'!AF25","v":109.52698018488745},{"$f":"'TNC CropScenarios'!AN25","v":48000},{"$f":"'TNC CropScenarios'!AO25","v":0.08},{"$f":"'TNC CropScenarios'!AP25","v":3840},{"$f":"'TNC CropScenarios'!AQ25","v":67.391999999999996},{"$f":"'TNC CropScenarios'!AR25","v":1.6847999999999999},{"$f":"'TNC CropScenarios'!AS25","v":0.42120000000000002},{"$f":"'TNC CropScenarios'!AT25","v":109.10578018488745},{"$f":"'TNC CropScenarios'!AV25","v":53.615169195705469},{"$f":"'TNC CropScenarios'!AW25","v":10189826.238232004},{"$f":"'TNC CropScenarios'!AX25","v":160.12584088650291},{"$f":"'TNC CropScenarios'!AY25","v":47.71750058417787},{"$f":"'TNC CropScenarios'!AZ25","v":47.71750058417787},{"$f":"'TNC CropScenarios'!BA25","v":5.8976686115275996},{"$f":"'TNC CropScenarios'!BB25","v":104.35581070350563},{"$f":"'TNC CropScenarios'!BD25","v":10.460550297369824},{"$f":"'TNC CropScenarios'!BE25","v":34.868500991232743},{"$f":"'TNC CropScenarios'!BF25","v":8.3684402378958573},{"$f":"'TNC CropScenarios'!BG25","v":53.697491526498425},{"$f":"'TNC CropScenarios'!BH25","v":26.848745763249212},{"$f":"'TNC CropScenarios'!BI25","v":469853.05085686123},{"$f":"'TNC CropScenarios'!BJ25","v":2.2002547152982728},{"$f":"'TNC CropScenarios'!BL25","v":106.5560654188039},{"$f":"'TNC CropScenarios'!BN25","v":10189826.238232004},{"$f":"'TNC CropScenarios'!BO25","v":2665224},{"$f":"'TNC CropScenarios'!BP25","v":1431921.5508568613},{"$f":"'TNC CropScenarios'!BQ25","v":20.512908962771856},{"$f":"'TNC CropScenarios'!BR25","v":6.1128468709060133},{"$f":"'TNC CropScenarios'!BS25","v":50.514650254278479},{"$f":"'TNC CropScenarios'!BT25","v":15.053365775774987},{"$f":"'TNC CropScenarios'!BU25","v":21.166212646681},{"$f":"'TNC CropScenarios'!BV25","v":0.98163404474470894},{"$f":"'TNC CropScenarios'!BW25","v":105.57443137405919},{"$f":"'TNC CropScenarios'!BY25","v":105.15323137405919}]
[{"$f":"'TNC CropScenarios'!A26","v":2024},{"$f":"'TNC CropScenarios'!B26","v":47500},{"$f":"'TNC CropScenarios'!C26","v":4750},{"$f":"'TNC CropScenarios'!D26","v":83.362499999999997},{"$f":"'TNC CropScenarios'!E26","v":2.0840624999999999},{"$f":"'TNC CropScenarios'!F26","v":11449242.964305623},{"$f":"'TNC CropScenarios'!G26","v":2665224},{"$f":"'TNC CropScenarios'!H26","v":3650333.0061786966},{"$f":"'TNC CropScenarios'!I26","v":179.91667515337406},{"$f":"'TNC CropScenarios'!J26","v":41.882091428571428},{"$f":"'TNC CropScenarios'!K26","v":57.362375811379522},{"$f":"'TNC CropScenarios'!L26","v":53.615169195705469},{"$f":"'TNC CropScenarios'!M26","v":12.480863245714286},{"$f":"'TNC CropScenarios'!N26","v":17.093987991791099},{"$f":"'TNC CropScenarios'!O26","v":83.190020433210847},{"$f":"'TNC CropScenarios'!P26","v":11425.375999999998},{"$f":"'TNC CropScenarios'!Q26","v":438465.0465},{"$f":"'TNC CropScenarios'!R26","v":0.35908324571428568},{"$f":"'TNC CropScenarios'!S26","v":6.890165016428571},{"$f":"'TNC CropScenarios'!T26","v":0.10700680722285713},{"$f":"'TNC CropScenarios'!U26","v":2.0532691748957141},{"$f":"'TNC CropScenarios'!V26","v":2.1602759821185713},{"$f":"'TNC CropScenarios'!W26","v":85.350296415329424},{"$f":"'TNC CropScenarios'!X26","v":11449242.964305623},{"$f":"'TNC CropScenarios'!Y26","v":2665224},{"$f":"'TNC CropScenarios'!Z26","v":962068.5},{"$f":"'TNC CropScenarios'!AA26","v":21.015311372480269},{"$f":"'TNC CropScenarios'!AB26","v":6.2625627889991202},{"$f":"'TNC CropScenarios'!AC26","v":53.306321820223452},{"$f":"'TNC CropScenarios'!AD26","v":15.885283902426588},{"$f":"'TNC CropScenarios'!AE26","v":22.147846691425709},{"$f":"'TNC CropScenarios'!AF26","v":109.58220560675514},{"$f":"'TNC CropScenarios'!AN26","v":47500},{"$f":"'TNC CropScenarios'!AO26","v":0.08},{"$f":"'TNC CropScenarios'!AP26","v":3800},{"$f":"'TNC CropScenarios'!AQ26","v":66.69},{"$f":"'TNC CropScenarios'!AR26","v":1.6672499999999999},{"$f":"'TNC CropScenarios'!AS26","v":0.41681250000000003},{"$f":"'TNC CropScenarios'!AT26","v":109.16539310675513},{"$f":"'TNC CropScenarios'!AV26","v":53.615169195705469},{"$f":"'TNC CropScenarios'!AW26","v":9960841.3789458908},{"$f":"'TNC CropScenarios'!AX26","v":156.52750738343542},{"$f":"'TNC CropScenarios'!AY26","v":46.645197200263759},{"$f":"'TNC CropScenarios'!AZ26","v":46.645197200263759},{"$f":"'TNC CropScenarios'!BA26","v":6.9699719954417105},{"$f":"'TNC CropScenarios'!BB26","v":103.41575406247831},{"$f":"'TNC CropScenarios'!BD26","v":12.194012918076822},{"$f":"'TNC CropScenarios'!BE26","v":40.646709726922744},{"$f":"'TNC CropScenarios'!BF26","v":9.7552103344614576},{"$f":"'TNC CropScenarios'!BG26","v":62.595932979461026},{"$f":"'TNC CropScenarios'!BH26","v":31.297966489730513},{"$f":"'TNC CropScenarios'!BI26","v":547714.41357028403},{"$f":"'TNC CropScenarios'!BJ26","v":2.564868353833416},{"$f":"'TNC CropScenarios'!BL26","v":105.98062241631173},{"$f":"'TNC CropScenarios'!BN26","v":9960841.3789458908},{"$f":"'TNC CropScenarios'!BO26","v":2665224},{"$f":"'TNC CropScenarios'!BP26","v":1509782.9135702839},{"$f":"'TNC CropScenarios'!BQ26","v":20.39778275242158},{"$f":"'TNC CropScenarios'!BR26","v":6.078539260221631},{"$f":"'TNC CropScenarios'!BS26","v":49.980320748539327},{"$f":"'TNC CropScenarios'!BT26","v":14.894135583064719},{"$f":"'TNC CropScenarios'!BU26","v":20.972674843286349},{"$f":"'TNC CropScenarios'!BV26","v":1.1751718481393603},{"$f":"'TNC CropScenarios'!BW26","v":104.80545056817238},{"$f":"'TNC CropScenarios'!BY26","v":104.38863806817237}]
[{"$f":"'TNC CropScenarios'!A27","v":2025},{"$f":"'TNC CropScenarios'!B27","v":47000},{"$f":"'TNC CropScenarios'!C27","v":4700},{"$f":"'TNC CropScenarios'!D27","v":82.484999999999999},{"$f":"'TNC CropScenarios'!E27","v":2.062125},{"$f":"'TNC CropScenarios'!F27","v":11449242.964305623},{"$f":"'TNC CropScenarios'!G27","v":2665224},{"$f":"'TNC CropScenarios'!H27","v":3667066.5423237192},{"$f":"'TNC CropScenarios'!I27","v":179.91667515337406},{"$f":"'TNC CropScenarios'!J27","v":41.882091428571428},{"$f":"'TNC CropScenarios'!K27","v":57.625331379372739},{"$f":"'TNC CropScenarios'!L27","v":53.615169195705469},{"$f":"'TNC CropScenarios'!M27","v":12.480863245714286},{"$f":"'TNC CropScenarios'!N27","v":17.172348751053075},{"$f":"'TNC CropScenarios'!O27","v":83.26838119247283},{"$f":"'TNC CropScenarios'!P27","v":11297.48},{"$f":"'TNC CropScenarios'!Q27","v":438465.0465},{"$f":"'TNC CropScenarios'!R27","v":0.35506365714285715},{"$f":"'TNC CropScenarios'!S27","v":6.890165016428571},{"$f":"'TNC CropScenarios'!T27","v":0.10580896982857144},{"$f":"'TNC CropScenarios'!U27","v":2.0532691748957141},{"$f":"'TNC CropScenarios'!V27","v":2.1590781447242855},{"$f":"'TNC CropScenarios'!W27","v":85.427459337197121},{"$f":"'TNC CropScenarios'!X27","v":11449242.964305623},{"$f":"'TNC CropScenarios'!Y27","v":2665224},{"$f":"'TNC CropScenarios'!Z27","v":962068.5},{"$f":"'TNC CropScenarios'!AA27","v":21.015311372480269},{"$f":"'TNC CropScenarios'!AB27","v":6.2625627889991202},{"$f":"'TNC CropScenarios'!AC27","v":53.306321820223452},{"$f":"'TNC CropScenarios'!AD27","v":15.885283902426588},{"$f":"'TNC CropScenarios'!AE27","v":22.147846691425709},{"$f":"'TNC CropScenarios'!AF27","v":109.63743102862283},{"$f":"'TNC CropScenarios'!AN27","v":47000},{"$f":"'TNC CropScenarios'!AO27","v":0.08},{"$f":"'TNC CropScenarios'!AP27","v":3760},{"$f":"'TNC CropScenarios'!AQ27","v":65.988},{"$f":"'TNC CropScenarios'!AR27","v":1.6496999999999999},{"$f":"'TNC CropScenarios'!AS27","v":0.41242500000000004},{"$f":"'TNC CropScenarios'!AT27","v":109.22500602862283},{"$f":"'TNC CropScenarios'!AV27","v":53.615169195705469},{"$f":"'TNC CropScenarios'!AW27","v":9731856.5196597781},{"$f":"'TNC CropScenarios'!AX27","v":152.92917388036796},{"$f":"'TNC CropScenarios'!AY27","v":45.572893816349648},{"$f":"'TNC CropScenarios'!AZ27","v":45.572893816349648},{"$f":"'TNC CropScenarios'!BA27","v":8.0422753793558215},{"$f":"'TNC CropScenarios'!BB27","v":102.47569742145097},{"$f":"'TNC CropScenarios'!BD27","v":13.992629823493152},{"$f":"'TNC CropScenarios'!BE27","v":46.642099411643841},{"$f":"'TNC CropScenarios'!BF27","v":11.194103858794522},{"$f":"'TNC CropScenarios'!BG27","v":71.828833093931522},{"$f":"'TNC CropScenarios'!BH27","v":35.914416546965761},{"$f":"'TNC CropScenarios'!BI27","v":628502.28957190085},{"$f":"'TNC CropScenarios'!BJ27","v":2.9431864360238444},{"$f":"'TNC CropScenarios'!BL27","v":105.41888385747482},{"$f":"'TNC CropScenarios'!BN27","v":9731856.5196597781},{"$f":"'TNC CropScenarios'!BO27","v":2665224},{"$f":"'TNC CropScenarios'!BP27","v":1590570.7895719009},{"$f":"'TNC CropScenarios'!BQ27","v":20.291854155262772},{"$f":"'TNC CropScenarios'!BR27","v":6.0469725382683066},{"$f":"'TNC CropScenarios'!BS27","v":49.456338557640571},{"$f":"'TNC CropScenarios'!BT27","v":14.73798889017689},{"$f":"'TNC CropScenarios'!BU27","v":20.784961428445197},{"$f":"'TNC CropScenarios'!BV27","v":1.3628852629805124},{"$f":"'TNC CropScenarios'!BW27","v":104.05599859449431},{"$f":"'TNC CropScenarios'!BY27","v":103.64357359449431}]
[{"$f":"'TNC CropScenarios'!A28","v":2026},{"$f":"'TNC CropScenarios'!B28","v":46500},{"$f":"'TNC CropScenarios'!C28","v":4650},{"$f":"'TNC CropScenarios'!D28","v":81.607500000000002},{"$f":"'TNC CropScenarios'!E28","v":2.0401875},{"$f":"'TNC CropScenarios'!F28","v":11449242.964305623},{"$f":"'TNC CropScenarios'!G28","v":2665224},{"$f":"'TNC CropScenarios'!H28","v":3675618.4624506915},{"$f":"'TNC CropScenarios'!I28","v":179.91667515337406},{"$f":"'TNC CropScenarios'!J28","v":41.882091428571428},{"$f":"'TNC CropScenarios'!K28","v":57.759718695653724},{"$f":"'TNC CropScenarios'!L28","v":53.615169195705469},{"$f":"'TNC CropScenarios'!M28","v":12.480863245714286},{"$f":"'TNC CropScenarios'!N28","v":17.212396171304807},{"$f":"'TNC CropScenarios'!O28","v":83.308428612724555},{"$f":"'TNC CropScenarios'!P28","v":11233.531999999999},{"$f":"'TNC CropScenarios'!Q28","v":439746.19650000002},{"$f":"'TNC CropScenarios'!R28","v":0.35305386285714285},{"$f":"'TNC CropScenarios'!S28","v":6.9102973735714297},{"$f":"'TNC CropScenarios'!T28","v":0.10521005113142858},{"$f":"'TNC CropScenarios'!U28","v":2.0592686173242858},{"$f":"'TNC CropScenarios'!V28","v":2.1644786684557142},{"$f":"'TNC CropScenarios'!W28","v":85.472907281180269},{"$f":"'TNC CropScenarios'!X28","v":11449242.964305623},{"$f":"'TNC CropScenarios'!Y28","v":2665224},{"$f":"'TNC CropScenarios'!Z28","v":962068.5},{"$f":"'TNC CropScenarios'!AA28","v":21.015311372480269},{"$f":"'TNC CropScenarios'!AB28","v":6.2625627889991202},{"$f":"'TNC CropScenarios'!AC28","v":53.306321820223452},{"$f":"'TNC CropScenarios'!AD28","v":15.885283902426588},{"$f":"'TNC CropScenarios'!AE28","v":22.147846691425709},{"$f":"'TNC CropScenarios'!AF28","v":109.66094147260598},{"$f":"'TNC CropScenarios'!AN28","v":46500},{"$f":"'TNC CropScenarios'!AO28","v":0.08},{"$f":"'TNC CropScenarios'!AP28","v":3720},{"$f":"'TNC CropScenarios'!AQ28","v":65.286000000000001},{"$f":"'TNC CropScenarios'!AR28","v":1.63215},{"$f":"'TNC CropScenarios'!AS28","v":0.40803750000000005},{"$f":"'TNC CropScenarios'!AT28","v":109.25290397260598},{"$f":"'TNC CropScenarios'!AV28","v":53.615169195705469},{"$f":"'TNC CropScenarios'!AW28","v":9502871.6603736654},{"$f":"'TNC CropScenarios'!AX28","v":149.33084037730046},{"$f":"'TNC CropScenarios'!AY28","v":44.500590432435537},{"$f":"'TNC CropScenarios'!AZ28","v":44.500590432435537},{"$f":"'TNC CropScenarios'!BA28","v":9.1145787632699324},{"$f":"'TNC CropScenarios'!BB28","v":101.49738268072841},{"$f":"'TNC CropScenarios'!BD28","v":15.858313799958903},{"$f":"'TNC CropScenarios'!BE28","v":52.861045999863016},{"$f":"'TNC CropScenarios'!BF28","v":12.686651039967122},{"$f":"'TNC CropScenarios'!BG28","v":81.406010839789033},{"$f":"'TNC CropScenarios'!BH28","v":40.703005419894517},{"$f":"'TNC CropScenarios'!BI28","v":712302.59484815411},{"$f":"'TNC CropScenarios'!BJ28","v":3.3356112941603562},{"$f":"'TNC CropScenarios'!BL28","v":104.83299397488877},{"$f":"'TNC CropScenarios'!BN28","v":9502871.6603736654},{"$f":"'TNC CropScenarios'!BO28","v":2665224},{"$f":"'TNC CropScenarios'!BP28","v":1674371.0948481541},{"$f":"'TNC CropScenarios'!BQ28","v":20.195393192967106},{"$f":"'TNC CropScenarios'!BR28","v":6.0182271715041979},{"$f":"'TNC CropScenarios'!BS28","v":48.943007455962857},{"$f":"'TNC CropScenarios'!BT28","v":14.585016221876931},{"$f":"'TNC CropScenarios'!BU28","v":20.603243393381128},{"$f":"'TNC CropScenarios'!BV28","v":1.5446032980445814},{"$f":"'TNC CropScenarios'!BW28","v":103.28839067684419},{"$f":"'TNC CropScenarios'!BY28","v":102.88035317684418}]
[{"$f":"'TNC CropScenarios'!A29","v":2027},{"$f":"'TNC CropScenarios'!B29","v":46000},{"$f":"'TNC CropScenarios'!C29","v":4600},{"$f":"'TNC CropScenarios'!D29","v":80.73},{"$f":"'TNC CropScenarios'!E29","v":2.0182500000000001},{"$f":"'TNC CropScenarios'!F29","v":11449242.964305623},{"$f":"'TNC CropScenarios'!G29","v":2665224},{"$f":"'TNC CropScenarios'!H29","v":3684170.3825776638},{"$f":"'TNC CropScenarios'!I29","v":179.91667515337406},{"$f":"'TNC CropScenarios'!J29","v":41.882091428571428},{"$f":"'TNC CropScenarios'!K29","v":57.894106011934717},{"$f":"'TNC CropScenarios'!L29","v":53.615169195705469},{"$f":"'TNC CropScenarios'!M29","v":12.480863245714286},{"$f":"'TNC CropScenarios'!N29","v":17.252443591556545},{"$f":"'TNC CropScenarios'!O29","v":83.348476032976293},{"$f":"'TNC CropScenarios'!P29","v":11169.583999999999},{"$f":"'TNC CropScenarios'!Q29","v":441027.34650000004},{"$f":"'TNC CropScenarios'!R29","v":0.3510440685714285},{"$f":"'TNC CropScenarios'!S29","v":6.9304297307142857},{"$f":"'TNC CropScenarios'!T29","v":0.10461113243428569},{"$f":"'TNC CropScenarios'!U29","v":2.065268059752857},{"$f":"'TNC CropScenarios'!V29","v":2.1698791921871425},{"$f":"'TNC CropScenarios'!W29","v":85.518355225163432},{"$f":"'TNC CropScenarios'!X29","v":11449242.964305623},{"$f":"'TNC CropScenarios'!Y29","v":2665224},{"$f":"'TNC CropScenarios'!Z29","v":962068.5},{"$f":"'TNC CropScenarios'!AA29","v":21.015311372480269},{"$f":"'TNC CropScenarios'!AB29","v":6.2625627889991202},{"$f":"'TNC CropScenarios'!AC29","v":53.306321820223452},{"$f":"'TNC CropScenarios'!AD29","v":15.885283902426588},{"$f":"'TNC CropScenarios'!AE29","v":22.147846691425709},{"$f":"'TNC CropScenarios'!AF29","v":109.68445191658914},{"$f":"'TNC CropScenarios'!AN29","v":46000},{"$f":"'TNC CropScenarios'!AO29","v":0.08},{"$f":"'TNC CropScenarios'!AP29","v":3680},{"$f":"'TNC CropScenarios'!AQ29","v":64.584000000000003},{"$f":"'TNC CropScenarios'!AR29","v":1.6146},{"$f":"'TNC CropScenarios'!AS29","v":0.40365000000000006},{"$f":"'TNC CropScenarios'!AT29","v":109.28080191658914},{"$f":"'TNC CropScenarios'!AV29","v":53.615169195705469},{"$f":"'TNC CropScenarios'!AW29","v":9273886.8010875527},{"$f":"'TNC CropScenarios'!AX29","v":145.73250687423297},{"$f":"'TNC CropScenarios'!AY29","v":43.428287048521426},{"$f":"'TNC CropScenarios'!AZ29","v":43.428287048521426},{"$f":"'TNC CropScenarios'!BA29","v":10.186882147184043},{"$f":"'TNC CropScenarios'!BB29","v":100.51906794000584},{"$f":"'TNC CropScenarios'!BD29","v":19.4105760911497},{"$f":"'TNC CropScenarios'!BE29","v":64.701920303832324},{"$f":"'TNC CropScenarios'!BF29","v":15.528460872919757},{"$f":"'TNC CropScenarios'!BG29","v":99.640957267901783},{"$f":"'TNC CropScenarios'!BH29","v":49.820478633950891},{"$f":"'TNC CropScenarios'!BI29","v":871858.37609414058},{"$f":"'TNC CropScenarios'!BJ29","v":4.0827882240522761},{"$f":"'TNC CropScenarios'!BL29","v":104.60185616405812},{"$f":"'TNC CropScenarios'!BN29","v":9273886.8010875527},{"$f":"'TNC CropScenarios'!BO29","v":2665224},{"$f":"'TNC CropScenarios'!BP29","v":1833926.8760941406},{"$f":"'TNC CropScenarios'!BQ29","v":20.337020869433459},{"$f":"'TNC CropScenarios'!BR29","v":6.0604322190911706},{"$f":"'TNC CropScenarios'!BS29","v":48.697526072892408},{"$f":"'TNC CropScenarios'!BT29","v":14.511862769721938},{"$f":"'TNC CropScenarios'!BU29","v":20.572294988813109},{"$f":"'TNC CropScenarios'!BV29","v":1.5755517026126},{"$f":"'TNC CropScenarios'!BW29","v":103.02630446144552},{"$f":"'TNC CropScenarios'!BY29","v":102.62265446144552}]
[{"$f":"'TNC CropScenarios'!A30","v":2028},{"$f":"'TNC CropScenarios'!B30","v":45500},{"$f":"'TNC CropScenarios'!C30","v":4550},{"$f":"'TNC CropScenarios'!D30","v":79.852500000000006},{"$f":"'TNC CropScenarios'!E30","v":1.9963125000000002},{"$f":"'TNC CropScenarios'!F30","v":11449242.964305623},{"$f":"'TNC CropScenarios'!G30","v":2665224},{"$f":"'TNC CropScenarios'!H30","v":3692722.302704636},{"$f":"'TNC CropScenarios'!I30","v":179.91667515337406},{"$f":"'TNC CropScenarios'!J30","v":41.882091428571428},{"$f":"'TNC CropScenarios'!K30","v":58.028493328215717},{"$f":"'TNC CropScenarios'!L30","v":53.615169195705469},{"$f":"'TNC CropScenarios'!M30","v":12.480863245714286},{"$f":"'TNC CropScenarios'!N30","v":17.292491011808284},{"$f":"'TNC CropScenarios'!O30","v":83.388523453228032},{"$f":"'TNC CropScenarios'!P30","v":11105.635999999999},{"$f":"'TNC CropScenarios'!Q30","v":442308.49650000007},{"$f":"'TNC CropScenarios'!R30","v":0.34903427428571421},{"$f":"'TNC CropScenarios'!S30","v":6.9505620878571444},{"$f":"'TNC CropScenarios'!T30","v":0.10401221373714283},{"$f":"'TNC CropScenarios'!U30","v":2.0712675021814291},{"$f":"'TNC CropScenarios'!V30","v":2.1752797159185717},{"$f":"'TNC CropScenarios'!W30","v":85.56380316914661},{"$f":"'TNC CropScenarios'!X30","v":11449242.964305623},{"$f":"'TNC CropScenarios'!Y30","v":2665224},{"$f":"'TNC CropScenarios'!Z30","v":962068.5},{"$f":"'TNC CropScenarios'!AA30","v":21.015311372480269},{"$f":"'TNC CropScenarios'!AB30","v":6.2625627889991202},{"$f":"'TNC CropScenarios'!AC30","v":53.306321820223452},{"$f":"'TNC CropScenarios'!AD30","v":15.885283902426588},{"$f":"'TNC CropScenarios'!AE30","v":22.147846691425709},{"$f":"'TNC CropScenarios'!AF30","v":109.70796236057232},{"$f":"'TNC CropScenarios'!AN30","v":45500},{"$f":"'TNC CropScenarios'!AO30","v":0.08},{"$f":"'TNC CropScenarios'!AP30","v":3640},{"$f":"'TNC CropScenarios'!AQ30","v":63.882000000000005},{"$f":"'TNC CropScenarios'!AR30","v":1.5970500000000001},{"$f":"'TNC CropScenarios'!AS30","v":0.39926250000000008},{"$f":"'TNC CropScenarios'!AT30","v":109.30869986057232},{"$f":"'TNC CropScenarios'!AV30","v":53.615169195705469},{"$f":"'TNC CropScenarios'!AW30","v":9044901.94180144},{"$f":"'TNC CropScenarios'!AX30","v":142.1341733711655},{"$f":"'TNC CropScenarios'!AY30","v":42.355983664607315},{"$f":"'TNC CropScenarios'!AZ30","v":42.355983664607315},{"$f":"'TNC CropScenarios'!BA30","v":11.259185531098154},{"$f":"'TNC CropScenarios'!BB30","v":99.540753199283273},{"$f":"'TNC CropScenarios'!BD30","v":21.448686580720416},{"$f":"'TNC CropScenarios'!BE30","v":71.495621935734718},{"$f":"'TNC CropScenarios'!BF30","v":17.158949264576336},{"$f":"'TNC CropScenarios'!BG30","v":110.10325778103147},{"$f":"'TNC CropScenarios'!BH30","v":55.051628890515737},{"$f":"'TNC CropScenarios'!BI30","v":963403.50558402541},{"$f":"'TNC CropScenarios'!BJ30","v":4.5114809875777651},{"$f":"'TNC CropScenarios'!BL30","v":104.05223418686104},{"$f":"'TNC CropScenarios'!BN30","v":9044901.94180144},{"$f":"'TNC CropScenarios'!BO30","v":2665224},{"$f":"'TNC CropScenarios'!BP30","v":1925472.0055840253},{"$f":"'TNC CropScenarios'!BQ30","v":20.264900783237771},{"$f":"'TNC CropScenarios'!BR30","v":6.0389404334048562},{"$f":"'TNC CropScenarios'!BS30","v":48.211578456827176},{"$f":"'TNC CropScenarios'!BT30","v":14.367050380134499},{"$f":"'TNC CropScenarios'!BU30","v":20.405990813539354},{"$f":"'TNC CropScenarios'!BV30","v":1.7418558778863549},{"$f":"'TNC CropScenarios'!BW30","v":102.31037830897469},{"$f":"'TNC CropScenarios'!BY30","v":101.91111580897469}]
[{"$f":"'TNC CropScenarios'!A31","v":2029},{"$f":"'TNC CropScenarios'!B31","v":45250},{"$f":"'TNC CropScenarios'!C31","v":4525},{"$f":"'TNC CropScenarios'!D31","v":79.413749999999993},{"$f":"'TNC CropScenarios'!E31","v":1.9853437499999997},{"$f":"'TNC CropScenarios'!F31","v":11449242.964305623},{"$f":"'TNC CropScenarios'!G31","v":2665224},{"$f":"'TNC CropScenarios'!H31","v":3701274.2228316083},{"$f":"'TNC CropScenarios'!I31","v":179.91667515337406},{"$f":"'TNC CropScenarios'!J31","v":41.882091428571428},{"$f":"'TNC CropScenarios'!K31","v":58.162880644496703},{"$f":"'TNC CropScenarios'!L31","v":53.615169195705469},{"$f":"'TNC CropScenarios'!M31","v":12.480863245714286},{"$f":"'TNC CropScenarios'!N31","v":17.332538432060016},{"$f":"'TNC CropScenarios'!O31","v":83.428570873479771},{"$f":"'TNC CropScenarios'!P31","v":11041.687999999998},{"$f":"'TNC CropScenarios'!Q31","v":443589.64650000009},{"$f":"'TNC CropScenarios'!R31","v":0.34702447999999997},{"$f":"'TNC CropScenarios'!S31","v":6.9706944450000012},{"$f":"'TNC CropScenarios'!T31","v":0.10341329503999999},{"$f":"'TNC CropScenarios'!U31","v":2.0772669446100003},{"$f":"'TNC CropScenarios'!V31","v":2.1806802396500005},{"$f":"'TNC CropScenarios'!W31","v":85.609251113129773},{"$f":"'TNC CropScenarios'!X31","v":11449242.964305623},{"$f":"'TNC CropScenarios'!Y31","v":2665224},{"$f":"'TNC CropScenarios'!Z31","v":962068.5},{"$f":"'TNC CropScenarios'!AA31","v":21.015311372480269},{"$f":"'TNC CropScenarios'!AB31","v":6.2625627889991202},{"$f":"'TNC CropScenarios'!AC31","v":53.306321820223452},{"$f":"'TNC CropScenarios'!AD31","v":15.885283902426588},{"$f":"'TNC CropScenarios'!AE31","v":22.147846691425709},{"$f":"'TNC CropScenarios'!AF31","v":109.74244155455548},{"$f":"'TNC CropScenarios'!AN31","v":45250},{"$f":"'TNC CropScenarios'!AO31","v":0.08},{"$f":"'TNC CropScenarios'!AP31","v":3620},{"$f":"'TNC CropScenarios'!AQ31","v":63.531000000000006},{"$f":"'TNC CropScenarios'!AR31","v":1.5882750000000001},{"$f":"'TNC CropScenarios'!AS31","v":0.39706874999999964},{"$f":"'TNC CropScenarios'!AT31","v":109.34537280455548},{"$f":"'TNC CropScenarios'!AV31","v":53.615169195705469},{"$f":"'TNC CropScenarios'!AW31","v":8815917.0825153273},{"$f":"'TNC CropScenarios'!AX31","v":138.53583986809801},{"$f":"'TNC CropScenarios'!AY31","v":41.283680280693211},{"$f":"'TNC CropScenarios'!AZ31","v":41.283680280693211},{"$f":"'TNC CropScenarios'!BA31","v":12.331488915012258},{"$f":"'TNC CropScenarios'!BB31","v":98.573407208560724},{"$f":"'TNC CropScenarios'!BD31","v":23.560557259437509},{"$f":"'TNC CropScenarios'!BE31","v":78.535190864791687},{"$f":"'TNC CropScenarios'!BF31","v":18.848445807550004},{"$f":"'TNC CropScenarios'!BG31","v":120.94419393177921},{"$f":"'TNC CropScenarios'!BH31","v":60.472096965889605},{"$f":"'TNC CropScenarios'!BI31","v":1058261.6969030683},{"$f":"'TNC CropScenarios'!BJ31","v":4.9556883463546546},{"$f":"'TNC CropScenarios'!BL31","v":103.52909555491537},{"$f":"'TNC CropScenarios'!BN31","v":8815917.0825153273},{"$f":"'TNC CropScenarios'!BO31","v":2665224},{"$f":"'TNC CropScenarios'!BP31","v":2020330.1969030683},{"$f":"'TNC CropScenarios'!BQ31","v":20.203193177076589},{"$f":"'TNC CropScenarios'!BR31","v":6.0205515667688232},{"$f":"'TNC CropScenarios'!BS31","v":47.737344880800755},{"$f":"'TNC CropScenarios'!BT31","v":14.225728774478624},{"$f":"'TNC CropScenarios'!BU31","v":20.246280341247449},{"$f":"'TNC CropScenarios'!BV31","v":1.9015663501782605},{"$f":"'TNC CropScenarios'!BW31","v":101.62752920473712},{"$f":"'TNC CropScenarios'!BY31","v":101.23046045473711}]
[{"$f":"'TNC CropScenarios'!A32","v":2030},{"$f":"'TNC CropScenarios'!B32","v":45000},{"$f":"'TNC CropScenarios'!C32","v":4500},{"$f":"'TNC CropScenarios'!D32","v":78.974999999999994},{"$f":"'TNC CropScenarios'!E32","v":1.9743749999999998},{"$f":"'TNC CropScenarios'!F32","v":11449242.964305623},{"$f":"'TNC CropScenarios'!G32","v":2665224},{"$f":"'TNC CropScenarios'!H32","v":3709826.1429585796},{"$f":"'TNC CropScenarios'!I32","v":179.91667515337406},{"$f":"'TNC CropScenarios'!J32","v":41.882091428571428},{"$f":"'TNC CropScenarios'!K32","v":58.297267960777688},{"$f":"'TNC CropScenarios'!L32","v":53.615169195705469},{"$f":"'TNC CropScenarios'!M32","v":12.480863245714286},{"$f":"'TNC CropScenarios'!N32","v":17.372585852311751},{"$f":"'TNC CropScenarios'!O32","v":83.46861829373151},{"$f":"'TNC CropScenarios'!P32","v":10977.74},{"$f":"'TNC CropScenarios'!Q32","v":444870.7965},{"$f":"'TNC CropScenarios'!R32","v":0.34501468571428567},{"$f":"'TNC CropScenarios'!S32","v":6.9908268021428572},{"$f":"'TNC CropScenarios'!T32","v":0.10281437634285713},{"$f":"'TNC CropScenarios'!U32","v":2.0832663870385715},{"$f":"'TNC CropScenarios'!V32","v":2.1860807633814288},{"$f":"'TNC CropScenarios'!W32","v":85.654699057112936},{"$f":"'TNC CropScenarios'!X32","v":11449242.964305623},{"$f":"'TNC CropScenarios'!Y32","v":2665224},{"$f":"'TNC CropScenarios'!Z32","v":962068.5},{"$f":"'TNC CropScenarios'!AA32","v":21.015311372480269},{"$f":"'TNC CropScenarios'!AB32","v":6.2625627889991202},{"$f":"'TNC CropScenarios'!AC32","v":53.306321820223452},{"$f":"'TNC CropScenarios'!AD32","v":15.885283902426588},{"$f":"'TNC CropScenarios'!AE32","v":22.147846691425709},{"$f":"'TNC CropScenarios'!AF32","v":109.77692074853864},{"$f":"'TNC CropScenarios'!AN32","v":45000},{"$f":"'TNC CropScenarios'!AO32","v":0.08},{"$f":"'TNC CropScenarios'!AP32","v":3600},{"$f":"'TNC CropScenarios'!AQ32","v":63.180000000000007},{"$f":"'TNC CropScenarios'!AR32","v":1.5795000000000001},{"$f":"'TNC CropScenarios'!AS32","v":0.39487499999999964},{"$f":"'TNC CropScenarios'!AT32","v":109.38204574853864},{"$f":"'TNC CropScenarios'!AV32","v":53.615169195705469},{"$f":"'TNC CropScenarios'!AW32","v":8586932.2232292145},{"$f":"'TNC CropScenarios'!AX32","v":134.93750636503052},{"$f":"'TNC CropScenarios'!AY32","v":40.211376896779093},{"$f":"'TNC CropScenarios'!AZ32","v":40.211376896779093},{"$f":"'TNC CropScenarios'!BA32","v":13.403792298926376},{"$f":"'TNC CropScenarios'!BB32","v":97.606061217838146},{"$f":"'TNC CropScenarios'!BD32","v":25.748323290670992},{"$f":"'TNC CropScenarios'!BE32","v":85.827744302236638},{"$f":"'TNC CropScenarios'!BF32","v":20.598658632536797},{"$f":"'TNC CropScenarios'!BG32","v":132.17472622544443},{"$f":"'TNC CropScenarios'!BH32","v":66.087363112722215},{"$f":"'TNC CropScenarios'!BI32","v":1156528.8544726388},{"$f":"'TNC CropScenarios'!BJ32","v":5.4158594070875861},{"$f":"'TNC CropScenarios'!BL32","v":103.02192062492573},{"$f":"'TNC CropScenarios'!BN32","v":8586932.2232292145},{"$f":"'TNC CropScenarios'!BO32","v":2665224},{"$f":"'TNC CropScenarios'!BP32","v":2118597.354472639},{"$f":"'TNC CropScenarios'!BQ32","v":20.152199464845634},{"$f":"'TNC CropScenarios'!BR32","v":6.0053554405239984},{"$f":"'TNC CropScenarios'!BS32","v":47.275164435445831},{"$f":"'TNC CropScenarios'!BT32","v":14.087999001762856},{"$f":"'TNC CropScenarios'!BU32","v":20.093354442286856},{"$f":"'TNC CropScenarios'!BV32","v":2.0544922491388533},{"$f":"'TNC CropScenarios'!BW32","v":100.96742837578688},{"$f":"'TNC CropScenarios'!BY32","v":100.57255337578688}]
[{"$f":"'TNC CropScenarios'!A33","v":2035},{"$f":"'TNC CropScenarios'!B33","v":44000},{"$f":"'TNC CropScenarios'!C33","v":4400},{"$f":"'TNC CropScenarios'!D33","v":77.22},{"$f":"'TNC CropScenarios'!E33","v":1.9305000000000001},{"$f":"'TNC CropScenarios'!F33","v":11449242.964305623},{"$f":"'TNC CropScenarios'!G33","v":2665224},{"$f":"'TNC CropScenarios'!H33","v":3816834.4316734448},{"$f":"'TNC CropScenarios'!I33","v":179.91667515337406},{"$f":"'TNC CropScenarios'!J33","v":41.882091428571428},{"$f":"'TNC CropScenarios'!K33","v":59.97882678343985},{"$f":"'TNC CropScenarios'!L33","v":53.615169195705469},{"$f":"'TNC CropScenarios'!M33","v":12.480863245714286},{"$f":"'TNC CropScenarios'!N33","v":17.873690381465074},{"$f":"'TNC CropScenarios'!O33","v":83.969722822884819},{"$f":"'TNC CropScenarios'!P33","v":10977.74},{"$f":"'TNC CropScenarios'!Q33","v":447433.09649999999},{"$f":"'TNC CropScenarios'!R33","v":0.34501468571428567},{"$f":"'TNC CropScenarios'!S33","v":7.0310915164285719},{"$f":"'TNC CropScenarios'!T33","v":0.10281437634285713},{"$f":"'TNC CropScenarios'!U33","v":2.0952652718957143},{"$f":"'TNC CropScenarios'!V33","v":2.1980796482385716},{"$f":"'TNC CropScenarios'!W33","v":86.167802471123395},{"$f":"'TNC CropScenarios'!X33","v":11449242.964305623},{"$f":"'TNC CropScenarios'!Y33","v":2665224},{"$f":"'TNC CropScenarios'!Z33","v":962068.5},{"$f":"'TNC CropScenarios'!AA33","v":21.015311372480269},{"$f":"'TNC CropScenarios'!AB33","v":6.2625627889991202},{"$f":"'TNC CropScenarios'!AC33","v":53.306321820223452},{"$f":"'TNC CropScenarios'!AD33","v":15.885283902426588},{"$f":"'TNC CropScenarios'!AE33","v":22.147846691425709},{"$f":"'TNC CropScenarios'!AF33","v":110.2461491625491},{"$f":"'TNC CropScenarios'!AN33","v":44000},{"$f":"'TNC CropScenarios'!AO33","v":7.0000000000000007E-2},{"$f":"'TNC CropScenarios'!AP33","v":3080.0000000000005},{"$f":"'TNC CropScenarios'!AQ33","v":54.054000000000016},{"$f":"'TNC CropScenarios'!AR33","v":1.3513500000000003},{"$f":"'TNC CropScenarios'!AS33","v":0.57914999999999983},{"$f":"'TNC CropScenarios'!AT33","v":109.6669991625491},{"$f":"'TNC CropScenarios'!AV33","v":53.615169195705469},{"$f":"'TNC CropScenarios'!AW33","v":8014470.0750139328},{"$f":"'TNC CropScenarios'!AX33","v":125.9416726073618},{"$f":"'TNC CropScenarios'!AY33","v":37.530618436993812},{"$f":"'TNC CropScenarios'!AZ33","v":37.530618436993812},{"$f":"'TNC CropScenarios'!BA33","v":16.084550758711657},{"$f":"'TNC CropScenarios'!BB33","v":95.838297529244386},{"$f":"'TNC CropScenarios'!BD33","v":33.166267703120177},{"$f":"'TNC CropScenarios'!BE33","v":110.55422567706727},{"$f":"'TNC CropScenarios'!BF33","v":26.533014162496141},{"$f":"'TNC CropScenarios'!BG33","v":170.25350754268356},{"$f":"'TNC CropScenarios'!BH33","v":85.126753771341782},{"$f":"'TNC CropScenarios'!BI33","v":1489718.1909984814},{"$f":"'TNC CropScenarios'!BJ33","v":6.9761374715614597},{"$f":"'TNC CropScenarios'!BL33","v":102.81443500080584},{"$f":"'TNC CropScenarios'!BN33","v":8014470.0750139328},{"$f":"'TNC CropScenarios'!BO33","v":2665224},{"$f":"'TNC CropScenarios'!BP33","v":2451786.6909984816},{"$f":"'TNC CropScenarios'!BQ33","v":20.299782575302839},{"$f":"'TNC CropScenarios'!BR33","v":6.0493352074402456},{"$f":"'TNC CropScenarios'!BS33","v":46.42916413697246},{"$f":"'TNC CropScenarios'!BT33","v":13.835890912817792},{"$f":"'TNC CropScenarios'!BU33","v":19.885226120258039},{"$f":"'TNC CropScenarios'!BV33","v":2.2626205711676697},{"$f":"'TNC CropScenarios'!BW33","v":100.55181442963817},{"$f":"'TNC CropScenarios'!BY33","v":99.972664429638172}]
[{"$f":"'TNC CropScenarios'!A34","v":2040},{"$f":"'TNC CropScenarios'!B34","v":43000},{"$f":"'TNC CropScenarios'!C34","v":4300},{"$f":"'TNC CropScenarios'!D34","v":75.465000000000003},{"$f":"'TNC CropScenarios'!E34","v":1.886625},{"$f":"'TNC CropScenarios'!F34","v":11449242.964305623},{"$f":"'TNC CropScenarios'!G34","v":2665224},{"$f":"'TNC CropScenarios'!H34","v":3922135.7595364386},{"$f":"'TNC CropScenarios'!I34","v":179.91667515337406},{"$f":"'TNC CropScenarios'!J34","v":41.882091428571428},{"$f":"'TNC CropScenarios'!K34","v":61.633561935572608},{"$f":"'TNC CropScenarios'!L34","v":53.615169195705469},{"$f":"'TNC CropScenarios'!M34","v":12.480863245714286},{"$f":"'TNC CropScenarios'!N34","v":18.366801456800637},{"$f":"'TNC CropScenarios'!O34","v":84.462833898220396},{"$f":"'TNC CropScenarios'!P34","v":10977.74},{"$f":"'TNC CropScenarios'!Q34","v":451276.5465},{"$f":"'TNC CropScenarios'!R34","v":0.34501468571428567},{"$f":"'TNC CropScenarios'!S34","v":7.0914885878571434},{"$f":"'TNC CropScenarios'!T34","v":0.10281437634285713},{"$f":"'TNC CropScenarios'!U34","v":2.1132635991814288},{"$f":"'TNC CropScenarios'!V34","v":2.2160779755242861},{"$f":"'TNC CropScenarios'!W34","v":86.678911873744681},{"$f":"'TNC CropScenarios'!X34","v":11449242.964305623},{"$f":"'TNC CropScenarios'!Y34","v":2665224},{"$f":"'TNC CropScenarios'!Z34","v":962068.5},{"$f":"'TNC CropScenarios'!AA34","v":21.015311372480269},{"$f":"'TNC CropScenarios'!AB34","v":6.2625627889991202},{"$f":"'TNC CropScenarios'!AC34","v":53.306321820223452},{"$f":"'TNC CropScenarios'!AD34","v":15.885283902426588},{"$f":"'TNC CropScenarios'!AE34","v":22.147846691425709},{"$f":"'TNC CropScenarios'!AF34","v":110.71338356517039},{"$f":"'TNC CropScenarios'!AN34","v":43000},{"$f":"'TNC CropScenarios'!AO34","v":0.06},{"$f":"'TNC CropScenarios'!AP34","v":2580},{"$f":"'TNC CropScenarios'!AQ34","v":45.279000000000003},{"$f":"'TNC CropScenarios'!AR34","v":1.1319750000000002},{"$f":"'TNC CropScenarios'!AS34","v":0.75464999999999982},{"$f":"'TNC CropScenarios'!AT34","v":109.95873356517039},{"$f":"'TNC CropScenarios'!AV34","v":53.615169195705469},{"$f":"'TNC CropScenarios'!AW34","v":7442007.926798651},{"$f":"'TNC CropScenarios'!AX34","v":116.94583884969309},{"$f":"'TNC CropScenarios'!AY34","v":34.849859977208546},{"$f":"'TNC CropScenarios'!AZ34","v":34.849859977208546},{"$f":"'TNC CropScenarios'!BA34","v":18.765309218496924},{"$f":"'TNC CropScenarios'!BB34","v":94.062540386832893},{"$f":"'TNC CropScenarios'!BD34","v":41.849416554065328},{"$f":"'TNC CropScenarios'!BE34","v":139.49805518021773},{"$f":"'TNC CropScenarios'!BF34","v":33.479533243252256},{"$f":"'TNC CropScenarios'!BG34","v":214.82700497753532},{"$f":"'TNC CropScenarios'!BH34","v":107.41350248876766},{"$f":"'TNC CropScenarios'!BI34","v":1879736.2935534343},{"$f":"'TNC CropScenarios'!BJ34","v":8.8025365289545121},{"$f":"'TNC CropScenarios'!BL34","v":102.8650769157874},{"$f":"'TNC CropScenarios'!BN34","v":7442007.926798651},{"$f":"'TNC CropScenarios'!BO34","v":2665224},{"$f":"'TNC CropScenarios'!BP34","v":2841804.7935534343},{"$f":"'TNC CropScenarios'!BQ34","v":20.625970378994392},{"$f":"'TNC CropScenarios'!BR34","v":6.1465391729403294},{"$f":"'TNC CropScenarios'!BS34","v":45.784094118387721},{"$f":"'TNC CropScenarios'!BT34","v":13.643660047279539},{"$f":"'TNC CropScenarios'!BU34","v":19.790199220219868},{"$f":"'TNC CropScenarios'!BV34","v":2.3576474712058406},{"$f":"'TNC CropScenarios'!BW34","v":100.50742944458156},{"$f":"'TNC CropScenarios'!BY34","v":99.752779444581563}]
[{"$f":"'TNC CropScenarios'!A35","v":2045},{"$f":"'TNC CropScenarios'!B35","v":42000},{"$f":"'TNC CropScenarios'!C35","v":4200},{"$f":"'TNC CropScenarios'!D35","v":73.709999999999994},{"$f":"'TNC CropScenarios'!E35","v":1.8427499999999997},{"$f":"'TNC CropScenarios'!F35","v":11449242.964305623},{"$f":"'TNC CropScenarios'!G35","v":2665224},{"$f":"'TNC CropScenarios'!H35","v":4040586.2370510357},{"$f":"'TNC CropScenarios'!I35","v":179.91667515337406},{"$f":"'TNC CropScenarios'!J35","v":41.882091428571428},{"$f":"'TNC CropScenarios'!K35","v":63.494926582230569},{"$f":"'TNC CropScenarios'!L35","v":53.615169195705469},{"$f":"'TNC CropScenarios'!M35","v":12.480863245714286},{"$f":"'TNC CropScenarios'!N35","v":18.921488121504709},{"$f":"'TNC CropScenarios'!O35","v":85.01752056292446},{"$f":"'TNC CropScenarios'!P35","v":11047.017},{"$f":"'TNC CropScenarios'!Q35","v":457682.2965},{"$f":"'TNC CropScenarios'!R35","v":0.34719196285714282},{"$f":"'TNC CropScenarios'!S35","v":7.1921503735714287},{"$f":"'TNC CropScenarios'!T35","v":0.10346320493142856},{"$f":"'TNC CropScenarios'!U35","v":2.1432608113242857},{"$f":"'TNC CropScenarios'!V35","v":2.2467240162557141},{"$f":"'TNC CropScenarios'!W35","v":87.264244579180172},{"$f":"'TNC CropScenarios'!X35","v":11449242.964305623},{"$f":"'TNC CropScenarios'!Y35","v":2665224},{"$f":"'TNC CropScenarios'!Z35","v":962068.5},{"$f":"'TNC CropScenarios'!AA35","v":21.015311372480269},{"$f":"'TNC CropScenarios'!AB35","v":6.2625627889991202},{"$f":"'TNC CropScenarios'!AC35","v":53.306321820223452},{"$f":"'TNC CropScenarios'!AD35","v":15.885283902426588},{"$f":"'TNC CropScenarios'!AE35","v":22.147846691425709},{"$f":"'TNC CropScenarios'!AF35","v":111.25484127060588},{"$f":"'TNC CropScenarios'!AN35","v":42000},{"$f":"'TNC CropScenarios'!AO35","v":0.06},{"$f":"'TNC CropScenarios'!AP35","v":2520},{"$f":"'TNC CropScenarios'!AQ35","v":44.225999999999999},{"$f":"'TNC CropScenarios'!AR35","v":1.10565},{"$f":"'TNC CropScenarios'!AS35","v":0.73709999999999964},{"$f":"'TNC CropScenarios'!AT35","v":110.51774127060588},{"$f":"'TNC CropScenarios'!AV35","v":53.615169195705469},{"$f":"'TNC CropScenarios'!AW35","v":6869545.7785833692},{"$f":"'TNC CropScenarios'!AX35","v":107.95000509202438},{"$f":"'TNC CropScenarios'!AY35","v":32.169101517423265},{"$f":"'TNC CropScenarios'!AZ35","v":32.169101517423265},{"$f":"'TNC CropScenarios'!BA35","v":21.446067678282205},{"$f":"'TNC CropScenarios'!BB35","v":92.343190732854481},{"$f":"'TNC CropScenarios'!BD35","v":51.980779622771799},{"$f":"'TNC CropScenarios'!BE35","v":173.26926540923935},{"$f":"'TNC CropScenarios'!BF35","v":41.584623698217442},{"$f":"'TNC CropScenarios'!BG35","v":266.8346687302286},{"$f":"'TNC CropScenarios'!BH35","v":133.4173343651143},{"$f":"'TNC CropScenarios'!BI35","v":2334803.3513895008},{"$f":"'TNC CropScenarios'!BJ35","v":10.933550551221119},{"$f":"'TNC CropScenarios'!BL35","v":103.2767412840756},{"$f":"'TNC CropScenarios'!BN35","v":6869545.7785833692},{"$f":"'TNC CropScenarios'!BO35","v":2665224},{"$f":"'TNC CropScenarios'!BP35","v":3296871.8513895008},{"$f":"'TNC CropScenarios'!BQ35","v":21.156597756426585},{"$f":"'TNC CropScenarios'!BR35","v":6.3046661314151224},{"$f":"'TNC CropScenarios'!BS35","v":45.369018620261215},{"$f":"'TNC CropScenarios'!BT35","v":13.519967548837842},{"$f":"'TNC CropScenarios'!BU35","v":19.824633680252965},{"$f":"'TNC CropScenarios'!BV35","v":2.3232130111727436},{"$f":"'TNC CropScenarios'!BW35","v":100.95352827290286},{"$f":"'TNC CropScenarios'!BY35","v":100.21642827290286}]
[{"$f":"'TNC CropScenarios'!A36","v":2050},{"$f":"'TNC CropScenarios'!B36","v":40000},{"$f":"'TNC CropScenarios'!C36","v":4000},{"$f":"'TNC CropScenarios'!D36","v":70.2},{"$f":"'TNC CropScenarios'!E36","v":1.7549999999999999},{"$f":"'TNC CropScenarios'!F36","v":11449242.964305623},{"$f":"'TNC CropScenarios'!G36","v":2665224},{"$f":"'TNC CropScenarios'!H36","v":4159036.7145656329},{"$f":"'TNC CropScenarios'!I36","v":179.91667515337406},{"$f":"'TNC CropScenarios'!J36","v":41.882091428571428},{"$f":"'TNC CropScenarios'!K36","v":65.356291228888523},{"$f":"'TNC CropScenarios'!L36","v":53.615169195705469},{"$f":"'TNC CropScenarios'!M36","v":12.480863245714286},{"$f":"'TNC CropScenarios'!N36","v":19.47617478620878},{"$f":"'TNC CropScenarios'!O36","v":85.572207227628525},{"$f":"'TNC CropScenarios'!P36","v":11116.294},{"$f":"'TNC CropScenarios'!Q36","v":464088.0465},{"$f":"'TNC CropScenarios'!R36","v":0.34936923999999997},{"$f":"'TNC CropScenarios'!S36","v":7.292812159285714},{"$f":"'TNC CropScenarios'!T36","v":0.10411203351999999},{"$f":"'TNC CropScenarios'!U36","v":2.1732580234671426},{"$f":"'TNC CropScenarios'!V36","v":2.2773700569871425},{"$f":"'TNC CropScenarios'!W36","v":87.849577284615663},{"$f":"'TNC CropScenarios'!X36","v":11449242.964305623},{"$f":"'TNC CropScenarios'!Y36","v":2665224},{"$f":"'TNC CropScenarios'!Z36","v":962068.5},{"$f":"'TNC CropScenarios'!AA36","v":21.015311372480269},{"$f":"'TNC CropScenarios'!AB36","v":6.2625627889991202},{"$f":"'TNC CropScenarios'!AC36","v":53.306321820223452},{"$f":"'TNC CropScenarios'!AD36","v":15.885283902426588},{"$f":"'TNC CropScenarios'!AE36","v":22.147846691425709},{"$f":"'TNC CropScenarios'!AF36","v":111.75242397604137},{"$f":"'TNC CropScenarios'!AN36","v":40000},{"$f":"'TNC CropScenarios'!AO36","v":0.05},{"$f":"'TNC CropScenarios'!AP36","v":2000},{"$f":"'TNC CropScenarios'!AQ36","v":35.1},{"$f":"'TNC CropScenarios'!AR36","v":0.87749999999999995},{"$f":"'TNC CropScenarios'!AS36","v":0.87749999999999995},{"$f":"'TNC CropScenarios'!AT36","v":110.87492397604137},{"$f":"'TNC CropScenarios'!AV36","v":53.615169195705469},{"$f":"'TNC CropScenarios'!AW36","v":6297083.6303680874},{"$f":"'TNC CropScenarios'!AX36","v":98.954171334355664},{"$f":"'TNC CropScenarios'!AY36","v":29.488343057637987},{"$f":"'TNC CropScenarios'!AZ36","v":29.488343057637987},{"$f":"'TNC CropScenarios'!BA36","v":24.126826138067482},{"$f":"'TNC CropScenarios'!BB36","v":90.579966078876069},{"$f":"'TNC CropScenarios'!BD36","v":63.767756574302318},{"$f":"'TNC CropScenarios'!BE36","v":212.55918858100773},{"$f":"'TNC CropScenarios'!BF36","v":51.014205259441852},{"$f":"'TNC CropScenarios'!BG36","v":327.34115041475189},{"$f":"'TNC CropScenarios'!BH36","v":163.67057520737595},{"$f":"'TNC CropScenarios'!BI36","v":2864235.0661290796},{"$f":"'TNC CropScenarios'!BJ36","v":13.41280363824446},{"$f":"'TNC CropScenarios'!BL36","v":103.99276971712052},{"$f":"'TNC CropScenarios'!BN36","v":6297083.6303680874},{"$f":"'TNC CropScenarios'!BO36","v":2665224},{"$f":"'TNC CropScenarios'!BP36","v":3826303.5661290796},{"$f":"'TNC CropScenarios'!BQ36","v":21.920942626984104},{"$f":"'TNC CropScenarios'!BR36","v":6.5324409028412624},{"$f":"'TNC CropScenarios'!BS36","v":45.216875301900693},{"$f":"'TNC CropScenarios'!BT36","v":13.474628839966407},{"$f":"'TNC CropScenarios'!BU36","v":20.007069742807669},{"$f":"'TNC CropScenarios'!BV36","v":2.1407769486180399},{"$f":"'TNC CropScenarios'!BW36","v":101.85199276850248},{"$f":"'TNC CropScenarios'!BY36","v":100.97449276850249}]

{"sheet":"All UD1 Plots","index":23,"n_rows":32,"n_cols":65,"rows_kept":32,"cut":false,"hidden":true,"merged":[]}
["Year","Area of sugar cane available (ha)","Area of sugar cane burnt (ha)","GHG Emissions from burnt sugar cane (tCH4)","GHG Emissions from burnt sugar cane (GgCO2e)","Nitrogen from Chemical Fertilizers (kgN/yr)","Nitrogen from Crop Residues (kgN/yr)","Nitrogen from Manure (kgN/yr)","N2O Emissions from Chemical Fertilizers (t/yr)","N2O Emissions from Crop Residues (t/yr)","N2O Emissions from Manure (t/yr)","CO2e Emissions from Chemical Fertilizer  (Gg/yr)","CO2e Emissions from Crop Residues (Gg/yr)","CO2e Emissions from Manure (Gg/yr)","Total CO2e Emissions from Chemical Fertilizers, Crop Residues and Manure (Gg/yr)","Nitrogen from (Cattle, Poultry, Pigs) (kgN/yr)","Nitrogen from (Sheep & Other sources) (kgN/yr)","N2O Emissions from (Cattle, Poultry, Pigs) (t/yr)","N2O Emissions from (Sheep & Other sources)  (t/yr)","CO2e Emissions from (Cattle, Poultry, Pigs) (Gg/yr)","CO2e Emissions from (Sheep & Other sources) (Gg/yr)","Total CO2e Emissions animal sources (Gg/yr)","Total  CO2e Emissions from Direct sources (Gg/yr)","Nitrogen from Indirect Fertilizers (kg N/yr)","Nitrogen from Indirect Crop Residues (kg N/yr)","Nitrogen from Indirect Manure (kg N/yr)","N2O Volatilised from Indirect sources (t/yr)","CO2e Volatilised from Indirect sources (Gg/yr)","N2O leached from Indirect sources (y/yr)","CO2e leached from Indirect sources (Gg/yr)"," Total  CO2e Emissions from Indirect sources (Gg/yr)  ","Total  CO2e Emissions from Managed Soils (Gg/yr)","Area of sugar cane available (ha)","Percentage of sugar cane area burnt (%)","Area of sugar cane burnt (ha)","GHG Emissions from burnt sugar cane (tCH4)","GHG Emissions from burnt sugar cane (Gg CO2e)","Reduction in GHG Emissions due to Scenario (Gg CO2e)","GHG Emissions (Nett) due to Reduced Crop Burn Scenario (Gg CO2e)"," (BAU Scenario) CO2e Emissions from Chemical Fertilizers (Gg/yr)","Nitrogen from Reduction in Chemical Fertilizers  (kg N/yr)","N2O Emissions from Reduction in Chemical Fertilizers (t)","CO2e Emissions from Reduction in Chemical Fertilizers (Gg)","GHG Emissions due to Scenario (Gg CO2e)","Reduction in GHG Emissions due to Scenario (Gg CO2e)","GHG Emissions (Nett) due to Reduced Fertilizer Use Scenario (Gg CO2e)","Organic waste composted from Food (Gg)","Organic waste composted from Garden (Gg)","Organic waste composted from Paper (Gg)","Total Organic waste from MSW (Gg)","Total Compost from MSW (Gg)","Total Nitrogen in Compost from MSW (kg)","Total CO2e Emissions due to Scenario (Gg CO2e)"," GHG Emissions (Nett) due to Biofarming Scenario (Gg CO2e) ","Nitrogen from Reduction of Fertilizers (KgN/yr)","Nitrogen from Crop Residues (kgN/yr)","SC3 :Nitrogen from Manure incl Biofarming sources (kg N/yr)","N2O Volatilised from Indirect sources (t/yr)","CO2e Volatilised from Indirect sources (Gg/yr)  ","N2O leached from Indirect sources (y/yr)","CO2e leached from Indirect sources (Gg/yr)","Total  CO2e Emissions from Indirect sources (Gg/yr)  ","Reduction in GHG Emissions due to Scenario (Gg CO2e)","Total CO2e Emissions with Biofarming (Reduced Fertilizers + Compost)  ","GHG Emissions under Biofarming and Crop Burn Reduction "]
["UD1","BAU ","BAU ","BAU ","BAU ","BAU ","BAU ","BAU ","BAU ","BAU ","BAU ","BAU ","BAU ","BAU ","BAU ","BAU ","BAU ","BAU ","BAU ","BAU ","BAU ","BAU ","BAU ","BAU ","BAU ","BAU ","BAU ","BAU ","BAU ","BAU ","BAU ","BAU ","SC1","SC1","SC1","SC1","SC1","SC1","SC1","SC2","SC2","SC2","SC2","SC2","SC2","SC2","SC3 ","SC3 ","SC3","SC3","SC3","SC3","SC3","SC3","SC3","SC3","SC3","SC3","SC3","SC3","SC3","SC3","SC3","SC3","SC4 "]
[null,1,2,3,4,5,6,7,8,9,10,11,12,13,14,15,16,17,18,19,20,21,22,23,24,25,26,27,28,29,30,31,32,33,34,35,36,37,38,39,40,41,42,43,44,45,46,47,48,49,50,51,52,53,54,55,56,57,58,59,60,61,62,63,64]
[{"$f":"'UD1 CropScenarios'!A8","v":2006},{"$f":"'UD1 CropScenarios'!B8","v":70800},{"$f":"'UD1 CropScenarios'!C8","v":7080},{"$f":"'UD1 CropScenarios'!D8","v":124.25400000000002},{"$f":"'UD1 CropScenarios'!E8","v":3.1063500000000004},{"$f":"'UD1 CropScenarios'!F8","v":7526219},{"$f":"'UD1 CropScenarios'!G8","v":3316504},{"$f":"'UD1 CropScenarios'!H8","v":2933111.5548999999},{"$f":"'UD1 CropScenarios'!I8","v":118.26915571428572},{"$f":"'UD1 CropScenarios'!J8","v":52.116491428571429},{"$f":"'UD1 CropScenarios'!K8","v":46.091753005571427},{"$f":"'UD1 CropScenarios'!L8","v":35.24420840285714},{"$f":"'UD1 CropScenarios'!M8","v":15.530714445714286},{"$f":"'UD1 CropScenarios'!N8","v":13.735342395660286},{"$f":"'UD1 CropScenarios'!O8","v":64.510265244231718},{"$f":"'UD1 CropScenarios'!P8","v":0},{"$f":"'UD1 CropScenarios'!Q8","v":451428.39},{"$f":"'UD1 CropScenarios'!R8","v":0},{"$f":"'UD1 CropScenarios'!S8","v":7.0938747000000006},{"$f":"'UD1 CropScenarios'!T8","v":0},{"$f":"'UD1 CropScenarios'!U8","v":2.1139746606000003},{"$f":"'UD1 CropScenarios'!V8","v":2.1139746606000003},{"$f":"'UD1 CropScenarios'!W8","v":66.624239904831711},{"$f":"'UD1 CropScenarios'!X8","v":7526219},{"$f":"'UD1 CropScenarios'!Y8","v":3316504},{"$f":"'UD1 CropScenarios'!Z8","v":962068.5},{"$f":"'UD1 CropScenarios'!AA8","v":14.850559428571431},{"$f":"'UD1 CropScenarios'!AB8","v":4.4254667097142866},{"$f":"'UD1 CropScenarios'!AC8","v":41.73836994642857},{"$f":"'UD1 CropScenarios'!AD8","v":12.438034244035714},{"$f":"'UD1 CropScenarios'!AE8","v":16.863500953750002},{"$f":"'UD1 CropScenarios'!AF8","v":86.594090858581723},{"$f":"'UD1 CropScenarios'!AN8","v":70800},{"$f":"'UD1 CropScenarios'!AO8","v":0.1},{"$f":"'UD1 CropScenarios'!AP8","v":7080},{"$f":"'UD1 CropScenarios'!AQ8","v":124.25400000000002},{"$f":"'UD1 CropScenarios'!AR8","v":3.1063500000000004},{"$f":"'UD1 CropScenarios'!AS8","v":0},{"$f":"'UD1 CropScenarios'!AT8","v":86.594090858581723},{"$f":"'UD1 CropScenarios'!AV8","v":35.24420840285714},{"$f":"'UD1 CropScenarios'!AW8","v":7526219},{"$f":"'UD1 CropScenarios'!AX8","v":118.26915571428572},{"$f":"'UD1 CropScenarios'!AY8","v":35.24420840285714},{"$f":"'UD1 CropScenarios'!AZ8","v":35.24420840285714},{"$f":"'UD1 CropScenarios'!BA8","v":0},{"$f":"'UD1 CropScenarios'!BB8","v":86.594090858581723},{"$f":"'UD1 CropScenarios'!BD8","v":0},{"$f":"'UD1 CropScenarios'!BE8","v":0},{"$f":"'UD1 CropScenarios'!BF8","v":0},{"$f":"'UD1 CropScenarios'!BG8","v":0},{"$f":"'UD1 CropScenarios'!BH8","v":0},{"$f":"'UD1 CropScenarios'!BI8","v":0},{"$f":"'UD1 CropScenarios'!BJ8","v":0},{"$f":"'UD1 CropScenarios'!BL8","v":86.594090858581723},{"$f":"'UD1 CropScenarios'!BN8","v":7526219},{"$f":"'UD1 CropScenarios'!BO8","v":3316504},{"$f":"'UD1 CropScenarios'!BP8","v":962068.5},{"$f":"'UD1 CropScenarios'!BQ8","v":14.850559428571431},{"$f":"'UD1 CropScenarios'!BR8","v":4.4254667097142866},{"$f":"'UD1 CropScenarios'!BS8","v":41.73836994642857},{"$f":"'UD1 CropScenarios'!BT8","v":12.438034244035714},{"$f":"'UD1 CropScenarios'!BU8","v":16.863500953750002},{"$f":"'UD1 CropScenarios'!BV8","v":0},{"$f":"'UD1 CropScenarios'!BW8","v":86.594090858581723},{"$f":"'UD1 CropScenarios'!BY8","v":86.594090858581723}]
[{"$f":"'UD1 CropScenarios'!A9","v":2007},{"$f":"'UD1 CropScenarios'!B9","v":68520},{"$f":"'UD1 CropScenarios'!C9","v":6852},{"$f":"'UD1 CropScenarios'!D9","v":120.2526},{"$f":"'UD1 CropScenarios'!E9","v":3.0063149999999998},{"$f":"'UD1 CropScenarios'!F9","v":7267732},{"$f":"'UD1 CropScenarios'!G9","v":3208625},{"$f":"'UD1 CropScenarios'!H9","v":2990028.0913},{"$f":"'UD1 CropScenarios'!I9","v":114.20721714285715},{"$f":"'UD1 CropScenarios'!J9","v":50.421250000000001},{"$f":"'UD1 CropScenarios'!K9","v":46.98615572042857},{"$f":"'UD1 CropScenarios'!L9","v":34.033750708571432},{"$f":"'UD1 CropScenarios'!M9","v":15.025532499999999},{"$f":"'UD1 CropScenarios'!N9","v":14.001874404687715},{"$f":"'UD1 CropScenarios'!O9","v":63.061157613259141},{"$f":"'UD1 CropScenarios'!P9","v":0},{"$f":"'UD1 CropScenarios'!Q9","v":409968},{"$f":"'UD1 CropScenarios'!R9","v":0},{"$f":"'UD1 CropScenarios'!S9","v":6.4423542857142859},{"$f":"'UD1 CropScenarios'!T9","v":0},{"$f":"'UD1 CropScenarios'!U9","v":1.9198215771428573},{"$f":"'UD1 CropScenarios'!V9","v":1.9198215771428573},{"$f":"'UD1 CropScenarios'!W9","v":64.980979190401996},{"$f":"'UD1 CropScenarios'!X9","v":7267732},{"$f":"'UD1 CropScenarios'!Y9","v":3208625},{"$f":"'UD1 CropScenarios'!Z9","v":962068.5},{"$f":"'UD1 CropScenarios'!AA9","v":14.444365571428575},{"$f":"'UD1 CropScenarios'!AB9","v":4.3044209402857154},{"$f":"'UD1 CropScenarios'!AC9","v":40.443004446428567},{"$f":"'UD1 CropScenarios'!AD9","v":12.052015325035713},{"$f":"'UD1 CropScenarios'!AE9","v":16.356436265321427},{"$f":"'UD1 CropScenarios'!AF9","v":84.343730455723431},{"$f":"'UD1 CropScenarios'!AN9","v":68520},{"$f":"'UD1 CropScenarios'!AO9","v":0.1},{"$f":"'UD1 CropScenarios'!AP9","v":6852},{"$f":"'UD1 CropScenarios'!AQ9","v":120.2526},{"$f":"'UD1 CropScenarios'!AR9","v":3.0063149999999998},{"$f":"'UD1 CropScenarios'!AS9","v":0},{"$f":"'UD1 CropScenarios'!AT9","v":84.343730455723431},{"$f":"'UD1 CropScenarios'!AV9","v":34.033750708571432},{"$f":"'UD1 CropScenarios'!AW9","v":7267732},{"$f":"'UD1 CropScenarios'!AX9","v":114.20721714285715},{"$f":"'UD1 CropScenarios'!AY9","v":34.033750708571432},{"$f":"'UD1 CropScenarios'!AZ9","v":34.033750708571432},{"$f":"'UD1 CropScenarios'!BA9","v":0},{"$f":"'UD1 CropScenarios'!BB9","v":84.343730455723431},{"$f":"'UD1 CropScenarios'!BD9","v":0},{"$f":"'UD1 CropScenarios'!BE9","v":0},{"$f":"'UD1 CropScenarios'!BF9","v":0},{"$f":"'UD1 CropScenarios'!BG9","v":0},{"$f":"'UD1 CropScenarios'!BH9","v":0},{"$f":"'UD1 CropScenarios'!BI9","v":0},{"$f":"'UD1 CropScenarios'!BJ9","v":0},{"$f":"'UD1 CropScenarios'!BL9","v":84.343730455723431},{"$f":"'UD1 CropScenarios'!BN9","v":7267732},{"$f":"'UD1 CropScenarios'!BO9","v":3208625},{"$f":"'UD1 CropScenarios'!BP9","v":962068.5},{"$f":"'UD1 CropScenarios'!BQ9","v":14.444365571428575},{"$f":"'UD1 CropScenarios'!BR9","v":4.3044209402857154},{"$f":"'UD1 CropScenarios'!BS9","v":40.443004446428567},{"$f":"'UD1 CropScenarios'!BT9","v":12.052015325035713},{"$f":"'UD1 CropScenarios'!BU9","v":16.356436265321427},{"$f":"'UD1 CropScenarios'!BV9","v":0},{"$f":"'UD1 CropScenarios'!BW9","v":84.343730455723431},{"$f":"'UD1 CropScenarios'!BY9","v":84.343730455723431}]
[{"$f":"'UD1 CropScenarios'!A10","v":2008},{"$f":"'UD1 CropScenarios'!B10","v":65440},{"$f":"'UD1 CropScenarios'!C10","v":6544},{"$f":"'UD1 CropScenarios'!D10","v":114.84720000000002},{"$f":"'UD1 CropScenarios'!E10","v":2.8711800000000003},{"$f":"'UD1 CropScenarios'!F10","v":6807140},{"$f":"'UD1 CropScenarios'!G10","v":3064362},{"$f":"'UD1 CropScenarios'!H10","v":2878426.2456999999},{"$f":"'UD1 CropScenarios'!I10","v":106.96934285714285},{"$f":"'UD1 CropScenarios'!J10","v":48.154259999999994},{"$f":"'UD1 CropScenarios'!K10","v":45.232412432428575},{"$f":"'UD1 CropScenarios'!L10","v":31.876864171428569},{"$f":"'UD1 CropScenarios'!M10","v":14.349969479999999},{"$f":"'UD1 CropScenarios'!N10","v":13.479258904863714},{"$f":"'UD1 CropScenarios'!O10","v":59.706092556292276},{"$f":"'UD1 CropScenarios'!P10","v":0},{"$f":"'UD1 CropScenarios'!Q10","v":409968},{"$f":"'UD1 CropScenarios'!R10","v":0},{"$f":"'UD1 CropScenarios'!S10","v":6.4423542857142859},{"$f":"'UD1 CropScenarios'!T10","v":0},{"$f":"'UD1 CropScenarios'!U10","v":1.9198215771428573},{"$f":"'UD1 CropScenarios'!V10","v":1.9198215771428573},{"$f":"'UD1 CropScenarios'!W10","v":61.625914133435131},{"$f":"'UD1 CropScenarios'!X10","v":6807140},{"$f":"'UD1 CropScenarios'!Y10","v":3064362},{"$f":"'UD1 CropScenarios'!Z10","v":962068.5},{"$f":"'UD1 CropScenarios'!AA10","v":13.720578142857143},{"$f":"'UD1 CropScenarios'!AB10","v":4.0887322865714291},{"$f":"'UD1 CropScenarios'!AC10","v":38.30440998214285},{"$f":"'UD1 CropScenarios'!AD10","v":11.414714174678569},{"$f":"'UD1 CropScenarios'!AE10","v":15.503446461249997},{"$f":"'UD1 CropScenarios'!AF10","v":80.00054059468512},{"$f":"'UD1 CropScenarios'!AN10","v":65440},{"$f":"'UD1 CropScenarios'!AO10","v":0.1},{"$f":"'UD1 CropScenarios'!AP10","v":6544},{"$f":"'UD1 CropScenarios'!AQ10","v":114.84720000000002},{"$f":"'UD1 CropScenarios'!AR10","v":2.8711800000000003},{"$f":"'UD1 CropScenarios'!AS10","v":0},{"$f":"'UD1 CropScenarios'!AT10","v":80.00054059468512},{"$f":"'UD1 CropScenarios'!AV10","v":31.876864171428569},{"$f":"'UD1 CropScenarios'!AW10","v":6807140},{"$f":"'UD1 CropScenarios'!AX10","v":106.96934285714285},{"$f":"'UD1 CropScenarios'!AY10","v":31.876864171428569},{"$f":"'UD1 CropScenarios'!AZ10","v":31.876864171428569},{"$f":"'UD1 CropScenarios'!BA10","v":0},{"$f":"'UD1 CropScenarios'!BB10","v":80.00054059468512},{"$f":"'UD1 CropScenarios'!BD10","v":0},{"$f":"'UD1 CropScenarios'!BE10","v":0},{"$f":"'UD1 CropScenarios'!BF10","v":0},{"$f":"'UD1 CropScenarios'!BG10","v":0},{"$f":"'UD1 CropScenarios'!BH10","v":0},{"$f":"'UD1 CropScenarios'!BI10","v":0},{"$f":"'UD1 CropScenarios'!BJ10","v":0},{"$f":"'UD1 CropScenarios'!BL10","v":80.00054059468512},{"$f":"'UD1 CropScenarios'!BN10","v":6807140},{"$f":"'UD1 CropScenarios'!BO10","v":3064362},{"$f":"'UD1 CropScenarios'!BP10","v":962068.5},{"$f":"'UD1 CropScenarios'!BQ10","v":13.720578142857143},{"$f":"'UD1 CropScenarios'!BR10","v":4.0887322865714291},{"$f":"'UD1 CropScenarios'!BS10","v":38.30440998214285},{"$f":"'UD1 CropScenarios'!BT10","v":11.414714174678569},{"$f":"'UD1 CropScenarios'!BU10","v":15.503446461249997},{"$f":"'UD1 CropScenarios'!BV10","v":0},{"$f":"'UD1 CropScenarios'!BW10","v":80.00054059468512},{"$f":"'UD1 CropScenarios'!BY10","v":80.00054059468512}]
[{"$f":"'UD1 CropScenarios'!A11","v":2009},{"$f":"'UD1 CropScenarios'!B11","v":65850},{"$f":"'UD1 CropScenarios'!C11","v":6585},{"$f":"'UD1 CropScenarios'!D11","v":115.56675000000001},{"$f":"'UD1 CropScenarios'!E11","v":2.8891687500000001},{"$f":"'UD1 CropScenarios'!F11","v":6616456},{"$f":"'UD1 CropScenarios'!G11","v":3013169},{"$f":"'UD1 CropScenarios'!H11","v":2637317.4032999999},{"$f":"'UD1 CropScenarios'!I11","v":103.97287999999999},{"$f":"'UD1 CropScenarios'!J11","v":47.349798571428572},{"$f":"'UD1 CropScenarios'!K11","v":41.443559194714283},{"$f":"'UD1 CropScenarios'!L11","v":30.983918239999994},{"$f":"'UD1 CropScenarios'!M11","v":14.110239974285713},{"$f":"'UD1 CropScenarios'!N11","v":12.350180640024856},{"$f":"'UD1 CropScenarios'!O11","v":57.444338854310558},{"$f":"'UD1 CropScenarios'!P11","v":67844.831250000003},{"$f":"'UD1 CropScenarios'!Q11","v":417977.60087999998},{"$f":"'UD1 CropScenarios'!R11","v":2.1322661250000001},{"$f":"'UD1 CropScenarios'!S11","v":6.5682194423999993},{"$f":"'UD1 CropScenarios'!T11","v":0.63541530525000012},{"$f":"'UD1 CropScenarios'!U11","v":1.9573293938351999},{"$f":"'UD1 CropScenarios'!V11","v":2.5927446990852001},{"$f":"'UD1 CropScenarios'!W11","v":60.03708355339576},{"$f":"'UD1 CropScenarios'!X11","v":6616456},{"$f":"'UD1 CropScenarios'!Y11","v":3013169},{"$f":"'UD1 CropScenarios'!Z11","v":962068.5},{"$f":"'UD1 CropScenarios'!AA11","v":13.420931857142858},{"$f":"'UD1 CropScenarios'!AB11","v":3.9994376934285714},{"$f":"'UD1 CropScenarios'!AC11","v":37.449202017857139},{"$f":"'UD1 CropScenarios'!AD11","v":11.159862201321427},{"$f":"'UD1 CropScenarios'!AE11","v":15.159299894749999},{"$f":"'UD1 CropScenarios'!AF11","v":78.085552198145763},{"$f":"'UD1 CropScenarios'!AN11","v":65850},{"$f":"'UD1 CropScenarios'!AO11","v":0.1},{"$f":"'UD1 CropScenarios'!AP11","v":6585},{"$f":"'UD1 CropScenarios'!AQ11","v":115.56675000000001},{"$f":"'UD1 CropScenarios'!AR11","v":2.8891687500000001},{"$f":"'UD1 CropScenarios'!AS11","v":0},{"$f":"'UD1 CropScenarios'!AT11","v":78.085552198145763},{"$f":"'UD1 CropScenarios'!AV11","v":30.983918239999994},{"$f":"'UD1 CropScenarios'!AW11","v":6616456},{"$f":"'UD1 CropScenarios'!AX11","v":103.97287999999999},{"$f":"'UD1 CropScenarios'!AY11","v":30.983918239999994},{"$f":"'UD1 CropScenarios'!AZ11","v":30.983918239999994},{"$f":"'UD1 CropScenarios'!BA11","v":0},{"$f":"'UD1 CropScenarios'!BB11","v":78.085552198145763},{"$f":"'UD1 CropScenarios'!BD11","v":0},{"$f":"'UD1 CropScenarios'!BE11","v":0},{"$f":"'UD1 CropScenarios'!BF11","v":0},{"$f":"'UD1 CropScenarios'!BG11","v":0},{"$f":"'UD1 CropScenarios'!BH11","v":0},{"$f":"'UD1 CropScenarios'!BI11","v":0},{"$f":"'UD1 CropScenarios'!BJ11","v":0},{"$f":"'UD1 CropScenarios'!BL11","v":78.085552198145763},{"$f":"'UD1 CropScenarios'!BN11","v":6616456},{"$f":"'UD1 CropScenarios'!BO11","v":3013169},{"$f":"'UD1 CropScenarios'!BP11","v":962068.5},{"$f":"'UD1 CropScenarios'!BQ11","v":13.420931857142859},{"$f":"'UD1 CropScenarios'!BR11","v":3.9994376934285718},{"$f":"'UD1 CropScenarios'!BS11","v":37.449202017857139},{"$f":"'UD1 CropScenarios'!BT11","v":11.159862201321427},{"$f":"'UD1 CropScenarios'!BU11","v":15.159299894749999},{"$f":"'UD1 CropScenarios'!BV11","v":0},{"$f":"'UD1 CropScenarios'!BW11","v":78.085552198145763},{"$f":"'UD1 CropScenarios'!BY11","v":78.085552198145763}]
[{"$f":"'UD1 CropScenarios'!A12","v":2010},{"$f":"'UD1 CropScenarios'!B12","v":64130},{"$f":"'UD1 CropScenarios'!C12","v":6413},{"$f":"'UD1 CropScenarios'!D12","v":112.54815000000001},{"$f":"'UD1 CropScenarios'!E12","v":2.8137037500000002},{"$f":"'UD1 CropScenarios'!F12","v":7468310},{"$f":"'UD1 CropScenarios'!G12","v":3012269},{"$f":"'UD1 CropScenarios'!H12","v":3508672.6663000002},{"$f":"'UD1 CropScenarios'!I12","v":117.35915714285714},{"$f":"'UD1 CropScenarios'!J12","v":47.335655714285721},{"$f":"'UD1 CropScenarios'!K12","v":55.136284756142857},{"$f":"'UD1 CropScenarios'!L12","v":34.973028828571429},{"$f":"'UD1 CropScenarios'!M12","v":14.106025402857146},{"$f":"'UD1 CropScenarios'!N12","v":16.430612857330573},{"$f":"'UD1 CropScenarios'!O12","v":65.509667088759144},{"$f":"'UD1 CropScenarios'!P12","v":10606.575150000001},{"$f":"'UD1 CropScenarios'!Q12","v":409968},{"$f":"'UD1 CropScenarios'!R12","v":0.3333495047142857},{"$f":"'UD1 CropScenarios'!S12","v":6.4423542857142859},{"$f":"'UD1 CropScenarios'!T12","v":9.9338152404857147E-2},{"$f":"'UD1 CropScenarios'!U12","v":1.9198215771428573},{"$f":"'UD1 CropScenarios'!V12","v":2.0191597295477144},{"$f":"'UD1 CropScenarios'!W12","v":67.528826818306854},{"$f":"'UD1 CropScenarios'!X12","v":7468310},{"$f":"'UD1 CropScenarios'!Y12","v":3012269},{"$f":"'UD1 CropScenarios'!Z12","v":962068.5},{"$f":"'UD1 CropScenarios'!AA12","v":14.759559571428571},{"$f":"'UD1 CropScenarios'!AB12","v":4.3983487522857141},{"$f":"'UD1 CropScenarios'!AC12","v":40.457932232142852},{"$f":"'UD1 CropScenarios'!AD12","v":12.05646380517857},{"$f":"'UD1 CropScenarios'!AE12","v":16.454812557464283},{"$f":"'UD1 CropScenarios'!AF12","v":86.797343125771135},{"$f":"'UD1 CropScenarios'!AN12","v":64130},{"$f":"'UD1 CropScenarios'!AO12","v":0.1},{"$f":"'UD1 CropScenarios'!AP12","v":6413},{"$f":"'UD1 CropScenarios'!AQ12","v":112.54815000000001},{"$f":"'UD1 CropScenarios'!AR12","v":2.8137037500000002},{"$f":"'UD1 CropScenarios'!AS12","v":0},{"$f":"'UD1 CropScenarios'!AT12","v":86.797343125771135},{"$f":"'UD1 CropScenarios'!AV12","v":34.973028828571429},{"$f":"'UD1 CropScenarios'!AW12","v":7468310},{"$f":"'UD1 CropScenarios'!AX12","v":117.35915714285714},{"$f":"'UD1 CropScenarios'!AY12","v":34.973028828571429},{"$f":"'UD1 CropScenarios'!AZ12","v":34.973028828571429},{"$f":"'UD1 CropScenarios'!BA12","v":0},{"$f":"'UD1 CropScenarios'!BB12","v":86.797343125771135},{"$f":"'UD1 CropScenarios'!BD12","v":0},{"$f":"'UD1 CropScenarios'!BE12","v":0},{"$f":"'UD1 CropScenarios'!BF12","v":0},{"$f":"'UD1 CropScenarios'!BG12","v":0},{"$f":"'UD1 CropScenarios'!BH12","v":0},{"$f":"'UD1 CropScenarios'!BI12","v":0},{"$f":"'UD1 CropScenarios'!BJ12","v":0},{"$f":"'UD1 CropScenarios'!BL12","v":86.797343125771135},{"$f":"'UD1 CropScenarios'!BN12","v":7468310},{"$f":"'UD1 CropScenarios'!BO12","v":3012269},{"$f":"'UD1 CropScenarios'!BP12","v":962068.5},{"$f":"'UD1 CropScenarios'!BQ12","v":14.759559571428571},{"$f":"'UD1 CropScenarios'!BR12","v":4.3983487522857141},{"$f":"'UD1 CropScenarios'!BS12","v":40.457932232142852},{"$f":"'UD1 CropScenarios'!BT12","v":12.05646380517857},{"$f":"'UD1 CropScenarios'!BU12","v":16.454812557464283},{"$f":"'UD1 CropScenarios'!BV12","v":0},{"$f":"'UD1 CropScenarios'!BW12","v":86.797343125771135},{"$f":"'UD1 CropScenarios'!BY12","v":86.797343125771135}]
[{"$f":"'UD1 CropScenarios'!A13","v":2011},{"$f":"'UD1 CropScenarios'!B13","v":61730},{"$f":"'UD1 CropScenarios'!C13","v":6173},{"$f":"'UD1 CropScenarios'!D13","v":108.33615},{"$f":"'UD1 CropScenarios'!E13","v":2.70840375},{"$f":"'UD1 CropScenarios'!F13","v":7834140},{"$f":"'UD1 CropScenarios'!G13","v":2902017},{"$f":"'UD1 CropScenarios'!H13","v":3528789},{"$f":"'UD1 CropScenarios'!I13","v":123.1079142857143},{"$f":"'UD1 CropScenarios'!J13","v":45.603124285714287},{"$f":"'UD1 CropScenarios'!K13","v":55.452398571428567},{"$f":"'UD1 CropScenarios'!L13","v":36.686158457142859},{"$f":"'UD1 CropScenarios'!M13","v":13.589731037142858},{"$f":"'UD1 CropScenarios'!N13","v":16.524814774285716},{"$f":"'UD1 CropScenarios'!O13","v":66.800704268571437},{"$f":"'UD1 CropScenarios'!P13","v":11286.422325},{"$f":"'UD1 CropScenarios'!Q13","v":420000},{"$f":"'UD1 CropScenarios'!R13","v":0.35471613021428566},{"$f":"'UD1 CropScenarios'!S13","v":6.6},{"$f":"'UD1 CropScenarios'!T13","v":0.10570540680385714},{"$f":"'UD1 CropScenarios'!U13","v":1.9667999999999999},{"$f":"'UD1 CropScenarios'!V13","v":2.0725054068038569},{"$f":"'UD1 CropScenarios'!W13","v":68.873209675375293},{"$f":"'UD1 CropScenarios'!X13","v":7834140},{"$f":"'UD1 CropScenarios'!Y13","v":2902017},{"$f":"'UD1 CropScenarios'!Z13","v":962068.5},{"$f":"'UD1 CropScenarios'!AA13","v":15.334435285714285},{"$f":"'UD1 CropScenarios'!AB13","v":4.5696617151428569},{"$f":"'UD1 CropScenarios'!AC13","v":41.361583017857143},{"$f":"'UD1 CropScenarios'!AD13","v":12.325751739321429},{"$f":"'UD1 CropScenarios'!AE13","v":16.895413454464286},{"$f":"'UD1 CropScenarios'!AF13","v":88.477026879839585},{"$f":"'UD1 CropScenarios'!AN13","v":61730},{"$f":"'UD1 CropScenarios'!AO13","v":0.1},{"$f":"'UD1 CropScenarios'!AP13","v":6173},{"$f":"'UD1 CropScenarios'!AQ13","v":108.33615},{"$f":"'UD1 CropScenarios'!AR13","v":2.70840375},{"$f":"'UD1 CropScenarios'!AS13","v":0},{"$f":"'UD1 CropScenarios'!AT13","v":88.477026879839585},{"$f":"'UD1 CropScenarios'!AV13","v":36.686158457142859},{"$f":"'UD1 CropScenarios'!AW13","v":7834140},{"$f":"'UD1 CropScenarios'!AX13","v":123.1079142857143},{"$f":"'UD1 CropScenarios'!AY13","v":36.686158457142859},{"$f":"'UD1 CropScenarios'!AZ13","v":36.686158457142859},{"$f":"'UD1 CropScenarios'!BA13","v":0},{"$f":"'UD1 CropScenarios'!BB13","v":88.477026879839585},{"$f":"'UD1 CropScenarios'!BD13","v":0},{"$f":"'UD1 CropScenarios'!BE13","v":0},{"$f":"'UD1 CropScenarios'!BF13","v":0},{"$f":"'UD1 CropScenarios'!BG13","v":0},{"$f":"'UD1 CropScenarios'!BH13","v":0},{"$f":"'UD1 CropScenarios'!BI13","v":0},{"$f":"'UD1 CropScenarios'!BJ13","v":0},{"$f":"'UD1 CropScenarios'!BL13","v":88.477026879839585},{"$f":"'UD1 CropScenarios'!BN13","v":7834140},{"$f":"'UD1 CropScenarios'!BO13","v":2902017},{"$f":"'UD1 CropScenarios'!BP13","v":962068.5},{"$f":"'UD1 CropScenarios'!BQ13","v":15.334435285714285},{"$f":"'UD1 CropScenarios'!BR13","v":4.5696617151428569},{"$f":"'UD1 CropScenarios'!BS13","v":41.361583017857143},{"$f":"'UD1 CropScenarios'!BT13","v":12.325751739321429},{"$f":"'UD1 CropScenarios'!BU13","v":16.895413454464286},{"$f":"'UD1 CropScenarios'!BV13","v":0},{"$f":"'UD1 CropScenarios'!BW13","v":88.477026879839585},{"$f":"'UD1 CropScenarios'!BY13","v":88.477026879839585}]
[{"$f":"'UD1 CropScenarios'!A14","v":2012},{"$f":"'UD1 CropScenarios'!B14","v":57160},{"$f":"'UD1 CropScenarios'!C14","v":5716},{"$f":"'UD1 CropScenarios'!D14","v":100.3158},{"$f":"'UD1 CropScenarios'!E14","v":2.507895},{"$f":"'UD1 CropScenarios'!F14","v":9700004},{"$f":"'UD1 CropScenarios'!G14","v":2697461},{"$f":"'UD1 CropScenarios'!H14","v":3437753.0843000002},{"$f":"'UD1 CropScenarios'!I14","v":152.42863428571431},{"$f":"'UD1 CropScenarios'!J14","v":42.388672857142851},{"$f":"'UD1 CropScenarios'!K14","v":54.021834181857145},{"$f":"'UD1 CropScenarios'!L14","v":45.423733017142865},{"$f":"'UD1 CropScenarios'!M14","v":12.631824511428569},{"$f":"'UD1 CropScenarios'!N14","v":16.09850658619343},{"$f":"'UD1 CropScenarios'!O14","v":74.154064114764864},{"$f":"'UD1 CropScenarios'!P14","v":14442.256125},{"$f":"'UD1 CropScenarios'!Q14","v":462125.79920000001},{"$f":"'UD1 CropScenarios'!R14","v":0.45389947821428567},{"$f":"'UD1 CropScenarios'!S14","v":7.2619768445714277},{"$f":"'UD1 CropScenarios'!T14","v":0.13526204450785712},{"$f":"'UD1 CropScenarios'!U14","v":2.1640690996822856},{"$f":"'UD1 CropScenarios'!V14","v":2.2993311441901425},{"$f":"'UD1 CropScenarios'!W14","v":76.453395258955013},{"$f":"'UD1 CropScenarios'!X14","v":9700004},{"$f":"'UD1 CropScenarios'!Y14","v":2697461},{"$f":"'UD1 CropScenarios'!Z14","v":962068.5},{"$f":"'UD1 CropScenarios'!AA14","v":18.266507285714287},{"$f":"'UD1 CropScenarios'!AB14","v":5.4434191711428577},{"$f":"'UD1 CropScenarios'!AC14","v":47.235493446428571},{"$f":"'UD1 CropScenarios'!AD14","v":14.076177047035713},{"$f":"'UD1 CropScenarios'!AE14","v":19.51959621817857},{"$f":"'UD1 CropScenarios'!AF14","v":98.480886477133595},{"$f":"'UD1 CropScenarios'!AN14","v":57160},{"$f":"'UD1 CropScenarios'!AO14","v":0.1},{"$f":"'UD1 CropScenarios'!AP14","v":5716},{"$f":"'UD1 CropScenarios'!AQ14","v":100.3158},{"$f":"'UD1 CropScenarios'!AR14","v":2.507895},{"$f":"'UD1 CropScenarios'!AS14","v":0},{"$f":"'UD1 CropScenarios'!AT14","v":98.480886477133595},{"$f":"'UD1 CropScenarios'!AV14","v":45.423733017142865},{"$f":"'UD1 CropScenarios'!AW14","v":9700004},{"$f":"'UD1 CropScenarios'!AX14","v":152.42863428571431},{"$f":"'UD1 CropScenarios'!AY14","v":45.423733017142865},{"$f":"'UD1 CropScenarios'!AZ14","v":45.423733017142865},{"$f":"'UD1 CropScenarios'!BA14","v":0},{"$f":"'UD1 CropScenarios'!BB14","v":98.480886477133595},{"$f":"'UD1 CropScenarios'!BD14","v":0},{"$f":"'UD1 CropScenarios'!BE14","v":0},{"$f":"'UD1 CropScenarios'!BF14","v":0},{"$f":"'UD1 CropScenarios'!BG14","v":0},{"$f":"'UD1 CropScenarios'!BH14","v":0},{"$f":"'UD1 CropScenarios'!BI14","v":0},{"$f":"'UD1 CropScenarios'!BJ14","v":0},{"$f":"'UD1 CropScenarios'!BL14","v":98.480886477133595},{"$f":"'UD1 CropScenarios'!BN14","v":9700004},{"$f":"'UD1 CropScenarios'!BO14","v":2697461},{"$f":"'UD1 CropScenarios'!BP14","v":962068.5},{"$f":"'UD1 CropScenarios'!BQ14","v":18.266507285714287},{"$f":"'UD1 CropScenarios'!BR14","v":5.4434191711428577},{"$f":"'UD1 CropScenarios'!BS14","v":47.235493446428571},{"$f":"'UD1 CropScenarios'!BT14","v":14.076177047035713},{"$f":"'UD1 CropScenarios'!BU14","v":19.51959621817857},{"$f":"'UD1 CropScenarios'!BV14","v":0},{"$f":"'UD1 CropScenarios'!BW14","v":98.480886477133595},{"$f":"'UD1 CropScenarios'!BY14","v":98.480886477133595}]
[{"$f":"'UD1 CropScenarios'!A15","v":2013},{"$f":"'UD1 CropScenarios'!B15","v":56464},{"$f":"'UD1 CropScenarios'!C15","v":5646.4000000000005},{"$f":"'UD1 CropScenarios'!D15","v":99.094320000000025},{"$f":"'UD1 CropScenarios'!E15","v":2.4773580000000006},{"$f":"'UD1 CropScenarios'!F15","v":9967255},{"$f":"'UD1 CropScenarios'!G15","v":2665224},{"$f":"'UD1 CropScenarios'!H15","v":3379421.6993},{"$f":"'UD1 CropScenarios'!I15","v":156.62829285714287},{"$f":"'UD1 CropScenarios'!J15","v":41.882091428571428},{"$f":"'UD1 CropScenarios'!K15","v":53.105198131857144},{"$f":"'UD1 CropScenarios'!L15","v":46.675231271428572},{"$f":"'UD1 CropScenarios'!M15","v":12.480863245714286},{"$f":"'UD1 CropScenarios'!N15","v":15.825349043293429},{"$f":"'UD1 CropScenarios'!O15","v":74.98144356043629},{"$f":"'UD1 CropScenarios'!P15","v":13170.0906},{"$f":"'UD1 CropScenarios'!Q15","v":464088.0465},{"$f":"'UD1 CropScenarios'!R15","v":0.41391713314285716},{"$f":"'UD1 CropScenarios'!S15","v":7.292812159285714},{"$f":"'UD1 CropScenarios'!T15","v":0.12334730567657144},{"$f":"'UD1 CropScenarios'!U15","v":2.1732580234671426},{"$f":"'UD1 CropScenarios'!V15","v":2.2966053291437141},{"$f":"'UD1 CropScenarios'!W15","v":77.278048889580006},{"$f":"'UD1 CropScenarios'!X15","v":9967255},{"$f":"'UD1 CropScenarios'!Y15","v":2665224},{"$f":"'UD1 CropScenarios'!Z15","v":962068.5},{"$f":"'UD1 CropScenarios'!AA15","v":18.686473142857142},{"$f":"'UD1 CropScenarios'!AB15","v":5.568568996571428},{"$f":"'UD1 CropScenarios'!AC15","v":48.066435803571423},{"$f":"'UD1 CropScenarios'!AD15","v":14.323797869464284},{"$f":"'UD1 CropScenarios'!AE15","v":19.892366866035712},{"$f":"'UD1 CropScenarios'!AF15","v":99.647773755615717},{"$f":"'UD1 CropScenarios'!AN15","v":56464},{"$f":"'UD1 CropScenarios'!AO15","v":0.1},{"$f":"'UD1 CropScenarios'!AP15","v":5646.4000000000005},{"$f":"'UD1 CropScenarios'!AQ15","v":99.094320000000025},{"$f":"'UD1 CropScenarios'!AR15","v":2.4773580000000006},{"$f":"'UD1 CropScenarios'!AS15","v":0},{"$f":"'UD1 CropScenarios'!AT15","v":99.647773755615717},{"$f":"'UD1 CropScenarios'!AV15","v":46.675231271428572},{"$f":"'UD1 CropScenarios'!AW15","v":9967255},{"$f":"'UD1 CropScenarios'!AX15","v":156.62829285714287},{"$f":"'UD1 CropScenarios'!AY15","v":46.675231271428572},{"$f":"'UD1 CropScenarios'!AZ15","v":46.675231271428572},{"$f":"'UD1 CropScenarios'!BA15","v":0},{"$f":"'UD1 CropScenarios'!BB15","v":99.647773755615717},{"$f":"'UD1 CropScenarios'!BD15","v":0},{"$f":"'UD1 CropScenarios'!BE15","v":0},{"$f":"'UD1 CropScenarios'!BF15","v":0},{"$f":"'UD1 CropScenarios'!BG15","v":0},{"$f":"'UD1 CropScenarios'!BH15","v":0},{"$f":"'UD1 CropScenarios'!BI15","v":0},{"$f":"'UD1 CropScenarios'!BJ15","v":0},{"$f":"'UD1 CropScenarios'!BL15","v":99.647773755615717},{"$f":"'UD1 CropScenarios'!BN15","v":9967255},{"$f":"'UD1 CropScenarios'!BO15","v":2665224},{"$f":"'UD1 CropScenarios'!BP15","v":962068.5},{"$f":"'UD1 CropScenarios'!BQ15","v":18.686473142857142},{"$f":"'UD1 CropScenarios'!BR15","v":5.568568996571428},{"$f":"'UD1 CropScenarios'!BS15","v":48.066435803571423},{"$f":"'UD1 CropScenarios'!BT15","v":14.323797869464284},{"$f":"'UD1 CropScenarios'!BU15","v":19.892366866035712},{"$f":"'UD1 CropScenarios'!BV15","v":0},{"$f":"'UD1 CropScenarios'!BW15","v":99.647773755615717},{"$f":"'UD1 CropScenarios'!BY15","v":99.647773755615717}]
[{"$f":"'UD1 CropScenarios'!A16","v":2014},{"$f":"'UD1 CropScenarios'!B16","v":50694},{"$f":"'UD1 CropScenarios'!C16","v":5069.4000000000005},{"$f":"'UD1 CropScenarios'!D16","v":88.967970000000022},{"$f":"'UD1 CropScenarios'!E16","v":2.2241992500000007},{"$f":"'UD1 CropScenarios'!F16","v":10166600.1},{"$f":"'UD1 CropScenarios'!G16","v":2665224},{"$f":"'UD1 CropScenarios'!H16","v":3440472.1319429623},{"$f":"'UD1 CropScenarios'!I16","v":159.76085871428572},{"$f":"'UD1 CropScenarios'!J16","v":41.882091428571428},{"$f":"'UD1 CropScenarios'!K16","v":54.064562073389403},{"$f":"'UD1 CropScenarios'!L16","v":47.608735896857141},{"$f":"'UD1 CropScenarios'!M16","v":12.480863245714286},{"$f":"'UD1 CropScenarios'!N16","v":16.111239497870042},{"$f":"'UD1 CropScenarios'!O16","v":76.200838640441475},{"$f":"'UD1 CropScenarios'!P16","v":12926.5553},{"$f":"'UD1 CropScenarios'!Q16","v":464088.0465},{"$f":"'UD1 CropScenarios'!R16","v":0.40626316657142858},{"$f":"'UD1 CropScenarios'!S16","v":7.292812159285714},{"$f":"'UD1 CropScenarios'!T16","v":0.12106642363828571},{"$f":"'UD1 CropScenarios'!U16","v":2.1732580234671426},{"$f":"'UD1 CropScenarios'!V16","v":2.2943244471054283},{"$f":"'UD1 CropScenarios'!W16","v":78.495163087546899},{"$f":"'UD1 CropScenarios'!X16","v":10166600.1},{"$f":"'UD1 CropScenarios'!Y16","v":2665224},{"$f":"'UD1 CropScenarios'!Z16","v":962068.5},{"$f":"'UD1 CropScenarios'!AA16","v":18.999729728571431},{"$f":"'UD1 CropScenarios'!AB16","v":5.6619194591142872},{"$f":"'UD1 CropScenarios'!AC16","v":48.771263121428568},{"$f":"'UD1 CropScenarios'!AD16","v":14.533836410185714},{"$f":"'UD1 CropScenarios'!AE16","v":20.195755869300001},{"$f":"'UD1 CropScenarios'!AF16","v":100.9151182068469},{"$f":"'UD1 CropScenarios'!AN16","v":50694},{"$f":"'UD1 CropScenarios'!AO16","v":0.1},{"$f":"'UD1 CropScenarios'!AP16","v":5069.4000000000005},{"$f":"'UD1 CropScenarios'!AQ16","v":88.967970000000022},{"$f":"'UD1 CropScenarios'!AR16","v":2.2241992500000007},{"$f":"'UD1 CropScenarios'!AS16","v":0},{"$f":"'UD1 CropScenarios'!AT16","v":100.9151182068469},{"$f":"'UD1 CropScenarios'!AV16","v":47.608735896857141},{"$f":"'UD1 CropScenarios'!AW16","v":10166600.1},{"$f":"'UD1 CropScenarios'!AX16","v":159.76085871428572},{"$f":"'UD1 CropScenarios'!AY16","v":47.608735896857141},{"$f":"'UD1 CropScenarios'!AZ16","v":47.608735896857141},{"$f":"'UD1 CropScenarios'!BA16","v":0},{"$f":"'UD1 CropScenarios'!BB16","v":100.9151182068469},{"$f":"'UD1 CropScenarios'!BD16","v":0},{"$f":"'UD1 CropScenarios'!BE16","v":0},{"$f":"'UD1 CropScenarios'!BF16","v":0},{"$f":"'UD1 CropScenarios'!BG16","v":0},{"$f":"'UD1 CropScenarios'!BH16","v":0},{"$f":"'UD1 CropScenarios'!BI16","v":0},{"$f":"'UD1 CropScenarios'!BJ16","v":0},{"$f":"'UD1 CropScenarios'!BL16","v":100.9151182068469},{"$f":"'UD1 CropScenarios'!BN16","v":10166600.1},{"$f":"'UD1 CropScenarios'!BO16","v":2665224},{"$f":"'UD1 CropScenarios'!BP16","v":962068.5},{"$f":"'UD1 CropScenarios'!BQ16","v":18.999729728571431},{"$f":"'UD1 CropScenarios'!BR16","v":5.6619194591142872},{"$f":"'UD1 CropScenarios'!BS16","v":48.771263121428568},{"$f":"'UD1 CropScenarios'!BT16","v":14.533836410185714},{"$f":"'UD1 CropScenarios'!BU16","v":20.195755869300001},{"$f":"'UD1 CropScenarios'!BV16","v":0},{"$f":"'UD1 CropScenarios'!BW16","v":100.9151182068469},{"$f":"'UD1 CropScenarios'!BY16","v":100.9151182068469}]
[{"$f":"'UD1 CropScenarios'!A17","v":2015},{"$f":"'UD1 CropScenarios'!B17","v":52387},{"$f":"'UD1 CropScenarios'!C17","v":5238.7000000000007},{"$f":"'UD1 CropScenarios'!D17","v":91.939185000000009},{"$f":"'UD1 CropScenarios'!E17","v":2.2984796250000006},{"$f":"'UD1 CropScenarios'!F17","v":10369932.102},{"$f":"'UD1 CropScenarios'!G17","v":2665224},{"$f":"'UD1 CropScenarios'!H17","v":3501522.5645859241},{"$f":"'UD1 CropScenarios'!I17","v":162.95607588857141},{"$f":"'UD1 CropScenarios'!J17","v":41.882091428571428},{"$f":"'UD1 CropScenarios'!K17","v":55.02392601492167},{"$f":"'UD1 CropScenarios'!L17","v":48.560910614794281},{"$f":"'UD1 CropScenarios'!M17","v":12.480863245714286},{"$f":"'UD1 CropScenarios'!N17","v":16.397129952446658},{"$f":"'UD1 CropScenarios'!O17","v":77.438903812955232},{"$f":"'UD1 CropScenarios'!P17","v":12683.02},{"$f":"'UD1 CropScenarios'!Q17","v":464088.0465},{"$f":"'UD1 CropScenarios'!R17","v":0.3986092},{"$f":"'UD1 CropScenarios'!S17","v":7.292812159285714},{"$f":"'UD1 CropScenarios'!T17","v":0.1187855416},{"$f":"'UD1 CropScenarios'!U17","v":2.1732580234671426},{"$f":"'UD1 CropScenarios'!V17","v":2.2920435650671425},{"$f":"'UD1 CropScenarios'!W17","v":79.730947378022378},{"$f":"'UD1 CropScenarios'!X17","v":10369932.102},{"$f":"'UD1 CropScenarios'!Y17","v":2665224},{"$f":"'UD1 CropScenarios'!Z17","v":962068.5},{"$f":"'UD1 CropScenarios'!AA17","v":19.319251446000003},{"$f":"'UD1 CropScenarios'!AB17","v":5.7571369309080014},{"$f":"'UD1 CropScenarios'!AC17","v":49.49018698564285},{"$f":"'UD1 CropScenarios'!AD17","v":14.748075721721568},{"$f":"'UD1 CropScenarios'!AE17","v":20.50521265262957},{"$f":"'UD1 CropScenarios'!AF17","v":102.53463965565194},{"$f":"'UD1 CropScenarios'!AN17","v":52387},{"$f":"'UD1 CropScenarios'!AO17","v":0.1},{"$f":"'UD1 CropScenarios'!AP17","v":5238.7000000000007},{"$f":"'UD1 CropScenarios'!AQ17","v":91.939185000000009},{"$f":"'UD1 CropScenarios'!AR17","v":2.2984796250000006},{"$f":"'UD1 CropScenarios'!AS17","v":0},{"$f":"'UD1 CropScenarios'!AT17","v":102.53463965565194},{"$f":"'UD1 CropScenarios'!AV17","v":48.560910614794281},{"$f":"'UD1 CropScenarios'!AW17","v":10369932.102},{"$f":"'UD1 CropScenarios'!AX17","v":162.95607588857141},{"$f":"'UD1 CropScenarios'!AY17","v":48.560910614794281},{"$f":"'UD1 CropScenarios'!AZ17","v":48.560910614794281},{"$f":"'UD1 CropScenarios'!BA17","v":0},{"$f":"'UD1 CropScenarios'!BB17","v":102.53463965565194},{"$f":"'UD1 CropScenarios'!BD17","v":0},{"$f":"'UD1 CropScenarios'!BE17","v":0},{"$f":"'UD1 CropScenarios'!BF17","v":0},{"$f":"'UD1 CropScenarios'!BG17","v":0},{"$f":"'UD1 CropScenarios'!BH17","v":0},{"$f":"'UD1 CropScenarios'!BI17","v":0},{"$f":"'UD1 CropScenarios'!BJ17","v":0},{"$f":"'UD1 CropScenarios'!BL17","v":102.53463965565194},{"$f":"'UD1 CropScenarios'!BN17","v":10369932.102},{"$f":"'UD1 CropScenarios'!BO17","v":2665224},{"$f":"'UD1 CropScenarios'!BP17","v":962068.5},{"$f":"'UD1 CropScenarios'!BQ17","v":19.319251446000003},{"$f":"'UD1 CropScenarios'!BR17","v":5.7571369309080014},{"$f":"'UD1 CropScenarios'!BS17","v":49.49018698564285},{"$f":"'UD1 CropScenarios'!BT17","v":14.748075721721568},{"$f":"'UD1 CropScenarios'!BU17","v":20.50521265262957},{"$f":"'UD1 CropScenarios'!BV17","v":0},{"$f":"'UD1 CropScenarios'!BW17","v":102.53463965565194},{"$f":"'UD1 CropScenarios'!BY17","v":102.53463965565194}]
[{"$f":"'UD1 CropScenarios'!A18","v":2016},{"$f":"'UD1 CropScenarios'!B18","v":52000},{"$f":"'UD1 CropScenarios'!C18","v":5200},{"$f":"'UD1 CropScenarios'!D18","v":91.26},{"$f":"'UD1 CropScenarios'!E18","v":2.2814999999999999},{"$f":"'UD1 CropScenarios'!F18","v":10577330.744039999},{"$f":"'UD1 CropScenarios'!G18","v":2665224},{"$f":"'UD1 CropScenarios'!H18","v":3517897.8239884605},{"$f":"'UD1 CropScenarios'!I18","v":166.21519740634284},{"$f":"'UD1 CropScenarios'!J18","v":41.882091428571428},{"$f":"'UD1 CropScenarios'!K18","v":55.281251519818667},{"$f":"'UD1 CropScenarios'!L18","v":49.532128827090162},{"$f":"'UD1 CropScenarios'!M18","v":12.480863245714286},{"$f":"'UD1 CropScenarios'!N18","v":16.473812952905963},{"$f":"'UD1 CropScenarios'!O18","v":78.48680502571041},{"$f":"'UD1 CropScenarios'!P18","v":12533.808000000001},{"$f":"'UD1 CropScenarios'!Q18","v":458963.44650000002},{"$f":"'UD1 CropScenarios'!R18","v":0.39391968000000005},{"$f":"'UD1 CropScenarios'!S18","v":7.2122827307142865},{"$f":"'UD1 CropScenarios'!T18","v":0.11738806464000001},{"$f":"'UD1 CropScenarios'!U18","v":2.1492602537528573},{"$f":"'UD1 CropScenarios'!V18","v":2.2666483183928574},{"$f":"'UD1 CropScenarios'!W18","v":80.753453344103264},{"$f":"'UD1 CropScenarios'!X18","v":10577330.744039999},{"$f":"'UD1 CropScenarios'!Y18","v":2665224},{"$f":"'UD1 CropScenarios'!Z18","v":962068.5},{"$f":"'UD1 CropScenarios'!AA18","v":19.645163597777145},{"$f":"'UD1 CropScenarios'!AB18","v":5.8542587521375893},{"$f":"'UD1 CropScenarios'!AC18","v":50.223489327141422},{"$f":"'UD1 CropScenarios'!AD18","v":14.966599819488144},{"$f":"'UD1 CropScenarios'!AE18","v":20.820858571625735},{"$f":"'UD1 CropScenarios'!AF18","v":103.85581191572899},{"$f":"'UD1 CropScenarios'!AN18","v":52000},{"$f":"'UD1 CropScenarios'!AO18","v":0.1},{"$f":"'UD1 CropScenarios'!AP18","v":5200},{"$f":"'UD1 CropScenarios'!AQ18","v":91.26},{"$f":"'UD1 CropScenarios'!AR18","v":2.2814999999999999},{"$f":"'UD1 CropScenarios'!AS18","v":0},{"$f":"'UD1 CropScenarios'!AT18","v":103.85581191572899},{"$f":"'UD1 CropScenarios'!AV18","v":49.532128827090162},{"$f":"'UD1 CropScenarios'!AW18","v":10471557.436599599},{"$f":"'UD1 CropScenarios'!AX18","v":164.55304543227942},{"$f":"'UD1 CropScenarios'!AY18","v":49.036807538819268},{"$f":"'UD1 CropScenarios'!AZ18","v":49.036807538819268},{"$f":"'UD1 CropScenarios'!BA18","v":0.49532128827089394},{"$f":"'UD1 CropScenarios'!BB18","v":103.45957766087579},{"$f":"'UD1 CropScenarios'!BD18","v":0},{"$f":"'UD1 CropScenarios'!BE18","v":0},{"$f":"'UD1 CropScenarios'!BF18","v":0},{"$f":"'UD1 CropScenarios'!BG18","v":0},{"$f":"'UD1 CropScenarios'!BH18","v":0},{"$f":"'UD1 CropScenarios'!BI18","v":0},{"$f":"'UD1 CropScenarios'!BJ18","v":0},{"$f":"'UD1 CropScenarios'!BL18","v":103.45957766087579},{"$f":"'UD1 CropScenarios'!BN18","v":10471557.436599599},{"$f":"'UD1 CropScenarios'!BO18","v":2665224},{"$f":"'UD1 CropScenarios'!BP18","v":962068.5},{"$f":"'UD1 CropScenarios'!BQ18","v":19.4789484003708},{"$f":"'UD1 CropScenarios'!BR18","v":5.8047266233104979},{"$f":"'UD1 CropScenarios'!BS18","v":49.849505132977143},{"$f":"'UD1 CropScenarios'!BT18","v":14.855152529627189},{"$f":"'UD1 CropScenarios'!BU18","v":20.659879152937688},{"$f":"'UD1 CropScenarios'!BV18","v":0.1609794186880471},{"$f":"'UD1 CropScenarios'!BW18","v":103.29859824218775},{"$f":"'UD1 CropScenarios'!BY18","v":103.29859824218775}]
[{"$f":"'UD1 CropScenarios'!A19","v":2017},{"$f":"'UD1 CropScenarios'!B19","v":51000},{"$f":"'UD1 CropScenarios'!C19","v":5100},{"$f":"'UD1 CropScenarios'!D19","v":89.504999999999995},{"$f":"'UD1 CropScenarios'!E19","v":2.237625},{"$f":"'UD1 CropScenarios'!F19","v":10788877.3589208},{"$f":"'UD1 CropScenarios'!G19","v":2665224},{"$f":"'UD1 CropScenarios'!H19","v":3534273.0833909968},{"$f":"'UD1 CropScenarios'!I19","v":169.53950135446971},{"$f":"'UD1 CropScenarios'!J19","v":41.882091428571428},{"$f":"'UD1 CropScenarios'!K19","v":55.538577024715664},{"$f":"'UD1 CropScenarios'!L19","v":50.522771403631971},{"$f":"'UD1 CropScenarios'!M19","v":12.480863245714286},{"$f":"'UD1 CropScenarios'!N19","v":16.550495953365267},{"$f":"'UD1 CropScenarios'!O19","v":79.554130602711524},{"$f":"'UD1 CropScenarios'!P19","v":12384.596000000001},{"$f":"'UD1 CropScenarios'!Q19","v":453838.84650000004},{"$f":"'UD1 CropScenarios'!R19","v":0.38923016000000005},{"$f":"'UD1 CropScenarios'!S19","v":7.1317533021428581},{"$f":"'UD1 CropScenarios'!T19","v":0.11599058768000002},{"$f":"'UD1 CropScenarios'!U19","v":2.1252624840385717},{"$f":"'UD1 CropScenarios'!V19","v":2.2412530717185715},{"$f":"'UD1 CropScenarios'!W19","v":81.795383674430099},{"$f":"'UD1 CropScenarios'!X19","v":10788877.3589208},{"$f":"'UD1 CropScenarios'!Y19","v":2665224},{"$f":"'UD1 CropScenarios'!Z19","v":962068.5},{"$f":"'UD1 CropScenarios'!AA19","v":19.977593992589828},{"$f":"'UD1 CropScenarios'!AB19","v":5.9533230097917684},{"$f":"'UD1 CropScenarios'!AC19","v":50.97145771546996},{"$f":"'UD1 CropScenarios'!AD19","v":15.18949439921005},{"$f":"'UD1 CropScenarios'!AE19","v":21.142817409001818},{"$f":"'UD1 CropScenarios'!AF19","v":105.17582608343191},{"$f":"'UD1 CropScenarios'!AN19","v":51000},{"$f":"'UD1 CropScenarios'!AO19","v":0.1},{"$f":"'UD1 CropScenarios'!AP19","v":5100},{"$f":"'UD1 CropScenarios'!AQ19","v":89.504999999999995},{"$f":"'UD1 CropScenarios'!AR19","v":2.237625},{"$f":"'UD1 CropScenarios'!AS19","v":0},{"$f":"'UD1 CropScenarios'!AT19","v":105.17582608343191},{"$f":"'UD1 CropScenarios'!AV19","v":50.522771403631971},{"$f":"'UD1 CropScenarios'!AW19","v":10573099.811742384},{"$f":"'UD1 CropScenarios'!AX19","v":166.14871132738034},{"$f":"'UD1 CropScenarios'!AY19","v":49.512315975559346},{"$f":"'UD1 CropScenarios'!AZ19","v":49.512315975559346},{"$f":"'UD1 CropScenarios'!BA19","v":1.0104554280726248},{"$f":"'UD1 CropScenarios'!BB19","v":104.36354472219469},{"$f":"'UD1 CropScenarios'!BD19","v":1.3269527579976663},{"$f":"'UD1 CropScenarios'!BE19","v":4.4231758599922202},{"$f":"'UD1 CropScenarios'!BF19","v":1.0615622063981329},{"$f":"'UD1 CropScenarios'!BG19","v":6.8116908243880196},{"$f":"'UD1 CropScenarios'!BH19","v":3.4058454121940098},{"$f":"'UD1 CropScenarios'!BI19","v":59602.294713395175},{"$f":"'UD1 CropScenarios'!BJ19","v":0.27910903152929911},{"$f":"'UD1 CropScenarios'!BL19","v":104.64265375372399},{"$f":"'UD1 CropScenarios'!BN19","v":10573099.811742384},{"$f":"'UD1 CropScenarios'!BO19","v":2665224},{"$f":"'UD1 CropScenarios'!BP19","v":1021670.7947133952},{"$f":"'UD1 CropScenarios'!BQ19","v":19.825836487551562},{"$f":"'UD1 CropScenarios'!BR19","v":5.9080992732903663},{"$f":"'UD1 CropScenarios'!BS19","v":50.419266644254357},{"$f":"'UD1 CropScenarios'!BT19","v":15.024941459987799},{"$f":"'UD1 CropScenarios'!BU19","v":20.933040733278165},{"$f":"'UD1 CropScenarios'!BV19","v":0.20977667572365277},{"$f":"'UD1 CropScenarios'!BW19","v":104.43287707800033},{"$f":"'UD1 CropScenarios'!BY19","v":104.43287707800033}]
[{"$f":"'UD1 CropScenarios'!A20","v":2018},{"$f":"'UD1 CropScenarios'!B20","v":50500},{"$f":"'UD1 CropScenarios'!C20","v":5050},{"$f":"'UD1 CropScenarios'!D20","v":88.627499999999998},{"$f":"'UD1 CropScenarios'!E20","v":2.2156875},{"$f":"'UD1 CropScenarios'!F20","v":11004654.906099215},{"$f":"'UD1 CropScenarios'!G20","v":2665224},{"$f":"'UD1 CropScenarios'!H20","v":3550648.3427935331},{"$f":"'UD1 CropScenarios'!I20","v":172.9302913815591},{"$f":"'UD1 CropScenarios'!J20","v":41.882091428571428},{"$f":"'UD1 CropScenarios'!K20","v":55.795902529612661},{"$f":"'UD1 CropScenarios'!L20","v":51.53322683170461},{"$f":"'UD1 CropScenarios'!M20","v":12.480863245714286},{"$f":"'UD1 CropScenarios'!N20","v":16.627178953824572},{"$f":"'UD1 CropScenarios'!O20","v":80.641269031243468},{"$f":"'UD1 CropScenarios'!P20","v":12235.384000000002},{"$f":"'UD1 CropScenarios'!Q20","v":448714.24650000007},{"$f":"'UD1 CropScenarios'!R20","v":0.38454064000000004},{"$f":"'UD1 CropScenarios'!S20","v":7.0512238735714297},{"$f":"'UD1 CropScenarios'!T20","v":0.11459311072000002},{"$f":"'UD1 CropScenarios'!U20","v":2.101264714324286},{"$f":"'UD1 CropScenarios'!V20","v":2.215857825044286},{"$f":"'UD1 CropScenarios'!W20","v":82.857126856287749},{"$f":"'UD1 CropScenarios'!X20","v":11004654.906099215},{"$f":"'UD1 CropScenarios'!Y20","v":2665224},{"$f":"'UD1 CropScenarios'!Z20","v":962068.5},{"$f":"'UD1 CropScenarios'!AA20","v":20.316672995298767},{"$f":"'UD1 CropScenarios'!AB20","v":6.0543685525990325},{"$f":"'UD1 CropScenarios'!AC20","v":51.734385471565076},{"$f":"'UD1 CropScenarios'!AD20","v":15.416846870526394},{"$f":"'UD1 CropScenarios'!AE20","v":21.471215423125425},{"$f":"'UD1 CropScenarios'!AF20","v":106.54402977941318},{"$f":"'UD1 CropScenarios'!AN20","v":50500},{"$f":"'UD1 CropScenarios'!AO20","v":0.1},{"$f":"'UD1 CropScenarios'!AP20","v":5050},{"$f":"'UD1 CropScenarios'!AQ20","v":88.627499999999998},{"$f":"'UD1 CropScenarios'!AR20","v":2.2156875},{"$f":"'UD1 CropScenarios'!AS20","v":0},{"$f":"'UD1 CropScenarios'!AT20","v":106.54402977941318},{"$f":"'UD1 CropScenarios'!AV20","v":51.53322683170461},{"$f":"'UD1 CropScenarios'!AW20","v":10674515.258916238},{"$f":"'UD1 CropScenarios'!AX20","v":167.74238264011234},{"$f":"'UD1 CropScenarios'!AY20","v":49.987230026753473},{"$f":"'UD1 CropScenarios'!AZ20","v":49.987230026753473},{"$f":"'UD1 CropScenarios'!BA20","v":1.5459968049511374},{"$f":"'UD1 CropScenarios'!BB20","v":105.29529407471514},{"$f":"'UD1 CropScenarios'!BD20","v":2.7069836263152389},{"$f":"'UD1 CropScenarios'!BE20","v":9.0232787543841297},{"$f":"'UD1 CropScenarios'!BF20","v":2.1655869010521913},{"$f":"'UD1 CropScenarios'!BG20","v":13.895849281751559},{"$f":"'UD1 CropScenarios'!BH20","v":6.9479246408757795},{"$f":"'UD1 CropScenarios'!BI20","v":121588.68121532616},{"$f":"'UD1 CropScenarios'!BJ20","v":0.56938242431977015},{"$f":"'UD1 CropScenarios'!BL20","v":105.86467649903491},{"$f":"'UD1 CropScenarios'!BN20","v":10674515.258916238},{"$f":"'UD1 CropScenarios'!BO20","v":2665224},{"$f":"'UD1 CropScenarios'!BP20","v":1083657.1812153261},{"$f":"'UD1 CropScenarios'!BQ20","v":20.180017976402258},{"$f":"'UD1 CropScenarios'!BR20","v":6.0136453569678734},{"$f":"'UD1 CropScenarios'!BS20","v":50.997008841893731},{"$f":"'UD1 CropScenarios'!BT20","v":15.197108634884332},{"$f":"'UD1 CropScenarios'!BU20","v":21.210753991852204},{"$f":"'UD1 CropScenarios'!BV20","v":0.26046143127322097},{"$f":"'UD1 CropScenarios'!BW20","v":105.60421506776169},{"$f":"'UD1 CropScenarios'!BY20","v":105.60421506776169}]
[{"$f":"'UD1 CropScenarios'!A21","v":2019},{"$f":"'UD1 CropScenarios'!B21","v":50000},{"$f":"'UD1 CropScenarios'!C21","v":5000},{"$f":"'UD1 CropScenarios'!D21","v":87.75},{"$f":"'UD1 CropScenarios'!E21","v":2.1937500000000001},{"$f":"'UD1 CropScenarios'!F21","v":11224748.004221199},{"$f":"'UD1 CropScenarios'!G21","v":2665224},{"$f":"'UD1 CropScenarios'!H21","v":3567023.6021960694},{"$f":"'UD1 CropScenarios'!I21","v":176.38889720919028},{"$f":"'UD1 CropScenarios'!J21","v":41.882091428571428},{"$f":"'UD1 CropScenarios'!K21","v":56.053228034509658},{"$f":"'UD1 CropScenarios'!L21","v":52.563891368338702},{"$f":"'UD1 CropScenarios'!M21","v":12.480863245714286},{"$f":"'UD1 CropScenarios'!N21","v":16.70386195428388},{"$f":"'UD1 CropScenarios'!O21","v":81.748616568336871},{"$f":"'UD1 CropScenarios'!P21","v":12086.172000000002},{"$f":"'UD1 CropScenarios'!Q21","v":443589.64650000009},{"$f":"'UD1 CropScenarios'!R21","v":0.37985112000000004},{"$f":"'UD1 CropScenarios'!S21","v":6.9706944450000012},{"$f":"'UD1 CropScenarios'!T21","v":0.11319563376000001},{"$f":"'UD1 CropScenarios'!U21","v":2.0772669446100003},{"$f":"'UD1 CropScenarios'!V21","v":2.1904625783700005},{"$f":"'UD1 CropScenarios'!W21","v":83.939079146706874},{"$f":"'UD1 CropScenarios'!X21","v":11224748.004221199},{"$f":"'UD1 CropScenarios'!Y21","v":2665224},{"$f":"'UD1 CropScenarios'!Z21","v":962068.5},{"$f":"'UD1 CropScenarios'!AA21","v":20.662533578061883},{"$f":"'UD1 CropScenarios'!AB21","v":6.1574350062624408},{"$f":"'UD1 CropScenarios'!AC21","v":52.512571782782096},{"$f":"'UD1 CropScenarios'!AD21","v":15.648746391269066},{"$f":"'UD1 CropScenarios'!AE21","v":21.806181397531507},{"$f":"'UD1 CropScenarios'!AF21","v":107.93901054423837},{"$f":"'UD1 CropScenarios'!AN21","v":50000},{"$f":"'UD1 CropScenarios'!AO21","v":0.1},{"$f":"'UD1 CropScenarios'!AP21","v":5000},{"$f":"'UD1 CropScenarios'!AQ21","v":87.75},{"$f":"'UD1 CropScenarios'!AR21","v":2.1937500000000001},{"$f":"'UD1 CropScenarios'!AS21","v":0},{"$f":"'UD1 CropScenarios'!AT21","v":107.93901054423837},{"$f":"'UD1 CropScenarios'!AV21","v":52.563891368338702},{"$f":"'UD1 CropScenarios'!AW21","v":10775758.08405235},{"$f":"'UD1 CropScenarios'!AX21","v":169.33334132082263},{"$f":"'UD1 CropScenarios'!AY21","v":50.461335713605145},{"$f":"'UD1 CropScenarios'!AZ21","v":50.461335713605145},{"$f":"'UD1 CropScenarios'!BA21","v":2.1025556547335569},{"$f":"'UD1 CropScenarios'!BB21","v":106.23280302317562},{"$f":"'UD1 CropScenarios'!BD21","v":4.1416849482623155},{"$f":"'UD1 CropScenarios'!BE21","v":13.805616494207719},{"$f":"'UD1 CropScenarios'!BF21","v":3.3133479586098522},{"$f":"'UD1 CropScenarios'!BG21","v":21.260649401079888},{"$f":"'UD1 CropScenarios'!BH21","v":10.630324700539944},{"$f":"'UD1 CropScenarios'!BI21","v":186030.68225944904},{"$f":"'UD1 CropScenarios'!BJ21","v":0.87115510920924843},{"$f":"'UD1 CropScenarios'!BL21","v":107.10395813238488},{"$f":"'UD1 CropScenarios'!BN21","v":10775758.08405235},{"$f":"'UD1 CropScenarios'!BO21","v":2665224},{"$f":"'UD1 CropScenarios'!BP21","v":1148099.182259449},{"$f":"'UD1 CropScenarios'!BQ21","v":20.541645847754822},{"$f":"'UD1 CropScenarios'!BR21","v":6.1214104626309371},{"$f":"'UD1 CropScenarios'!BS21","v":51.58282304874529},{"$f":"'UD1 CropScenarios'!BT21","v":15.371681268526096},{"$f":"'UD1 CropScenarios'!BU21","v":21.493091731157033},{"$f":"'UD1 CropScenarios'!BV21","v":0.31308966637447355},{"$f":"'UD1 CropScenarios'!BW21","v":106.79086846601041},{"$f":"'UD1 CropScenarios'!BY21","v":106.79086846601041}]
[{"$f":"'UD1 CropScenarios'!A22","v":2020},{"$f":"'UD1 CropScenarios'!B22","v":49500},{"$f":"'UD1 CropScenarios'!C22","v":4950},{"$f":"'UD1 CropScenarios'!D22","v":86.872500000000002},{"$f":"'UD1 CropScenarios'!E22","v":2.1718125000000001},{"$f":"'UD1 CropScenarios'!F22","v":11449242.964305623},{"$f":"'UD1 CropScenarios'!G22","v":2665224},{"$f":"'UD1 CropScenarios'!H22","v":3583398.8615986062},{"$f":"'UD1 CropScenarios'!I22","v":179.91667515337406},{"$f":"'UD1 CropScenarios'!J22","v":41.882091428571428},{"$f":"'UD1 CropScenarios'!K22","v":56.310553539406669},{"$f":"'UD1 CropScenarios'!L22","v":53.615169195705469},{"$f":"'UD1 CropScenarios'!M22","v":12.480863245714286},{"$f":"'UD1 CropScenarios'!N22","v":16.780544954743188},{"$f":"'UD1 CropScenarios'!O22","v":82.876577396162944},{"$f":"'UD1 CropScenarios'!P22","v":11936.960000000001},{"$f":"'UD1 CropScenarios'!Q22","v":438465.0465},{"$f":"'UD1 CropScenarios'!R22","v":0.37516160000000004},{"$f":"'UD1 CropScenarios'!S22","v":6.890165016428571},{"$f":"'UD1 CropScenarios'!T22","v":0.11179815680000002},{"$f":"'UD1 CropScenarios'!U22","v":2.0532691748957141},{"$f":"'UD1 CropScenarios'!V22","v":2.1650673316957141},{"$f":"'UD1 CropScenarios'!W22","v":85.041644727858653},{"$f":"'UD1 CropScenarios'!X22","v":11449242.964305623},{"$f":"'UD1 CropScenarios'!Y22","v":2665224},{"$f":"'UD1 CropScenarios'!Z22","v":962068.5},{"$f":"'UD1 CropScenarios'!AA22","v":21.015311372480269},{"$f":"'UD1 CropScenarios'!AB22","v":6.2625627889991202},{"$f":"'UD1 CropScenarios'!AC22","v":53.306321820223452},{"$f":"'UD1 CropScenarios'!AD22","v":15.885283902426588},{"$f":"'UD1 CropScenarios'!AE22","v":22.147846691425709},{"$f":"'UD1 CropScenarios'!AF22","v":109.36130391928437},{"$f":"'UD1 CropScenarios'!AN22","v":49500},{"$f":"'UD1 CropScenarios'!AO22","v":0.08},{"$f":"'UD1 CropScenarios'!AP22","v":3960},{"$f":"'UD1 CropScenarios'!AQ22","v":69.498000000000005},{"$f":"'UD1 CropScenarios'!AR22","v":1.7374499999999999},{"$f":"'UD1 CropScenarios'!AS22","v":0.43436250000000021},{"$f":"'UD1 CropScenarios'!AT22","v":108.92694141928436},{"$f":"'UD1 CropScenarios'!AV22","v":53.615169195705469},{"$f":"'UD1 CropScenarios'!AW22","v":10876780.816090342},{"$f":"'UD1 CropScenarios'!AX22","v":170.92084139570537},{"$f":"'UD1 CropScenarios'!AY22","v":50.934410735920203},{"$f":"'UD1 CropScenarios'!AZ22","v":50.934410735920203},{"$f":"'UD1 CropScenarios'!BA22","v":2.6807584597852667},{"$f":"'UD1 CropScenarios'!BB22","v":107.1759806265876},{"$f":"'UD1 CropScenarios'!BD22","v":5.6326915296367499},{"$f":"'UD1 CropScenarios'!BE22","v":18.775638432122499},{"$f":"'UD1 CropScenarios'!BF22","v":4.5061532237093997},{"$f":"'UD1 CropScenarios'!BG22","v":28.914483185468651},{"$f":"'UD1 CropScenarios'!BH22","v":14.457241592734325},{"$f":"'UD1 CropScenarios'!BI22","v":253001.72787285075},{"$f":"'UD1 CropScenarios'!BJ22","v":1.1847709485245785},{"$f":"'UD1 CropScenarios'!BL22","v":108.36075157511218},{"$f":"'UD1 CropScenarios'!BN22","v":10876780.816090342},{"$f":"'UD1 CropScenarios'!BO22","v":2665224},{"$f":"'UD1 CropScenarios'!BP22","v":1215070.2278728508},{"$f":"'UD1 CropScenarios'!BQ22","v":20.910876284313787},{"$f":"'UD1 CropScenarios'!BR22","v":6.2314411327255081},{"$f":"'UD1 CropScenarios'!BS22","v":52.176801048298422},{"$f":"'UD1 CropScenarios'!BT22","v":15.54868671239293},{"$f":"'UD1 CropScenarios'!BU22","v":21.780127845118439},{"$f":"'UD1 CropScenarios'!BV22","v":0.36771884630726959},{"$f":"'UD1 CropScenarios'!BW22","v":107.99303272880491},{"$f":"'UD1 CropScenarios'!BY22","v":107.5586702288049}]
[{"$f":"'UD1 CropScenarios'!A23","v":2021},{"$f":"'UD1 CropScenarios'!B23","v":49000},{"$f":"'UD1 CropScenarios'!C23","v":4900},{"$f":"'UD1 CropScenarios'!D23","v":85.995000000000005},{"$f":"'UD1 CropScenarios'!E23","v":2.1498750000000002},{"$f":"'UD1 CropScenarios'!F23","v":11449242.964305623},{"$f":"'UD1 CropScenarios'!G23","v":2665224},{"$f":"'UD1 CropScenarios'!H23","v":3600132.3977436288},{"$f":"'UD1 CropScenarios'!I23","v":179.91667515337406},{"$f":"'UD1 CropScenarios'!J23","v":41.882091428571428},{"$f":"'UD1 CropScenarios'!K23","v":56.573509107399879},{"$f":"'UD1 CropScenarios'!L23","v":53.615169195705469},{"$f":"'UD1 CropScenarios'!M23","v":12.480863245714286},{"$f":"'UD1 CropScenarios'!N23","v":16.858905714005164},{"$f":"'UD1 CropScenarios'!O23","v":82.954938155424912},{"$f":"'UD1 CropScenarios'!P23","v":11809.064},{"$f":"'UD1 CropScenarios'!Q23","v":438465.0465},{"$f":"'UD1 CropScenarios'!R23","v":0.37114201142857145},{"$f":"'UD1 CropScenarios'!S23","v":6.890165016428571},{"$f":"'UD1 CropScenarios'!T23","v":0.11060031940571428},{"$f":"'UD1 CropScenarios'!U23","v":2.0532691748957141},{"$f":"'UD1 CropScenarios'!V23","v":2.1638694943014283},{"$f":"'UD1 CropScenarios'!W23","v":85.118807649726335},{"$f":"'UD1 CropScenarios'!X23","v":11449242.964305623},{"$f":"'UD1 CropScenarios'!Y23","v":2665224},{"$f":"'UD1 CropScenarios'!Z23","v":962068.5},{"$f":"'UD1 CropScenarios'!AA23","v":21.015311372480269},{"$f":"'UD1 CropScenarios'!AB23","v":6.2625627889991202},{"$f":"'UD1 CropScenarios'!AC23","v":53.306321820223452},{"$f":"'UD1 CropScenarios'!AD23","v":15.885283902426588},{"$f":"'UD1 CropScenarios'!AE23","v":22.147846691425709},{"$f":"'UD1 CropScenarios'!AF23","v":109.41652934115204},{"$f":"'UD1 CropScenarios'!AN23","v":49000},{"$f":"'UD1 CropScenarios'!AO23","v":0.08},{"$f":"'UD1 CropScenarios'!AP23","v":3920},{"$f":"'UD1 CropScenarios'!AQ23","v":68.796000000000006},{"$f":"'UD1 CropScenarios'!AR23","v":1.7199},{"$f":"'UD1 CropScenarios'!AS23","v":0.42997500000000022},{"$f":"'UD1 CropScenarios'!AT23","v":108.98655434115204},{"$f":"'UD1 CropScenarios'!AV23","v":53.615169195705469},{"$f":"'UD1 CropScenarios'!AW23","v":10647795.956804229},{"$f":"'UD1 CropScenarios'!AX23","v":167.3225078926379},{"$f":"'UD1 CropScenarios'!AY23","v":49.862107352006099},{"$f":"'UD1 CropScenarios'!AZ23","v":49.862107352006099},{"$f":"'UD1 CropScenarios'!BA23","v":3.7530618436993706},{"$f":"'UD1 CropScenarios'!BB23","v":106.23592398556028},{"$f":"'UD1 CropScenarios'!BD23","v":7.1816817002868554},{"$f":"'UD1 CropScenarios'!BE23","v":23.938939000956186},{"$f":"'UD1 CropScenarios'!BF23","v":5.7453453602294848},{"$f":"'UD1 CropScenarios'!BG23","v":36.865966061472527},{"$f":"'UD1 CropScenarios'!BH23","v":18.432983030736263},{"$f":"'UD1 CropScenarios'!BI23","v":322577.20303788461},{"$f":"'UD1 CropScenarios'!BJ23","v":1.5105829593688369},{"$f":"'UD1 CropScenarios'!BL23","v":107.74650694492911},{"$f":"'UD1 CropScenarios'!BN23","v":10647795.956804229},{"$f":"'UD1 CropScenarios'!BO23","v":2665224},{"$f":"'UD1 CropScenarios'!BP23","v":1284645.7030378846},{"$f":"'UD1 CropScenarios'!BQ23","v":20.769708713097142},{"$f":"'UD1 CropScenarios'!BR23","v":6.1893731965029479},{"$f":"'UD1 CropScenarios'!BS23","v":51.613175011584602},{"$f":"'UD1 CropScenarios'!BT23","v":15.380726153452212},{"$f":"'UD1 CropScenarios'!BU23","v":21.570099349955161},{"$f":"'UD1 CropScenarios'!BV23","v":0.57774734147054829},{"$f":"'UD1 CropScenarios'!BW23","v":107.16875960345857},{"$f":"'UD1 CropScenarios'!BY23","v":106.73878460345857}]
[{"$f":"'UD1 CropScenarios'!A24","v":2022},{"$f":"'UD1 CropScenarios'!B24","v":48500},{"$f":"'UD1 CropScenarios'!C24","v":4850},{"$f":"'UD1 CropScenarios'!D24","v":85.117500000000007},{"$f":"'UD1 CropScenarios'!E24","v":2.1279374999999998},{"$f":"'UD1 CropScenarios'!F24","v":11449242.964305623},{"$f":"'UD1 CropScenarios'!G24","v":2665224},{"$f":"'UD1 CropScenarios'!H24","v":3616865.9338886514},{"$f":"'UD1 CropScenarios'!I24","v":179.91667515337406},{"$f":"'UD1 CropScenarios'!J24","v":41.882091428571428},{"$f":"'UD1 CropScenarios'!K24","v":56.836464675393096},{"$f":"'UD1 CropScenarios'!L24","v":53.615169195705469},{"$f":"'UD1 CropScenarios'!M24","v":12.480863245714286},{"$f":"'UD1 CropScenarios'!N24","v":16.937266473267144},{"$f":"'UD1 CropScenarios'!O24","v":83.033298914686895},{"$f":"'UD1 CropScenarios'!P24","v":11681.168},{"$f":"'UD1 CropScenarios'!Q24","v":438465.0465},{"$f":"'UD1 CropScenarios'!R24","v":0.36712242285714286},{"$f":"'UD1 CropScenarios'!S24","v":6.890165016428571},{"$f":"'UD1 CropScenarios'!T24","v":0.10940248201142858},{"$f":"'UD1 CropScenarios'!U24","v":2.0532691748957141},{"$f":"'UD1 CropScenarios'!V24","v":2.1626716569071429},{"$f":"'UD1 CropScenarios'!W24","v":85.195970571594032},{"$f":"'UD1 CropScenarios'!X24","v":11449242.964305623},{"$f":"'UD1 CropScenarios'!Y24","v":2665224},{"$f":"'UD1 CropScenarios'!Z24","v":962068.5},{"$f":"'UD1 CropScenarios'!AA24","v":21.015311372480269},{"$f":"'UD1 CropScenarios'!AB24","v":6.2625627889991202},{"$f":"'UD1 CropScenarios'!AC24","v":53.306321820223452},{"$f":"'UD1 CropScenarios'!AD24","v":15.885283902426588},{"$f":"'UD1 CropScenarios'!AE24","v":22.147846691425709},{"$f":"'UD1 CropScenarios'!AF24","v":109.47175476301975},{"$f":"'UD1 CropScenarios'!AN24","v":48500},{"$f":"'UD1 CropScenarios'!AO24","v":0.08},{"$f":"'UD1 CropScenarios'!AP24","v":3880},{"$f":"'UD1 CropScenarios'!AQ24","v":68.093999999999994},{"$f":"'UD1 CropScenarios'!AR24","v":1.7023499999999998},{"$f":"'UD1 CropScenarios'!AS24","v":0.42558750000000001},{"$f":"'UD1 CropScenarios'!AT24","v":109.04616726301974},{"$f":"'UD1 CropScenarios'!AV24","v":53.615169195705469},{"$f":"'UD1 CropScenarios'!AW24","v":10418811.097518116},{"$f":"'UD1 CropScenarios'!AX24","v":163.72417438957041},{"$f":"'UD1 CropScenarios'!AY24","v":48.789803968091981},{"$f":"'UD1 CropScenarios'!AZ24","v":48.789803968091981},{"$f":"'UD1 CropScenarios'!BA24","v":4.8253652276134886},{"$f":"'UD1 CropScenarios'!BB24","v":105.29586734453295},{"$f":"'UD1 CropScenarios'!BD24","v":8.7903784011511128},{"$f":"'UD1 CropScenarios'!BE24","v":29.301261337170377},{"$f":"'UD1 CropScenarios'!BF24","v":7.0323027209208906},{"$f":"'UD1 CropScenarios'!BG24","v":45.123942459242379},{"$f":"'UD1 CropScenarios'!BH24","v":22.561971229621189},{"$f":"'UD1 CropScenarios'!BI24","v":394834.49651837081},{"$f":"'UD1 CropScenarios'!BJ24","v":1.8489535422674563},{"$f":"'UD1 CropScenarios'!BL24","v":107.1448208868004},{"$f":"'UD1 CropScenarios'!BN24","v":10418811.097518116},{"$f":"'UD1 CropScenarios'!BO24","v":2665224},{"$f":"'UD1 CropScenarios'!BP24","v":1356902.9965183707},{"$f":"'UD1 CropScenarios'!BQ24","v":20.636969713729066},{"$f":"'UD1 CropScenarios'!BR24","v":6.1498169746912614},{"$f":"'UD1 CropScenarios'!BS24","v":51.05903111820043},{"$f":"'UD1 CropScenarios'!BT24","v":15.215591273223728},{"$f":"'UD1 CropScenarios'!BU24","v":21.365408247914988},{"$f":"'UD1 CropScenarios'!BV24","v":0.78243844351072056},{"$f":"'UD1 CropScenarios'!BW24","v":106.36238244328968},{"$f":"'UD1 CropScenarios'!BY24","v":105.93679494328967}]
[{"$f":"'UD1 CropScenarios'!A25","v":2023},{"$f":"'UD1 CropScenarios'!B25","v":48000},{"$f":"'UD1 CropScenarios'!C25","v":4800},{"$f":"'UD1 CropScenarios'!D25","v":84.24},{"$f":"'UD1 CropScenarios'!E25","v":2.1059999999999999},{"$f":"'UD1 CropScenarios'!F25","v":11449242.964305623},{"$f":"'UD1 CropScenarios'!G25","v":2665224},{"$f":"'UD1 CropScenarios'!H25","v":3633599.470033674},{"$f":"'UD1 CropScenarios'!I25","v":179.91667515337406},{"$f":"'UD1 CropScenarios'!J25","v":41.882091428571428},{"$f":"'UD1 CropScenarios'!K25","v":57.099420243386312},{"$f":"'UD1 CropScenarios'!L25","v":53.615169195705469},{"$f":"'UD1 CropScenarios'!M25","v":12.480863245714286},{"$f":"'UD1 CropScenarios'!N25","v":17.01562723252912},{"$f":"'UD1 CropScenarios'!O25","v":83.111659673948878},{"$f":"'UD1 CropScenarios'!P25","v":11553.271999999999},{"$f":"'UD1 CropScenarios'!Q25","v":438465.0465},{"$f":"'UD1 CropScenarios'!R25","v":0.36310283428571427},{"$f":"'UD1 CropScenarios'!S25","v":6.890165016428571},{"$f":"'UD1 CropScenarios'!T25","v":0.10820464461714285},{"$f":"'UD1 CropScenarios'!U25","v":2.0532691748957141},{"$f":"'UD1 CropScenarios'!V25","v":2.1614738195128571},{"$f":"'UD1 CropScenarios'!W25","v":85.273133493461742},{"$f":"'UD1 CropScenarios'!X25","v":11449242.964305623},{"$f":"'UD1 CropScenarios'!Y25","v":2665224},{"$f":"'UD1 CropScenarios'!Z25","v":962068.5},{"$f":"'UD1 CropScenarios'!AA25","v":21.015311372480269},{"$f":"'UD1 CropScenarios'!AB25","v":6.2625627889991202},{"$f":"'UD1 CropScenarios'!AC25","v":53.306321820223452},{"$f":"'UD1 CropScenarios'!AD25","v":15.885283902426588},{"$f":"'UD1 CropScenarios'!AE25","v":22.147846691425709},{"$f":"'UD1 CropScenarios'!AF25","v":109.52698018488745},{"$f":"'UD1 CropScenarios'!AN25","v":48000},{"$f":"'UD1 CropScenarios'!AO25","v":0.08},{"$f":"'UD1 CropScenarios'!AP25","v":3840},{"$f":"'UD1 CropScenarios'!AQ25","v":67.391999999999996},{"$f":"'UD1 CropScenarios'!AR25","v":1.6847999999999999},{"$f":"'UD1 CropScenarios'!AS25","v":0.42120000000000002},{"$f":"'UD1 CropScenarios'!AT25","v":109.10578018488745},{"$f":"'UD1 CropScenarios'!AV25","v":53.615169195705469},{"$f":"'UD1 CropScenarios'!AW25","v":10189826.238232004},{"$f":"'UD1 CropScenarios'!AX25","v":160.12584088650291},{"$f":"'UD1 CropScenarios'!AY25","v":47.71750058417787},{"$f":"'UD1 CropScenarios'!AZ25","v":47.71750058417787},{"$f":"'UD1 CropScenarios'!BA25","v":5.8976686115275996},{"$f":"'UD1 CropScenarios'!BB25","v":104.35581070350563},{"$f":"'UD1 CropScenarios'!BD25","v":10.460550297369824},{"$f":"'UD1 CropScenarios'!BE25","v":34.868500991232743},{"$f":"'UD1 CropScenarios'!BF25","v":8.3684402378958573},{"$f":"'UD1 CropScenarios'!BG25","v":53.697491526498425},{"$f":"'UD1 CropScenarios'!BH25","v":26.848745763249212},{"$f":"'UD1 CropScenarios'!BI25","v":469853.05085686123},{"$f":"'UD1 CropScenarios'!BJ25","v":2.2002547152982728},{"$f":"'UD1 CropScenarios'!BL25","v":106.5560654188039},{"$f":"'UD1 CropScenarios'!BN25","v":10189826.238232004},{"$f":"'UD1 CropScenarios'!BO25","v":2665224},{"$f":"'UD1 CropScenarios'!BP25","v":1431921.5508568613},{"$f":"'UD1 CropScenarios'!BQ25","v":20.512908962771856},{"$f":"'UD1 CropScenarios'!BR25","v":6.1128468709060133},{"$f":"'UD1 CropScenarios'!BS25","v":50.514650254278479},{"$f":"'UD1 CropScenarios'!BT25","v":15.053365775774987},{"$f":"'UD1 CropScenarios'!BU25","v":21.166212646681},{"$f":"'UD1 CropScenarios'!BV25","v":0.98163404474470894},{"$f":"'UD1 CropScenarios'!BW25","v":105.57443137405919},{"$f":"'UD1 CropScenarios'!BY25","v":105.15323137405919}]
[{"$f":"'UD1 CropScenarios'!A26","v":2024},{"$f":"'UD1 CropScenarios'!B26","v":47500},{"$f":"'UD1 CropScenarios'!C26","v":4750},{"$f":"'UD1 CropScenarios'!D26","v":83.362499999999997},{"$f":"'UD1 CropScenarios'!E26","v":2.0840624999999999},{"$f":"'UD1 CropScenarios'!F26","v":11449242.964305623},{"$f":"'UD1 CropScenarios'!G26","v":2665224},{"$f":"'UD1 CropScenarios'!H26","v":3650333.0061786966},{"$f":"'UD1 CropScenarios'!I26","v":179.91667515337406},{"$f":"'UD1 CropScenarios'!J26","v":41.882091428571428},{"$f":"'UD1 CropScenarios'!K26","v":57.362375811379522},{"$f":"'UD1 CropScenarios'!L26","v":53.615169195705469},{"$f":"'UD1 CropScenarios'!M26","v":12.480863245714286},{"$f":"'UD1 CropScenarios'!N26","v":17.093987991791099},{"$f":"'UD1 CropScenarios'!O26","v":83.190020433210847},{"$f":"'UD1 CropScenarios'!P26","v":11425.375999999998},{"$f":"'UD1 CropScenarios'!Q26","v":438465.0465},{"$f":"'UD1 CropScenarios'!R26","v":0.35908324571428568},{"$f":"'UD1 CropScenarios'!S26","v":6.890165016428571},{"$f":"'UD1 CropScenarios'!T26","v":0.10700680722285713},{"$f":"'UD1 CropScenarios'!U26","v":2.0532691748957141},{"$f":"'UD1 CropScenarios'!V26","v":2.1602759821185713},{"$f":"'UD1 CropScenarios'!W26","v":85.350296415329424},{"$f":"'UD1 CropScenarios'!X26","v":11449242.964305623},{"$f":"'UD1 CropScenarios'!Y26","v":2665224},{"$f":"'UD1 CropScenarios'!Z26","v":962068.5},{"$f":"'UD1 CropScenarios'!AA26","v":21.015311372480269},{"$f":"'UD1 CropScenarios'!AB26","v":6.2625627889991202},{"$f":"'UD1 CropScenarios'!AC26","v":53.306321820223452},{"$f":"'UD1 CropScenarios'!AD26","v":15.885283902426588},{"$f":"'UD1 CropScenarios'!AE26","v":22.147846691425709},{"$f":"'UD1 CropScenarios'!AF26","v":109.58220560675514},{"$f":"'UD1 CropScenarios'!AN26","v":47500},{"$f":"'UD1 CropScenarios'!AO26","v":0.08},{"$f":"'UD1 CropScenarios'!AP26","v":3800},{"$f":"'UD1 CropScenarios'!AQ26","v":66.69},{"$f":"'UD1 CropScenarios'!AR26","v":1.6672499999999999},{"$f":"'UD1 CropScenarios'!AS26","v":0.41681250000000003},{"$f":"'UD1 CropScenarios'!AT26","v":109.16539310675513},{"$f":"'UD1 CropScenarios'!AV26","v":53.615169195705469},{"$f":"'UD1 CropScenarios'!AW26","v":9960841.3789458908},{"$f":"'UD1 CropScenarios'!AX26","v":156.52750738343542},{"$f":"'UD1 CropScenarios'!AY26","v":46.645197200263759},{"$f":"'UD1 CropScenarios'!AZ26","v":46.645197200263759},{"$f":"'UD1 CropScenarios'!BA26","v":6.9699719954417105},{"$f":"'UD1 CropScenarios'!BB26","v":103.41575406247831},{"$f":"'UD1 CropScenarios'!BD26","v":12.194012918076822},{"$f":"'UD1 CropScenarios'!BE26","v":40.646709726922744},{"$f":"'UD1 CropScenarios'!BF26","v":9.7552103344614576},{"$f":"'UD1 CropScenarios'!BG26","v":62.595932979461026},{"$f":"'UD1 CropScenarios'!BH26","v":31.297966489730513},{"$f":"'UD1 CropScenarios'!BI26","v":547714.41357028403},{"$f":"'UD1 CropScenarios'!BJ26","v":2.564868353833416},{"$f":"'UD1 CropScenarios'!BL26","v":105.98062241631173},{"$f":"'UD1 CropScenarios'!BN26","v":9960841.3789458908},{"$f":"'UD1 CropScenarios'!BO26","v":2665224},{"$f":"'UD1 CropScenarios'!BP26","v":1509782.9135702839},{"$f":"'UD1 CropScenarios'!BQ26","v":20.39778275242158},{"$f":"'UD1 CropScenarios'!BR26","v":6.078539260221631},{"$f":"'UD1 CropScenarios'!BS26","v":49.980320748539327},{"$f":"'UD1 CropScenarios'!BT26","v":14.894135583064719},{"$f":"'UD1 CropScenarios'!BU26","v":20.972674843286349},{"$f":"'UD1 CropScenarios'!BV26","v":1.1751718481393603},{"$f":"'UD1 CropScenarios'!BW26","v":104.80545056817238},{"$f":"'UD1 CropScenarios'!BY26","v":104.38863806817237}]
[{"$f":"'UD1 CropScenarios'!A27","v":2025},{"$f":"'UD1 CropScenarios'!B27","v":47000},{"$f":"'UD1 CropScenarios'!C27","v":4700},{"$f":"'UD1 CropScenarios'!D27","v":82.484999999999999},{"$f":"'UD1 CropScenarios'!E27","v":2.062125},{"$f":"'UD1 CropScenarios'!F27","v":11449242.964305623},{"$f":"'UD1 CropScenarios'!G27","v":2665224},{"$f":"'UD1 CropScenarios'!H27","v":3667066.5423237192},{"$f":"'UD1 CropScenarios'!I27","v":179.91667515337406},{"$f":"'UD1 CropScenarios'!J27","v":41.882091428571428},{"$f":"'UD1 CropScenarios'!K27","v":57.625331379372739},{"$f":"'UD1 CropScenarios'!L27","v":53.615169195705469},{"$f":"'UD1 CropScenarios'!M27","v":12.480863245714286},{"$f":"'UD1 CropScenarios'!N27","v":17.172348751053075},{"$f":"'UD1 CropScenarios'!O27","v":83.26838119247283},{"$f":"'UD1 CropScenarios'!P27","v":11297.48},{"$f":"'UD1 CropScenarios'!Q27","v":438465.0465},{"$f":"'UD1 CropScenarios'!R27","v":0.35506365714285715},{"$f":"'UD1 CropScenarios'!S27","v":6.890165016428571},{"$f":"'UD1 CropScenarios'!T27","v":0.10580896982857144},{"$f":"'UD1 CropScenarios'!U27","v":2.0532691748957141},{"$f":"'UD1 CropScenarios'!V27","v":2.1590781447242855},{"$f":"'UD1 CropScenarios'!W27","v":85.427459337197121},{"$f":"'UD1 CropScenarios'!X27","v":11449242.964305623},{"$f":"'UD1 CropScenarios'!Y27","v":2665224},{"$f":"'UD1 CropScenarios'!Z27","v":962068.5},{"$f":"'UD1 CropScenarios'!AA27","v":21.015311372480269},{"$f":"'UD1 CropScenarios'!AB27","v":6.2625627889991202},{"$f":"'UD1 CropScenarios'!AC27","v":53.306321820223452},{"$f":"'UD1 CropScenarios'!AD27","v":15.885283902426588},{"$f":"'UD1 CropScenarios'!AE27","v":22.147846691425709},{"$f":"'UD1 CropScenarios'!AF27","v":109.63743102862283},{"$f":"'UD1 CropScenarios'!AN27","v":47000},{"$f":"'UD1 CropScenarios'!AO27","v":0.08},{"$f":"'UD1 CropScenarios'!AP27","v":3760},{"$f":"'UD1 CropScenarios'!AQ27","v":65.988},{"$f":"'UD1 CropScenarios'!AR27","v":1.6496999999999999},{"$f":"'UD1 CropScenarios'!AS27","v":0.41242500000000004},{"$f":"'UD1 CropScenarios'!AT27","v":109.22500602862283},{"$f":"'UD1 CropScenarios'!AV27","v":53.615169195705469},{"$f":"'UD1 CropScenarios'!AW27","v":9731856.5196597781},{"$f":"'UD1 CropScenarios'!AX27","v":152.92917388036796},{"$f":"'UD1 CropScenarios'!AY27","v":45.572893816349648},{"$f":"'UD1 CropScenarios'!AZ27","v":45.572893816349648},{"$f":"'UD1 CropScenarios'!BA27","v":8.0422753793558215},{"$f":"'UD1 CropScenarios'!BB27","v":102.47569742145097},{"$f":"'UD1 CropScenarios'!BD27","v":13.992629823493152},{"$f":"'UD1 CropScenarios'!BE27","v":46.642099411643841},{"$f":"'UD1 CropScenarios'!BF27","v":11.194103858794522},{"$f":"'UD1 CropScenarios'!BG27","v":71.828833093931522},{"$f":"'UD1 CropScenarios'!BH27","v":35.914416546965761},{"$f":"'UD1 CropScenarios'!BI27","v":628502.28957190085},{"$f":"'UD1 CropScenarios'!BJ27","v":2.9431864360238444},{"$f":"'UD1 CropScenarios'!BL27","v":105.41888385747482},{"$f":"'UD1 CropScenarios'!BN27","v":9731856.5196597781},{"$f":"'UD1 CropScenarios'!BO27","v":2665224},{"$f":"'UD1 CropScenarios'!BP27","v":1590570.7895719009},{"$f":"'UD1 CropScenarios'!BQ27","v":20.291854155262772},{"$f":"'UD1 CropScenarios'!BR27","v":6.0469725382683066},{"$f":"'UD1 CropScenarios'!BS27","v":49.456338557640571},{"$f":"'UD1 CropScenarios'!BT27","v":14.73798889017689},{"$f":"'UD1 CropScenarios'!BU27","v":20.784961428445197},{"$f":"'UD1 CropScenarios'!BV27","v":1.3628852629805124},{"$f":"'UD1 CropScenarios'!BW27","v":104.05599859449431},{"$f":"'UD1 CropScenarios'!BY27","v":103.64357359449431}]
[{"$f":"'UD1 CropScenarios'!A28","v":2026},{"$f":"'UD1 CropScenarios'!B28","v":46500},{"$f":"'UD1 CropScenarios'!C28","v":4650},{"$f":"'UD1 CropScenarios'!D28","v":81.607500000000002},{"$f":"'UD1 CropScenarios'!E28","v":2.0401875},{"$f":"'UD1 CropScenarios'!F28","v":11449242.964305623},{"$f":"'UD1 CropScenarios'!G28","v":2665224},{"$f":"'UD1 CropScenarios'!H28","v":3675618.4624506915},{"$f":"'UD1 CropScenarios'!I28","v":179.91667515337406},{"$f":"'UD1 CropScenarios'!J28","v":41.882091428571428},{"$f":"'UD1 CropScenarios'!K28","v":57.759718695653724},{"$f":"'UD1 CropScenarios'!L28","v":53.615169195705469},{"$f":"'UD1 CropScenarios'!M28","v":12.480863245714286},{"$f":"'UD1 CropScenarios'!N28","v":17.212396171304807},{"$f":"'UD1 CropScenarios'!O28","v":83.308428612724555},{"$f":"'UD1 CropScenarios'!P28","v":11233.531999999999},{"$f":"'UD1 CropScenarios'!Q28","v":439746.19650000002},{"$f":"'UD1 CropScenarios'!R28","v":0.35305386285714285},{"$f":"'UD1 CropScenarios'!S28","v":6.9102973735714297},{"$f":"'UD1 CropScenarios'!T28","v":0.10521005113142858},{"$f":"'UD1 CropScenarios'!U28","v":2.0592686173242858},{"$f":"'UD1 CropScenarios'!V28","v":2.1644786684557142},{"$f":"'UD1 CropScenarios'!W28","v":85.472907281180269},{"$f":"'UD1 CropScenarios'!X28","v":11449242.964305623},{"$f":"'UD1 CropScenarios'!Y28","v":2665224},{"$f":"'UD1 CropScenarios'!Z28","v":962068.5},{"$f":"'UD1 CropScenarios'!AA28","v":21.015311372480269},{"$f":"'UD1 CropScenarios'!AB28","v":6.2625627889991202},{"$f":"'UD1 CropScenarios'!AC28","v":53.306321820223452},{"$f":"'UD1 CropScenarios'!AD28","v":15.885283902426588},{"$f":"'UD1 CropScenarios'!AE28","v":22.147846691425709},{"$f":"'UD1 CropScenarios'!AF28","v":109.66094147260598},{"$f":"'UD1 CropScenarios'!AN28","v":46500},{"$f":"'UD1 CropScenarios'!AO28","v":0.08},{"$f":"'UD1 CropScenarios'!AP28","v":3720},{"$f":"'UD1 CropScenarios'!AQ28","v":65.286000000000001},{"$f":"'UD1 CropScenarios'!AR28","v":1.63215},{"$f":"'UD1 CropScenarios'!AS28","v":0.40803750000000005},{"$f":"'UD1 CropScenarios'!AT28","v":109.25290397260598},{"$f":"'UD1 CropScenarios'!AV28","v":53.615169195705469},{"$f":"'UD1 CropScenarios'!AW28","v":9502871.6603736654},{"$f":"'UD1 CropScenarios'!AX28","v":149.33084037730046},{"$f":"'UD1 CropScenarios'!AY28","v":44.500590432435537},{"$f":"'UD1 CropScenarios'!AZ28","v":44.500590432435537},{"$f":"'UD1 CropScenarios'!BA28","v":9.1145787632699324},{"$f":"'UD1 CropScenarios'!BB28","v":101.49738268072841},{"$f":"'UD1 CropScenarios'!BD28","v":15.858313799958903},{"$f":"'UD1 CropScenarios'!BE28","v":52.861045999863016},{"$f":"'UD1 CropScenarios'!BF28","v":12.686651039967122},{"$f":"'UD1 CropScenarios'!BG28","v":81.406010839789033},{"$f":"'UD1 CropScenarios'!BH28","v":40.703005419894517},{"$f":"'UD1 CropScenarios'!BI28","v":712302.59484815411},{"$f":"'UD1 CropScenarios'!BJ28","v":3.3356112941603562},{"$f":"'UD1 CropScenarios'!BL28","v":104.83299397488877},{"$f":"'UD1 CropScenarios'!BN28","v":9502871.6603736654},{"$f":"'UD1 CropScenarios'!BO28","v":2665224},{"$f":"'UD1 CropScenarios'!BP28","v":1674371.0948481541},{"$f":"'UD1 CropScenarios'!BQ28","v":20.195393192967106},{"$f":"'UD1 CropScenarios'!BR28","v":6.0182271715041979},{"$f":"'UD1 CropScenarios'!BS28","v":48.943007455962857},{"$f":"'UD1 CropScenarios'!BT28","v":14.585016221876931},{"$f":"'UD1 CropScenarios'!BU28","v":20.603243393381128},{"$f":"'UD1 CropScenarios'!BV28","v":1.5446032980445814},{"$f":"'UD1 CropScenarios'!BW28","v":103.28839067684419},{"$f":"'UD1 CropScenarios'!BY28","v":102.88035317684418}]
[{"$f":"'UD1 CropScenarios'!A29","v":2027},{"$f":"'UD1 CropScenarios'!B29","v":46000},{"$f":"'UD1 CropScenarios'!C29","v":4600},{"$f":"'UD1 CropScenarios'!D29","v":80.73},{"$f":"'UD1 CropScenarios'!E29","v":2.0182500000000001},{"$f":"'UD1 CropScenarios'!F29","v":11449242.964305623},{"$f":"'UD1 CropScenarios'!G29","v":2665224},{"$f":"'UD1 CropScenarios'!H29","v":3684170.3825776638},{"$f":"'UD1 CropScenarios'!I29","v":179.91667515337406},{"$f":"'UD1 CropScenarios'!J29","v":41.882091428571428},{"$f":"'UD1 CropScenarios'!K29","v":57.894106011934717},{"$f":"'UD1 CropScenarios'!L29","v":53.615169195705469},{"$f":"'UD1 CropScenarios'!M29","v":12.480863245714286},{"$f":"'UD1 CropScenarios'!N29","v":17.252443591556545},{"$f":"'UD1 CropScenarios'!O29","v":83.348476032976293},{"$f":"'UD1 CropScenarios'!P29","v":11169.583999999999},{"$f":"'UD1 CropScenarios'!Q29","v":441027.34650000004},{"$f":"'UD1 CropScenarios'!R29","v":0.3510440685714285},{"$f":"'UD1 CropScenarios'!S29","v":6.9304297307142857},{"$f":"'UD1 CropScenarios'!T29","v":0.10461113243428569},{"$f":"'UD1 CropScenarios'!U29","v":2.065268059752857},{"$f":"'UD1 CropScenarios'!V29","v":2.1698791921871425},{"$f":"'UD1 CropScenarios'!W29","v":85.518355225163432},{"$f":"'UD1 CropScenarios'!X29","v":11449242.964305623},{"$f":"'UD1 CropScenarios'!Y29","v":2665224},{"$f":"'UD1 CropScenarios'!Z29","v":962068.5},{"$f":"'UD1 CropScenarios'!AA29","v":21.015311372480269},{"$f":"'UD1 CropScenarios'!AB29","v":6.2625627889991202},{"$f":"'UD1 CropScenarios'!AC29","v":53.306321820223452},{"$f":"'UD1 CropScenarios'!AD29","v":15.885283902426588},{"$f":"'UD1 CropScenarios'!AE29","v":22.147846691425709},{"$f":"'UD1 CropScenarios'!AF29","v":109.68445191658914},{"$f":"'UD1 CropScenarios'!AN29","v":46000},{"$f":"'UD1 CropScenarios'!AO29","v":0.08},{"$f":"'UD1 CropScenarios'!AP29","v":3680},{"$f":"'UD1 CropScenarios'!AQ29","v":64.584000000000003},{"$f":"'UD1 CropScenarios'!AR29","v":1.6146},{"$f":"'UD1 CropScenarios'!AS29","v":0.40365000000000006},{"$f":"'UD1 CropScenarios'!AT29","v":109.28080191658914},{"$f":"'UD1 CropScenarios'!AV29","v":53.615169195705469},{"$f":"'UD1 CropScenarios'!AW29","v":9273886.8010875527},{"$f":"'UD1 CropScenarios'!AX29","v":145.73250687423297},{"$f":"'UD1 CropScenarios'!AY29","v":43.428287048521426},{"$f":"'UD1 CropScenarios'!AZ29","v":43.428287048521426},{"$f":"'UD1 CropScenarios'!BA29","v":10.186882147184043},{"$f":"'UD1 CropScenarios'!BB29","v":100.51906794000584},{"$f":"'UD1 CropScenarios'!BD29","v":19.4105760911497},{"$f":"'UD1 CropScenarios'!BE29","v":64.701920303832324},{"$f":"'UD1 CropScenarios'!BF29","v":15.528460872919757},{"$f":"'UD1 CropScenarios'!BG29","v":99.640957267901783},{"$f":"'UD1 CropScenarios'!BH29","v":49.820478633950891},{"$f":"'UD1 CropScenarios'!BI29","v":871858.37609414058},{"$f":"'UD1 CropScenarios'!BJ29","v":4.0827882240522761},{"$f":"'UD1 CropScenarios'!BL29","v":104.60185616405812},{"$f":"'UD1 CropScenarios'!BN29","v":9273886.8010875527},{"$f":"'UD1 CropScenarios'!BO29","v":2665224},{"$f":"'UD1 CropScenarios'!BP29","v":1833926.8760941406},{"$f":"'UD1 CropScenarios'!BQ29","v":20.337020869433459},{"$f":"'UD1 CropScenarios'!BR29","v":6.0604322190911706},{"$f":"'UD1 CropScenarios'!BS29","v":48.697526072892408},{"$f":"'UD1 CropScenarios'!BT29","v":14.511862769721938},{"$f":"'UD1 CropScenarios'!BU29","v":20.572294988813109},{"$f":"'UD1 CropScenarios'!BV29","v":1.5755517026126},{"$f":"'UD1 CropScenarios'!BW29","v":103.02630446144552},{"$f":"'UD1 CropScenarios'!BY29","v":102.62265446144552}]
[{"$f":"'UD1 CropScenarios'!A30","v":2028},{"$f":"'UD1 CropScenarios'!B30","v":45500},{"$f":"'UD1 CropScenarios'!C30","v":4550},{"$f":"'UD1 CropScenarios'!D30","v":79.852500000000006},{"$f":"'UD1 CropScenarios'!E30","v":1.9963125000000002},{"$f":"'UD1 CropScenarios'!F30","v":11449242.964305623},{"$f":"'UD1 CropScenarios'!G30","v":2665224},{"$f":"'UD1 CropScenarios'!H30","v":3692722.302704636},{"$f":"'UD1 CropScenarios'!I30","v":179.91667515337406},{"$f":"'UD1 CropScenarios'!J30","v":41.882091428571428},{"$f":"'UD1 CropScenarios'!K30","v":58.028493328215717},{"$f":"'UD1 CropScenarios'!L30","v":53.615169195705469},{"$f":"'UD1 CropScenarios'!M30","v":12.480863245714286},{"$f":"'UD1 CropScenarios'!N30","v":17.292491011808284},{"$f":"'UD1 CropScenarios'!O30","v":83.388523453228032},{"$f":"'UD1 CropScenarios'!P30","v":11105.635999999999},{"$f":"'UD1 CropScenarios'!Q30","v":442308.49650000007},{"$f":"'UD1 CropScenarios'!R30","v":0.34903427428571421},{"$f":"'UD1 CropScenarios'!S30","v":6.9505620878571444},{"$f":"'UD1 CropScenarios'!T30","v":0.10401221373714283},{"$f":"'UD1 CropScenarios'!U30","v":2.0712675021814291},{"$f":"'UD1 CropScenarios'!V30","v":2.1752797159185717},{"$f":"'UD1 CropScenarios'!W30","v":85.56380316914661},{"$f":"'UD1 CropScenarios'!X30","v":11449242.964305623},{"$f":"'UD1 CropScenarios'!Y30","v":2665224},{"$f":"'UD1 CropScenarios'!Z30","v":962068.5},{"$f":"'UD1 CropScenarios'!AA30","v":21.015311372480269},{"$f":"'UD1 CropScenarios'!AB30","v":6.2625627889991202},{"$f":"'UD1 CropScenarios'!AC30","v":53.306321820223452},{"$f":"'UD1 CropScenarios'!AD30","v":15.885283902426588},{"$f":"'UD1 CropScenarios'!AE30","v":22.147846691425709},{"$f":"'UD1 CropScenarios'!AF30","v":109.70796236057232},{"$f":"'UD1 CropScenarios'!AN30","v":45500},{"$f":"'UD1 CropScenarios'!AO30","v":0.08},{"$f":"'UD1 CropScenarios'!AP30","v":3640},{"$f":"'UD1 CropScenarios'!AQ30","v":63.882000000000005},{"$f":"'UD1 CropScenarios'!AR30","v":1.5970500000000001},{"$f":"'UD1 CropScenarios'!AS30","v":0.39926250000000008},{"$f":"'UD1 CropScenarios'!AT30","v":109.30869986057232},{"$f":"'UD1 CropScenarios'!AV30","v":53.615169195705469},{"$f":"'UD1 CropScenarios'!AW30","v":9044901.94180144},{"$f":"'UD1 CropScenarios'!AX30","v":142.1341733711655},{"$f":"'UD1 CropScenarios'!AY30","v":42.355983664607315},{"$f":"'UD1 CropScenarios'!AZ30","v":42.355983664607315},{"$f":"'UD1 CropScenarios'!BA30","v":11.259185531098154},{"$f":"'UD1 CropScenarios'!BB30","v":99.540753199283273},{"$f":"'UD1 CropScenarios'!BD30","v":21.448686580720416},{"$f":"'UD1 CropScenarios'!BE30","v":71.495621935734718},{"$f":"'UD1 CropScenarios'!BF30","v":17.158949264576336},{"$f":"'UD1 CropScenarios'!BG30","v":110.10325778103147},{"$f":"'UD1 CropScenarios'!BH30","v":55.051628890515737},{"$f":"'UD1 CropScenarios'!BI30","v":963403.50558402541},{"$f":"'UD1 CropScenarios'!BJ30","v":4.5114809875777651},{"$f":"'UD1 CropScenarios'!BL30","v":104.05223418686104},{"$f":"'UD1 CropScenarios'!BN30","v":9044901.94180144},{"$f":"'UD1 CropScenarios'!BO30","v":2665224},{"$f":"'UD1 CropScenarios'!BP30","v":1925472.0055840253},{"$f":"'UD1 CropScenarios'!BQ30","v":20.264900783237771},{"$f":"'UD1 CropScenarios'!BR30","v":6.0389404334048562},{"$f":"'UD1 CropScenarios'!BS30","v":48.211578456827176},{"$f":"'UD1 CropScenarios'!BT30","v":14.367050380134499},{"$f":"'UD1 CropScenarios'!BU30","v":20.405990813539354},{"$f":"'UD1 CropScenarios'!BV30","v":1.7418558778863549},{"$f":"'UD1 CropScenarios'!BW30","v":102.31037830897469},{"$f":"'UD1 CropScenarios'!BY30","v":101.91111580897469}]
[{"$f":"'UD1 CropScenarios'!A31","v":2029},{"$f":"'UD1 CropScenarios'!B31","v":45250},{"$f":"'UD1 CropScenarios'!C31","v":4525},{"$f":"'UD1 CropScenarios'!D31","v":79.413749999999993},{"$f":"'UD1 CropScenarios'!E31","v":1.9853437499999997},{"$f":"'UD1 CropScenarios'!F31","v":11449242.964305623},{"$f":"'UD1 CropScenarios'!G31","v":2665224},{"$f":"'UD1 CropScenarios'!H31","v":3701274.2228316083},{"$f":"'UD1 CropScenarios'!I31","v":179.91667515337406},{"$f":"'UD1 CropScenarios'!J31","v":41.882091428571428},{"$f":"'UD1 CropScenarios'!K31","v":58.162880644496703},{"$f":"'UD1 CropScenarios'!L31","v":53.615169195705469},{"$f":"'UD1 CropScenarios'!M31","v":12.480863245714286},{"$f":"'UD1 CropScenarios'!N31","v":17.332538432060016},{"$f":"'UD1 CropScenarios'!O31","v":83.428570873479771},{"$f":"'UD1 CropScenarios'!P31","v":11041.687999999998},{"$f":"'UD1 CropScenarios'!Q31","v":443589.64650000009},{"$f":"'UD1 CropScenarios'!R31","v":0.34702447999999997},{"$f":"'UD1 CropScenarios'!S31","v":6.9706944450000012},{"$f":"'UD1 CropScenarios'!T31","v":0.10341329503999999},{"$f":"'UD1 CropScenarios'!U31","v":2.0772669446100003},{"$f":"'UD1 CropScenarios'!V31","v":2.1806802396500005},{"$f":"'UD1 CropScenarios'!W31","v":85.609251113129773},{"$f":"'UD1 CropScenarios'!X31","v":11449242.964305623},{"$f":"'UD1 CropScenarios'!Y31","v":2665224},{"$f":"'UD1 CropScenarios'!Z31","v":962068.5},{"$f":"'UD1 CropScenarios'!AA31","v":21.015311372480269},{"$f":"'UD1 CropScenarios'!AB31","v":6.2625627889991202},{"$f":"'UD1 CropScenarios'!AC31","v":53.306321820223452},{"$f":"'UD1 CropScenarios'!AD31","v":15.885283902426588},{"$f":"'UD1 CropScenarios'!AE31","v":22.147846691425709},{"$f":"'UD1 CropScenarios'!AF31","v":109.74244155455548},{"$f":"'UD1 CropScenarios'!AN31","v":45250},{"$f":"'UD1 CropScenarios'!AO31","v":0.08},{"$f":"'UD1 CropScenarios'!AP31","v":3620},{"$f":"'UD1 CropScenarios'!AQ31","v":63.531000000000006},{"$f":"'UD1 CropScenarios'!AR31","v":1.5882750000000001},{"$f":"'UD1 CropScenarios'!AS31","v":0.39706874999999964},{"$f":"'UD1 CropScenarios'!AT31","v":109.34537280455548},{"$f":"'UD1 CropScenarios'!AV31","v":53.615169195705469},{"$f":"'UD1 CropScenarios'!AW31","v":8815917.0825153273},{"$f":"'UD1 CropScenarios'!AX31","v":138.53583986809801},{"$f":"'UD1 CropScenarios'!AY31","v":41.283680280693211},{"$f":"'UD1 CropScenarios'!AZ31","v":41.283680280693211},{"$f":"'UD1 CropScenarios'!BA31","v":12.331488915012258},{"$f":"'UD1 CropScenarios'!BB31","v":98.573407208560724},{"$f":"'UD1 CropScenarios'!BD31","v":23.560557259437509},{"$f":"'UD1 CropScenarios'!BE31","v":78.535190864791687},{"$f":"'UD1 CropScenarios'!BF31","v":18.848445807550004},{"$f":"'UD1 CropScenarios'!BG31","v":120.94419393177921},{"$f":"'UD1 CropScenarios'!BH31","v":60.472096965889605},{"$f":"'UD1 CropScenarios'!BI31","v":1058261.6969030683},{"$f":"'UD1 CropScenarios'!BJ31","v":4.9556883463546546},{"$f":"'UD1 CropScenarios'!BL31","v":103.52909555491537},{"$f":"'UD1 CropScenarios'!BN31","v":8815917.0825153273},{"$f":"'UD1 CropScenarios'!BO31","v":2665224},{"$f":"'UD1 CropScenarios'!BP31","v":2020330.1969030683},{"$f":"'UD1 CropScenarios'!BQ31","v":20.203193177076589},{"$f":"'UD1 CropScenarios'!BR31","v":6.0205515667688232},{"$f":"'UD1 CropScenarios'!BS31","v":47.737344880800755},{"$f":"'UD1 CropScenarios'!BT31","v":14.225728774478624},{"$f":"'UD1 CropScenarios'!BU31","v":20.246280341247449},{"$f":"'UD1 CropScenarios'!BV31","v":1.9015663501782605},{"$f":"'UD1 CropScenarios'!BW31","v":101.62752920473712},{"$f":"'UD1 CropScenarios'!BY31","v":101.23046045473711}]
[{"$f":"'UD1 CropScenarios'!A32","v":2030},{"$f":"'UD1 CropScenarios'!B32","v":45000},{"$f":"'UD1 CropScenarios'!C32","v":4500},{"$f":"'UD1 CropScenarios'!D32","v":78.974999999999994},{"$f":"'UD1 CropScenarios'!E32","v":1.9743749999999998},{"$f":"'UD1 CropScenarios'!F32","v":11449242.964305623},{"$f":"'UD1 CropScenarios'!G32","v":2665224},{"$f":"'UD1 CropScenarios'!H32","v":3709826.1429585796},{"$f":"'UD1 CropScenarios'!I32","v":179.91667515337406},{"$f":"'UD1 CropScenarios'!J32","v":41.882091428571428},{"$f":"'UD1 CropScenarios'!K32","v":58.297267960777688},{"$f":"'UD1 CropScenarios'!L32","v":53.615169195705469},{"$f":"'UD1 CropScenarios'!M32","v":12.480863245714286},{"$f":"'UD1 CropScenarios'!N32","v":17.372585852311751},{"$f":"'UD1 CropScenarios'!O32","v":83.46861829373151},{"$f":"'UD1 CropScenarios'!P32","v":10977.74},{"$f":"'UD1 CropScenarios'!Q32","v":444870.7965},{"$f":"'UD1 CropScenarios'!R32","v":0.34501468571428567},{"$f":"'UD1 CropScenarios'!S32","v":6.9908268021428572},{"$f":"'UD1 CropScenarios'!T32","v":0.10281437634285713},{"$f":"'UD1 CropScenarios'!U32","v":2.0832663870385715},{"$f":"'UD1 CropScenarios'!V32","v":2.1860807633814288},{"$f":"'UD1 CropScenarios'!W32","v":85.654699057112936},{"$f":"'UD1 CropScenarios'!X32","v":11449242.964305623},{"$f":"'UD1 CropScenarios'!Y32","v":2665224},{"$f":"'UD1 CropScenarios'!Z32","v":962068.5},{"$f":"'UD1 CropScenarios'!AA32","v":21.015311372480269},{"$f":"'UD1 CropScenarios'!AB32","v":6.2625627889991202},{"$f":"'UD1 CropScenarios'!AC32","v":53.306321820223452},{"$f":"'UD1 CropScenarios'!AD32","v":15.885283902426588},{"$f":"'UD1 CropScenarios'!AE32","v":22.147846691425709},{"$f":"'UD1 CropScenarios'!AF32","v":109.77692074853864},{"$f":"'UD1 CropScenarios'!AN32","v":45000},{"$f":"'UD1 CropScenarios'!AO32","v":0.08},{"$f":"'UD1 CropScenarios'!AP32","v":3600},{"$f":"'UD1 CropScenarios'!AQ32","v":63.180000000000007},{"$f":"'UD1 CropScenarios'!AR32","v":1.5795000000000001},{"$f":"'UD1 CropScenarios'!AS32","v":0.39487499999999964},{"$f":"'UD1 CropScenarios'!AT32","v":109.38204574853864},{"$f":"'UD1 CropScenarios'!AV32","v":53.615169195705469},{"$f":"'UD1 CropScenarios'!AW32","v":8586932.2232292145},{"$f":"'UD1 CropScenarios'!AX32","v":134.93750636503052},{"$f":"'UD1 CropScenarios'!AY32","v":40.211376896779093},{"$f":"'UD1 CropScenarios'!AZ32","v":40.211376896779093},{"$f":"'UD1 CropScenarios'!BA32","v":13.403792298926376},{"$f":"'UD1 CropScenarios'!BB32","v":97.606061217838146},{"$f":"'UD1 CropScenarios'!BD32","v":25.748323290670992},{"$f":"'UD1 CropScenarios'!BE32","v":85.827744302236638},{"$f":"'UD1 CropScenarios'!BF32","v":20.598658632536797},{"$f":"'UD1 CropScenarios'!BG32","v":132.17472622544443},{"$f":"'UD1 CropScenarios'!BH32","v":66.087363112722215},{"$f":"'UD1 CropScenarios'!BI32","v":1156528.8544726388},{"$f":"'UD1 CropScenarios'!BJ32","v":5.4158594070875861},{"$f":"'UD1 CropScenarios'!BL32","v":103.02192062492573},{"$f":"'UD1 CropScenarios'!BN32","v":8586932.2232292145},{"$f":"'UD1 CropScenarios'!BO32","v":2665224},{"$f":"'UD1 CropScenarios'!BP32","v":2118597.354472639},{"$f":"'UD1 CropScenarios'!BQ32","v":20.152199464845634},{"$f":"'UD1 CropScenarios'!BR32","v":6.0053554405239984},{"$f":"'UD1 CropScenarios'!BS32","v":47.275164435445831},{"$f":"'UD1 CropScenarios'!BT32","v":14.087999001762856},{"$f":"'UD1 CropScenarios'!BU32","v":20.093354442286856},{"$f":"'UD1 CropScenarios'!BV32","v":2.0544922491388533},{"$f":"'UD1 CropScenarios'!BW32","v":100.96742837578688},{"$f":"'UD1 CropScenarios'!BY32","v":100.57255337578688}]
[{"$f":"'UD1 CropScenarios'!A33","v":2035},{"$f":"'UD1 CropScenarios'!B33","v":44000},{"$f":"'UD1 CropScenarios'!C33","v":4400},{"$f":"'UD1 CropScenarios'!D33","v":77.22},{"$f":"'UD1 CropScenarios'!E33","v":1.9305000000000001},{"$f":"'UD1 CropScenarios'!F33","v":11449242.964305623},{"$f":"'UD1 CropScenarios'!G33","v":2665224},{"$f":"'UD1 CropScenarios'!H33","v":3816834.4316734448},{"$f":"'UD1 CropScenarios'!I33","v":179.91667515337406},{"$f":"'UD1 CropScenarios'!J33","v":41.882091428571428},{"$f":"'UD1 CropScenarios'!K33","v":59.97882678343985},{"$f":"'UD1 CropScenarios'!L33","v":53.615169195705469},{"$f":"'UD1 CropScenarios'!M33","v":12.480863245714286},{"$f":"'UD1 CropScenarios'!N33","v":17.873690381465074},{"$f":"'UD1 CropScenarios'!O33","v":83.969722822884819},{"$f":"'UD1 CropScenarios'!P33","v":10977.74},{"$f":"'UD1 CropScenarios'!Q33","v":447433.09649999999},{"$f":"'UD1 CropScenarios'!R33","v":0.34501468571428567},{"$f":"'UD1 CropScenarios'!S33","v":7.0310915164285719},{"$f":"'UD1 CropScenarios'!T33","v":0.10281437634285713},{"$f":"'UD1 CropScenarios'!U33","v":2.0952652718957143},{"$f":"'UD1 CropScenarios'!V33","v":2.1980796482385716},{"$f":"'UD1 CropScenarios'!W33","v":86.167802471123395},{"$f":"'UD1 CropScenarios'!X33","v":11449242.964305623},{"$f":"'UD1 CropScenarios'!Y33","v":2665224},{"$f":"'UD1 CropScenarios'!Z33","v":962068.5},{"$f":"'UD1 CropScenarios'!AA33","v":21.015311372480269},{"$f":"'UD1 CropScenarios'!AB33","v":6.2625627889991202},{"$f":"'UD1 CropScenarios'!AC33","v":53.306321820223452},{"$f":"'UD1 CropScenarios'!AD33","v":15.885283902426588},{"$f":"'UD1 CropScenarios'!AE33","v":22.147846691425709},{"$f":"'UD1 CropScenarios'!AF33","v":110.2461491625491},{"$f":"'UD1 CropScenarios'!AN33","v":44000},{"$f":"'UD1 CropScenarios'!AO33","v":7.0000000000000007E-2},{"$f":"'UD1 CropScenarios'!AP33","v":3080.0000000000005},{"$f":"'UD1 CropScenarios'!AQ33","v":54.054000000000016},{"$f":"'UD1 CropScenarios'!AR33","v":1.3513500000000003},{"$f":"'UD1 CropScenarios'!AS33","v":0.57914999999999983},{"$f":"'UD1 CropScenarios'!AT33","v":109.6669991625491},{"$f":"'UD1 CropScenarios'!AV33","v":53.615169195705469},{"$f":"'UD1 CropScenarios'!AW33","v":8014470.0750139328},{"$f":"'UD1 CropScenarios'!AX33","v":125.9416726073618},{"$f":"'UD1 CropScenarios'!AY33","v":37.530618436993812},{"$f":"'UD1 CropScenarios'!AZ33","v":37.530618436993812},{"$f":"'UD1 CropScenarios'!BA33","v":16.084550758711657},{"$f":"'UD1 CropScenarios'!BB33","v":95.838297529244386},{"$f":"'UD1 CropScenarios'!BD33","v":33.166267703120177},{"$f":"'UD1 CropScenarios'!BE33","v":110.55422567706727},{"$f":"'UD1 CropScenarios'!BF33","v":26.533014162496141},{"$f":"'UD1 CropScenarios'!BG33","v":170.25350754268356},{"$f":"'UD1 CropScenarios'!BH33","v":85.126753771341782},{"$f":"'UD1 CropScenarios'!BI33","v":1489718.1909984814},{"$f":"'UD1 CropScenarios'!BJ33","v":6.9761374715614597},{"$f":"'UD1 CropScenarios'!BL33","v":102.81443500080584},{"$f":"'UD1 CropScenarios'!BN33","v":8014470.0750139328},{"$f":"'UD1 CropScenarios'!BO33","v":2665224},{"$f":"'UD1 CropScenarios'!BP33","v":2451786.6909984816},{"$f":"'UD1 CropScenarios'!BQ33","v":20.299782575302839},{"$f":"'UD1 CropScenarios'!BR33","v":6.0493352074402456},{"$f":"'UD1 CropScenarios'!BS33","v":46.42916413697246},{"$f":"'UD1 CropScenarios'!BT33","v":13.835890912817792},{"$f":"'UD1 CropScenarios'!BU33","v":19.885226120258039},{"$f":"'UD1 CropScenarios'!BV33","v":2.2626205711676697},{"$f":"'UD1 CropScenarios'!BW33","v":100.55181442963817},{"$f":"'UD1 CropScenarios'!BY33","v":99.972664429638172}]
[{"$f":"'UD1 CropScenarios'!A34","v":2040},{"$f":"'UD1 CropScenarios'!B34","v":43000},{"$f":"'UD1 CropScenarios'!C34","v":4300},{"$f":"'UD1 CropScenarios'!D34","v":75.465000000000003},{"$f":"'UD1 CropScenarios'!E34","v":1.886625},{"$f":"'UD1 CropScenarios'!F34","v":11449242.964305623},{"$f":"'UD1 CropScenarios'!G34","v":2665224},{"$f":"'UD1 CropScenarios'!H34","v":3922135.7595364386},{"$f":"'UD1 CropScenarios'!I34","v":179.91667515337406},{"$f":"'UD1 CropScenarios'!J34","v":41.882091428571428},{"$f":"'UD1 CropScenarios'!K34","v":61.633561935572608},{"$f":"'UD1 CropScenarios'!L34","v":53.615169195705469},{"$f":"'UD1 CropScenarios'!M34","v":12.480863245714286},{"$f":"'UD1 CropScenarios'!N34","v":18.366801456800637},{"$f":"'UD1 CropScenarios'!O34","v":84.462833898220396},{"$f":"'UD1 CropScenarios'!P34","v":10977.74},{"$f":"'UD1 CropScenarios'!Q34","v":451276.5465},{"$f":"'UD1 CropScenarios'!R34","v":0.34501468571428567},{"$f":"'UD1 CropScenarios'!S34","v":7.0914885878571434},{"$f":"'UD1 CropScenarios'!T34","v":0.10281437634285713},{"$f":"'UD1 CropScenarios'!U34","v":2.1132635991814288},{"$f":"'UD1 CropScenarios'!V34","v":2.2160779755242861},{"$f":"'UD1 CropScenarios'!W34","v":86.678911873744681},{"$f":"'UD1 CropScenarios'!X34","v":11449242.964305623},{"$f":"'UD1 CropScenarios'!Y34","v":2665224},{"$f":"'UD1 CropScenarios'!Z34","v":962068.5},{"$f":"'UD1 CropScenarios'!AA34","v":21.015311372480269},{"$f":"'UD1 CropScenarios'!AB34","v":6.2625627889991202},{"$f":"'UD1 CropScenarios'!AC34","v":53.306321820223452},{"$f":"'UD1 CropScenarios'!AD34","v":15.885283902426588},{"$f":"'UD1 CropScenarios'!AE34","v":22.147846691425709},{"$f":"'UD1 CropScenarios'!AF34","v":110.71338356517039},{"$f":"'UD1 CropScenarios'!AN34","v":43000},{"$f":"'UD1 CropScenarios'!AO34","v":0.06},{"$f":"'UD1 CropScenarios'!AP34","v":2580},{"$f":"'UD1 CropScenarios'!AQ34","v":45.279000000000003},{"$f":"'UD1 CropScenarios'!AR34","v":1.1319750000000002},{"$f":"'UD1 CropScenarios'!AS34","v":0.75464999999999982},{"$f":"'UD1 CropScenarios'!AT34","v":109.95873356517039},{"$f":"'UD1 CropScenarios'!AV34","v":53.615169195705469},{"$f":"'UD1 CropScenarios'!AW34","v":7442007.926798651},{"$f":"'UD1 CropScenarios'!AX34","v":116.94583884969309},{"$f":"'UD1 CropScenarios'!AY34","v":34.849859977208546},{"$f":"'UD1 CropScenarios'!AZ34","v":34.849859977208546},{"$f":"'UD1 CropScenarios'!BA34","v":18.765309218496924},{"$f":"'UD1 CropScenarios'!BB34","v":94.062540386832893},{"$f":"'UD1 CropScenarios'!BD34","v":41.849416554065328},{"$f":"'UD1 CropScenarios'!BE34","v":139.49805518021773},{"$f":"'UD1 CropScenarios'!BF34","v":33.479533243252256},{"$f":"'UD1 CropScenarios'!BG34","v":214.82700497753532},{"$f":"'UD1 CropScenarios'!BH34","v":107.41350248876766},{"$f":"'UD1 CropScenarios'!BI34","v":1879736.2935534343},{"$f":"'UD1 CropScenarios'!BJ34","v":8.8025365289545121},{"$f":"'UD1 CropScenarios'!BL34","v":102.8650769157874},{"$f":"'UD1 CropScenarios'!BN34","v":7442007.926798651},{"$f":"'UD1 CropScenarios'!BO34","v":2665224},{"$f":"'UD1 CropScenarios'!BP34","v":2841804.7935534343},{"$f":"'UD1 CropScenarios'!BQ34","v":20.625970378994392},{"$f":"'UD1 CropScenarios'!BR34","v":6.1465391729403294},{"$f":"'UD1 CropScenarios'!BS34","v":45.784094118387721},{"$f":"'UD1 CropScenarios'!BT34","v":13.643660047279539},{"$f":"'UD1 CropScenarios'!BU34","v":19.790199220219868},{"$f":"'UD1 CropScenarios'!BV34","v":2.3576474712058406},{"$f":"'UD1 CropScenarios'!BW34","v":100.50742944458156},{"$f":"'UD1 CropScenarios'!BY34","v":99.752779444581563}]
[{"$f":"'UD1 CropScenarios'!A35","v":2045},{"$f":"'UD1 CropScenarios'!B35","v":42000},{"$f":"'UD1 CropScenarios'!C35","v":4200},{"$f":"'UD1 CropScenarios'!D35","v":73.709999999999994},{"$f":"'UD1 CropScenarios'!E35","v":1.8427499999999997},{"$f":"'UD1 CropScenarios'!F35","v":11449242.964305623},{"$f":"'UD1 CropScenarios'!G35","v":2665224},{"$f":"'UD1 CropScenarios'!H35","v":4040586.2370510357},{"$f":"'UD1 CropScenarios'!I35","v":179.91667515337406},{"$f":"'UD1 CropScenarios'!J35","v":41.882091428571428},{"$f":"'UD1 CropScenarios'!K35","v":63.494926582230569},{"$f":"'UD1 CropScenarios'!L35","v":53.615169195705469},{"$f":"'UD1 CropScenarios'!M35","v":12.480863245714286},{"$f":"'UD1 CropScenarios'!N35","v":18.921488121504709},{"$f":"'UD1 CropScenarios'!O35","v":85.01752056292446},{"$f":"'UD1 CropScenarios'!P35","v":11047.017},{"$f":"'UD1 CropScenarios'!Q35","v":457682.2965},{"$f":"'UD1 CropScenarios'!R35","v":0.34719196285714282},{"$f":"'UD1 CropScenarios'!S35","v":7.1921503735714287},{"$f":"'UD1 CropScenarios'!T35","v":0.10346320493142856},{"$f":"'UD1 CropScenarios'!U35","v":2.1432608113242857},{"$f":"'UD1 CropScenarios'!V35","v":2.2467240162557141},{"$f":"'UD1 CropScenarios'!W35","v":87.264244579180172},{"$f":"'UD1 CropScenarios'!X35","v":11449242.964305623},{"$f":"'UD1 CropScenarios'!Y35","v":2665224},{"$f":"'UD1 CropScenarios'!Z35","v":962068.5},{"$f":"'UD1 CropScenarios'!AA35","v":21.015311372480269},{"$f":"'UD1 CropScenarios'!AB35","v":6.2625627889991202},{"$f":"'UD1 CropScenarios'!AC35","v":53.306321820223452},{"$f":"'UD1 CropScenarios'!AD35","v":15.885283902426588},{"$f":"'UD1 CropScenarios'!AE35","v":22.147846691425709},{"$f":"'UD1 CropScenarios'!AF35","v":111.25484127060588},{"$f":"'UD1 CropScenarios'!AN35","v":42000},{"$f":"'UD1 CropScenarios'!AO35","v":0.06},{"$f":"'UD1 CropScenarios'!AP35","v":2520},{"$f":"'UD1 CropScenarios'!AQ35","v":44.225999999999999},{"$f":"'UD1 CropScenarios'!AR35","v":1.10565},{"$f":"'UD1 CropScenarios'!AS35","v":0.73709999999999964},{"$f":"'UD1 CropScenarios'!AT35","v":110.51774127060588},{"$f":"'UD1 CropScenarios'!AV35","v":53.615169195705469},{"$f":"'UD1 CropScenarios'!AW35","v":6869545.7785833692},{"$f":"'UD1 CropScenarios'!AX35","v":107.95000509202438},{"$f":"'UD1 CropScenarios'!AY35","v":32.169101517423265},{"$f":"'UD1 CropScenarios'!AZ35","v":32.169101517423265},{"$f":"'UD1 CropScenarios'!BA35","v":21.446067678282205},{"$f":"'UD1 CropScenarios'!BB35","v":92.343190732854481},{"$f":"'UD1 CropScenarios'!BD35","v":51.980779622771799},{"$f":"'UD1 CropScenarios'!BE35","v":173.26926540923935},{"$f":"'UD1 CropScenarios'!BF35","v":41.584623698217442},{"$f":"'UD1 CropScenarios'!BG35","v":266.8346687302286},{"$f":"'UD1 CropScenarios'!BH35","v":133.4173343651143},{"$f":"'UD1 CropScenarios'!BI35","v":2334803.3513895008},{"$f":"'UD1 CropScenarios'!BJ35","v":10.933550551221119},{"$f":"'UD1 CropScenarios'!BL35","v":103.2767412840756},{"$f":"'UD1 CropScenarios'!BN35","v":6869545.7785833692},{"$f":"'UD1 CropScenarios'!BO35","v":2665224},{"$f":"'UD1 CropScenarios'!BP35","v":3296871.8513895008},{"$f":"'UD1 CropScenarios'!BQ35","v":21.156597756426585},{"$f":"'UD1 CropScenarios'!BR35","v":6.3046661314151224},{"$f":"'UD1 CropScenarios'!BS35","v":45.369018620261215},{"$f":"'UD1 CropScenarios'!BT35","v":13.519967548837842},{"$f":"'UD1 CropScenarios'!BU35","v":19.824633680252965},{"$f":"'UD1 CropScenarios'!BV35","v":2.3232130111727436},{"$f":"'UD1 CropScenarios'!BW35","v":100.95352827290286},{"$f":"'UD1 CropScenarios'!BY35","v":100.21642827290286}]
[{"$f":"'UD1 CropScenarios'!A36","v":2050},{"$f":"'UD1 CropScenarios'!B36","v":40000},{"$f":"'UD1 CropScenarios'!C36","v":4000},{"$f":"'UD1 CropScenarios'!D36","v":70.2},{"$f":"'UD1 CropScenarios'!E36","v":1.7549999999999999},{"$f":"'UD1 CropScenarios'!F36","v":11449242.964305623},{"$f":"'UD1 CropScenarios'!G36","v":2665224},{"$f":"'UD1 CropScenarios'!H36","v":4159036.7145656329},{"$f":"'UD1 CropScenarios'!I36","v":179.91667515337406},{"$f":"'UD1 CropScenarios'!J36","v":41.882091428571428},{"$f":"'UD1 CropScenarios'!K36","v":65.356291228888523},{"$f":"'UD1 CropScenarios'!L36","v":53.615169195705469},{"$f":"'UD1 CropScenarios'!M36","v":12.480863245714286},{"$f":"'UD1 CropScenarios'!N36","v":19.47617478620878},{"$f":"'UD1 CropScenarios'!O36","v":85.572207227628525},{"$f":"'UD1 CropScenarios'!P36","v":11116.294},{"$f":"'UD1 CropScenarios'!Q36","v":464088.0465},{"$f":"'UD1 CropScenarios'!R36","v":0.34936923999999997},{"$f":"'UD1 CropScenarios'!S36","v":7.292812159285714},{"$f":"'UD1 CropScenarios'!T36","v":0.10411203351999999},{"$f":"'UD1 CropScenarios'!U36","v":2.1732580234671426},{"$f":"'UD1 CropScenarios'!V36","v":2.2773700569871425},{"$f":"'UD1 CropScenarios'!W36","v":87.849577284615663},{"$f":"'UD1 CropScenarios'!X36","v":11449242.964305623},{"$f":"'UD1 CropScenarios'!Y36","v":2665224},{"$f":"'UD1 CropScenarios'!Z36","v":962068.5},{"$f":"'UD1 CropScenarios'!AA36","v":21.015311372480269},{"$f":"'UD1 CropScenarios'!AB36","v":6.2625627889991202},{"$f":"'UD1 CropScenarios'!AC36","v":53.306321820223452},{"$f":"'UD1 CropScenarios'!AD36","v":15.885283902426588},{"$f":"'UD1 CropScenarios'!AE36","v":22.147846691425709},{"$f":"'UD1 CropScenarios'!AF36","v":111.75242397604137},{"$f":"'UD1 CropScenarios'!AN36","v":40000},{"$f":"'UD1 CropScenarios'!AO36","v":0.05},{"$f":"'UD1 CropScenarios'!AP36","v":2000},{"$f":"'UD1 CropScenarios'!AQ36","v":35.1},{"$f":"'UD1 CropScenarios'!AR36","v":0.87749999999999995},{"$f":"'UD1 CropScenarios'!AS36","v":0.87749999999999995},{"$f":"'UD1 CropScenarios'!AT36","v":110.87492397604137},{"$f":"'UD1 CropScenarios'!AV36","v":53.615169195705469},{"$f":"'UD1 CropScenarios'!AW36","v":6297083.6303680874},{"$f":"'UD1 CropScenarios'!AX36","v":98.954171334355664},{"$f":"'UD1 CropScenarios'!AY36","v":29.488343057637987},{"$f":"'UD1 CropScenarios'!AZ36","v":29.488343057637987},{"$f":"'UD1 CropScenarios'!BA36","v":24.126826138067482},{"$f":"'UD1 CropScenarios'!BB36","v":90.579966078876069},{"$f":"'UD1 CropScenarios'!BD36","v":63.767756574302318},{"$f":"'UD1 CropScenarios'!BE36","v":212.55918858100773},{"$f":"'UD1 CropScenarios'!BF36","v":51.014205259441852},{"$f":"'UD1 CropScenarios'!BG36","v":327.34115041475189},{"$f":"'UD1 CropScenarios'!BH36","v":163.67057520737595},{"$f":"'UD1 CropScenarios'!BI36","v":2864235.0661290796},{"$f":"'UD1 CropScenarios'!BJ36","v":13.41280363824446},{"$f":"'UD1 CropScenarios'!BL36","v":103.99276971712052},{"$f":"'UD1 CropScenarios'!BN36","v":6297083.6303680874},{"$f":"'UD1 CropScenarios'!BO36","v":2665224},{"$f":"'UD1 CropScenarios'!BP36","v":3826303.5661290796},{"$f":"'UD1 CropScenarios'!BQ36","v":21.920942626984104},{"$f":"'UD1 CropScenarios'!BR36","v":6.5324409028412624},{"$f":"'UD1 CropScenarios'!BS36","v":45.216875301900693},{"$f":"'UD1 CropScenarios'!BT36","v":13.474628839966407},{"$f":"'UD1 CropScenarios'!BU36","v":20.007069742807669},{"$f":"'UD1 CropScenarios'!BV36","v":2.1407769486180399},{"$f":"'UD1 CropScenarios'!BW36","v":101.85199276850248},{"$f":"'UD1 CropScenarios'!BY36","v":100.97449276850249}]

{"sheet":"All UD2 Plots","index":24,"n_rows":32,"n_cols":65,"rows_kept":32,"cut":false,"hidden":true,"merged":[]}
["Year","Area of sugar cane available (ha)","Area of sugar cane burnt (ha)","GHG Emissions from burnt sugar cane (tCH4)","GHG Emissions from burnt sugar cane (GgCO2e)","Nitrogen from Chemical Fertilizers (kgN/yr)","Nitrogen from Crop Residues (kgN/yr)","Nitrogen from Manure (kgN/yr)","N2O Emissions from Chemical Fertilizers (t/yr)","N2O Emissions from Crop Residues (t/yr)","N2O Emissions from Manure (t/yr)","CO2e Emissions from Chemical Fertilizer  (Gg/yr)","CO2e Emissions from Crop Residues (Gg/yr)","CO2e Emissions from Manure (Gg/yr)","Total CO2e Emissions from Chemical Fertilizers, Crop Residues and Manure (Gg/yr)","Nitrogen from (Cattle, Poultry, Pigs) (kgN/yr)","Nitrogen from (Sheep & Other sources) (kgN/yr)","N2O Emissions from (Cattle, Poultry, Pigs) (t/yr)","N2O Emissions from (Sheep & Other sources)  (t/yr)","CO2e Emissions from (Cattle, Poultry, Pigs) (Gg/yr)","CO2e Emissions from (Sheep & Other sources) (Gg/yr)","Total CO2e Emissions animal sources (Gg/yr)","Total  CO2e Emissions from Direct sources (Gg/yr)","Nitrogen from Indirect Fertilizers (kg N/yr)","Nitrogen from Indirect Crop Residues (kg N/yr)","Nitrogen from Indirect Manure (kg N/yr)","N2O Volatilised from Indirect sources (t/yr)","CO2e Volatilised from Indirect sources (Gg/yr)","N2O leached from Indirect sources (y/yr)","CO2e leached from Indirect sources (Gg/yr)"," Total  CO2e Emissions from Indirect sources (Gg/yr)  ","Total  CO2e Emissions from Managed Soils (Gg/yr)","Area of sugar cane available (ha)","Percentage of sugar cane area burnt (%)","Area of sugar cane burnt (ha)","GHG Emissions from burnt sugar cane (tCH4)","GHG Emissions from burnt sugar cane (Gg CO2e)","Reduction in GHG Emissions due to Scenario (Gg CO2e)","GHG Emissions (Nett) due to Reduced Crop Burn Scenario (Gg CO2e)"," (BAU Scenario) CO2e Emissions from Chemical Fertilizers (Gg/yr)","Nitrogen from Reduction in Chemical Fertilizers  (kg N/yr)","N2O Emissions from Reduction in Chemical Fertilizers (t)","CO2e Emissions from Reduction in Chemical Fertilizers (Gg)","GHG Emissions due to Scenario (Gg CO2e)","Reduction in GHG Emissions due to Scenario (Gg CO2e)","GHG Emissions (Nett) due to Reduced Fertilizer Use Scenario (Gg CO2e)","Organic waste composted from Food (Gg)","Organic waste composted from Garden (Gg)","Organic waste composted from Paper (Gg)","Total Organic waste from MSW (Gg)","Total Compost from MSW (Gg)","Total Nitrogen in Compost from MSW (kg)","Total CO2e Emissions due to Scenario (Gg CO2e)"," GHG Emissions (Nett) due to Biofarming Scenario (Gg CO2e) ","Nitrogen from Reduction of Fertilizers (KgN/yr)","Nitrogen from Crop Residues (kgN/yr)","SC3 :Nitrogen from Manure incl Biofarming sources (kg N/yr)","N2O Volatilised from Indirect sources (t/yr)","CO2e Volatilised from Indirect sources (Gg/yr)  ","N2O leached from Indirect sources (y/yr)","CO2e leached from Indirect sources (Gg/yr)","Total  CO2e Emissions from Indirect sources (Gg/yr)  ","Reduction in GHG Emissions due to Scenario (Gg CO2e)","Total CO2e Emissions with Biofarming (Reduced Fertilizers + Compost)  ","GHG Emissions under Biofarming and Crop Burn Reduction "]
["UD2","BAU ","BAU ","BAU ","BAU ","BAU ","BAU ","BAU ","BAU ","BAU ","BAU ","BAU ","BAU ","BAU ","BAU ","BAU ","BAU ","BAU ","BAU ","BAU ","BAU ","BAU ","BAU ","BAU ","BAU ","BAU ","BAU ","BAU ","BAU ","BAU ","BAU ","BAU ","SC1","SC1","SC1","SC1","SC1","SC1","SC1","SC2","SC2","SC2","SC2","SC2","SC2","SC2","SC3 ","SC3 ","SC3","SC3","SC3","SC3","SC3","SC3","SC3","SC3","SC3","SC3","SC3","SC3","SC3","SC3","SC3","SC3","SC4 "]
[null,1,2,3,4,5,6,7,8,9,10,11,12,13,14,15,16,17,18,19,20,21,22,23,24,25,26,27,28,29,30,31,32,33,34,35,36,37,38,39,40,41,42,43,44,45,46,47,48,49,50,51,52,53,54,55,56,57,58,59,60,61,62,63,64]
[{"$f":"'UD2 CropScenarios'!A8","v":2006},{"$f":"'UD2 CropScenarios'!B8","v":70800},{"$f":"'UD2 CropScenarios'!C8","v":7080},{"$f":"'UD2 CropScenarios'!D8","v":124.25400000000002},{"$f":"'UD2 CropScenarios'!E8","v":3.1063500000000004},{"$f":"'UD2 CropScenarios'!F8","v":7526219},{"$f":"'UD2 CropScenarios'!G8","v":3316504},{"$f":"'UD2 CropScenarios'!H8","v":2933111.5548999999},{"$f":"'UD2 CropScenarios'!I8","v":118.26915571428572},{"$f":"'UD2 CropScenarios'!J8","v":52.116491428571429},{"$f":"'UD2 CropScenarios'!K8","v":46.091753005571427},{"$f":"'UD2 CropScenarios'!L8","v":35.24420840285714},{"$f":"'UD2 CropScenarios'!M8","v":15.530714445714286},{"$f":"'UD2 CropScenarios'!N8","v":13.735342395660286},{"$f":"'UD2 CropScenarios'!O8","v":64.510265244231718},{"$f":"'UD2 CropScenarios'!P8","v":0},{"$f":"'UD2 CropScenarios'!Q8","v":451428.39},{"$f":"'UD2 CropScenarios'!R8","v":0},{"$f":"'UD2 CropScenarios'!S8","v":7.0938747000000006},{"$f":"'UD2 CropScenarios'!T8","v":0},{"$f":"'UD2 CropScenarios'!U8","v":2.1139746606000003},{"$f":"'UD2 CropScenarios'!V8","v":2.1139746606000003},{"$f":"'UD2 CropScenarios'!W8","v":66.624239904831711},{"$f":"'UD2 CropScenarios'!X8","v":7526219},{"$f":"'UD2 CropScenarios'!Y8","v":3316504},{"$f":"'UD2 CropScenarios'!Z8","v":962068.5},{"$f":"'UD2 CropScenarios'!AA8","v":14.850559428571431},{"$f":"'UD2 CropScenarios'!AB8","v":4.4254667097142866},{"$f":"'UD2 CropScenarios'!AC8","v":41.73836994642857},{"$f":"'UD2 CropScenarios'!AD8","v":12.438034244035714},{"$f":"'UD2 CropScenarios'!AE8","v":16.863500953750002},{"$f":"'UD2 CropScenarios'!AF8","v":86.594090858581723},{"$f":"'UD2 CropScenarios'!AN8","v":70800},{"$f":"'UD2 CropScenarios'!AO8","v":0.1},{"$f":"'UD2 CropScenarios'!AP8","v":7080},{"$f":"'UD2 CropScenarios'!AQ8","v":124.25400000000002},{"$f":"'UD2 CropScenarios'!AR8","v":3.1063500000000004},{"$f":"'UD2 CropScenarios'!AS8","v":0},{"$f":"'UD2 CropScenarios'!AT8","v":86.594090858581723},{"$f":"'UD2 CropScenarios'!AV8","v":35.24420840285714},{"$f":"'UD2 CropScenarios'!AW8","v":7526219},{"$f":"'UD2 CropScenarios'!AX8","v":118.26915571428572},{"$f":"'UD2 CropScenarios'!AY8","v":35.24420840285714},{"$f":"'UD2 CropScenarios'!AZ8","v":35.24420840285714},{"$f":"'UD2 CropScenarios'!BA8","v":0},{"$f":"'UD2 CropScenarios'!BB8","v":86.594090858581723},{"$f":"'UD2 CropScenarios'!BD8","v":0},{"$f":"'UD2 CropScenarios'!BE8","v":0},{"$f":"'UD2 CropScenarios'!BF8","v":0},{"$f":"'UD2 CropScenarios'!BG8","v":0},{"$f":"'UD2 CropScenarios'!BH8","v":0},{"$f":"'UD2 CropScenarios'!BI8","v":0},{"$f":"'UD2 CropScenarios'!BJ8","v":0},{"$f":"'UD2 CropScenarios'!BL8","v":86.594090858581723},{"$f":"'UD2 CropScenarios'!BN8","v":7526219},{"$f":"'UD2 CropScenarios'!BO8","v":3316504},{"$f":"'UD2 CropScenarios'!BP8","v":962068.5},{"$f":"'UD2 CropScenarios'!BQ8","v":14.850559428571431},{"$f":"'UD2 CropScenarios'!BR8","v":4.4254667097142866},{"$f":"'UD2 CropScenarios'!BS8","v":41.73836994642857},{"$f":"'UD2 CropScenarios'!BT8","v":12.438034244035714},{"$f":"'UD2 CropScenarios'!BU8","v":16.863500953750002},{"$f":"'UD2 CropScenarios'!BV8","v":0},{"$f":"'UD2 CropScenarios'!BW8","v":86.594090858581723},{"$f":"'UD2 CropScenarios'!BY8","v":86.594090858581723}]
[{"$f":"'UD2 CropScenarios'!A9","v":2007},{"$f":"'UD2 CropScenarios'!B9","v":68520},{"$f":"'UD2 CropScenarios'!C9","v":6852},{"$f":"'UD2 CropScenarios'!D9","v":120.2526},{"$f":"'UD2 CropScenarios'!E9","v":3.0063149999999998},{"$f":"'UD2 CropScenarios'!F9","v":7267732},{"$f":"'UD2 CropScenarios'!G9","v":3208625},{"$f":"'UD2 CropScenarios'!H9","v":2990028.0913},{"$f":"'UD2 CropScenarios'!I9","v":114.20721714285715},{"$f":"'UD2 CropScenarios'!J9","v":50.421250000000001},{"$f":"'UD2 CropScenarios'!K9","v":46.98615572042857},{"$f":"'UD2 CropScenarios'!L9","v":34.033750708571432},{"$f":"'UD2 CropScenarios'!M9","v":15.025532499999999},{"$f":"'UD2 CropScenarios'!N9","v":14.001874404687715},{"$f":"'UD2 CropScenarios'!O9","v":63.061157613259141},{"$f":"'UD2 CropScenarios'!P9","v":0},{"$f":"'UD2 CropScenarios'!Q9","v":409968},{"$f":"'UD2 CropScenarios'!R9","v":0},{"$f":"'UD2 CropScenarios'!S9","v":6.4423542857142859},{"$f":"'UD2 CropScenarios'!T9","v":0},{"$f":"'UD2 CropScenarios'!U9","v":1.9198215771428573},{"$f":"'UD2 CropScenarios'!V9","v":1.9198215771428573},{"$f":"'UD2 CropScenarios'!W9","v":64.980979190401996},{"$f":"'UD2 CropScenarios'!X9","v":7267732},{"$f":"'UD2 CropScenarios'!Y9","v":3208625},{"$f":"'UD2 CropScenarios'!Z9","v":962068.5},{"$f":"'UD2 CropScenarios'!AA9","v":14.444365571428575},{"$f":"'UD2 CropScenarios'!AB9","v":4.3044209402857154},{"$f":"'UD2 CropScenarios'!AC9","v":40.443004446428567},{"$f":"'UD2 CropScenarios'!AD9","v":12.052015325035713},{"$f":"'UD2 CropScenarios'!AE9","v":16.356436265321427},{"$f":"'UD2 CropScenarios'!AF9","v":84.343730455723431},{"$f":"'UD2 CropScenarios'!AN9","v":68520},{"$f":"'UD2 CropScenarios'!AO9","v":0.1},{"$f":"'UD2 CropScenarios'!AP9","v":6852},{"$f":"'UD2 CropScenarios'!AQ9","v":120.2526},{"$f":"'UD2 CropScenarios'!AR9","v":3.0063149999999998},{"$f":"'UD2 CropScenarios'!AS9","v":0},{"$f":"'UD2 CropScenarios'!AT9","v":84.343730455723431},{"$f":"'UD2 CropScenarios'!AV9","v":34.033750708571432},{"$f":"'UD2 CropScenarios'!AW9","v":7267732},{"$f":"'UD2 CropScenarios'!AX9","v":114.20721714285715},{"$f":"'UD2 CropScenarios'!AY9","v":34.033750708571432},{"$f":"'UD2 CropScenarios'!AZ9","v":34.033750708571432},{"$f":"'UD2 CropScenarios'!BA9","v":0},{"$f":"'UD2 CropScenarios'!BB9","v":84.343730455723431},{"$f":"'UD2 CropScenarios'!BD9","v":0},{"$f":"'UD2 CropScenarios'!BE9","v":0},{"$f":"'UD2 CropScenarios'!BF9","v":0},{"$f":"'UD2 CropScenarios'!BG9","v":0},{"$f":"'UD2 CropScenarios'!BH9","v":0},{"$f":"'UD2 CropScenarios'!BI9","v":0},{"$f":"'UD2 CropScenarios'!BJ9","v":0},{"$f":"'UD2 CropScenarios'!BL9","v":84.343730455723431},{"$f":"'UD2 CropScenarios'!BN9","v":7267732},{"$f":"'UD2 CropScenarios'!BO9","v":3208625},{"$f":"'UD2 CropScenarios'!BP9","v":962068.5},{"$f":"'UD2 CropScenarios'!BQ9","v":14.444365571428575},{"$f":"'UD2 CropScenarios'!BR9","v":4.3044209402857154},{"$f":"'UD2 CropScenarios'!BS9","v":40.443004446428567},{"$f":"'UD2 CropScenarios'!BT9","v":12.052015325035713},{"$f":"'UD2 CropScenarios'!BU9","v":16.356436265321427},{"$f":"'UD2 CropScenarios'!BV9","v":0},{"$f":"'UD2 CropScenarios'!BW9","v":84.343730455723431},{"$f":"'UD2 CropScenarios'!BY9","v":84.343730455723431}]
[{"$f":"'UD2 CropScenarios'!A10","v":2008},{"$f":"'UD2 CropScenarios'!B10","v":65440},{"$f":"'UD2 CropScenarios'!C10","v":6544},{"$f":"'UD2 CropScenarios'!D10","v":114.84720000000002},{"$f":"'UD2 CropScenarios'!E10","v":2.8711800000000003},{"$f":"'UD2 CropScenarios'!F10","v":6807140},{"$f":"'UD2 CropScenarios'!G10","v":3064362},{"$f":"'UD2 CropScenarios'!H10","v":2878426.2456999999},{"$f":"'UD2 CropScenarios'!I10","v":106.96934285714285},{"$f":"'UD2 CropScenarios'!J10","v":48.154259999999994},{"$f":"'UD2 CropScenarios'!K10","v":45.232412432428575},{"$f":"'UD2 CropScenarios'!L10","v":31.876864171428569},{"$f":"'UD2 CropScenarios'!M10","v":14.349969479999999},{"$f":"'UD2 CropScenarios'!N10","v":13.479258904863714},{"$f":"'UD2 CropScenarios'!O10","v":59.706092556292276},{"$f":"'UD2 CropScenarios'!P10","v":0},{"$f":"'UD2 CropScenarios'!Q10","v":409968},{"$f":"'UD2 CropScenarios'!R10","v":0},{"$f":"'UD2 CropScenarios'!S10","v":6.4423542857142859},{"$f":"'UD2 CropScenarios'!T10","v":0},{"$f":"'UD2 CropScenarios'!U10","v":1.9198215771428573},{"$f":"'UD2 CropScenarios'!V10","v":1.9198215771428573},{"$f":"'UD2 CropScenarios'!W10","v":61.625914133435131},{"$f":"'UD2 CropScenarios'!X10","v":6807140},{"$f":"'UD2 CropScenarios'!Y10","v":3064362},{"$f":"'UD2 CropScenarios'!Z10","v":962068.5},{"$f":"'UD2 CropScenarios'!AA10","v":13.720578142857143},{"$f":"'UD2 CropScenarios'!AB10","v":4.0887322865714291},{"$f":"'UD2 CropScenarios'!AC10","v":38.30440998214285},{"$f":"'UD2 CropScenarios'!AD10","v":11.414714174678569},{"$f":"'UD2 CropScenarios'!AE10","v":15.503446461249997},{"$f":"'UD2 CropScenarios'!AF10","v":80.00054059468512},{"$f":"'UD2 CropScenarios'!AN10","v":65440},{"$f":"'UD2 CropScenarios'!AO10","v":0.1},{"$f":"'UD2 CropScenarios'!AP10","v":6544},{"$f":"'UD2 CropScenarios'!AQ10","v":114.84720000000002},{"$f":"'UD2 CropScenarios'!AR10","v":2.8711800000000003},{"$f":"'UD2 CropScenarios'!AS10","v":0},{"$f":"'UD2 CropScenarios'!AT10","v":80.00054059468512},{"$f":"'UD2 CropScenarios'!AV10","v":31.876864171428569},{"$f":"'UD2 CropScenarios'!AW10","v":6807140},{"$f":"'UD2 CropScenarios'!AX10","v":106.96934285714285},{"$f":"'UD2 CropScenarios'!AY10","v":31.876864171428569},{"$f":"'UD2 CropScenarios'!AZ10","v":31.876864171428569},{"$f":"'UD2 CropScenarios'!BA10","v":0},{"$f":"'UD2 CropScenarios'!BB10","v":80.00054059468512},{"$f":"'UD2 CropScenarios'!BD10","v":0},{"$f":"'UD2 CropScenarios'!BE10","v":0},{"$f":"'UD2 CropScenarios'!BF10","v":0},{"$f":"'UD2 CropScenarios'!BG10","v":0},{"$f":"'UD2 CropScenarios'!BH10","v":0},{"$f":"'UD2 CropScenarios'!BI10","v":0},{"$f":"'UD2 CropScenarios'!BJ10","v":0},{"$f":"'UD2 CropScenarios'!BL10","v":80.00054059468512},{"$f":"'UD2 CropScenarios'!BN10","v":6807140},{"$f":"'UD2 CropScenarios'!BO10","v":3064362},{"$f":"'UD2 CropScenarios'!BP10","v":962068.5},{"$f":"'UD2 CropScenarios'!BQ10","v":13.720578142857143},{"$f":"'UD2 CropScenarios'!BR10","v":4.0887322865714291},{"$f":"'UD2 CropScenarios'!BS10","v":38.30440998214285},{"$f":"'UD2 CropScenarios'!BT10","v":11.414714174678569},{"$f":"'UD2 CropScenarios'!BU10","v":15.503446461249997},{"$f":"'UD2 CropScenarios'!BV10","v":0},{"$f":"'UD2 CropScenarios'!BW10","v":80.00054059468512},{"$f":"'UD2 CropScenarios'!BY10","v":80.00054059468512}]
[{"$f":"'UD2 CropScenarios'!A11","v":2009},{"$f":"'UD2 CropScenarios'!B11","v":65850},{"$f":"'UD2 CropScenarios'!C11","v":6585},{"$f":"'UD2 CropScenarios'!D11","v":115.56675000000001},{"$f":"'UD2 CropScenarios'!E11","v":2.8891687500000001},{"$f":"'UD2 CropScenarios'!F11","v":6616456},{"$f":"'UD2 CropScenarios'!G11","v":3013169},{"$f":"'UD2 CropScenarios'!H11","v":2637317.4032999999},{"$f":"'UD2 CropScenarios'!I11","v":103.97287999999999},{"$f":"'UD2 CropScenarios'!J11","v":47.349798571428572},{"$f":"'UD2 CropScenarios'!K11","v":41.443559194714283},{"$f":"'UD2 CropScenarios'!L11","v":30.983918239999994},{"$f":"'UD2 CropScenarios'!M11","v":14.110239974285713},{"$f":"'UD2 CropScenarios'!N11","v":12.350180640024856},{"$f":"'UD2 CropScenarios'!O11","v":57.444338854310558},{"$f":"'UD2 CropScenarios'!P11","v":67844.831250000003},{"$f":"'UD2 CropScenarios'!Q11","v":417977.60087999998},{"$f":"'UD2 CropScenarios'!R11","v":2.1322661250000001},{"$f":"'UD2 CropScenarios'!S11","v":6.5682194423999993},{"$f":"'UD2 CropScenarios'!T11","v":0.63541530525000012},{"$f":"'UD2 CropScenarios'!U11","v":1.9573293938351999},{"$f":"'UD2 CropScenarios'!V11","v":2.5927446990852001},{"$f":"'UD2 CropScenarios'!W11","v":60.03708355339576},{"$f":"'UD2 CropScenarios'!X11","v":6616456},{"$f":"'UD2 CropScenarios'!Y11","v":3013169},{"$f":"'UD2 CropScenarios'!Z11","v":962068.5},{"$f":"'UD2 CropScenarios'!AA11","v":13.420931857142858},{"$f":"'UD2 CropScenarios'!AB11","v":3.9994376934285714},{"$f":"'UD2 CropScenarios'!AC11","v":37.449202017857139},{"$f":"'UD2 CropScenarios'!AD11","v":11.159862201321427},{"$f":"'UD2 CropScenarios'!AE11","v":15.159299894749999},{"$f":"'UD2 CropScenarios'!AF11","v":78.085552198145763},{"$f":"'UD2 CropScenarios'!AN11","v":65850},{"$f":"'UD2 CropScenarios'!AO11","v":0.1},{"$f":"'UD2 CropScenarios'!AP11","v":6585},{"$f":"'UD2 CropScenarios'!AQ11","v":115.56675000000001},{"$f":"'UD2 CropScenarios'!AR11","v":2.8891687500000001},{"$f":"'UD2 CropScenarios'!AS11","v":0},{"$f":"'UD2 CropScenarios'!AT11","v":78.085552198145763},{"$f":"'UD2 CropScenarios'!AV11","v":30.983918239999994},{"$f":"'UD2 CropScenarios'!AW11","v":6616456},{"$f":"'UD2 CropScenarios'!AX11","v":103.97287999999999},{"$f":"'UD2 CropScenarios'!AY11","v":30.983918239999994},{"$f":"'UD2 CropScenarios'!AZ11","v":30.983918239999994},{"$f":"'UD2 CropScenarios'!BA11","v":0},{"$f":"'UD2 CropScenarios'!BB11","v":78.085552198145763},{"$f":"'UD2 CropScenarios'!BD11","v":0},{"$f":"'UD2 CropScenarios'!BE11","v":0},{"$f":"'UD2 CropScenarios'!BF11","v":0},{"$f":"'UD2 CropScenarios'!BG11","v":0},{"$f":"'UD2 CropScenarios'!BH11","v":0},{"$f":"'UD2 CropScenarios'!BI11","v":0},{"$f":"'UD2 CropScenarios'!BJ11","v":0},{"$f":"'UD2 CropScenarios'!BL11","v":78.085552198145763},{"$f":"'UD2 CropScenarios'!BN11","v":6616456},{"$f":"'UD2 CropScenarios'!BO11","v":3013169},{"$f":"'UD2 CropScenarios'!BP11","v":962068.5},{"$f":"'UD2 CropScenarios'!BQ11","v":13.420931857142859},{"$f":"'UD2 CropScenarios'!BR11","v":3.9994376934285718},{"$f":"'UD2 CropScenarios'!BS11","v":37.449202017857139},{"$f":"'UD2 CropScenarios'!BT11","v":11.159862201321427},{"$f":"'UD2 CropScenarios'!BU11","v":15.159299894749999},{"$f":"'UD2 CropScenarios'!BV11","v":0},{"$f":"'UD2 CropScenarios'!BW11","v":78.085552198145763},{"$f":"'UD2 CropScenarios'!BY11","v":78.085552198145763}]
[{"$f":"'UD2 CropScenarios'!A12","v":2010},{"$f":"'UD2 CropScenarios'!B12","v":64130},{"$f":"'UD2 CropScenarios'!C12","v":6413},{"$f":"'UD2 CropScenarios'!D12","v":112.54815000000001},{"$f":"'UD2 CropScenarios'!E12","v":2.8137037500000002},{"$f":"'UD2 CropScenarios'!F12","v":7468310},{"$f":"'UD2 CropScenarios'!G12","v":3012269},{"$f":"'UD2 CropScenarios'!H12","v":3508672.6663000002},{"$f":"'UD2 CropScenarios'!I12","v":117.35915714285714},{"$f":"'UD2 CropScenarios'!J12","v":47.335655714285721},{"$f":"'UD2 CropScenarios'!K12","v":55.136284756142857},{"$f":"'UD2 CropScenarios'!L12","v":34.973028828571429},{"$f":"'UD2 CropScenarios'!M12","v":14.106025402857146},{"$f":"'UD2 CropScenarios'!N12","v":16.430612857330573},{"$f":"'UD2 CropScenarios'!O12","v":65.509667088759144},{"$f":"'UD2 CropScenarios'!P12","v":10606.575150000001},{"$f":"'UD2 CropScenarios'!Q12","v":409968},{"$f":"'UD2 CropScenarios'!R12","v":0.3333495047142857},{"$f":"'UD2 CropScenarios'!S12","v":6.4423542857142859},{"$f":"'UD2 CropScenarios'!T12","v":9.9338152404857147E-2},{"$f":"'UD2 CropScenarios'!U12","v":1.9198215771428573},{"$f":"'UD2 CropScenarios'!V12","v":2.0191597295477144},{"$f":"'UD2 CropScenarios'!W12","v":67.528826818306854},{"$f":"'UD2 CropScenarios'!X12","v":7468310},{"$f":"'UD2 CropScenarios'!Y12","v":3012269},{"$f":"'UD2 CropScenarios'!Z12","v":962068.5},{"$f":"'UD2 CropScenarios'!AA12","v":14.759559571428571},{"$f":"'UD2 CropScenarios'!AB12","v":4.3983487522857141},{"$f":"'UD2 CropScenarios'!AC12","v":40.457932232142852},{"$f":"'UD2 CropScenarios'!AD12","v":12.05646380517857},{"$f":"'UD2 CropScenarios'!AE12","v":16.454812557464283},{"$f":"'UD2 CropScenarios'!AF12","v":86.797343125771135},{"$f":"'UD2 CropScenarios'!AN12","v":64130},{"$f":"'UD2 CropScenarios'!AO12","v":0.1},{"$f":"'UD2 CropScenarios'!AP12","v":6413},{"$f":"'UD2 CropScenarios'!AQ12","v":112.54815000000001},{"$f":"'UD2 CropScenarios'!AR12","v":2.8137037500000002},{"$f":"'UD2 CropScenarios'!AS12","v":0},{"$f":"'UD2 CropScenarios'!AT12","v":86.797343125771135},{"$f":"'UD2 CropScenarios'!AV12","v":34.973028828571429},{"$f":"'UD2 CropScenarios'!AW12","v":7468310},{"$f":"'UD2 CropScenarios'!AX12","v":117.35915714285714},{"$f":"'UD2 CropScenarios'!AY12","v":34.973028828571429},{"$f":"'UD2 CropScenarios'!AZ12","v":34.973028828571429},{"$f":"'UD2 CropScenarios'!BA12","v":0},{"$f":"'UD2 CropScenarios'!BB12","v":86.797343125771135},{"$f":"'UD2 CropScenarios'!BD12","v":0},{"$f":"'UD2 CropScenarios'!BE12","v":0},{"$f":"'UD2 CropScenarios'!BF12","v":0},{"$f":"'UD2 CropScenarios'!BG12","v":0},{"$f":"'UD2 CropScenarios'!BH12","v":0},{"$f":"'UD2 CropScenarios'!BI12","v":0},{"$f":"'UD2 CropScenarios'!BJ12","v":0},{"$f":"'UD2 CropScenarios'!BL12","v":86.797343125771135},{"$f":"'UD2 CropScenarios'!BN12","v":7468310},{"$f":"'UD2 CropScenarios'!BO12","v":3012269},{"$f":"'UD2 CropScenarios'!BP12","v":962068.5},{"$f":"'UD2 CropScenarios'!BQ12","v":14.759559571428571},{"$f":"'UD2 CropScenarios'!BR12","v":4.3983487522857141},{"$f":"'UD2 CropScenarios'!BS12","v":40.457932232142852},{"$f":"'UD2 CropScenarios'!BT12","v":12.05646380517857},{"$f":"'UD2 CropScenarios'!BU12","v":16.454812557464283},{"$f":"'UD2 CropScenarios'!BV12","v":0},{"$f":"'UD2 CropScenarios'!BW12","v":86.797343125771135},{"$f":"'UD2 CropScenarios'!BY12","v":86.797343125771135}]
[{"$f":"'UD2 CropScenarios'!A13","v":2011},{"$f":"'UD2 CropScenarios'!B13","v":61730},{"$f":"'UD2 CropScenarios'!C13","v":6173},{"$f":"'UD2 CropScenarios'!D13","v":108.33615},{"$f":"'UD2 CropScenarios'!E13","v":2.70840375},{"$f":"'UD2 CropScenarios'!F13","v":7834140},{"$f":"'UD2 CropScenarios'!G13","v":2902017},{"$f":"'UD2 CropScenarios'!H13","v":3528789},{"$f":"'UD2 CropScenarios'!I13","v":123.1079142857143},{"$f":"'UD2 CropScenarios'!J13","v":45.603124285714287},{"$f":"'UD2 CropScenarios'!K13","v":55.452398571428567},{"$f":"'UD2 CropScenarios'!L13","v":36.686158457142859},{"$f":"'UD2 CropScenarios'!M13","v":13.589731037142858},{"$f":"'UD2 CropScenarios'!N13","v":16.524814774285716},{"$f":"'UD2 CropScenarios'!O13","v":66.800704268571437},{"$f":"'UD2 CropScenarios'!P13","v":11286.422325},{"$f":"'UD2 CropScenarios'!Q13","v":420000},{"$f":"'UD2 CropScenarios'!R13","v":0.35471613021428566},{"$f":"'UD2 CropScenarios'!S13","v":6.6},{"$f":"'UD2 CropScenarios'!T13","v":0.10570540680385714},{"$f":"'UD2 CropScenarios'!U13","v":1.9667999999999999},{"$f":"'UD2 CropScenarios'!V13","v":2.0725054068038569},{"$f":"'UD2 CropScenarios'!W13","v":68.873209675375293},{"$f":"'UD2 CropScenarios'!X13","v":7834140},{"$f":"'UD2 CropScenarios'!Y13","v":2902017},{"$f":"'UD2 CropScenarios'!Z13","v":962068.5},{"$f":"'UD2 CropScenarios'!AA13","v":15.334435285714285},{"$f":"'UD2 CropScenarios'!AB13","v":4.5696617151428569},{"$f":"'UD2 CropScenarios'!AC13","v":41.361583017857143},{"$f":"'UD2 CropScenarios'!AD13","v":12.325751739321429},{"$f":"'UD2 CropScenarios'!AE13","v":16.895413454464286},{"$f":"'UD2 CropScenarios'!AF13","v":88.477026879839585},{"$f":"'UD2 CropScenarios'!AN13","v":61730},{"$f":"'UD2 CropScenarios'!AO13","v":0.1},{"$f":"'UD2 CropScenarios'!AP13","v":6173},{"$f":"'UD2 CropScenarios'!AQ13","v":108.33615},{"$f":"'UD2 CropScenarios'!AR13","v":2.70840375},{"$f":"'UD2 CropScenarios'!AS13","v":0},{"$f":"'UD2 CropScenarios'!AT13","v":88.477026879839585},{"$f":"'UD2 CropScenarios'!AV13","v":36.686158457142859},{"$f":"'UD2 CropScenarios'!AW13","v":7834140},{"$f":"'UD2 CropScenarios'!AX13","v":123.1079142857143},{"$f":"'UD2 CropScenarios'!AY13","v":36.686158457142859},{"$f":"'UD2 CropScenarios'!AZ13","v":36.686158457142859},{"$f":"'UD2 CropScenarios'!BA13","v":0},{"$f":"'UD2 CropScenarios'!BB13","v":88.477026879839585},{"$f":"'UD2 CropScenarios'!BD13","v":0},{"$f":"'UD2 CropScenarios'!BE13","v":0},{"$f":"'UD2 CropScenarios'!BF13","v":0},{"$f":"'UD2 CropScenarios'!BG13","v":0},{"$f":"'UD2 CropScenarios'!BH13","v":0},{"$f":"'UD2 CropScenarios'!BI13","v":0},{"$f":"'UD2 CropScenarios'!BJ13","v":0},{"$f":"'UD2 CropScenarios'!BL13","v":88.477026879839585},{"$f":"'UD2 CropScenarios'!BN13","v":7834140},{"$f":"'UD2 CropScenarios'!BO13","v":2902017},{"$f":"'UD2 CropScenarios'!BP13","v":962068.5},{"$f":"'UD2 CropScenarios'!BQ13","v":15.334435285714285},{"$f":"'UD2 CropScenarios'!BR13","v":4.5696617151428569},{"$f":"'UD2 CropScenarios'!BS13","v":41.361583017857143},{"$f":"'UD2 CropScenarios'!BT13","v":12.325751739321429},{"$f":"'UD2 CropScenarios'!BU13","v":16.895413454464286},{"$f":"'UD2 CropScenarios'!BV13","v":0},{"$f":"'UD2 CropScenarios'!BW13","v":88.477026879839585},{"$f":"'UD2 CropScenarios'!BY13","v":88.477026879839585}]
[{"$f":"'UD2 CropScenarios'!A14","v":2012},{"$f":"'UD2 CropScenarios'!B14","v":57160},{"$f":"'UD2 CropScenarios'!C14","v":5716},{"$f":"'UD2 CropScenarios'!D14","v":100.3158},{"$f":"'UD2 CropScenarios'!E14","v":2.507895},{"$f":"'UD2 CropScenarios'!F14","v":9700004},{"$f":"'UD2 CropScenarios'!G14","v":2697461},{"$f":"'UD2 CropScenarios'!H14","v":3437753.0843000002},{"$f":"'UD2 CropScenarios'!I14","v":152.42863428571431},{"$f":"'UD2 CropScenarios'!J14","v":42.388672857142851},{"$f":"'UD2 CropScenarios'!K14","v":54.021834181857145},{"$f":"'UD2 CropScenarios'!L14","v":45.423733017142865},{"$f":"'UD2 CropScenarios'!M14","v":12.631824511428569},{"$f":"'UD2 CropScenarios'!N14","v":16.09850658619343},{"$f":"'UD2 CropScenarios'!O14","v":74.154064114764864},{"$f":"'UD2 CropScenarios'!P14","v":14442.256125},{"$f":"'UD2 CropScenarios'!Q14","v":462125.79920000001},{"$f":"'UD2 CropScenarios'!R14","v":0.45389947821428567},{"$f":"'UD2 CropScenarios'!S14","v":7.2619768445714277},{"$f":"'UD2 CropScenarios'!T14","v":0.13526204450785712},{"$f":"'UD2 CropScenarios'!U14","v":2.1640690996822856},{"$f":"'UD2 CropScenarios'!V14","v":2.2993311441901425},{"$f":"'UD2 CropScenarios'!W14","v":76.453395258955013},{"$f":"'UD2 CropScenarios'!X14","v":9700004},{"$f":"'UD2 CropScenarios'!Y14","v":2697461},{"$f":"'UD2 CropScenarios'!Z14","v":962068.5},{"$f":"'UD2 CropScenarios'!AA14","v":18.266507285714287},{"$f":"'UD2 CropScenarios'!AB14","v":5.4434191711428577},{"$f":"'UD2 CropScenarios'!AC14","v":47.235493446428571},{"$f":"'UD2 CropScenarios'!AD14","v":14.076177047035713},{"$f":"'UD2 CropScenarios'!AE14","v":19.51959621817857},{"$f":"'UD2 CropScenarios'!AF14","v":98.480886477133595},{"$f":"'UD2 CropScenarios'!AN14","v":57160},{"$f":"'UD2 CropScenarios'!AO14","v":0.1},{"$f":"'UD2 CropScenarios'!AP14","v":5716},{"$f":"'UD2 CropScenarios'!AQ14","v":100.3158},{"$f":"'UD2 CropScenarios'!AR14","v":2.507895},{"$f":"'UD2 CropScenarios'!AS14","v":0},{"$f":"'UD2 CropScenarios'!AT14","v":98.480886477133595},{"$f":"'UD2 CropScenarios'!AV14","v":45.423733017142865},{"$f":"'UD2 CropScenarios'!AW14","v":9700004},{"$f":"'UD2 CropScenarios'!AX14","v":152.42863428571431},{"$f":"'UD2 CropScenarios'!AY14","v":45.423733017142865},{"$f":"'UD2 CropScenarios'!AZ14","v":45.423733017142865},{"$f":"'UD2 CropScenarios'!BA14","v":0},{"$f":"'UD2 CropScenarios'!BB14","v":98.480886477133595},{"$f":"'UD2 CropScenarios'!BD14","v":0},{"$f":"'UD2 CropScenarios'!BE14","v":0},{"$f":"'UD2 CropScenarios'!BF14","v":0},{"$f":"'UD2 CropScenarios'!BG14","v":0},{"$f":"'UD2 CropScenarios'!BH14","v":0},{"$f":"'UD2 CropScenarios'!BI14","v":0},{"$f":"'UD2 CropScenarios'!BJ14","v":0},{"$f":"'UD2 CropScenarios'!BL14","v":98.480886477133595},{"$f":"'UD2 CropScenarios'!BN14","v":9700004},{"$f":"'UD2 CropScenarios'!BO14","v":2697461},{"$f":"'UD2 CropScenarios'!BP14","v":962068.5},{"$f":"'UD2 CropScenarios'!BQ14","v":18.266507285714287},{"$f":"'UD2 CropScenarios'!BR14","v":5.4434191711428577},{"$f":"'UD2 CropScenarios'!BS14","v":47.235493446428571},{"$f":"'UD2 CropScenarios'!BT14","v":14.076177047035713},{"$f":"'UD2 CropScenarios'!BU14","v":19.51959621817857},{"$f":"'UD2 CropScenarios'!BV14","v":0},{"$f":"'UD2 CropScenarios'!BW14","v":98.480886477133595},{"$f":"'UD2 CropScenarios'!BY14","v":98.480886477133595}]
[{"$f":"'UD2 CropScenarios'!A15","v":2013},{"$f":"'UD2 CropScenarios'!B15","v":56464},{"$f":"'UD2 CropScenarios'!C15","v":5646.4000000000005},{"$f":"'UD2 CropScenarios'!D15","v":99.094320000000025},{"$f":"'UD2 CropScenarios'!E15","v":2.4773580000000006},{"$f":"'UD2 CropScenarios'!F15","v":9967255},{"$f":"'UD2 CropScenarios'!G15","v":2665224},{"$f":"'UD2 CropScenarios'!H15","v":3379421.6993},{"$f":"'UD2 CropScenarios'!I15","v":156.62829285714287},{"$f":"'UD2 CropScenarios'!J15","v":41.882091428571428},{"$f":"'UD2 CropScenarios'!K15","v":53.105198131857144},{"$f":"'UD2 CropScenarios'!L15","v":46.675231271428572},{"$f":"'UD2 CropScenarios'!M15","v":12.480863245714286},{"$f":"'UD2 CropScenarios'!N15","v":15.825349043293429},{"$f":"'UD2 CropScenarios'!O15","v":74.98144356043629},{"$f":"'UD2 CropScenarios'!P15","v":13170.0906},{"$f":"'UD2 CropScenarios'!Q15","v":464088.0465},{"$f":"'UD2 CropScenarios'!R15","v":0.41391713314285716},{"$f":"'UD2 CropScenarios'!S15","v":7.292812159285714},{"$f":"'UD2 CropScenarios'!T15","v":0.12334730567657144},{"$f":"'UD2 CropScenarios'!U15","v":2.1732580234671426},{"$f":"'UD2 CropScenarios'!V15","v":2.2966053291437141},{"$f":"'UD2 CropScenarios'!W15","v":77.278048889580006},{"$f":"'UD2 CropScenarios'!X15","v":9967255},{"$f":"'UD2 CropScenarios'!Y15","v":2665224},{"$f":"'UD2 CropScenarios'!Z15","v":962068.5},{"$f":"'UD2 CropScenarios'!AA15","v":18.686473142857142},{"$f":"'UD2 CropScenarios'!AB15","v":5.568568996571428},{"$f":"'UD2 CropScenarios'!AC15","v":48.066435803571423},{"$f":"'UD2 CropScenarios'!AD15","v":14.323797869464284},{"$f":"'UD2 CropScenarios'!AE15","v":19.892366866035712},{"$f":"'UD2 CropScenarios'!AF15","v":99.647773755615717},{"$f":"'UD2 CropScenarios'!AN15","v":56464},{"$f":"'UD2 CropScenarios'!AO15","v":0.1},{"$f":"'UD2 CropScenarios'!AP15","v":5646.4000000000005},{"$f":"'UD2 CropScenarios'!AQ15","v":99.094320000000025},{"$f":"'UD2 CropScenarios'!AR15","v":2.4773580000000006},{"$f":"'UD2 CropScenarios'!AS15","v":0},{"$f":"'UD2 CropScenarios'!AT15","v":99.647773755615717},{"$f":"'UD2 CropScenarios'!AV15","v":46.675231271428572},{"$f":"'UD2 CropScenarios'!AW15","v":9967255},{"$f":"'UD2 CropScenarios'!AX15","v":156.62829285714287},{"$f":"'UD2 CropScenarios'!AY15","v":46.675231271428572},{"$f":"'UD2 CropScenarios'!AZ15","v":46.675231271428572},{"$f":"'UD2 CropScenarios'!BA15","v":0},{"$f":"'UD2 CropScenarios'!BB15","v":99.647773755615717},{"$f":"'UD2 CropScenarios'!BD15","v":0},{"$f":"'UD2 CropScenarios'!BE15","v":0},{"$f":"'UD2 CropScenarios'!BF15","v":0},{"$f":"'UD2 CropScenarios'!BG15","v":0},{"$f":"'UD2 CropScenarios'!BH15","v":0},{"$f":"'UD2 CropScenarios'!BI15","v":0},{"$f":"'UD2 CropScenarios'!BJ15","v":0},{"$f":"'UD2 CropScenarios'!BL15","v":99.647773755615717},{"$f":"'UD2 CropScenarios'!BN15","v":9967255},{"$f":"'UD2 CropScenarios'!BO15","v":2665224},{"$f":"'UD2 CropScenarios'!BP15","v":962068.5},{"$f":"'UD2 CropScenarios'!BQ15","v":18.686473142857142},{"$f":"'UD2 CropScenarios'!BR15","v":5.568568996571428},{"$f":"'UD2 CropScenarios'!BS15","v":48.066435803571423},{"$f":"'UD2 CropScenarios'!BT15","v":14.323797869464284},{"$f":"'UD2 CropScenarios'!BU15","v":19.892366866035712},{"$f":"'UD2 CropScenarios'!BV15","v":0},{"$f":"'UD2 CropScenarios'!BW15","v":99.647773755615717},{"$f":"'UD2 CropScenarios'!BY15","v":99.647773755615717}]
[{"$f":"'UD2 CropScenarios'!A16","v":2014},{"$f":"'UD2 CropScenarios'!B16","v":50694},{"$f":"'UD2 CropScenarios'!C16","v":5069.4000000000005},{"$f":"'UD2 CropScenarios'!D16","v":88.967970000000022},{"$f":"'UD2 CropScenarios'!E16","v":2.2241992500000007},{"$f":"'UD2 CropScenarios'!F16","v":10166600.1},{"$f":"'UD2 CropScenarios'!G16","v":2665224},{"$f":"'UD2 CropScenarios'!H16","v":3440472.1319429623},{"$f":"'UD2 CropScenarios'!I16","v":159.76085871428572},{"$f":"'UD2 CropScenarios'!J16","v":41.882091428571428},{"$f":"'UD2 CropScenarios'!K16","v":54.064562073389403},{"$f":"'UD2 CropScenarios'!L16","v":47.608735896857141},{"$f":"'UD2 CropScenarios'!M16","v":12.480863245714286},{"$f":"'UD2 CropScenarios'!N16","v":16.111239497870042},{"$f":"'UD2 CropScenarios'!O16","v":76.200838640441475},{"$f":"'UD2 CropScenarios'!P16","v":12926.5553},{"$f":"'UD2 CropScenarios'!Q16","v":464088.0465},{"$f":"'UD2 CropScenarios'!R16","v":0.40626316657142858},{"$f":"'UD2 CropScenarios'!S16","v":7.292812159285714},{"$f":"'UD2 CropScenarios'!T16","v":0.12106642363828571},{"$f":"'UD2 CropScenarios'!U16","v":2.1732580234671426},{"$f":"'UD2 CropScenarios'!V16","v":2.2943244471054283},{"$f":"'UD2 CropScenarios'!W16","v":78.495163087546899},{"$f":"'UD2 CropScenarios'!X16","v":10166600.1},{"$f":"'UD2 CropScenarios'!Y16","v":2665224},{"$f":"'UD2 CropScenarios'!Z16","v":962068.5},{"$f":"'UD2 CropScenarios'!AA16","v":18.999729728571431},{"$f":"'UD2 CropScenarios'!AB16","v":5.6619194591142872},{"$f":"'UD2 CropScenarios'!AC16","v":48.771263121428568},{"$f":"'UD2 CropScenarios'!AD16","v":14.533836410185714},{"$f":"'UD2 CropScenarios'!AE16","v":20.195755869300001},{"$f":"'UD2 CropScenarios'!AF16","v":100.9151182068469},{"$f":"'UD2 CropScenarios'!AN16","v":50694},{"$f":"'UD2 CropScenarios'!AO16","v":0.1},{"$f":"'UD2 CropScenarios'!AP16","v":5069.4000000000005},{"$f":"'UD2 CropScenarios'!AQ16","v":88.967970000000022},{"$f":"'UD2 CropScenarios'!AR16","v":2.2241992500000007},{"$f":"'UD2 CropScenarios'!AS16","v":0},{"$f":"'UD2 CropScenarios'!AT16","v":100.9151182068469},{"$f":"'UD2 CropScenarios'!AV16","v":47.608735896857141},{"$f":"'UD2 CropScenarios'!AW16","v":10166600.1},{"$f":"'UD2 CropScenarios'!AX16","v":159.76085871428572},{"$f":"'UD2 CropScenarios'!AY16","v":47.608735896857141},{"$f":"'UD2 CropScenarios'!AZ16","v":47.608735896857141},{"$f":"'UD2 CropScenarios'!BA16","v":0},{"$f":"'UD2 CropScenarios'!BB16","v":100.9151182068469},{"$f":"'UD2 CropScenarios'!BD16","v":0},{"$f":"'UD2 CropScenarios'!BE16","v":0},{"$f":"'UD2 CropScenarios'!BF16","v":0},{"$f":"'UD2 CropScenarios'!BG16","v":0},{"$f":"'UD2 CropScenarios'!BH16","v":0},{"$f":"'UD2 CropScenarios'!BI16","v":0},{"$f":"'UD2 CropScenarios'!BJ16","v":0},{"$f":"'UD2 CropScenarios'!BL16","v":100.9151182068469},{"$f":"'UD2 CropScenarios'!BN16","v":10166600.1},{"$f":"'UD2 CropScenarios'!BO16","v":2665224},{"$f":"'UD2 CropScenarios'!BP16","v":962068.5},{"$f":"'UD2 CropScenarios'!BQ16","v":18.999729728571431},{"$f":"'UD2 CropScenarios'!BR16","v":5.6619194591142872},{"$f":"'UD2 CropScenarios'!BS16","v":48.771263121428568},{"$f":"'UD2 CropScenarios'!BT16","v":14.533836410185714},{"$f":"'UD2 CropScenarios'!BU16","v":20.195755869300001},{"$f":"'UD2 CropScenarios'!BV16","v":0},{"$f":"'UD2 CropScenarios'!BW16","v":100.9151182068469},{"$f":"'UD2 CropScenarios'!BY16","v":100.9151182068469}]
[{"$f":"'UD2 CropScenarios'!A17","v":2015},{"$f":"'UD2 CropScenarios'!B17","v":52387},{"$f":"'UD2 CropScenarios'!C17","v":5238.7000000000007},{"$f":"'UD2 CropScenarios'!D17","v":91.939185000000009},{"$f":"'UD2 CropScenarios'!E17","v":2.2984796250000006},{"$f":"'UD2 CropScenarios'!F17","v":10369932.102},{"$f":"'UD2 CropScenarios'!G17","v":2665224},{"$f":"'UD2 CropScenarios'!H17","v":3501522.5645859241},{"$f":"'UD2 CropScenarios'!I17","v":162.95607588857141},{"$f":"'UD2 CropScenarios'!J17","v":41.882091428571428},{"$f":"'UD2 CropScenarios'!K17","v":55.02392601492167},{"$f":"'UD2 CropScenarios'!L17","v":48.560910614794281},{"$f":"'UD2 CropScenarios'!M17","v":12.480863245714286},{"$f":"'UD2 CropScenarios'!N17","v":16.397129952446658},{"$f":"'UD2 CropScenarios'!O17","v":77.438903812955232},{"$f":"'UD2 CropScenarios'!P17","v":12683.02},{"$f":"'UD2 CropScenarios'!Q17","v":464088.0465},{"$f":"'UD2 CropScenarios'!R17","v":0.3986092},{"$f":"'UD2 CropScenarios'!S17","v":7.292812159285714},{"$f":"'UD2 CropScenarios'!T17","v":0.1187855416},{"$f":"'UD2 CropScenarios'!U17","v":2.1732580234671426},{"$f":"'UD2 CropScenarios'!V17","v":2.2920435650671425},{"$f":"'UD2 CropScenarios'!W17","v":79.730947378022378},{"$f":"'UD2 CropScenarios'!X17","v":10369932.102},{"$f":"'UD2 CropScenarios'!Y17","v":2665224},{"$f":"'UD2 CropScenarios'!Z17","v":962068.5},{"$f":"'UD2 CropScenarios'!AA17","v":19.319251446000003},{"$f":"'UD2 CropScenarios'!AB17","v":5.7571369309080014},{"$f":"'UD2 CropScenarios'!AC17","v":49.49018698564285},{"$f":"'UD2 CropScenarios'!AD17","v":14.748075721721568},{"$f":"'UD2 CropScenarios'!AE17","v":20.50521265262957},{"$f":"'UD2 CropScenarios'!AF17","v":102.53463965565194},{"$f":"'UD2 CropScenarios'!AN17","v":52387},{"$f":"'UD2 CropScenarios'!AO17","v":0.1},{"$f":"'UD2 CropScenarios'!AP17","v":5238.7000000000007},{"$f":"'UD2 CropScenarios'!AQ17","v":91.939185000000009},{"$f":"'UD2 CropScenarios'!AR17","v":2.2984796250000006},{"$f":"'UD2 CropScenarios'!AS17","v":0},{"$f":"'UD2 CropScenarios'!AT17","v":102.53463965565194},{"$f":"'UD2 CropScenarios'!AV17","v":48.560910614794281},{"$f":"'UD2 CropScenarios'!AW17","v":10369932.102},{"$f":"'UD2 CropScenarios'!AX17","v":162.95607588857141},{"$f":"'UD2 CropScenarios'!AY17","v":48.560910614794281},{"$f":"'UD2 CropScenarios'!AZ17","v":48.560910614794281},{"$f":"'UD2 CropScenarios'!BA17","v":0},{"$f":"'UD2 CropScenarios'!BB17","v":102.53463965565194},{"$f":"'UD2 CropScenarios'!BD17","v":0},{"$f":"'UD2 CropScenarios'!BE17","v":0},{"$f":"'UD2 CropScenarios'!BF17","v":0},{"$f":"'UD2 CropScenarios'!BG17","v":0},{"$f":"'UD2 CropScenarios'!BH17","v":0},{"$f":"'UD2 CropScenarios'!BI17","v":0},{"$f":"'UD2 CropScenarios'!BJ17","v":0},{"$f":"'UD2 CropScenarios'!BL17","v":102.53463965565194},{"$f":"'UD2 CropScenarios'!BN17","v":10369932.102},{"$f":"'UD2 CropScenarios'!BO17","v":2665224},{"$f":"'UD2 CropScenarios'!BP17","v":962068.5},{"$f":"'UD2 CropScenarios'!BQ17","v":19.319251446000003},{"$f":"'UD2 CropScenarios'!BR17","v":5.7571369309080014},{"$f":"'UD2 CropScenarios'!BS17","v":49.49018698564285},{"$f":"'UD2 CropScenarios'!BT17","v":14.748075721721568},{"$f":"'UD2 CropScenarios'!BU17","v":20.50521265262957},{"$f":"'UD2 CropScenarios'!BV17","v":0},{"$f":"'UD2 CropScenarios'!BW17","v":102.53463965565194},{"$f":"'UD2 CropScenarios'!BY17","v":102.53463965565194}]
[{"$f":"'UD2 CropScenarios'!A18","v":2016},{"$f":"'UD2 CropScenarios'!B18","v":52000},{"$f":"'UD2 CropScenarios'!C18","v":5200},{"$f":"'UD2 CropScenarios'!D18","v":91.26},{"$f":"'UD2 CropScenarios'!E18","v":2.2814999999999999},{"$f":"'UD2 CropScenarios'!F18","v":10577330.744039999},{"$f":"'UD2 CropScenarios'!G18","v":2665224},{"$f":"'UD2 CropScenarios'!H18","v":3517897.8239884605},{"$f":"'UD2 CropScenarios'!I18","v":166.21519740634284},{"$f":"'UD2 CropScenarios'!J18","v":41.882091428571428},{"$f":"'UD2 CropScenarios'!K18","v":55.281251519818667},{"$f":"'UD2 CropScenarios'!L18","v":49.532128827090162},{"$f":"'UD2 CropScenarios'!M18","v":12.480863245714286},{"$f":"'UD2 CropScenarios'!N18","v":16.473812952905963},{"$f":"'UD2 CropScenarios'!O18","v":78.48680502571041},{"$f":"'UD2 CropScenarios'!P18","v":12533.808000000001},{"$f":"'UD2 CropScenarios'!Q18","v":458963.44650000002},{"$f":"'UD2 CropScenarios'!R18","v":0.39391968000000005},{"$f":"'UD2 CropScenarios'!S18","v":7.2122827307142865},{"$f":"'UD2 CropScenarios'!T18","v":0.11738806464000001},{"$f":"'UD2 CropScenarios'!U18","v":2.1492602537528573},{"$f":"'UD2 CropScenarios'!V18","v":2.2666483183928574},{"$f":"'UD2 CropScenarios'!W18","v":80.753453344103264},{"$f":"'UD2 CropScenarios'!X18","v":10577330.744039999},{"$f":"'UD2 CropScenarios'!Y18","v":2665224},{"$f":"'UD2 CropScenarios'!Z18","v":962068.5},{"$f":"'UD2 CropScenarios'!AA18","v":19.645163597777145},{"$f":"'UD2 CropScenarios'!AB18","v":5.8542587521375893},{"$f":"'UD2 CropScenarios'!AC18","v":50.223489327141422},{"$f":"'UD2 CropScenarios'!AD18","v":14.966599819488144},{"$f":"'UD2 CropScenarios'!AE18","v":20.820858571625735},{"$f":"'UD2 CropScenarios'!AF18","v":103.85581191572899},{"$f":"'UD2 CropScenarios'!AN18","v":52000},{"$f":"'UD2 CropScenarios'!AO18","v":0.1},{"$f":"'UD2 CropScenarios'!AP18","v":5200},{"$f":"'UD2 CropScenarios'!AQ18","v":91.26},{"$f":"'UD2 CropScenarios'!AR18","v":2.2814999999999999},{"$f":"'UD2 CropScenarios'!AS18","v":0},{"$f":"'UD2 CropScenarios'!AT18","v":103.85581191572899},{"$f":"'UD2 CropScenarios'!AV18","v":49.532128827090162},{"$f":"'UD2 CropScenarios'!AW18","v":10471557.436599599},{"$f":"'UD2 CropScenarios'!AX18","v":164.55304543227942},{"$f":"'UD2 CropScenarios'!AY18","v":49.036807538819268},{"$f":"'UD2 CropScenarios'!AZ18","v":49.036807538819268},{"$f":"'UD2 CropScenarios'!BA18","v":0.49532128827089394},{"$f":"'UD2 CropScenarios'!BB18","v":103.45957766087579},{"$f":"'UD2 CropScenarios'!BD18","v":0},{"$f":"'UD2 CropScenarios'!BE18","v":0},{"$f":"'UD2 CropScenarios'!BF18","v":0},{"$f":"'UD2 CropScenarios'!BG18","v":0},{"$f":"'UD2 CropScenarios'!BH18","v":0},{"$f":"'UD2 CropScenarios'!BI18","v":0},{"$f":"'UD2 CropScenarios'!BJ18","v":0},{"$f":"'UD2 CropScenarios'!BL18","v":103.45957766087579},{"$f":"'UD2 CropScenarios'!BN18","v":10471557.436599599},{"$f":"'UD2 CropScenarios'!BO18","v":2665224},{"$f":"'UD2 CropScenarios'!BP18","v":962068.5},{"$f":"'UD2 CropScenarios'!BQ18","v":19.4789484003708},{"$f":"'UD2 CropScenarios'!BR18","v":5.8047266233104979},{"$f":"'UD2 CropScenarios'!BS18","v":49.849505132977143},{"$f":"'UD2 CropScenarios'!BT18","v":14.855152529627189},{"$f":"'UD2 CropScenarios'!BU18","v":20.659879152937688},{"$f":"'UD2 CropScenarios'!BV18","v":0.1609794186880471},{"$f":"'UD2 CropScenarios'!BW18","v":103.29859824218775},{"$f":"'UD2 CropScenarios'!BY18","v":103.29859824218775}]
[{"$f":"'UD2 CropScenarios'!A19","v":2017},{"$f":"'UD2 CropScenarios'!B19","v":51000},{"$f":"'UD2 CropScenarios'!C19","v":5100},{"$f":"'UD2 CropScenarios'!D19","v":89.504999999999995},{"$f":"'UD2 CropScenarios'!E19","v":2.237625},{"$f":"'UD2 CropScenarios'!F19","v":10788877.3589208},{"$f":"'UD2 CropScenarios'!G19","v":2665224},{"$f":"'UD2 CropScenarios'!H19","v":3534273.0833909968},{"$f":"'UD2 CropScenarios'!I19","v":169.53950135446971},{"$f":"'UD2 CropScenarios'!J19","v":41.882091428571428},{"$f":"'UD2 CropScenarios'!K19","v":55.538577024715664},{"$f":"'UD2 CropScenarios'!L19","v":50.522771403631971},{"$f":"'UD2 CropScenarios'!M19","v":12.480863245714286},{"$f":"'UD2 CropScenarios'!N19","v":16.550495953365267},{"$f":"'UD2 CropScenarios'!O19","v":79.554130602711524},{"$f":"'UD2 CropScenarios'!P19","v":12384.596000000001},{"$f":"'UD2 CropScenarios'!Q19","v":453838.84650000004},{"$f":"'UD2 CropScenarios'!R19","v":0.38923016000000005},{"$f":"'UD2 CropScenarios'!S19","v":7.1317533021428581},{"$f":"'UD2 CropScenarios'!T19","v":0.11599058768000002},{"$f":"'UD2 CropScenarios'!U19","v":2.1252624840385717},{"$f":"'UD2 CropScenarios'!V19","v":2.2412530717185715},{"$f":"'UD2 CropScenarios'!W19","v":81.795383674430099},{"$f":"'UD2 CropScenarios'!X19","v":10788877.3589208},{"$f":"'UD2 CropScenarios'!Y19","v":2665224},{"$f":"'UD2 CropScenarios'!Z19","v":962068.5},{"$f":"'UD2 CropScenarios'!AA19","v":19.977593992589828},{"$f":"'UD2 CropScenarios'!AB19","v":5.9533230097917684},{"$f":"'UD2 CropScenarios'!AC19","v":50.97145771546996},{"$f":"'UD2 CropScenarios'!AD19","v":15.18949439921005},{"$f":"'UD2 CropScenarios'!AE19","v":21.142817409001818},{"$f":"'UD2 CropScenarios'!AF19","v":105.17582608343191},{"$f":"'UD2 CropScenarios'!AN19","v":51000},{"$f":"'UD2 CropScenarios'!AO19","v":0.1},{"$f":"'UD2 CropScenarios'!AP19","v":5100},{"$f":"'UD2 CropScenarios'!AQ19","v":89.504999999999995},{"$f":"'UD2 CropScenarios'!AR19","v":2.237625},{"$f":"'UD2 CropScenarios'!AS19","v":0},{"$f":"'UD2 CropScenarios'!AT19","v":105.17582608343191},{"$f":"'UD2 CropScenarios'!AV19","v":50.522771403631971},{"$f":"'UD2 CropScenarios'!AW19","v":10573099.811742384},{"$f":"'UD2 CropScenarios'!AX19","v":166.14871132738034},{"$f":"'UD2 CropScenarios'!AY19","v":49.512315975559346},{"$f":"'UD2 CropScenarios'!AZ19","v":49.512315975559346},{"$f":"'UD2 CropScenarios'!BA19","v":1.0104554280726248},{"$f":"'UD2 CropScenarios'!BB19","v":104.36354472219469},{"$f":"'UD2 CropScenarios'!BD19","v":1.3269527579976663},{"$f":"'UD2 CropScenarios'!BE19","v":4.4231758599922202},{"$f":"'UD2 CropScenarios'!BF19","v":1.0615622063981329},{"$f":"'UD2 CropScenarios'!BG19","v":6.8116908243880196},{"$f":"'UD2 CropScenarios'!BH19","v":3.4058454121940098},{"$f":"'UD2 CropScenarios'!BI19","v":59602.294713395175},{"$f":"'UD2 CropScenarios'!BJ19","v":0.27910903152929911},{"$f":"'UD2 CropScenarios'!BL19","v":104.64265375372399},{"$f":"'UD2 CropScenarios'!BN19","v":10573099.811742384},{"$f":"'UD2 CropScenarios'!BO19","v":2665224},{"$f":"'UD2 CropScenarios'!BP19","v":1021670.7947133952},{"$f":"'UD2 CropScenarios'!BQ19","v":19.825836487551562},{"$f":"'UD2 CropScenarios'!BR19","v":5.9080992732903663},{"$f":"'UD2 CropScenarios'!BS19","v":50.419266644254357},{"$f":"'UD2 CropScenarios'!BT19","v":15.024941459987799},{"$f":"'UD2 CropScenarios'!BU19","v":20.933040733278165},{"$f":"'UD2 CropScenarios'!BV19","v":0.20977667572365277},{"$f":"'UD2 CropScenarios'!BW19","v":104.43287707800033},{"$f":"'UD2 CropScenarios'!BY19","v":104.43287707800033}]
[{"$f":"'UD2 CropScenarios'!A20","v":2018},{"$f":"'UD2 CropScenarios'!B20","v":50500},{"$f":"'UD2 CropScenarios'!C20","v":5050},{"$f":"'UD2 CropScenarios'!D20","v":88.627499999999998},{"$f":"'UD2 CropScenarios'!E20","v":2.2156875},{"$f":"'UD2 CropScenarios'!F20","v":11004654.906099215},{"$f":"'UD2 CropScenarios'!G20","v":2665224},{"$f":"'UD2 CropScenarios'!H20","v":3550648.3427935331},{"$f":"'UD2 CropScenarios'!I20","v":172.9302913815591},{"$f":"'UD2 CropScenarios'!J20","v":41.882091428571428},{"$f":"'UD2 CropScenarios'!K20","v":55.795902529612661},{"$f":"'UD2 CropScenarios'!L20","v":51.53322683170461},{"$f":"'UD2 CropScenarios'!M20","v":12.480863245714286},{"$f":"'UD2 CropScenarios'!N20","v":16.627178953824572},{"$f":"'UD2 CropScenarios'!O20","v":80.641269031243468},{"$f":"'UD2 CropScenarios'!P20","v":12235.384000000002},{"$f":"'UD2 CropScenarios'!Q20","v":448714.24650000007},{"$f":"'UD2 CropScenarios'!R20","v":0.38454064000000004},{"$f":"'UD2 CropScenarios'!S20","v":7.0512238735714297},{"$f":"'UD2 CropScenarios'!T20","v":0.11459311072000002},{"$f":"'UD2 CropScenarios'!U20","v":2.101264714324286},{"$f":"'UD2 CropScenarios'!V20","v":2.215857825044286},{"$f":"'UD2 CropScenarios'!W20","v":82.857126856287749},{"$f":"'UD2 CropScenarios'!X20","v":11004654.906099215},{"$f":"'UD2 CropScenarios'!Y20","v":2665224},{"$f":"'UD2 CropScenarios'!Z20","v":962068.5},{"$f":"'UD2 CropScenarios'!AA20","v":20.316672995298767},{"$f":"'UD2 CropScenarios'!AB20","v":6.0543685525990325},{"$f":"'UD2 CropScenarios'!AC20","v":51.734385471565076},{"$f":"'UD2 CropScenarios'!AD20","v":15.416846870526394},{"$f":"'UD2 CropScenarios'!AE20","v":21.471215423125425},{"$f":"'UD2 CropScenarios'!AF20","v":106.54402977941318},{"$f":"'UD2 CropScenarios'!AN20","v":50500},{"$f":"'UD2 CropScenarios'!AO20","v":0.1},{"$f":"'UD2 CropScenarios'!AP20","v":5050},{"$f":"'UD2 CropScenarios'!AQ20","v":88.627499999999998},{"$f":"'UD2 CropScenarios'!AR20","v":2.2156875},{"$f":"'UD2 CropScenarios'!AS20","v":0},{"$f":"'UD2 CropScenarios'!AT20","v":106.54402977941318},{"$f":"'UD2 CropScenarios'!AV20","v":51.53322683170461},{"$f":"'UD2 CropScenarios'!AW20","v":10674515.258916238},{"$f":"'UD2 CropScenarios'!AX20","v":167.74238264011234},{"$f":"'UD2 CropScenarios'!AY20","v":49.987230026753473},{"$f":"'UD2 CropScenarios'!AZ20","v":49.987230026753473},{"$f":"'UD2 CropScenarios'!BA20","v":1.5459968049511374},{"$f":"'UD2 CropScenarios'!BB20","v":105.29529407471514},{"$f":"'UD2 CropScenarios'!BD20","v":2.7069836263152389},{"$f":"'UD2 CropScenarios'!BE20","v":9.0232787543841297},{"$f":"'UD2 CropScenarios'!BF20","v":2.1655869010521913},{"$f":"'UD2 CropScenarios'!BG20","v":13.895849281751559},{"$f":"'UD2 CropScenarios'!BH20","v":6.9479246408757795},{"$f":"'UD2 CropScenarios'!BI20","v":121588.68121532616},{"$f":"'UD2 CropScenarios'!BJ20","v":0.56938242431977015},{"$f":"'UD2 CropScenarios'!BL20","v":105.86467649903491},{"$f":"'UD2 CropScenarios'!BN20","v":10674515.258916238},{"$f":"'UD2 CropScenarios'!BO20","v":2665224},{"$f":"'UD2 CropScenarios'!BP20","v":1083657.1812153261},{"$f":"'UD2 CropScenarios'!BQ20","v":20.180017976402258},{"$f":"'UD2 CropScenarios'!BR20","v":6.0136453569678734},{"$f":"'UD2 CropScenarios'!BS20","v":50.997008841893731},{"$f":"'UD2 CropScenarios'!BT20","v":15.197108634884332},{"$f":"'UD2 CropScenarios'!BU20","v":21.210753991852204},{"$f":"'UD2 CropScenarios'!BV20","v":0.26046143127322097},{"$f":"'UD2 CropScenarios'!BW20","v":105.60421506776169},{"$f":"'UD2 CropScenarios'!BY20","v":105.60421506776169}]
[{"$f":"'UD2 CropScenarios'!A21","v":2019},{"$f":"'UD2 CropScenarios'!B21","v":50000},{"$f":"'UD2 CropScenarios'!C21","v":5000},{"$f":"'UD2 CropScenarios'!D21","v":87.75},{"$f":"'UD2 CropScenarios'!E21","v":2.1937500000000001},{"$f":"'UD2 CropScenarios'!F21","v":11224748.004221199},{"$f":"'UD2 CropScenarios'!G21","v":2665224},{"$f":"'UD2 CropScenarios'!H21","v":3567023.6021960694},{"$f":"'UD2 CropScenarios'!I21","v":176.38889720919028},{"$f":"'UD2 CropScenarios'!J21","v":41.882091428571428},{"$f":"'UD2 CropScenarios'!K21","v":56.053228034509658},{"$f":"'UD2 CropScenarios'!L21","v":52.563891368338702},{"$f":"'UD2 CropScenarios'!M21","v":12.480863245714286},{"$f":"'UD2 CropScenarios'!N21","v":16.70386195428388},{"$f":"'UD2 CropScenarios'!O21","v":81.748616568336871},{"$f":"'UD2 CropScenarios'!P21","v":12086.172000000002},{"$f":"'UD2 CropScenarios'!Q21","v":443589.64650000009},{"$f":"'UD2 CropScenarios'!R21","v":0.37985112000000004},{"$f":"'UD2 CropScenarios'!S21","v":6.9706944450000012},{"$f":"'UD2 CropScenarios'!T21","v":0.11319563376000001},{"$f":"'UD2 CropScenarios'!U21","v":2.0772669446100003},{"$f":"'UD2 CropScenarios'!V21","v":2.1904625783700005},{"$f":"'UD2 CropScenarios'!W21","v":83.939079146706874},{"$f":"'UD2 CropScenarios'!X21","v":11224748.004221199},{"$f":"'UD2 CropScenarios'!Y21","v":2665224},{"$f":"'UD2 CropScenarios'!Z21","v":962068.5},{"$f":"'UD2 CropScenarios'!AA21","v":20.662533578061883},{"$f":"'UD2 CropScenarios'!AB21","v":6.1574350062624408},{"$f":"'UD2 CropScenarios'!AC21","v":52.512571782782096},{"$f":"'UD2 CropScenarios'!AD21","v":15.648746391269066},{"$f":"'UD2 CropScenarios'!AE21","v":21.806181397531507},{"$f":"'UD2 CropScenarios'!AF21","v":107.93901054423837},{"$f":"'UD2 CropScenarios'!AN21","v":50000},{"$f":"'UD2 CropScenarios'!AO21","v":0.1},{"$f":"'UD2 CropScenarios'!AP21","v":5000},{"$f":"'UD2 CropScenarios'!AQ21","v":87.75},{"$f":"'UD2 CropScenarios'!AR21","v":2.1937500000000001},{"$f":"'UD2 CropScenarios'!AS21","v":0},{"$f":"'UD2 CropScenarios'!AT21","v":107.93901054423837},{"$f":"'UD2 CropScenarios'!AV21","v":52.563891368338702},{"$f":"'UD2 CropScenarios'!AW21","v":10775758.08405235},{"$f":"'UD2 CropScenarios'!AX21","v":169.33334132082263},{"$f":"'UD2 CropScenarios'!AY21","v":50.461335713605145},{"$f":"'UD2 CropScenarios'!AZ21","v":50.461335713605145},{"$f":"'UD2 CropScenarios'!BA21","v":2.1025556547335569},{"$f":"'UD2 CropScenarios'!BB21","v":106.23280302317562},{"$f":"'UD2 CropScenarios'!BD21","v":4.1416849482623155},{"$f":"'UD2 CropScenarios'!BE21","v":13.805616494207719},{"$f":"'UD2 CropScenarios'!BF21","v":3.3133479586098522},{"$f":"'UD2 CropScenarios'!BG21","v":21.260649401079888},{"$f":"'UD2 CropScenarios'!BH21","v":10.630324700539944},{"$f":"'UD2 CropScenarios'!BI21","v":186030.68225944904},{"$f":"'UD2 CropScenarios'!BJ21","v":0.87115510920924843},{"$f":"'UD2 CropScenarios'!BL21","v":107.10395813238488},{"$f":"'UD2 CropScenarios'!BN21","v":10775758.08405235},{"$f":"'UD2 CropScenarios'!BO21","v":2665224},{"$f":"'UD2 CropScenarios'!BP21","v":1148099.182259449},{"$f":"'UD2 CropScenarios'!BQ21","v":20.541645847754822},{"$f":"'UD2 CropScenarios'!BR21","v":6.1214104626309371},{"$f":"'UD2 CropScenarios'!BS21","v":51.58282304874529},{"$f":"'UD2 CropScenarios'!BT21","v":15.371681268526096},{"$f":"'UD2 CropScenarios'!BU21","v":21.493091731157033},{"$f":"'UD2 CropScenarios'!BV21","v":0.31308966637447355},{"$f":"'UD2 CropScenarios'!BW21","v":106.79086846601041},{"$f":"'UD2 CropScenarios'!BY21","v":106.79086846601041}]
[{"$f":"'UD2 CropScenarios'!A22","v":2020},{"$f":"'UD2 CropScenarios'!B22","v":49500},{"$f":"'UD2 CropScenarios'!C22","v":4950},{"$f":"'UD2 CropScenarios'!D22","v":86.872500000000002},{"$f":"'UD2 CropScenarios'!E22","v":2.1718125000000001},{"$f":"'UD2 CropScenarios'!F22","v":11449242.964305623},{"$f":"'UD2 CropScenarios'!G22","v":2665224},{"$f":"'UD2 CropScenarios'!H22","v":3583398.8615986062},{"$f":"'UD2 CropScenarios'!I22","v":179.91667515337406},{"$f":"'UD2 CropScenarios'!J22","v":41.882091428571428},{"$f":"'UD2 CropScenarios'!K22","v":56.310553539406669},{"$f":"'UD2 CropScenarios'!L22","v":53.615169195705469},{"$f":"'UD2 CropScenarios'!M22","v":12.480863245714286},{"$f":"'UD2 CropScenarios'!N22","v":16.780544954743188},{"$f":"'UD2 CropScenarios'!O22","v":82.876577396162944},{"$f":"'UD2 CropScenarios'!P22","v":11936.960000000001},{"$f":"'UD2 CropScenarios'!Q22","v":438465.0465},{"$f":"'UD2 CropScenarios'!R22","v":0.37516160000000004},{"$f":"'UD2 CropScenarios'!S22","v":6.890165016428571},{"$f":"'UD2 CropScenarios'!T22","v":0.11179815680000002},{"$f":"'UD2 CropScenarios'!U22","v":2.0532691748957141},{"$f":"'UD2 CropScenarios'!V22","v":2.1650673316957141},{"$f":"'UD2 CropScenarios'!W22","v":85.041644727858653},{"$f":"'UD2 CropScenarios'!X22","v":11449242.964305623},{"$f":"'UD2 CropScenarios'!Y22","v":2665224},{"$f":"'UD2 CropScenarios'!Z22","v":962068.5},{"$f":"'UD2 CropScenarios'!AA22","v":21.015311372480269},{"$f":"'UD2 CropScenarios'!AB22","v":6.2625627889991202},{"$f":"'UD2 CropScenarios'!AC22","v":53.306321820223452},{"$f":"'UD2 CropScenarios'!AD22","v":15.885283902426588},{"$f":"'UD2 CropScenarios'!AE22","v":22.147846691425709},{"$f":"'UD2 CropScenarios'!AF22","v":109.36130391928437},{"$f":"'UD2 CropScenarios'!AN22","v":49500},{"$f":"'UD2 CropScenarios'!AO22","v":0.08},{"$f":"'UD2 CropScenarios'!AP22","v":3960},{"$f":"'UD2 CropScenarios'!AQ22","v":69.498000000000005},{"$f":"'UD2 CropScenarios'!AR22","v":1.7374499999999999},{"$f":"'UD2 CropScenarios'!AS22","v":0.43436250000000021},{"$f":"'UD2 CropScenarios'!AT22","v":108.92694141928436},{"$f":"'UD2 CropScenarios'!AV22","v":53.615169195705469},{"$f":"'UD2 CropScenarios'!AW22","v":10876780.816090342},{"$f":"'UD2 CropScenarios'!AX22","v":170.92084139570537},{"$f":"'UD2 CropScenarios'!AY22","v":50.934410735920203},{"$f":"'UD2 CropScenarios'!AZ22","v":50.934410735920203},{"$f":"'UD2 CropScenarios'!BA22","v":2.6807584597852667},{"$f":"'UD2 CropScenarios'!BB22","v":107.1759806265876},{"$f":"'UD2 CropScenarios'!BD22","v":5.6326915296367499},{"$f":"'UD2 CropScenarios'!BE22","v":18.775638432122499},{"$f":"'UD2 CropScenarios'!BF22","v":4.5061532237093997},{"$f":"'UD2 CropScenarios'!BG22","v":28.914483185468651},{"$f":"'UD2 CropScenarios'!BH22","v":14.457241592734325},{"$f":"'UD2 CropScenarios'!BI22","v":253001.72787285075},{"$f":"'UD2 CropScenarios'!BJ22","v":1.1847709485245785},{"$f":"'UD2 CropScenarios'!BL22","v":108.36075157511218},{"$f":"'UD2 CropScenarios'!BN22","v":10876780.816090342},{"$f":"'UD2 CropScenarios'!BO22","v":2665224},{"$f":"'UD2 CropScenarios'!BP22","v":1215070.2278728508},{"$f":"'UD2 CropScenarios'!BQ22","v":20.910876284313787},{"$f":"'UD2 CropScenarios'!BR22","v":6.2314411327255081},{"$f":"'UD2 CropScenarios'!BS22","v":52.176801048298422},{"$f":"'UD2 CropScenarios'!BT22","v":15.54868671239293},{"$f":"'UD2 CropScenarios'!BU22","v":21.780127845118439},{"$f":"'UD2 CropScenarios'!BV22","v":0.36771884630726959},{"$f":"'UD2 CropScenarios'!BW22","v":107.99303272880491},{"$f":"'UD2 CropScenarios'!BY22","v":107.5586702288049}]
[{"$f":"'UD2 CropScenarios'!A23","v":2021},{"$f":"'UD2 CropScenarios'!B23","v":49000},{"$f":"'UD2 CropScenarios'!C23","v":4900},{"$f":"'UD2 CropScenarios'!D23","v":85.995000000000005},{"$f":"'UD2 CropScenarios'!E23","v":2.1498750000000002},{"$f":"'UD2 CropScenarios'!F23","v":11449242.964305623},{"$f":"'UD2 CropScenarios'!G23","v":2665224},{"$f":"'UD2 CropScenarios'!H23","v":3600132.3977436288},{"$f":"'UD2 CropScenarios'!I23","v":179.91667515337406},{"$f":"'UD2 CropScenarios'!J23","v":41.882091428571428},{"$f":"'UD2 CropScenarios'!K23","v":56.573509107399879},{"$f":"'UD2 CropScenarios'!L23","v":53.615169195705469},{"$f":"'UD2 CropScenarios'!M23","v":12.480863245714286},{"$f":"'UD2 CropScenarios'!N23","v":16.858905714005164},{"$f":"'UD2 CropScenarios'!O23","v":82.954938155424912},{"$f":"'UD2 CropScenarios'!P23","v":11809.064},{"$f":"'UD2 CropScenarios'!Q23","v":438465.0465},{"$f":"'UD2 CropScenarios'!R23","v":0.37114201142857145},{"$f":"'UD2 CropScenarios'!S23","v":6.890165016428571},{"$f":"'UD2 CropScenarios'!T23","v":0.11060031940571428},{"$f":"'UD2 CropScenarios'!U23","v":2.0532691748957141},{"$f":"'UD2 CropScenarios'!V23","v":2.1638694943014283},{"$f":"'UD2 CropScenarios'!W23","v":85.118807649726335},{"$f":"'UD2 CropScenarios'!X23","v":11449242.964305623},{"$f":"'UD2 CropScenarios'!Y23","v":2665224},{"$f":"'UD2 CropScenarios'!Z23","v":962068.5},{"$f":"'UD2 CropScenarios'!AA23","v":21.015311372480269},{"$f":"'UD2 CropScenarios'!AB23","v":6.2625627889991202},{"$f":"'UD2 CropScenarios'!AC23","v":53.306321820223452},{"$f":"'UD2 CropScenarios'!AD23","v":15.885283902426588},{"$f":"'UD2 CropScenarios'!AE23","v":22.147846691425709},{"$f":"'UD2 CropScenarios'!AF23","v":109.41652934115204},{"$f":"'UD2 CropScenarios'!AN23","v":49000},{"$f":"'UD2 CropScenarios'!AO23","v":0.08},{"$f":"'UD2 CropScenarios'!AP23","v":3920},{"$f":"'UD2 CropScenarios'!AQ23","v":68.796000000000006},{"$f":"'UD2 CropScenarios'!AR23","v":1.7199},{"$f":"'UD2 CropScenarios'!AS23","v":0.42997500000000022},{"$f":"'UD2 CropScenarios'!AT23","v":108.98655434115204},{"$f":"'UD2 CropScenarios'!AV23","v":53.615169195705469},{"$f":"'UD2 CropScenarios'!AW23","v":10647795.956804229},{"$f":"'UD2 CropScenarios'!AX23","v":167.3225078926379},{"$f":"'UD2 CropScenarios'!AY23","v":49.862107352006099},{"$f":"'UD2 CropScenarios'!AZ23","v":49.862107352006099},{"$f":"'UD2 CropScenarios'!BA23","v":3.7530618436993706},{"$f":"'UD2 CropScenarios'!BB23","v":106.23592398556028},{"$f":"'UD2 CropScenarios'!BD23","v":7.1816817002868554},{"$f":"'UD2 CropScenarios'!BE23","v":23.938939000956186},{"$f":"'UD2 CropScenarios'!BF23","v":5.7453453602294848},{"$f":"'UD2 CropScenarios'!BG23","v":36.865966061472527},{"$f":"'UD2 CropScenarios'!BH23","v":18.432983030736263},{"$f":"'UD2 CropScenarios'!BI23","v":322577.20303788461},{"$f":"'UD2 CropScenarios'!BJ23","v":1.5105829593688369},{"$f":"'UD2 CropScenarios'!BL23","v":107.74650694492911},{"$f":"'UD2 CropScenarios'!BN23","v":10647795.956804229},{"$f":"'UD2 CropScenarios'!BO23","v":2665224},{"$f":"'UD2 CropScenarios'!BP23","v":1284645.7030378846},{"$f":"'UD2 CropScenarios'!BQ23","v":20.769708713097142},{"$f":"'UD2 CropScenarios'!BR23","v":6.1893731965029479},{"$f":"'UD2 CropScenarios'!BS23","v":51.613175011584602},{"$f":"'UD2 CropScenarios'!BT23","v":15.380726153452212},{"$f":"'UD2 CropScenarios'!BU23","v":21.570099349955161},{"$f":"'UD2 CropScenarios'!BV23","v":0.57774734147054829},{"$f":"'UD2 CropScenarios'!BW23","v":107.16875960345857},{"$f":"'UD2 CropScenarios'!BY23","v":106.73878460345857}]
[{"$f":"'UD2 CropScenarios'!A24","v":2022},{"$f":"'UD2 CropScenarios'!B24","v":48500},{"$f":"'UD2 CropScenarios'!C24","v":4850},{"$f":"'UD2 CropScenarios'!D24","v":85.117500000000007},{"$f":"'UD2 CropScenarios'!E24","v":2.1279374999999998},{"$f":"'UD2 CropScenarios'!F24","v":11449242.964305623},{"$f":"'UD2 CropScenarios'!G24","v":2665224},{"$f":"'UD2 CropScenarios'!H24","v":3616865.9338886514},{"$f":"'UD2 CropScenarios'!I24","v":179.91667515337406},{"$f":"'UD2 CropScenarios'!J24","v":41.882091428571428},{"$f":"'UD2 CropScenarios'!K24","v":56.836464675393096},{"$f":"'UD2 CropScenarios'!L24","v":53.615169195705469},{"$f":"'UD2 CropScenarios'!M24","v":12.480863245714286},{"$f":"'UD2 CropScenarios'!N24","v":16.937266473267144},{"$f":"'UD2 CropScenarios'!O24","v":83.033298914686895},{"$f":"'UD2 CropScenarios'!P24","v":11681.168},{"$f":"'UD2 CropScenarios'!Q24","v":438465.0465},{"$f":"'UD2 CropScenarios'!R24","v":0.36712242285714286},{"$f":"'UD2 CropScenarios'!S24","v":6.890165016428571},{"$f":"'UD2 CropScenarios'!T24","v":0.10940248201142858},{"$f":"'UD2 CropScenarios'!U24","v":2.0532691748957141},{"$f":"'UD2 CropScenarios'!V24","v":2.1626716569071429},{"$f":"'UD2 CropScenarios'!W24","v":85.195970571594032},{"$f":"'UD2 CropScenarios'!X24","v":11449242.964305623},{"$f":"'UD2 CropScenarios'!Y24","v":2665224},{"$f":"'UD2 CropScenarios'!Z24","v":962068.5},{"$f":"'UD2 CropScenarios'!AA24","v":21.015311372480269},{"$f":"'UD2 CropScenarios'!AB24","v":6.2625627889991202},{"$f":"'UD2 CropScenarios'!AC24","v":53.306321820223452},{"$f":"'UD2 CropScenarios'!AD24","v":15.885283902426588},{"$f":"'UD2 CropScenarios'!AE24","v":22.147846691425709},{"$f":"'UD2 CropScenarios'!AF24","v":109.47175476301975},{"$f":"'UD2 CropScenarios'!AN24","v":48500},{"$f":"'UD2 CropScenarios'!AO24","v":0.08},{"$f":"'UD2 CropScenarios'!AP24","v":3880},{"$f":"'UD2 CropScenarios'!AQ24","v":68.093999999999994},{"$f":"'UD2 CropScenarios'!AR24","v":1.7023499999999998},{"$f":"'UD2 CropScenarios'!AS24","v":0.42558750000000001},{"$f":"'UD2 CropScenarios'!AT24","v":109.04616726301974},{"$f":"'UD2 CropScenarios'!AV24","v":53.615169195705469},{"$f":"'UD2 CropScenarios'!AW24","v":10418811.097518116},{"$f":"'UD2 CropScenarios'!AX24","v":163.72417438957041},{"$f":"'UD2 CropScenarios'!AY24","v":48.789803968091981},{"$f":"'UD2 CropScenarios'!AZ24","v":48.789803968091981},{"$f":"'UD2 CropScenarios'!BA24","v":4.8253652276134886},{"$f":"'UD2 CropScenarios'!BB24","v":105.29586734453295},{"$f":"'UD2 CropScenarios'!BD24","v":8.7903784011511128},{"$f":"'UD2 CropScenarios'!BE24","v":29.301261337170377},{"$f":"'UD2 CropScenarios'!BF24","v":7.0323027209208906},{"$f":"'UD2 CropScenarios'!BG24","v":45.123942459242379},{"$f":"'UD2 CropScenarios'!BH24","v":22.561971229621189},{"$f":"'UD2 CropScenarios'!BI24","v":394834.49651837081},{"$f":"'UD2 CropScenarios'!BJ24","v":1.8489535422674563},{"$f":"'UD2 CropScenarios'!BL24","v":107.1448208868004},{"$f":"'UD2 CropScenarios'!BN24","v":10418811.097518116},{"$f":"'UD2 CropScenarios'!BO24","v":2665224},{"$f":"'UD2 CropScenarios'!BP24","v":1356902.9965183707},{"$f":"'UD2 CropScenarios'!BQ24","v":20.636969713729066},{"$f":"'UD2 CropScenarios'!BR24","v":6.1498169746912614},{"$f":"'UD2 CropScenarios'!BS24","v":51.05903111820043},{"$f":"'UD2 CropScenarios'!BT24","v":15.215591273223728},{"$f":"'UD2 CropScenarios'!BU24","v":21.365408247914988},{"$f":"'UD2 CropScenarios'!BV24","v":0.78243844351072056},{"$f":"'UD2 CropScenarios'!BW24","v":106.36238244328968},{"$f":"'UD2 CropScenarios'!BY24","v":105.93679494328967}]
[{"$f":"'UD2 CropScenarios'!A25","v":2023},{"$f":"'UD2 CropScenarios'!B25","v":48000},{"$f":"'UD2 CropScenarios'!C25","v":4800},{"$f":"'UD2 CropScenarios'!D25","v":84.24},{"$f":"'UD2 CropScenarios'!E25","v":2.1059999999999999},{"$f":"'UD2 CropScenarios'!F25","v":11449242.964305623},{"$f":"'UD2 CropScenarios'!G25","v":2665224},{"$f":"'UD2 CropScenarios'!H25","v":3633599.470033674},{"$f":"'UD2 CropScenarios'!I25","v":179.91667515337406},{"$f":"'UD2 CropScenarios'!J25","v":41.882091428571428},{"$f":"'UD2 CropScenarios'!K25","v":57.099420243386312},{"$f":"'UD2 CropScenarios'!L25","v":53.615169195705469},{"$f":"'UD2 CropScenarios'!M25","v":12.480863245714286},{"$f":"'UD2 CropScenarios'!N25","v":17.01562723252912},{"$f":"'UD2 CropScenarios'!O25","v":83.111659673948878},{"$f":"'UD2 CropScenarios'!P25","v":11553.271999999999},{"$f":"'UD2 CropScenarios'!Q25","v":438465.0465},{"$f":"'UD2 CropScenarios'!R25","v":0.36310283428571427},{"$f":"'UD2 CropScenarios'!S25","v":6.890165016428571},{"$f":"'UD2 CropScenarios'!T25","v":0.10820464461714285},{"$f":"'UD2 CropScenarios'!U25","v":2.0532691748957141},{"$f":"'UD2 CropScenarios'!V25","v":2.1614738195128571},{"$f":"'UD2 CropScenarios'!W25","v":85.273133493461742},{"$f":"'UD2 CropScenarios'!X25","v":11449242.964305623},{"$f":"'UD2 CropScenarios'!Y25","v":2665224},{"$f":"'UD2 CropScenarios'!Z25","v":962068.5},{"$f":"'UD2 CropScenarios'!AA25","v":21.015311372480269},{"$f":"'UD2 CropScenarios'!AB25","v":6.2625627889991202},{"$f":"'UD2 CropScenarios'!AC25","v":53.306321820223452},{"$f":"'UD2 CropScenarios'!AD25","v":15.885283902426588},{"$f":"'UD2 CropScenarios'!AE25","v":22.147846691425709},{"$f":"'UD2 CropScenarios'!AF25","v":109.52698018488745},{"$f":"'UD2 CropScenarios'!AN25","v":48000},{"$f":"'UD2 CropScenarios'!AO25","v":0.08},{"$f":"'UD2 CropScenarios'!AP25","v":3840},{"$f":"'UD2 CropScenarios'!AQ25","v":67.391999999999996},{"$f":"'UD2 CropScenarios'!AR25","v":1.6847999999999999},{"$f":"'UD2 CropScenarios'!AS25","v":0.42120000000000002},{"$f":"'UD2 CropScenarios'!AT25","v":109.10578018488745},{"$f":"'UD2 CropScenarios'!AV25","v":53.615169195705469},{"$f":"'UD2 CropScenarios'!AW25","v":10189826.238232004},{"$f":"'UD2 CropScenarios'!AX25","v":160.12584088650291},{"$f":"'UD2 CropScenarios'!AY25","v":47.71750058417787},{"$f":"'UD2 CropScenarios'!AZ25","v":47.71750058417787},{"$f":"'UD2 CropScenarios'!BA25","v":5.8976686115275996},{"$f":"'UD2 CropScenarios'!BB25","v":104.35581070350563},{"$f":"'UD2 CropScenarios'!BD25","v":10.460550297369824},{"$f":"'UD2 CropScenarios'!BE25","v":34.868500991232743},{"$f":"'UD2 CropScenarios'!BF25","v":8.3684402378958573},{"$f":"'UD2 CropScenarios'!BG25","v":53.697491526498425},{"$f":"'UD2 CropScenarios'!BH25","v":26.848745763249212},{"$f":"'UD2 CropScenarios'!BI25","v":469853.05085686123},{"$f":"'UD2 CropScenarios'!BJ25","v":2.2002547152982728},{"$f":"'UD2 CropScenarios'!BL25","v":106.5560654188039},{"$f":"'UD2 CropScenarios'!BN25","v":10189826.238232004},{"$f":"'UD2 CropScenarios'!BO25","v":2665224},{"$f":"'UD2 CropScenarios'!BP25","v":1431921.5508568613},{"$f":"'UD2 CropScenarios'!BQ25","v":20.512908962771856},{"$f":"'UD2 CropScenarios'!BR25","v":6.1128468709060133},{"$f":"'UD2 CropScenarios'!BS25","v":50.514650254278479},{"$f":"'UD2 CropScenarios'!BT25","v":15.053365775774987},{"$f":"'UD2 CropScenarios'!BU25","v":21.166212646681},{"$f":"'UD2 CropScenarios'!BV25","v":0.98163404474470894},{"$f":"'UD2 CropScenarios'!BW25","v":105.57443137405919},{"$f":"'UD2 CropScenarios'!BY25","v":105.15323137405919}]
[{"$f":"'UD2 CropScenarios'!A26","v":2024},{"$f":"'UD2 CropScenarios'!B26","v":47500},{"$f":"'UD2 CropScenarios'!C26","v":4750},{"$f":"'UD2 CropScenarios'!D26","v":83.362499999999997},{"$f":"'UD2 CropScenarios'!E26","v":2.0840624999999999},{"$f":"'UD2 CropScenarios'!F26","v":11449242.964305623},{"$f":"'UD2 CropScenarios'!G26","v":2665224},{"$f":"'UD2 CropScenarios'!H26","v":3650333.0061786966},{"$f":"'UD2 CropScenarios'!I26","v":179.91667515337406},{"$f":"'UD2 CropScenarios'!J26","v":41.882091428571428},{"$f":"'UD2 CropScenarios'!K26","v":57.362375811379522},{"$f":"'UD2 CropScenarios'!L26","v":53.615169195705469},{"$f":"'UD2 CropScenarios'!M26","v":12.480863245714286},{"$f":"'UD2 CropScenarios'!N26","v":17.093987991791099},{"$f":"'UD2 CropScenarios'!O26","v":83.190020433210847},{"$f":"'UD2 CropScenarios'!P26","v":11425.375999999998},{"$f":"'UD2 CropScenarios'!Q26","v":438465.0465},{"$f":"'UD2 CropScenarios'!R26","v":0.35908324571428568},{"$f":"'UD2 CropScenarios'!S26","v":6.890165016428571},{"$f":"'UD2 CropScenarios'!T26","v":0.10700680722285713},{"$f":"'UD2 CropScenarios'!U26","v":2.0532691748957141},{"$f":"'UD2 CropScenarios'!V26","v":2.1602759821185713},{"$f":"'UD2 CropScenarios'!W26","v":85.350296415329424},{"$f":"'UD2 CropScenarios'!X26","v":11449242.964305623},{"$f":"'UD2 CropScenarios'!Y26","v":2665224},{"$f":"'UD2 CropScenarios'!Z26","v":962068.5},{"$f":"'UD2 CropScenarios'!AA26","v":21.015311372480269},{"$f":"'UD2 CropScenarios'!AB26","v":6.2625627889991202},{"$f":"'UD2 CropScenarios'!AC26","v":53.306321820223452},{"$f":"'UD2 CropScenarios'!AD26","v":15.885283902426588},{"$f":"'UD2 CropScenarios'!AE26","v":22.147846691425709},{"$f":"'UD2 CropScenarios'!AF26","v":109.58220560675514},{"$f":"'UD2 CropScenarios'!AN26","v":47500},{"$f":"'UD2 CropScenarios'!AO26","v":0.08},{"$f":"'UD2 CropScenarios'!AP26","v":3800},{"$f":"'UD2 CropScenarios'!AQ26","v":66.69},{"$f":"'UD2 CropScenarios'!AR26","v":1.6672499999999999},{"$f":"'UD2 CropScenarios'!AS26","v":0.41681250000000003},{"$f":"'UD2 CropScenarios'!AT26","v":109.16539310675513},{"$f":"'UD2 CropScenarios'!AV26","v":53.615169195705469},{"$f":"'UD2 CropScenarios'!AW26","v":9960841.3789458908},{"$f":"'UD2 CropScenarios'!AX26","v":156.52750738343542},{"$f":"'UD2 CropScenarios'!AY26","v":46.645197200263759},{"$f":"'UD2 CropScenarios'!AZ26","v":46.645197200263759},{"$f":"'UD2 CropScenarios'!BA26","v":6.9699719954417105},{"$f":"'UD2 CropScenarios'!BB26","v":103.41575406247831},{"$f":"'UD2 CropScenarios'!BD26","v":12.194012918076822},{"$f":"'UD2 CropScenarios'!BE26","v":40.646709726922744},{"$f":"'UD2 CropScenarios'!BF26","v":9.7552103344614576},{"$f":"'UD2 CropScenarios'!BG26","v":62.595932979461026},{"$f":"'UD2 CropScenarios'!BH26","v":31.297966489730513},{"$f":"'UD2 CropScenarios'!BI26","v":547714.41357028403},{"$f":"'UD2 CropScenarios'!BJ26","v":2.564868353833416},{"$f":"'UD2 CropScenarios'!BL26","v":105.98062241631173},{"$f":"'UD2 CropScenarios'!BN26","v":9960841.3789458908},{"$f":"'UD2 CropScenarios'!BO26","v":2665224},{"$f":"'UD2 CropScenarios'!BP26","v":1509782.9135702839},{"$f":"'UD2 CropScenarios'!BQ26","v":20.39778275242158},{"$f":"'UD2 CropScenarios'!BR26","v":6.078539260221631},{"$f":"'UD2 CropScenarios'!BS26","v":49.980320748539327},{"$f":"'UD2 CropScenarios'!BT26","v":14.894135583064719},{"$f":"'UD2 CropScenarios'!BU26","v":20.972674843286349},{"$f":"'UD2 CropScenarios'!BV26","v":1.1751718481393603},{"$f":"'UD2 CropScenarios'!BW26","v":104.80545056817238},{"$f":"'UD2 CropScenarios'!BY26","v":104.38863806817237}]
[{"$f":"'UD2 CropScenarios'!A27","v":2025},{"$f":"'UD2 CropScenarios'!B27","v":47000},{"$f":"'UD2 CropScenarios'!C27","v":4700},{"$f":"'UD2 CropScenarios'!D27","v":82.484999999999999},{"$f":"'UD2 CropScenarios'!E27","v":2.062125},{"$f":"'UD2 CropScenarios'!F27","v":11449242.964305623},{"$f":"'UD2 CropScenarios'!G27","v":2665224},{"$f":"'UD2 CropScenarios'!H27","v":3667066.5423237192},{"$f":"'UD2 CropScenarios'!I27","v":179.91667515337406},{"$f":"'UD2 CropScenarios'!J27","v":41.882091428571428},{"$f":"'UD2 CropScenarios'!K27","v":57.625331379372739},{"$f":"'UD2 CropScenarios'!L27","v":53.615169195705469},{"$f":"'UD2 CropScenarios'!M27","v":12.480863245714286},{"$f":"'UD2 CropScenarios'!N27","v":17.172348751053075},{"$f":"'UD2 CropScenarios'!O27","v":83.26838119247283},{"$f":"'UD2 CropScenarios'!P27","v":11297.48},{"$f":"'UD2 CropScenarios'!Q27","v":438465.0465},{"$f":"'UD2 CropScenarios'!R27","v":0.35506365714285715},{"$f":"'UD2 CropScenarios'!S27","v":6.890165016428571},{"$f":"'UD2 CropScenarios'!T27","v":0.10580896982857144},{"$f":"'UD2 CropScenarios'!U27","v":2.0532691748957141},{"$f":"'UD2 CropScenarios'!V27","v":2.1590781447242855},{"$f":"'UD2 CropScenarios'!W27","v":85.427459337197121},{"$f":"'UD2 CropScenarios'!X27","v":11449242.964305623},{"$f":"'UD2 CropScenarios'!Y27","v":2665224},{"$f":"'UD2 CropScenarios'!Z27","v":962068.5},{"$f":"'UD2 CropScenarios'!AA27","v":21.015311372480269},{"$f":"'UD2 CropScenarios'!AB27","v":6.2625627889991202},{"$f":"'UD2 CropScenarios'!AC27","v":53.306321820223452},{"$f":"'UD2 CropScenarios'!AD27","v":15.885283902426588},{"$f":"'UD2 CropScenarios'!AE27","v":22.147846691425709},{"$f":"'UD2 CropScenarios'!AF27","v":109.63743102862283},{"$f":"'UD2 CropScenarios'!AN27","v":47000},{"$f":"'UD2 CropScenarios'!AO27","v":0.08},{"$f":"'UD2 CropScenarios'!AP27","v":3760},{"$f":"'UD2 CropScenarios'!AQ27","v":65.988},{"$f":"'UD2 CropScenarios'!AR27","v":1.6496999999999999},{"$f":"'UD2 CropScenarios'!AS27","v":0.41242500000000004},{"$f":"'UD2 CropScenarios'!AT27","v":109.22500602862283},{"$f":"'UD2 CropScenarios'!AV27","v":53.615169195705469},{"$f":"'UD2 CropScenarios'!AW27","v":9731856.5196597781},{"$f":"'UD2 CropScenarios'!AX27","v":152.92917388036796},{"$f":"'UD2 CropScenarios'!AY27","v":45.572893816349648},{"$f":"'UD2 CropScenarios'!AZ27","v":45.572893816349648},{"$f":"'UD2 CropScenarios'!BA27","v":8.0422753793558215},{"$f":"'UD2 CropScenarios'!BB27","v":102.47569742145097},{"$f":"'UD2 CropScenarios'!BD27","v":13.992629823493152},{"$f":"'UD2 CropScenarios'!BE27","v":46.642099411643841},{"$f":"'UD2 CropScenarios'!BF27","v":11.194103858794522},{"$f":"'UD2 CropScenarios'!BG27","v":71.828833093931522},{"$f":"'UD2 CropScenarios'!BH27","v":35.914416546965761},{"$f":"'UD2 CropScenarios'!BI27","v":628502.28957190085},{"$f":"'UD2 CropScenarios'!BJ27","v":2.9431864360238444},{"$f":"'UD2 CropScenarios'!BL27","v":105.41888385747482},{"$f":"'UD2 CropScenarios'!BN27","v":9731856.5196597781},{"$f":"'UD2 CropScenarios'!BO27","v":2665224},{"$f":"'UD2 CropScenarios'!BP27","v":1590570.7895719009},{"$f":"'UD2 CropScenarios'!BQ27","v":20.291854155262772},{"$f":"'UD2 CropScenarios'!BR27","v":6.0469725382683066},{"$f":"'UD2 CropScenarios'!BS27","v":49.456338557640571},{"$f":"'UD2 CropScenarios'!BT27","v":14.73798889017689},{"$f":"'UD2 CropScenarios'!BU27","v":20.784961428445197},{"$f":"'UD2 CropScenarios'!BV27","v":1.3628852629805124},{"$f":"'UD2 CropScenarios'!BW27","v":104.05599859449431},{"$f":"'UD2 CropScenarios'!BY27","v":103.64357359449431}]
[{"$f":"'UD2 CropScenarios'!A28","v":2026},{"$f":"'UD2 CropScenarios'!B28","v":46500},{"$f":"'UD2 CropScenarios'!C28","v":4650},{"$f":"'UD2 CropScenarios'!D28","v":81.607500000000002},{"$f":"'UD2 CropScenarios'!E28","v":2.0401875},{"$f":"'UD2 CropScenarios'!F28","v":11449242.964305623},{"$f":"'UD2 CropScenarios'!G28","v":2665224},{"$f":"'UD2 CropScenarios'!H28","v":3675618.4624506915},{"$f":"'UD2 CropScenarios'!I28","v":179.91667515337406},{"$f":"'UD2 CropScenarios'!J28","v":41.882091428571428},{"$f":"'UD2 CropScenarios'!K28","v":57.759718695653724},{"$f":"'UD2 CropScenarios'!L28","v":53.615169195705469},{"$f":"'UD2 CropScenarios'!M28","v":12.480863245714286},{"$f":"'UD2 CropScenarios'!N28","v":17.212396171304807},{"$f":"'UD2 CropScenarios'!O28","v":83.308428612724555},{"$f":"'UD2 CropScenarios'!P28","v":11233.531999999999},{"$f":"'UD2 CropScenarios'!Q28","v":439746.19650000002},{"$f":"'UD2 CropScenarios'!R28","v":0.35305386285714285},{"$f":"'UD2 CropScenarios'!S28","v":6.9102973735714297},{"$f":"'UD2 CropScenarios'!T28","v":0.10521005113142858},{"$f":"'UD2 CropScenarios'!U28","v":2.0592686173242858},{"$f":"'UD2 CropScenarios'!V28","v":2.1644786684557142},{"$f":"'UD2 CropScenarios'!W28","v":85.472907281180269},{"$f":"'UD2 CropScenarios'!X28","v":11449242.964305623},{"$f":"'UD2 CropScenarios'!Y28","v":2665224},{"$f":"'UD2 CropScenarios'!Z28","v":962068.5},{"$f":"'UD2 CropScenarios'!AA28","v":21.015311372480269},{"$f":"'UD2 CropScenarios'!AB28","v":6.2625627889991202},{"$f":"'UD2 CropScenarios'!AC28","v":53.306321820223452},{"$f":"'UD2 CropScenarios'!AD28","v":15.885283902426588},{"$f":"'UD2 CropScenarios'!AE28","v":22.147846691425709},{"$f":"'UD2 CropScenarios'!AF28","v":109.66094147260598},{"$f":"'UD2 CropScenarios'!AN28","v":46500},{"$f":"'UD2 CropScenarios'!AO28","v":0.08},{"$f":"'UD2 CropScenarios'!AP28","v":3720},{"$f":"'UD2 CropScenarios'!AQ28","v":65.286000000000001},{"$f":"'UD2 CropScenarios'!AR28","v":1.63215},{"$f":"'UD2 CropScenarios'!AS28","v":0.40803750000000005},{"$f":"'UD2 CropScenarios'!AT28","v":109.25290397260598},{"$f":"'UD2 CropScenarios'!AV28","v":53.615169195705469},{"$f":"'UD2 CropScenarios'!AW28","v":9502871.6603736654},{"$f":"'UD2 CropScenarios'!AX28","v":149.33084037730046},{"$f":"'UD2 CropScenarios'!AY28","v":44.500590432435537},{"$f":"'UD2 CropScenarios'!AZ28","v":44.500590432435537},{"$f":"'UD2 CropScenarios'!BA28","v":9.1145787632699324},{"$f":"'UD2 CropScenarios'!BB28","v":101.49738268072841},{"$f":"'UD2 CropScenarios'!BD28","v":15.858313799958903},{"$f":"'UD2 CropScenarios'!BE28","v":52.861045999863016},{"$f":"'UD2 CropScenarios'!BF28","v":12.686651039967122},{"$f":"'UD2 CropScenarios'!BG28","v":81.406010839789033},{"$f":"'UD2 CropScenarios'!BH28","v":40.703005419894517},{"$f":"'UD2 CropScenarios'!BI28","v":712302.59484815411},{"$f":"'UD2 CropScenarios'!BJ28","v":3.3356112941603562},{"$f":"'UD2 CropScenarios'!BL28","v":104.83299397488877},{"$f":"'UD2 CropScenarios'!BN28","v":9502871.6603736654},{"$f":"'UD2 CropScenarios'!BO28","v":2665224},{"$f":"'UD2 CropScenarios'!BP28","v":1674371.0948481541},{"$f":"'UD2 CropScenarios'!BQ28","v":20.195393192967106},{"$f":"'UD2 CropScenarios'!BR28","v":6.0182271715041979},{"$f":"'UD2 CropScenarios'!BS28","v":48.943007455962857},{"$f":"'UD2 CropScenarios'!BT28","v":14.585016221876931},{"$f":"'UD2 CropScenarios'!BU28","v":20.603243393381128},{"$f":"'UD2 CropScenarios'!BV28","v":1.5446032980445814},{"$f":"'UD2 CropScenarios'!BW28","v":103.28839067684419},{"$f":"'UD2 CropScenarios'!BY28","v":102.88035317684418}]
[{"$f":"'UD2 CropScenarios'!A29","v":2027},{"$f":"'UD2 CropScenarios'!B29","v":46000},{"$f":"'UD2 CropScenarios'!C29","v":4600},{"$f":"'UD2 CropScenarios'!D29","v":80.73},{"$f":"'UD2 CropScenarios'!E29","v":2.0182500000000001},{"$f":"'UD2 CropScenarios'!F29","v":11449242.964305623},{"$f":"'UD2 CropScenarios'!G29","v":2665224},{"$f":"'UD2 CropScenarios'!H29","v":3684170.3825776638},{"$f":"'UD2 CropScenarios'!I29","v":179.91667515337406},{"$f":"'UD2 CropScenarios'!J29","v":41.882091428571428},{"$f":"'UD2 CropScenarios'!K29","v":57.894106011934717},{"$f":"'UD2 CropScenarios'!L29","v":53.615169195705469},{"$f":"'UD2 CropScenarios'!M29","v":12.480863245714286},{"$f":"'UD2 CropScenarios'!N29","v":17.252443591556545},{"$f":"'UD2 CropScenarios'!O29","v":83.348476032976293},{"$f":"'UD2 CropScenarios'!P29","v":11169.583999999999},{"$f":"'UD2 CropScenarios'!Q29","v":441027.34650000004},{"$f":"'UD2 CropScenarios'!R29","v":0.3510440685714285},{"$f":"'UD2 CropScenarios'!S29","v":6.9304297307142857},{"$f":"'UD2 CropScenarios'!T29","v":0.10461113243428569},{"$f":"'UD2 CropScenarios'!U29","v":2.065268059752857},{"$f":"'UD2 CropScenarios'!V29","v":2.1698791921871425},{"$f":"'UD2 CropScenarios'!W29","v":85.518355225163432},{"$f":"'UD2 CropScenarios'!X29","v":11449242.964305623},{"$f":"'UD2 CropScenarios'!Y29","v":2665224},{"$f":"'UD2 CropScenarios'!Z29","v":962068.5},{"$f":"'UD2 CropScenarios'!AA29","v":21.015311372480269},{"$f":"'UD2 CropScenarios'!AB29","v":6.2625627889991202},{"$f":"'UD2 CropScenarios'!AC29","v":53.306321820223452},{"$f":"'UD2 CropScenarios'!AD29","v":15.885283902426588},{"$f":"'UD2 CropScenarios'!AE29","v":22.147846691425709},{"$f":"'UD2 CropScenarios'!AF29","v":109.68445191658914},{"$f":"'UD2 CropScenarios'!AN29","v":46000},{"$f":"'UD2 CropScenarios'!AO29","v":0.08},{"$f":"'UD2 CropScenarios'!AP29","v":3680},{"$f":"'UD2 CropScenarios'!AQ29","v":64.584000000000003},{"$f":"'UD2 CropScenarios'!AR29","v":1.6146},{"$f":"'UD2 CropScenarios'!AS29","v":0.40365000000000006},{"$f":"'UD2 CropScenarios'!AT29","v":109.28080191658914},{"$f":"'UD2 CropScenarios'!AV29","v":53.615169195705469},{"$f":"'UD2 CropScenarios'!AW29","v":9273886.8010875527},{"$f":"'UD2 CropScenarios'!AX29","v":145.73250687423297},{"$f":"'UD2 CropScenarios'!AY29","v":43.428287048521426},{"$f":"'UD2 CropScenarios'!AZ29","v":43.428287048521426},{"$f":"'UD2 CropScenarios'!BA29","v":10.186882147184043},{"$f":"'UD2 CropScenarios'!BB29","v":100.51906794000584},{"$f":"'UD2 CropScenarios'!BD29","v":19.4105760911497},{"$f":"'UD2 CropScenarios'!BE29","v":64.701920303832324},{"$f":"'UD2 CropScenarios'!BF29","v":15.528460872919757},{"$f":"'UD2 CropScenarios'!BG29","v":99.640957267901783},{"$f":"'UD2 CropScenarios'!BH29","v":49.820478633950891},{"$f":"'UD2 CropScenarios'!BI29","v":871858.37609414058},{"$f":"'UD2 CropScenarios'!BJ29","v":4.0827882240522761},{"$f":"'UD2 CropScenarios'!BL29","v":104.60185616405812},{"$f":"'UD2 CropScenarios'!BN29","v":9273886.8010875527},{"$f":"'UD2 CropScenarios'!BO29","v":2665224},{"$f":"'UD2 CropScenarios'!BP29","v":1833926.8760941406},{"$f":"'UD2 CropScenarios'!BQ29","v":20.337020869433459},{"$f":"'UD2 CropScenarios'!BR29","v":6.0604322190911706},{"$f":"'UD2 CropScenarios'!BS29","v":48.697526072892408},{"$f":"'UD2 CropScenarios'!BT29","v":14.511862769721938},{"$f":"'UD2 CropScenarios'!BU29","v":20.572294988813109},{"$f":"'UD2 CropScenarios'!BV29","v":1.5755517026126},{"$f":"'UD2 CropScenarios'!BW29","v":103.02630446144552},{"$f":"'UD2 CropScenarios'!BY29","v":102.62265446144552}]
[{"$f":"'UD2 CropScenarios'!A30","v":2028},{"$f":"'UD2 CropScenarios'!B30","v":45500},{"$f":"'UD2 CropScenarios'!C30","v":4550},{"$f":"'UD2 CropScenarios'!D30","v":79.852500000000006},{"$f":"'UD2 CropScenarios'!E30","v":1.9963125000000002},{"$f":"'UD2 CropScenarios'!F30","v":11449242.964305623},{"$f":"'UD2 CropScenarios'!G30","v":2665224},{"$f":"'UD2 CropScenarios'!H30","v":3692722.302704636},{"$f":"'UD2 CropScenarios'!I30","v":179.91667515337406},{"$f":"'UD2 CropScenarios'!J30","v":41.882091428571428},{"$f":"'UD2 CropScenarios'!K30","v":58.028493328215717},{"$f":"'UD2 CropScenarios'!L30","v":53.615169195705469},{"$f":"'UD2 CropScenarios'!M30","v":12.480863245714286},{"$f":"'UD2 CropScenarios'!N30","v":17.292491011808284},{"$f":"'UD2 CropScenarios'!O30","v":83.388523453228032},{"$f":"'UD2 CropScenarios'!P30","v":11105.635999999999},{"$f":"'UD2 CropScenarios'!Q30","v":442308.49650000007},{"$f":"'UD2 CropScenarios'!R30","v":0.34903427428571421},{"$f":"'UD2 CropScenarios'!S30","v":6.9505620878571444},{"$f":"'UD2 CropScenarios'!T30","v":0.10401221373714283},{"$f":"'UD2 CropScenarios'!U30","v":2.0712675021814291},{"$f":"'UD2 CropScenarios'!V30","v":2.1752797159185717},{"$f":"'UD2 CropScenarios'!W30","v":85.56380316914661},{"$f":"'UD2 CropScenarios'!X30","v":11449242.964305623},{"$f":"'UD2 CropScenarios'!Y30","v":2665224},{"$f":"'UD2 CropScenarios'!Z30","v":962068.5},{"$f":"'UD2 CropScenarios'!AA30","v":21.015311372480269},{"$f":"'UD2 CropScenarios'!AB30","v":6.2625627889991202},{"$f":"'UD2 CropScenarios'!AC30","v":53.306321820223452},{"$f":"'UD2 CropScenarios'!AD30","v":15.885283902426588},{"$f":"'UD2 CropScenarios'!AE30","v":22.147846691425709},{"$f":"'UD2 CropScenarios'!AF30","v":109.70796236057232},{"$f":"'UD2 CropScenarios'!AN30","v":45500},{"$f":"'UD2 CropScenarios'!AO30","v":0.08},{"$f":"'UD2 CropScenarios'!AP30","v":3640},{"$f":"'UD2 CropScenarios'!AQ30","v":63.882000000000005},{"$f":"'UD2 CropScenarios'!AR30","v":1.5970500000000001},{"$f":"'UD2 CropScenarios'!AS30","v":0.39926250000000008},{"$f":"'UD2 CropScenarios'!AT30","v":109.30869986057232},{"$f":"'UD2 CropScenarios'!AV30","v":53.615169195705469},{"$f":"'UD2 CropScenarios'!AW30","v":9044901.94180144},{"$f":"'UD2 CropScenarios'!AX30","v":142.1341733711655},{"$f":"'UD2 CropScenarios'!AY30","v":42.355983664607315},{"$f":"'UD2 CropScenarios'!AZ30","v":42.355983664607315},{"$f":"'UD2 CropScenarios'!BA30","v":11.259185531098154},{"$f":"'UD2 CropScenarios'!BB30","v":99.540753199283273},{"$f":"'UD2 CropScenarios'!BD30","v":21.448686580720416},{"$f":"'UD2 CropScenarios'!BE30","v":71.495621935734718},{"$f":"'UD2 CropScenarios'!BF30","v":17.158949264576336},{"$f":"'UD2 CropScenarios'!BG30","v":110.10325778103147},{"$f":"'UD2 CropScenarios'!BH30","v":55.051628890515737},{"$f":"'UD2 CropScenarios'!BI30","v":963403.50558402541},{"$f":"'UD2 CropScenarios'!BJ30","v":4.5114809875777651},{"$f":"'UD2 CropScenarios'!BL30","v":104.05223418686104},{"$f":"'UD2 CropScenarios'!BN30","v":9044901.94180144},{"$f":"'UD2 CropScenarios'!BO30","v":2665224},{"$f":"'UD2 CropScenarios'!BP30","v":1925472.0055840253},{"$f":"'UD2 CropScenarios'!BQ30","v":20.264900783237771},{"$f":"'UD2 CropScenarios'!BR30","v":6.0389404334048562},{"$f":"'UD2 CropScenarios'!BS30","v":48.211578456827176},{"$f":"'UD2 CropScenarios'!BT30","v":14.367050380134499},{"$f":"'UD2 CropScenarios'!BU30","v":20.405990813539354},{"$f":"'UD2 CropScenarios'!BV30","v":1.7418558778863549},{"$f":"'UD2 CropScenarios'!BW30","v":102.31037830897469},{"$f":"'UD2 CropScenarios'!BY30","v":101.91111580897469}]
[{"$f":"'UD2 CropScenarios'!A31","v":2029},{"$f":"'UD2 CropScenarios'!B31","v":45250},{"$f":"'UD2 CropScenarios'!C31","v":4525},{"$f":"'UD2 CropScenarios'!D31","v":79.413749999999993},{"$f":"'UD2 CropScenarios'!E31","v":1.9853437499999997},{"$f":"'UD2 CropScenarios'!F31","v":11449242.964305623},{"$f":"'UD2 CropScenarios'!G31","v":2665224},{"$f":"'UD2 CropScenarios'!H31","v":3701274.2228316083},{"$f":"'UD2 CropScenarios'!I31","v":179.91667515337406},{"$f":"'UD2 CropScenarios'!J31","v":41.882091428571428},{"$f":"'UD2 CropScenarios'!K31","v":58.162880644496703},{"$f":"'UD2 CropScenarios'!L31","v":53.615169195705469},{"$f":"'UD2 CropScenarios'!M31","v":12.480863245714286},{"$f":"'UD2 CropScenarios'!N31","v":17.332538432060016},{"$f":"'UD2 CropScenarios'!O31","v":83.428570873479771},{"$f":"'UD2 CropScenarios'!P31","v":11041.687999999998},{"$f":"'UD2 CropScenarios'!Q31","v":443589.64650000009},{"$f":"'UD2 CropScenarios'!R31","v":0.34702447999999997},{"$f":"'UD2 CropScenarios'!S31","v":6.9706944450000012},{"$f":"'UD2 CropScenarios'!T31","v":0.10341329503999999},{"$f":"'UD2 CropScenarios'!U31","v":2.0772669446100003},{"$f":"'UD2 CropScenarios'!V31","v":2.1806802396500005},{"$f":"'UD2 CropScenarios'!W31","v":85.609251113129773},{"$f":"'UD2 CropScenarios'!X31","v":11449242.964305623},{"$f":"'UD2 CropScenarios'!Y31","v":2665224},{"$f":"'UD2 CropScenarios'!Z31","v":962068.5},{"$f":"'UD2 CropScenarios'!AA31","v":21.015311372480269},{"$f":"'UD2 CropScenarios'!AB31","v":6.2625627889991202},{"$f":"'UD2 CropScenarios'!AC31","v":53.306321820223452},{"$f":"'UD2 CropScenarios'!AD31","v":15.885283902426588},{"$f":"'UD2 CropScenarios'!AE31","v":22.147846691425709},{"$f":"'UD2 CropScenarios'!AF31","v":109.74244155455548},{"$f":"'UD2 CropScenarios'!AN31","v":45250},{"$f":"'UD2 CropScenarios'!AO31","v":0.08},{"$f":"'UD2 CropScenarios'!AP31","v":3620},{"$f":"'UD2 CropScenarios'!AQ31","v":63.531000000000006},{"$f":"'UD2 CropScenarios'!AR31","v":1.5882750000000001},{"$f":"'UD2 CropScenarios'!AS31","v":0.39706874999999964},{"$f":"'UD2 CropScenarios'!AT31","v":109.34537280455548},{"$f":"'UD2 CropScenarios'!AV31","v":53.615169195705469},{"$f":"'UD2 CropScenarios'!AW31","v":8815917.0825153273},{"$f":"'UD2 CropScenarios'!AX31","v":138.53583986809801},{"$f":"'UD2 CropScenarios'!AY31","v":41.283680280693211},{"$f":"'UD2 CropScenarios'!AZ31","v":41.283680280693211},{"$f":"'UD2 CropScenarios'!BA31","v":12.331488915012258},{"$f":"'UD2 CropScenarios'!BB31","v":98.573407208560724},{"$f":"'UD2 CropScenarios'!BD31","v":23.560557259437509},{"$f":"'UD2 CropScenarios'!BE31","v":78.535190864791687},{"$f":"'UD2 CropScenarios'!BF31","v":18.848445807550004},{"$f":"'UD2 CropScenarios'!BG31","v":120.94419393177921},{"$f":"'UD2 CropScenarios'!BH31","v":60.472096965889605},{"$f":"'UD2 CropScenarios'!BI31","v":1058261.6969030683},{"$f":"'UD2 CropScenarios'!BJ31","v":4.9556883463546546},{"$f":"'UD2 CropScenarios'!BL31","v":103.52909555491537},{"$f":"'UD2 CropScenarios'!BN31","v":8815917.0825153273},{"$f":"'UD2 CropScenarios'!BO31","v":2665224},{"$f":"'UD2 CropScenarios'!BP31","v":2020330.1969030683},{"$f":"'UD2 CropScenarios'!BQ31","v":20.203193177076589},{"$f":"'UD2 CropScenarios'!BR31","v":6.0205515667688232},{"$f":"'UD2 CropScenarios'!BS31","v":47.737344880800755},{"$f":"'UD2 CropScenarios'!BT31","v":14.225728774478624},{"$f":"'UD2 CropScenarios'!BU31","v":20.246280341247449},{"$f":"'UD2 CropScenarios'!BV31","v":1.9015663501782605},{"$f":"'UD2 CropScenarios'!BW31","v":101.62752920473712},{"$f":"'UD2 CropScenarios'!BY31","v":101.23046045473711}]
[{"$f":"'UD2 CropScenarios'!A32","v":2030},{"$f":"'UD2 CropScenarios'!B32","v":45000},{"$f":"'UD2 CropScenarios'!C32","v":4500},{"$f":"'UD2 CropScenarios'!D32","v":78.974999999999994},{"$f":"'UD2 CropScenarios'!E32","v":1.9743749999999998},{"$f":"'UD2 CropScenarios'!F32","v":11449242.964305623},{"$f":"'UD2 CropScenarios'!G32","v":2665224},{"$f":"'UD2 CropScenarios'!H32","v":3709826.1429585796},{"$f":"'UD2 CropScenarios'!I32","v":179.91667515337406},{"$f":"'UD2 CropScenarios'!J32","v":41.882091428571428},{"$f":"'UD2 CropScenarios'!K32","v":58.297267960777688},{"$f":"'UD2 CropScenarios'!L32","v":53.615169195705469},{"$f":"'UD2 CropScenarios'!M32","v":12.480863245714286},{"$f":"'UD2 CropScenarios'!N32","v":17.372585852311751},{"$f":"'UD2 CropScenarios'!O32","v":83.46861829373151},{"$f":"'UD2 CropScenarios'!P32","v":10977.74},{"$f":"'UD2 CropScenarios'!Q32","v":444870.7965},{"$f":"'UD2 CropScenarios'!R32","v":0.34501468571428567},{"$f":"'UD2 CropScenarios'!S32","v":6.9908268021428572},{"$f":"'UD2 CropScenarios'!T32","v":0.10281437634285713},{"$f":"'UD2 CropScenarios'!U32","v":2.0832663870385715},{"$f":"'UD2 CropScenarios'!V32","v":2.1860807633814288},{"$f":"'UD2 CropScenarios'!W32","v":85.654699057112936},{"$f":"'UD2 CropScenarios'!X32","v":11449242.964305623},{"$f":"'UD2 CropScenarios'!Y32","v":2665224},{"$f":"'UD2 CropScenarios'!Z32","v":962068.5},{"$f":"'UD2 CropScenarios'!AA32","v":21.015311372480269},{"$f":"'UD2 CropScenarios'!AB32","v":6.2625627889991202},{"$f":"'UD2 CropScenarios'!AC32","v":53.306321820223452},{"$f":"'UD2 CropScenarios'!AD32","v":15.885283902426588},{"$f":"'UD2 CropScenarios'!AE32","v":22.147846691425709},{"$f":"'UD2 CropScenarios'!AF32","v":109.77692074853864},{"$f":"'UD2 CropScenarios'!AN32","v":45000},{"$f":"'UD2 CropScenarios'!AO32","v":0.08},{"$f":"'UD2 CropScenarios'!AP32","v":3600},{"$f":"'UD2 CropScenarios'!AQ32","v":63.180000000000007},{"$f":"'UD2 CropScenarios'!AR32","v":1.5795000000000001},{"$f":"'UD2 CropScenarios'!AS32","v":0.39487499999999964},{"$f":"'UD2 CropScenarios'!AT32","v":109.38204574853864},{"$f":"'UD2 CropScenarios'!AV32","v":53.615169195705469},{"$f":"'UD2 CropScenarios'!AW32","v":8586932.2232292145},{"$f":"'UD2 CropScenarios'!AX32","v":134.93750636503052},{"$f":"'UD2 CropScenarios'!AY32","v":40.211376896779093},{"$f":"'UD2 CropScenarios'!AZ32","v":40.211376896779093},{"$f":"'UD2 CropScenarios'!BA32","v":13.403792298926376},{"$f":"'UD2 CropScenarios'!BB32","v":97.606061217838146},{"$f":"'UD2 CropScenarios'!BD32","v":25.748323290670992},{"$f":"'UD2 CropScenarios'!BE32","v":85.827744302236638},{"$f":"'UD2 CropScenarios'!BF32","v":20.598658632536797},{"$f":"'UD2 CropScenarios'!BG32","v":132.17472622544443},{"$f":"'UD2 CropScenarios'!BH32","v":66.087363112722215},{"$f":"'UD2 CropScenarios'!BI32","v":1156528.8544726388},{"$f":"'UD2 CropScenarios'!BJ32","v":5.4158594070875861},{"$f":"'UD2 CropScenarios'!BL32","v":103.02192062492573},{"$f":"'UD2 CropScenarios'!BN32","v":8586932.2232292145},{"$f":"'UD2 CropScenarios'!BO32","v":2665224},{"$f":"'UD2 CropScenarios'!BP32","v":2118597.354472639},{"$f":"'UD2 CropScenarios'!BQ32","v":20.152199464845634},{"$f":"'UD2 CropScenarios'!BR32","v":6.0053554405239984},{"$f":"'UD2 CropScenarios'!BS32","v":47.275164435445831},{"$f":"'UD2 CropScenarios'!BT32","v":14.087999001762856},{"$f":"'UD2 CropScenarios'!BU32","v":20.093354442286856},{"$f":"'UD2 CropScenarios'!BV32","v":2.0544922491388533},{"$f":"'UD2 CropScenarios'!BW32","v":100.96742837578688},{"$f":"'UD2 CropScenarios'!BY32","v":100.57255337578688}]
[{"$f":"'UD2 CropScenarios'!A33","v":2035},{"$f":"'UD2 CropScenarios'!B33","v":44000},{"$f":"'UD2 CropScenarios'!C33","v":4400},{"$f":"'UD2 CropScenarios'!D33","v":77.22},{"$f":"'UD2 CropScenarios'!E33","v":1.9305000000000001},{"$f":"'UD2 CropScenarios'!F33","v":11449242.964305623},{"$f":"'UD2 CropScenarios'!G33","v":2665224},{"$f":"'UD2 CropScenarios'!H33","v":3816834.4316734448},{"$f":"'UD2 CropScenarios'!I33","v":179.91667515337406},{"$f":"'UD2 CropScenarios'!J33","v":41.882091428571428},{"$f":"'UD2 CropScenarios'!K33","v":59.97882678343985},{"$f":"'UD2 CropScenarios'!L33","v":53.615169195705469},{"$f":"'UD2 CropScenarios'!M33","v":12.480863245714286},{"$f":"'UD2 CropScenarios'!N33","v":17.873690381465074},{"$f":"'UD2 CropScenarios'!O33","v":83.969722822884819},{"$f":"'UD2 CropScenarios'!P33","v":10977.74},{"$f":"'UD2 CropScenarios'!Q33","v":447433.09649999999},{"$f":"'UD2 CropScenarios'!R33","v":0.34501468571428567},{"$f":"'UD2 CropScenarios'!S33","v":7.0310915164285719},{"$f":"'UD2 CropScenarios'!T33","v":0.10281437634285713},{"$f":"'UD2 CropScenarios'!U33","v":2.0952652718957143},{"$f":"'UD2 CropScenarios'!V33","v":2.1980796482385716},{"$f":"'UD2 CropScenarios'!W33","v":86.167802471123395},{"$f":"'UD2 CropScenarios'!X33","v":11449242.964305623},{"$f":"'UD2 CropScenarios'!Y33","v":2665224},{"$f":"'UD2 CropScenarios'!Z33","v":962068.5},{"$f":"'UD2 CropScenarios'!AA33","v":21.015311372480269},{"$f":"'UD2 CropScenarios'!AB33","v":6.2625627889991202},{"$f":"'UD2 CropScenarios'!AC33","v":53.306321820223452},{"$f":"'UD2 CropScenarios'!AD33","v":15.885283902426588},{"$f":"'UD2 CropScenarios'!AE33","v":22.147846691425709},{"$f":"'UD2 CropScenarios'!AF33","v":110.2461491625491},{"$f":"'UD2 CropScenarios'!AN33","v":44000},{"$f":"'UD2 CropScenarios'!AO33","v":7.0000000000000007E-2},{"$f":"'UD2 CropScenarios'!AP33","v":3080.0000000000005},{"$f":"'UD2 CropScenarios'!AQ33","v":54.054000000000016},{"$f":"'UD2 CropScenarios'!AR33","v":1.3513500000000003},{"$f":"'UD2 CropScenarios'!AS33","v":0.57914999999999983},{"$f":"'UD2 CropScenarios'!AT33","v":109.6669991625491},{"$f":"'UD2 CropScenarios'!AV33","v":53.615169195705469},{"$f":"'UD2 CropScenarios'!AW33","v":8014470.0750139328},{"$f":"'UD2 CropScenarios'!AX33","v":125.9416726073618},{"$f":"'UD2 CropScenarios'!AY33","v":37.530618436993812},{"$f":"'UD2 CropScenarios'!AZ33","v":37.530618436993812},{"$f":"'UD2 CropScenarios'!BA33","v":16.084550758711657},{"$f":"'UD2 CropScenarios'!BB33","v":95.838297529244386},{"$f":"'UD2 CropScenarios'!BD33","v":33.166267703120177},{"$f":"'UD2 CropScenarios'!BE33","v":110.55422567706727},{"$f":"'UD2 CropScenarios'!BF33","v":26.533014162496141},{"$f":"'UD2 CropScenarios'!BG33","v":170.25350754268356},{"$f":"'UD2 CropScenarios'!BH33","v":85.126753771341782},{"$f":"'UD2 CropScenarios'!BI33","v":1489718.1909984814},{"$f":"'UD2 CropScenarios'!BJ33","v":6.9761374715614597},{"$f":"'UD2 CropScenarios'!BL33","v":102.81443500080584},{"$f":"'UD2 CropScenarios'!BN33","v":8014470.0750139328},{"$f":"'UD2 CropScenarios'!BO33","v":2665224},{"$f":"'UD2 CropScenarios'!BP33","v":2451786.6909984816},{"$f":"'UD2 CropScenarios'!BQ33","v":20.299782575302839},{"$f":"'UD2 CropScenarios'!BR33","v":6.0493352074402456},{"$f":"'UD2 CropScenarios'!BS33","v":46.42916413697246},{"$f":"'UD2 CropScenarios'!BT33","v":13.835890912817792},{"$f":"'UD2 CropScenarios'!BU33","v":19.885226120258039},{"$f":"'UD2 CropScenarios'!BV33","v":2.2626205711676697},{"$f":"'UD2 CropScenarios'!BW33","v":100.55181442963817},{"$f":"'UD2 CropScenarios'!BY33","v":99.972664429638172}]
[{"$f":"'UD2 CropScenarios'!A34","v":2040},{"$f":"'UD2 CropScenarios'!B34","v":43000},{"$f":"'UD2 CropScenarios'!C34","v":4300},{"$f":"'UD2 CropScenarios'!D34","v":75.465000000000003},{"$f":"'UD2 CropScenarios'!E34","v":1.886625},{"$f":"'UD2 CropScenarios'!F34","v":11449242.964305623},{"$f":"'UD2 CropScenarios'!G34","v":2665224},{"$f":"'UD2 CropScenarios'!H34","v":3922135.7595364386},{"$f":"'UD2 CropScenarios'!I34","v":179.91667515337406},{"$f":"'UD2 CropScenarios'!J34","v":41.882091428571428},{"$f":"'UD2 CropScenarios'!K34","v":61.633561935572608},{"$f":"'UD2 CropScenarios'!L34","v":53.615169195705469},{"$f":"'UD2 CropScenarios'!M34","v":12.480863245714286},{"$f":"'UD2 CropScenarios'!N34","v":18.366801456800637},{"$f":"'UD2 CropScenarios'!O34","v":84.462833898220396},{"$f":"'UD2 CropScenarios'!P34","v":10977.74},{"$f":"'UD2 CropScenarios'!Q34","v":451276.5465},{"$f":"'UD2 CropScenarios'!R34","v":0.34501468571428567},{"$f":"'UD2 CropScenarios'!S34","v":7.0914885878571434},{"$f":"'UD2 CropScenarios'!T34","v":0.10281437634285713},{"$f":"'UD2 CropScenarios'!U34","v":2.1132635991814288},{"$f":"'UD2 CropScenarios'!V34","v":2.2160779755242861},{"$f":"'UD2 CropScenarios'!W34","v":86.678911873744681},{"$f":"'UD2 CropScenarios'!X34","v":11449242.964305623},{"$f":"'UD2 CropScenarios'!Y34","v":2665224},{"$f":"'UD2 CropScenarios'!Z34","v":962068.5},{"$f":"'UD2 CropScenarios'!AA34","v":21.015311372480269},{"$f":"'UD2 CropScenarios'!AB34","v":6.2625627889991202},{"$f":"'UD2 CropScenarios'!AC34","v":53.306321820223452},{"$f":"'UD2 CropScenarios'!AD34","v":15.885283902426588},{"$f":"'UD2 CropScenarios'!AE34","v":22.147846691425709},{"$f":"'UD2 CropScenarios'!AF34","v":110.71338356517039},{"$f":"'UD2 CropScenarios'!AN34","v":43000},{"$f":"'UD2 CropScenarios'!AO34","v":0.06},{"$f":"'UD2 CropScenarios'!AP34","v":2580},{"$f":"'UD2 CropScenarios'!AQ34","v":45.279000000000003},{"$f":"'UD2 CropScenarios'!AR34","v":1.1319750000000002},{"$f":"'UD2 CropScenarios'!AS34","v":0.75464999999999982},{"$f":"'UD2 CropScenarios'!AT34","v":109.95873356517039},{"$f":"'UD2 CropScenarios'!AV34","v":53.615169195705469},{"$f":"'UD2 CropScenarios'!AW34","v":7442007.926798651},{"$f":"'UD2 CropScenarios'!AX34","v":116.94583884969309},{"$f":"'UD2 CropScenarios'!AY34","v":34.849859977208546},{"$f":"'UD2 CropScenarios'!AZ34","v":34.849859977208546},{"$f":"'UD2 CropScenarios'!BA34","v":18.765309218496924},{"$f":"'UD2 CropScenarios'!BB34","v":94.062540386832893},{"$f":"'UD2 CropScenarios'!BD34","v":41.849416554065328},{"$f":"'UD2 CropScenarios'!BE34","v":139.49805518021773},{"$f":"'UD2 CropScenarios'!BF34","v":33.479533243252256},{"$f":"'UD2 CropScenarios'!BG34","v":214.82700497753532},{"$f":"'UD2 CropScenarios'!BH34","v":107.41350248876766},{"$f":"'UD2 CropScenarios'!BI34","v":1879736.2935534343},{"$f":"'UD2 CropScenarios'!BJ34","v":8.8025365289545121},{"$f":"'UD2 CropScenarios'!BL34","v":102.8650769157874},{"$f":"'UD2 CropScenarios'!BN34","v":7442007.926798651},{"$f":"'UD2 CropScenarios'!BO34","v":2665224},{"$f":"'UD2 CropScenarios'!BP34","v":2841804.7935534343},{"$f":"'UD2 CropScenarios'!BQ34","v":20.625970378994392},{"$f":"'UD2 CropScenarios'!BR34","v":6.1465391729403294},{"$f":"'UD2 CropScenarios'!BS34","v":45.784094118387721},{"$f":"'UD2 CropScenarios'!BT34","v":13.643660047279539},{"$f":"'UD2 CropScenarios'!BU34","v":19.790199220219868},{"$f":"'UD2 CropScenarios'!BV34","v":2.3576474712058406},{"$f":"'UD2 CropScenarios'!BW34","v":100.50742944458156},{"$f":"'UD2 CropScenarios'!BY34","v":99.752779444581563}]
[{"$f":"'UD2 CropScenarios'!A35","v":2045},{"$f":"'UD2 CropScenarios'!B35","v":42000},{"$f":"'UD2 CropScenarios'!C35","v":4200},{"$f":"'UD2 CropScenarios'!D35","v":73.709999999999994},{"$f":"'UD2 CropScenarios'!E35","v":1.8427499999999997},{"$f":"'UD2 CropScenarios'!F35","v":11449242.964305623},{"$f":"'UD2 CropScenarios'!G35","v":2665224},{"$f":"'UD2 CropScenarios'!H35","v":4040586.2370510357},{"$f":"'UD2 CropScenarios'!I35","v":179.91667515337406},{"$f":"'UD2 CropScenarios'!J35","v":41.882091428571428},{"$f":"'UD2 CropScenarios'!K35","v":63.494926582230569},{"$f":"'UD2 CropScenarios'!L35","v":53.615169195705469},{"$f":"'UD2 CropScenarios'!M35","v":12.480863245714286},{"$f":"'UD2 CropScenarios'!N35","v":18.921488121504709},{"$f":"'UD2 CropScenarios'!O35","v":85.01752056292446},{"$f":"'UD2 CropScenarios'!P35","v":11047.017},{"$f":"'UD2 CropScenarios'!Q35","v":457682.2965},{"$f":"'UD2 CropScenarios'!R35","v":0.34719196285714282},{"$f":"'UD2 CropScenarios'!S35","v":7.1921503735714287},{"$f":"'UD2 CropScenarios'!T35","v":0.10346320493142856},{"$f":"'UD2 CropScenarios'!U35","v":2.1432608113242857},{"$f":"'UD2 CropScenarios'!V35","v":2.2467240162557141},{"$f":"'UD2 CropScenarios'!W35","v":87.264244579180172},{"$f":"'UD2 CropScenarios'!X35","v":11449242.964305623},{"$f":"'UD2 CropScenarios'!Y35","v":2665224},{"$f":"'UD2 CropScenarios'!Z35","v":962068.5},{"$f":"'UD2 CropScenarios'!AA35","v":21.015311372480269},{"$f":"'UD2 CropScenarios'!AB35","v":6.2625627889991202},{"$f":"'UD2 CropScenarios'!AC35","v":53.306321820223452},{"$f":"'UD2 CropScenarios'!AD35","v":15.885283902426588},{"$f":"'UD2 CropScenarios'!AE35","v":22.147846691425709},{"$f":"'UD2 CropScenarios'!AF35","v":111.25484127060588},{"$f":"'UD2 CropScenarios'!AN35","v":42000},{"$f":"'UD2 CropScenarios'!AO35","v":0.06},{"$f":"'UD2 CropScenarios'!AP35","v":2520},{"$f":"'UD2 CropScenarios'!AQ35","v":44.225999999999999},{"$f":"'UD2 CropScenarios'!AR35","v":1.10565},{"$f":"'UD2 CropScenarios'!AS35","v":0.73709999999999964},{"$f":"'UD2 CropScenarios'!AT35","v":110.51774127060588},{"$f":"'UD2 CropScenarios'!AV35","v":53.615169195705469},{"$f":"'UD2 CropScenarios'!AW35","v":6869545.7785833692},{"$f":"'UD2 CropScenarios'!AX35","v":107.95000509202438},{"$f":"'UD2 CropScenarios'!AY35","v":32.169101517423265},{"$f":"'UD2 CropScenarios'!AZ35","v":32.169101517423265},{"$f":"'UD2 CropScenarios'!BA35","v":21.446067678282205},{"$f":"'UD2 CropScenarios'!BB35","v":92.343190732854481},{"$f":"'UD2 CropScenarios'!BD35","v":51.980779622771799},{"$f":"'UD2 CropScenarios'!BE35","v":173.26926540923935},{"$f":"'UD2 CropScenarios'!BF35","v":41.584623698217442},{"$f":"'UD2 CropScenarios'!BG35","v":266.8346687302286},{"$f":"'UD2 CropScenarios'!BH35","v":133.4173343651143},{"$f":"'UD2 CropScenarios'!BI35","v":2334803.3513895008},{"$f":"'UD2 CropScenarios'!BJ35","v":10.933550551221119},{"$f":"'UD2 CropScenarios'!BL35","v":103.2767412840756},{"$f":"'UD2 CropScenarios'!BN35","v":6869545.7785833692},{"$f":"'UD2 CropScenarios'!BO35","v":2665224},{"$f":"'UD2 CropScenarios'!BP35","v":3296871.8513895008},{"$f":"'UD2 CropScenarios'!BQ35","v":21.156597756426585},{"$f":"'UD2 CropScenarios'!BR35","v":6.3046661314151224},{"$f":"'UD2 CropScenarios'!BS35","v":45.369018620261215},{"$f":"'UD2 CropScenarios'!BT35","v":13.519967548837842},{"$f":"'UD2 CropScenarios'!BU35","v":19.824633680252965},{"$f":"'UD2 CropScenarios'!BV35","v":2.3232130111727436},{"$f":"'UD2 CropScenarios'!BW35","v":100.95352827290286},{"$f":"'UD2 CropScenarios'!BY35","v":100.21642827290286}]
[{"$f":"'UD2 CropScenarios'!A36","v":2050},{"$f":"'UD2 CropScenarios'!B36","v":40000},{"$f":"'UD2 CropScenarios'!C36","v":4000},{"$f":"'UD2 CropScenarios'!D36","v":70.2},{"$f":"'UD2 CropScenarios'!E36","v":1.7549999999999999},{"$f":"'UD2 CropScenarios'!F36","v":11449242.964305623},{"$f":"'UD2 CropScenarios'!G36","v":2665224},{"$f":"'UD2 CropScenarios'!H36","v":4159036.7145656329},{"$f":"'UD2 CropScenarios'!I36","v":179.91667515337406},{"$f":"'UD2 CropScenarios'!J36","v":41.882091428571428},{"$f":"'UD2 CropScenarios'!K36","v":65.356291228888523},{"$f":"'UD2 CropScenarios'!L36","v":53.615169195705469},{"$f":"'UD2 CropScenarios'!M36","v":12.480863245714286},{"$f":"'UD2 CropScenarios'!N36","v":19.47617478620878},{"$f":"'UD2 CropScenarios'!O36","v":85.572207227628525},{"$f":"'UD2 CropScenarios'!P36","v":11116.294},{"$f":"'UD2 CropScenarios'!Q36","v":464088.0465},{"$f":"'UD2 CropScenarios'!R36","v":0.34936923999999997},{"$f":"'UD2 CropScenarios'!S36","v":7.292812159285714},{"$f":"'UD2 CropScenarios'!T36","v":0.10411203351999999},{"$f":"'UD2 CropScenarios'!U36","v":2.1732580234671426},{"$f":"'UD2 CropScenarios'!V36","v":2.2773700569871425},{"$f":"'UD2 CropScenarios'!W36","v":87.849577284615663},{"$f":"'UD2 CropScenarios'!X36","v":11449242.964305623},{"$f":"'UD2 CropScenarios'!Y36","v":2665224},{"$f":"'UD2 CropScenarios'!Z36","v":962068.5},{"$f":"'UD2 CropScenarios'!AA36","v":21.015311372480269},{"$f":"'UD2 CropScenarios'!AB36","v":6.2625627889991202},{"$f":"'UD2 CropScenarios'!AC36","v":53.306321820223452},{"$f":"'UD2 CropScenarios'!AD36","v":15.885283902426588},{"$f":"'UD2 CropScenarios'!AE36","v":22.147846691425709},{"$f":"'UD2 CropScenarios'!AF36","v":111.75242397604137},{"$f":"'UD2 CropScenarios'!AN36","v":40000},{"$f":"'UD2 CropScenarios'!AO36","v":0.05},{"$f":"'UD2 CropScenarios'!AP36","v":2000},{"$f":"'UD2 CropScenarios'!AQ36","v":35.1},{"$f":"'UD2 CropScenarios'!AR36","v":0.87749999999999995},{"$f":"'UD2 CropScenarios'!AS36","v":0.87749999999999995},{"$f":"'UD2 CropScenarios'!AT36","v":110.87492397604137},{"$f":"'UD2 CropScenarios'!AV36","v":53.615169195705469},{"$f":"'UD2 CropScenarios'!AW36","v":6297083.6303680874},{"$f":"'UD2 CropScenarios'!AX36","v":98.954171334355664},{"$f":"'UD2 CropScenarios'!AY36","v":29.488343057637987},{"$f":"'UD2 CropScenarios'!AZ36","v":29.488343057637987},{"$f":"'UD2 CropScenarios'!BA36","v":24.126826138067482},{"$f":"'UD2 CropScenarios'!BB36","v":90.579966078876069},{"$f":"'UD2 CropScenarios'!BD36","v":63.767756574302318},{"$f":"'UD2 CropScenarios'!BE36","v":212.55918858100773},{"$f":"'UD2 CropScenarios'!BF36","v":51.014205259441852},{"$f":"'UD2 CropScenarios'!BG36","v":327.34115041475189},{"$f":"'UD2 CropScenarios'!BH36","v":163.67057520737595},{"$f":"'UD2 CropScenarios'!BI36","v":2864235.0661290796},{"$f":"'UD2 CropScenarios'!BJ36","v":13.41280363824446},{"$f":"'UD2 CropScenarios'!BL36","v":103.99276971712052},{"$f":"'UD2 CropScenarios'!BN36","v":6297083.6303680874},{"$f":"'UD2 CropScenarios'!BO36","v":2665224},{"$f":"'UD2 CropScenarios'!BP36","v":3826303.5661290796},{"$f":"'UD2 CropScenarios'!BQ36","v":21.920942626984104},{"$f":"'UD2 CropScenarios'!BR36","v":6.5324409028412624},{"$f":"'UD2 CropScenarios'!BS36","v":45.216875301900693},{"$f":"'UD2 CropScenarios'!BT36","v":13.474628839966407},{"$f":"'UD2 CropScenarios'!BU36","v":20.007069742807669},{"$f":"'UD2 CropScenarios'!BV36","v":2.1407769486180399},{"$f":"'UD2 CropScenarios'!BW36","v":101.85199276850248},{"$f":"'UD2 CropScenarios'!BY36","v":100.97449276850249}]

{"sheet":"Diff","index":27,"n_rows":30,"n_cols":3,"rows_kept":30,"cut":false,"hidden":true,"merged":[]}
["Variable1","Variable2","% change"]
[86.594090858581723,86.594090858581723,{"$f":"(B2-A2)*100/A2","v":0}]
[84.343730455723431,84.343730455723431,{"$f":"(B3-A3)*100/A3","v":0}]
[80.00054059468512,80.00054059468512,0]
[78.085552198145763,78.085552198145763,0]
[86.797343125771135,86.797343125771135,0]
[88.477026879839585,88.477026879839585,0]
[98.480886477133595,98.480886477133595,0]
[99.647773755615717,99.647773755615717,0]
[100.9151182068469,100.9151182068469,0]
[102.53463965565194,102.53463965565194,0]
[103.85581191572899,103.45957766087579,-0.38152342901590475]
[105.17582608343191,104.36354472219469,-0.7723080402457444]
[106.54402977941318,105.29529407471514,-1.1720372387672915]
[107.93901054423837,106.23280302317562,-1.5807144353648386]
[109.36130391928437,107.1759806265876,-1.9982600923537572]
[109.41652934115204,106.23592398556028,-2.9068783069100017]
[109.47175476301975,105.29586734453295,-3.8145797767895435]
[109.52698018488745,104.35581070350563,-4.7213658887085268]
[109.58220560675514,103.41575406247831,-5.6272380265876825]
[109.63743102862283,102.47569742145097,-6.532197571559438]
[109.66094147260598,101.49738268072841,-7.4443632183450532]
[109.68445191658914,100.51906794000584,-8.3561378266750399]
[109.70796236057232,99.540753199283273,-9.2675216479483353]
[109.74244155455548,98.573407208560724,-10.177497591433099]
[109.77692074853864,97.606061217838146,-11.086901916824367]
[110.2461491625491,95.838297529244386,-13.068802622812246]
[110.71338356517039,94.062540386832893,-15.039593807135461]
[111.25484127060588,92.343190732854481,-16.998496714181154]
[111.75242397604137,90.579966078876069,-18.94586009311482]

{"sheet":"Radar Ratio","index":28,"n_rows":30,"n_cols":8,"rows_kept":30,"cut":false,"hidden":true,"merged":[]}
["Variable1","Variable2","Ratio","R1","R2","R3","R4","R5"]
[86.594090858581723,86.594090858581723,{"$f":"B2/A2","v":1},0.125,0.5,1,1.5,2.15]
[84.343730455723431,84.343730455723431,{"$f":"B3/A3","v":1},0.125,0.5,1,1.5,2.15]
[80.00054059468512,80.00054059468512,1,0.125,0.5,1,1.5,2.15]
[78.085552198145763,78.085552198145763,1,0.125,0.5,1,1.5,2.15]
[86.797343125771135,86.797343125771135,1,0.125,0.5,1,1.5,2.15]
[88.477026879839585,88.477026879839585,1,0.125,0.5,1,1.5,2.15]
[98.480886477133595,98.480886477133595,1,0.125,0.5,1,1.5,2.15]
[99.647773755615717,99.647773755615717,1,0.125,0.5,1,1.5,2.15]
[100.9151182068469,100.9151182068469,1,0.125,0.5,1,1.5,2.15]
[102.53463965565194,102.53463965565194,1,0.125,0.5,1,1.5,2.15]
[103.85581191572899,103.85581191572899,1,0.125,0.5,1,1.5,2.15]
[105.17582608343191,105.17582608343191,1,0.125,0.5,1,1.5,2.15]
[106.54402977941318,106.54402977941318,1,0.125,0.5,1,1.5,2.15]
[107.93901054423837,107.93901054423837,1,0.125,0.5,1,1.5,2.15]
[109.36130391928437,108.92694141928436,0.99602818835883122,0.125,0.5,1,1.5,2.15]
[109.41652934115204,108.98655434115204,0.99607029209764664,0.125,0.5,1,1.5,2.15]
[109.47175476301975,109.04616726301974,0.99611235335615744,0.125,0.5,1,1.5,2.15]
[109.52698018488745,109.10578018488745,0.9961543721986218,0.125,0.5,1,1.5,2.15]
[109.58220560675514,109.16539310675513,0.99619634868916795,0.125,0.5,1,1.5,2.15]
[109.63743102862283,109.22500602862283,0.99623828289179517,0.125,0.5,1,1.5,2.15]
[109.66094147260598,109.25290397260598,0.99627909906188494,0.125,0.5,1,1.5,2.15]
[109.68445191658914,109.28080191658914,0.99631989773439389,0.125,0.5,1,1.5,2.15]
[109.70796236057232,109.30869986057232,0.99636067892057123,0.125,0.5,1,1.5,2.15]
[109.74244155455548,109.34537280455548,0.99638181232005296,0.125,0.5,1,1.5,2.15]
[109.77692074853864,109.38204574853864,0.99640293244420175,0.125,0.5,1,1.5,2.15]
[110.2461491625491,109.6669991625491,0.99474675528896628,0.125,0.5,1,1.5,2.15]
[110.71338356517039,109.95873356517039,0.9931837509097915,0.125,0.5,1,1.5,2.15]
[111.25484127060588,110.51774127060588,0.99337467033720228,0.125,0.5,1,1.5,2.15]
[111.75242397604137,110.87492397604137,0.9921478213287962,0.125,0.5,1,1.5,2.15]

{"sheet":"DirN2OManSoilPol","index":29,"n_rows":43,"n_cols":37,"rows_kept":43,"cut":false,"hidden":true,"merged":[[12,3,12,6],[12,12,12,17],[22,33,24,33],[22,35,24,35],[23,28,23,32],[23,34,24,34]]}
["This worksheet calculates the direct N2O emissions from managed soils."]
["It follows the calculations given in sheet 3.C.4. Direct N2O Emissions from managed soils in the IPCC tool."]
[]
["MODEL PARAMETERS"]
["Parameter","Column1","Symbol","Unit","Value",null,0.02,"- annual increase in chemical fertiliser use between 2013 and 2020"]
["Emission factor",null,"EF","kgN2O-N/Kg N input",0.01]
["Conversion factor",null,"Cf","kgN2O/kgN2O-N",{"$f":"44/28","v":1.5714285714285714}]
["Emission factor, cattle,poultry, pigs",null,"EF","kgN2O-N/Kg N input",0.02]
["Emission factor, sheep&other",null,"EF","kgN2O-N/Kg N input",0.01]
["Global warming potential",null,"GWP","kgCO2e/kgN2O",298]
[null,null,null,null,null,null,null,null,null,null,null,null,null,null,null,null,null,null,null,null,null,null,"Emissions scenarios through policy interventions: (1) reducing chemical fertilizer inputs by 75% by 2030; (2) biofarming with composting from MSW"]
["EMISSIONS CALCULATIONS"]
[null,null,null,"N2O emissions from managed soils - 1/3",null,null,null,null,null,null,null,null,"N2O emissions from urine and dung inputs to grazed soils - 3/3"]
["YEAR","Fertilizer (kg N/yr)","CropResidues (kg N/yr)","Manure (kg N/yr)","N2O fert (t/yr)","N2O CropRes (t/yr)","N2O Manure (t/yr)","CO2e Fert (Gg/yr)","CO2e CropRes (Gg/yr)","CO2e Manure (Gg/yr)","CO2e subtotal (Gg/yr)",null,"Cattle,poultry,pigs (kgN/yr)","sheep&other (kgN/yr)","N2O cpp (t/yr)","N2O s&o (t/yr)","CO2e cpp (Gg/yr)","CO2e s&o (Gg/yr)","CO2e subtotal (Gg/yr)",null,"CO2e total (Gg/yr)",null,"Chemical fertilizer loading (%)","Fertilizer (kg N/yr)","N2O Fert (t)","CO2e Fert (Gg)"]
[2006,7526219,3316504,2933111.5548999999,{"$f":"B15*$E$6*$E$7/1000","v":118.26915571428572},{"$f":"C15*$E$6*$E$7/1000","v":52.116491428571429},{"$f":"D15*$E$6*$E$7/1000","v":46.091753005571427},{"$f":"E15*$E$10/1000","v":35.24420840285714},{"$f":"F15*$E$10/1000","v":15.530714445714286},13.735342395660286,{"$f":"SUM(H15:J15)","v":64.510265244231718},null,null,451428.39,{"$f":"M15*$E$8*$E$7/1000","v":0},{"$f":"N15*$E$9*$E$7/1000","v":7.0938747000000006},{"$f":"O15*$E$10/1000","v":0},{"$f":"P15*$E$10/1000","v":2.1139746606000003},{"$f":"Q15+R15","v":2.1139746606000003},null,{"$f":"K15+S15","v":66.624239904831711},null,1,{"$f":"B15*W15","v":7526219},{"$f":"X15*$E$6*$E$7/1000","v":118.26915571428572},{"$f":"Y15*$E$10/1000","v":35.24420840285714}]
[2007,7267732,3208625,2990028.0913,{"$f":"B16*$E$6*$E$7/1000","v":114.20721714285715},50.421250000000001,46.98615572042857,{"$f":"E16*$E$10/1000","v":34.033750708571432},15.025532499999999,14.001874404687715,{"$f":"SUM(H16:J16)","v":63.061157613259141},null,null,409968,{"$f":"M16*$E$8*$E$7/1000","v":0},{"$f":"N16*$E$9*$E$7/1000","v":6.4423542857142859},{"$f":"O16*$E$10/1000","v":0},1.9198215771428573,{"$f":"Q16+R16","v":1.9198215771428573},null,{"$f":"K16+S16","v":64.980979190401996},null,1,{"$f":"B16*W16","v":7267732},{"$f":"X16*$E$6*$E$7/1000","v":114.20721714285715},{"$f":"Y16*$E$10/1000","v":34.033750708571432}]
[2008,6807140,3064362,2878426.2456999999,106.96934285714285,48.154259999999994,45.232412432428575,{"$f":"E17*$E$10/1000","v":31.876864171428569},14.349969479999999,13.479258904863714,{"$f":"SUM(H17:J17)","v":59.706092556292276},null,null,409968,0,6.4423542857142859,0,1.9198215771428573,1.9198215771428573,null,61.625914133435131,null,1,6807140,106.96934285714285,31.876864171428569]
[2009,6616456,3013169,2637317.4032999999,103.97287999999999,47.349798571428572,41.443559194714283,30.983918239999994,14.110239974285713,12.350180640024856,57.444338854310558,null,67844.831250000003,417977.60087999998,2.1322661250000001,6.5682194423999993,0.63541530525000012,1.9573293938351999,2.5927446990852001,null,60.03708355339576,null,1,6616456,103.97287999999999,30.983918239999994]
[2010,7468310,3012269,3508672.6663000002,117.35915714285714,47.335655714285721,55.136284756142857,34.973028828571429,14.106025402857146,16.430612857330573,65.509667088759144,null,10606.575150000001,409968,0.3333495047142857,6.4423542857142859,9.9338152404857147E-2,1.9198215771428573,2.0191597295477144,null,67.528826818306854,null,1,7468310,117.35915714285714,34.973028828571429]
[2011,7834140,2902017,3528789,123.1079142857143,45.603124285714287,55.452398571428567,36.686158457142859,13.589731037142858,16.524814774285716,66.800704268571437,null,11286.422325,420000,0.35471613021428566,6.6,0.10570540680385714,1.9667999999999999,2.0725054068038569,null,68.873209675375293,null,1,7834140,123.1079142857143,36.686158457142859]
[2012,9700004,2697461,3437753.0843000002,152.42863428571431,42.388672857142851,54.021834181857145,45.423733017142865,12.631824511428569,16.09850658619343,74.154064114764864,null,14442.256125,462125.79920000001,0.45389947821428567,7.2619768445714277,0.13526204450785712,2.1640690996822856,2.2993311441901425,null,76.453395258955013,null,1,9700004,152.42863428571431,45.423733017142865,null,null,null,null,"Organic waste to compost",null,null,0.5]
[2013,9967255,2665224,3379421.6993,156.62829285714287,41.882091428571428,53.105198131857144,46.675231271428572,12.480863245714286,15.825349043293429,74.98144356043629,null,13170.0906,464088.0465,0.41391713314285716,7.292812159285714,0.12334730567657144,2.1732580234671426,2.2966053291437141,null,77.278048889580006,null,1,9967255,156.62829285714287,46.675231271428572,null,null,null,null,"Nitrogen content in compost",null,null,1.7500000000000002E-2]
[2014,{"$f":"B22*(1+$G$5)","v":10166600.1},{"$f":"C22","v":2665224},{"$f":"D22+(D24-D22)/2","v":3440472.1319429623},159.76085871428572,41.882091428571428,54.064562073389403,47.608735896857141,12.480863245714286,16.111239497870042,76.200838640441475,null,{"$f":"M22+(M24-M22)/2","v":12926.5553},{"$f":"N22","v":464088.0465},0.40626316657142858,7.292812159285714,0.12106642363828571,2.1732580234671426,2.2943244471054283,null,78.495163087546899,null,1,{"$f":"B23*W23","v":10166600.1},159.76085871428572,47.608735896857141,null,null,null,0.15,0.5,0.12,null,"Quantity composted (%)",null,"N in compost (kg)"]
[2015,{"$f":"B23*(1+$G$5)","v":10369932.102},{"$f":"C23","v":2665224},{"$f":"MMS!U73","v":3501522.5645859241},162.95607588857141,41.882091428571428,55.02392601492167,48.560910614794281,12.480863245714286,16.397129952446658,77.438903812955232,null,{"$f":"MMS!U75","v":12683.02},{"$f":"MMS!U74","v":464088.0465},0.3986092,7.292812159285714,0.1187855416,2.1732580234671426,2.2920435650671425,null,79.730947378022378,2015,1,10369932.102,162.95607588857141,48.560910614794281,null,null,"Organic waste composted(Gg)",null,null,null,null,null,"Compost (Gg)",null,"tCO2e"]
[2016,10577330.744039999,2665224,{"$f":"D24+($D$29-$D$24)/5","v":3528339.1971234176},166.21519740634284,41.882091428571428,55.445330240510842,49.532128827090162,12.480863245714286,16.522708411672234,78.535700484476678,null,{"$f":"M24+($M$29-$M$24)/5","v":12768.284},{"$f":"N24+($N$29-$N$24)/5","v":469212.64649999997},0.4012889257142857,7.3733415878571433,0.11958409986285715,2.1972557931814287,2.3168398930442859,null,80.852540377520967,2016,0.99,10471557.436599599,164.55304543227942,49.036807538819268,null,"Year","MSW","Food","Garden","Paper","Total",null,null,null,"(Gg)"]
[2017,10788877.3589208,2665224,{"$f":"D25+($D$29-$D$24)/5","v":3555155.8296609111},169.53950135446971,41.882091428571428,55.866734466100034,50.522771403631971,12.480863245714286,16.64828687089781,79.651921520244059,null,{"$f":"M25+($M$29-$M$24)/5","v":12853.547999999999},{"$f":"N25+($N$29-$N$24)/5","v":474337.24649999995},0.40396865142857136,7.45387101642857,0.12038265812571426,2.221253562895714,2.3416362210214281,null,81.993557741265491,2017,0.98,10573099.811742384,166.14871132738034,49.512315975559346,null,2017,442.31758599922205,{"$f":"AC26*$AD$23*AH26","v":1.3269527579976663},{"$f":"AC26*$AE$23*AH26","v":4.4231758599922202},{"$f":"AC26*$AF$23*AH26","v":1.0615622063981329},{"$f":"AD26+AE26+AF26","v":6.8116908243880196},0.02,{"$f":"AG26*$AH$21","v":3.4058454121940098},{"$f":"AI26*$AH$22*1000000","v":59602.294713395175},{"$f":"AJ26*$E$6*$E$7*$E$10/1000000","v":0.27910903152929911}]
[2018,11004654.906099215,2665224,3581972.4621984046,172.9302913815591,41.882091428571428,56.288138691689213,51.53322683170461,12.480863245714286,16.773865330123385,80.787955407542285,null,12938.811999999998,479461.84649999993,0.40664837714285712,7.5344004449999993,0.12118121638857143,2.2452513326099997,2.3664325489985711,null,83.154387956540859,2018,0.97,10674515.258916238,167.74238264011234,49.987230026753473,null,2018,451.1639377192065,{"$f":"AC27*$AD$23*AH27","v":2.7069836263152389},{"$f":"AC27*$AE$23*AH27","v":9.0232787543841297},{"$f":"AC27*$AF$23*AH27","v":2.1655869010521913},{"$f":"AD27+AE27+AF27","v":13.895849281751559},{"$f":"AH26+2%","v":0.04},{"$f":"AG27*$AH$21","v":6.9479246408757795},{"$f":"AI27*$AH$22*1000000","v":121588.68121532616},{"$f":"AJ27*$E$6*$E$7*$E$10/1000000","v":0.56938242431977015}]
[2019,11224748.004221199,2665224,3608789.0947358981,176.38889720919028,41.882091428571428,56.709542917278398,52.563891368338702,12.480863245714286,16.899443789348965,81.944198403401955,null,13024.075999999997,484586.4464999999,0.40932810285714277,7.6149298735714268,0.12197977465142854,2.2692491023242849,2.3912288769757133,null,84.335427280377672,2019,0.96,10775758.08405235,169.33334132082263,50.461335713605145,null,2019,460.18721647359064,4.1416849482623155,13.805616494207719,3.3133479586098522,21.260649401079888,{"$f":"AH27+2%","v":0.06},10.630324700539944,186030.68225944904,0.87115510920924843]
[2020,11449242.964305623,2665224,{"$f":"MMS!V73","v":3635605.7272733925},179.91667515337406,41.882091428571428,57.130947142867598,53.615169195705469,12.480863245714286,17.025022248574544,83.121054689994295,null,{"$f":"MMS!V75","v":13109.34},{"$f":"MMS!V74","v":489711.0465},0.41200782857142854,7.6954593021428561,0.12277833291428569,2.293246872038571,2.4160252049528568,null,85.537079894947155,2020,0.95,10876780.816090342,170.92084139570537,50.934410735920203,null,2020,469.39096080306246,5.6326915296367499,18.775638432122499,4.5061532237093997,28.914483185468651,0.08,14.457241592734325,253001.72787285075,1.1847709485245785]
[2021,{"$f":"B29","v":11449242.964305623},2665224,{"$f":"D29+($D$34-$D$29)/5","v":3665619.0950322547},179.91667515337406,41.882091428571428,57.602585779078289,53.615169195705469,12.480863245714286,17.165570562165328,83.26160300358508,null,{"$f":"M29+($M$34-$M$29)/5","v":13284.1312},{"$f":"N29+($N$34-$N$29)/5","v":492273.34649999999},0.41750126628571421,7.7357240164285717,0.12441537735314283,2.3052457568957143,2.4296611342488572,null,85.69126413783394,2021,{"$f":"W29-2%","v":0.92999999999999994},10647795.956804229,167.3225078926379,49.862107352006099,null,2021,478.7787800191237,7.1816817002868554,23.938939000956186,5.7453453602294848,36.865966061472527,0.1,18.432983030736263,322577.20303788461,1.5105829593688369]
[2022,{"$f":"B30","v":11449242.964305623},2665224,{"$f":"D30+($D$34-$D$29)/5","v":3695632.4627911169},179.91667515337406,41.882091428571428,58.074224415288981,53.615169195705469,12.480863245714286,17.306118875756116,83.402151317175864,null,{"$f":"M30+($M$34-$M$29)/5","v":13458.922399999999},{"$f":"N30+($N$34-$N$29)/5","v":494835.64649999997},0.422994704,7.7759887307142854,0.12605242179199999,2.3172446417528572,2.4432970635448572,null,85.845448380720725,2022,{"$f":"W30-2%","v":0.90999999999999992},10418811.097518116,163.72417438957041,48.789803968091981,null,2022,488.35435561950624,8.7903784011511128,29.301261337170377,7.0323027209208906,45.123942459242379,0.12000000000000001,22.561971229621189,394834.49651837081,1.8489535422674563]
[2023,11449242.964305623,2665224,3725645.8305499791,179.91667515337406,41.882091428571428,58.54586305149968,53.615169195705469,12.480863245714286,17.446667189346904,83.542699630766663,null,13633.713599999999,497397.94649999996,0.42848814171428568,7.8162534449999992,0.12768946623085714,2.3292435266099996,2.4569329928408568,null,85.999632623607525,2023,0.8899999999999999,10189826.238232004,160.12584088650291,47.71750058417787,null,2023,498.12144273189631,10.460550297369824,34.868500991232743,8.3684402378958573,53.697491526498425,0.14000000000000001,26.848745763249212,469853.05085686123,2.2002547152982728]
[2024,11449242.964305623,2665224,3755659.1983088413,179.91667515337406,41.882091428571428,59.017501687710372,53.615169195705469,12.480863245714286,17.587215502937692,83.683247944357447,null,13808.504799999999,499960.24649999995,0.43398157942857141,7.8565181592857147,0.12932651066971429,2.3412424114671428,2.4705689221368572,null,86.15381686649431,2024,0.86999999999999988,9960841.3789458908,156.52750738343542,46.645197200263759,null,2024,508.08387158653426,12.194012918076822,40.646709726922744,9.7552103344614576,62.595932979461026,0.16,31.297966489730513,547714.41357028403,2.564868353833416]
[2025,11449242.964305623,2665224,{"$f":"MMS!W73","v":3785672.566067704},179.91667515337406,41.882091428571428,59.489140323921063,53.615169195705469,12.480863245714286,17.727763816528476,83.823796257948231,null,{"$f":"MMS!W75","v":13983.296000000002},{"$f":"MMS!W74","v":502522.5465},0.43947501714285714,7.8967828735714294,0.13096355510857144,2.3532412963242861,2.4842048514328576,null,86.308001109381095,2025,0.84999999999999987,9731856.5196597781,152.92917388036796,45.572893816349648,null,2025,518.24554901826491,13.992629823493152,46.642099411643841,11.194103858794522,71.828833093931522,0.18,35.914416546965761,628502.28957190085,2.9431864360238444]
[2026,11449242.964305623,2665224,{"$f":"D34+($D$39-$D$34)/5","v":3807516.1138794436},179.91667515337406,41.882091428571428,59.832396075248397,53.615169195705469,12.480863245714286,17.830054030424023,83.926086471843774,null,{"$f":"M34+($M$39-$M$34)/5","v":14158.087200000002},{"$f":"N34+($N$39-$N$34)/5","v":505084.84649999999},0.44496845485714293,7.9370475878571423,0.13260059954742859,2.3652401811814285,2.4978407807288572,null,86.423927252572625,2026,0.82999999999999985,9502871.6603736654,149.33084037730046,44.500590432435537,null,2026,528.61045999863018,15.858313799958903,52.861045999863016,12.686651039967122,81.406010839789033,0.19999999999999998,40.703005419894517,712302.59484815411,3.3356112941603562]
[2027,11449242.964305623,2665224,{"$f":"D35+($D$39-$D$34)/5","v":3829359.6616911832},179.91667515337406,41.882091428571428,60.175651826575731,53.615169195705469,12.480863245714286,17.932344244319566,84.028376685739318,null,{"$f":"M35+($M$39-$M$34)/5","v":14332.878400000001},{"$f":"N35+($N$39-$N$34)/5","v":507647.14649999997},0.4504618925714286,7.977312302142856,0.13423764398628571,2.3772390660385714,2.5114767100248572,null,86.539853395764169,2027,0.80999999999999983,9273886.8010875527,145.73250687423297,43.428287048521426,null,2027,539.18266919860275,19.4105760911497,64.701920303832324,15.528460872919757,99.640957267901783,{"$f":"AH35+4%","v":0.24},49.820478633950891,871858.37609414058,4.0827882240522761]
[2028,11449242.964305623,2665224,3851203.2095029228,179.91667515337406,41.882091428571428,60.518907577903079,53.615169195705469,12.480863245714286,18.034634458215116,84.130666899634861,null,14507.669600000001,510209.44649999996,0.45595533028571433,8.0175770164285716,0.13587468842514286,2.3892379508957142,2.5251126393208572,null,86.655779538955713,2028,0.78999999999999981,9044901.94180144,142.1341733711655,42.355983664607315,null,2028,549.96632258257478,21.448686580720416,71.495621935734718,17.158949264576336,110.10325778103147,0.26,55.051628890515737,963403.50558402541,4.5114809875777651]
[2029,11449242.964305623,2665224,3873046.7573146624,179.91667515337406,41.882091428571428,60.862163329230413,53.615169195705469,12.480863245714286,18.136924672110666,84.232957113530418,null,14682.460800000001,512771.74649999995,0.46144876800000001,8.0578417307142853,0.13751173286400001,2.4012368357528571,2.5387485686168572,null,86.771705682147271,2029,0.7699999999999998,8815917.0825153273,138.53583986809801,41.283680280693211,null,2029,560.96564903422632,23.560557259437509,78.535190864791687,18.848445807550004,120.94419393177921,0.28000000000000003,60.472096965889605,1058261.6969030683,4.9556883463546546]
[2030,11449242.964305623,2665224,{"$f":"MMS!X73","v":3894890.3051264011},179.91667515337406,41.882091428571428,61.205419080557732,53.615169195705469,12.480863245714286,18.239214886006206,84.335247327425961,null,{"$f":"MMS!X75","v":14857.252},{"$f":"MMS!X74","v":515334.0465},0.46694220571428569,8.0981064450000009,0.13914877730285713,2.4132357206099999,2.5523844979128572,null,86.887631825338815,2030,0.74999999999999978,8586932.2232292145,134.93750636503052,40.211376896779093,null,2030,572.18496201491087,25.748323290670992,85.827744302236638,20.598658632536797,132.17472622544443,0.30000000000000004,66.087363112722215,1156528.8544726388,5.4158594070875861]
[2035,11449242.964305623,2665224,{"$f":"MMS!Y73","v":4071406.3635431398},179.91667515337406,41.882091428571428,63.97924285567791,53.615169195705469,12.480863245714286,19.065814370992019,85.161846812411767,null,{"$f":"MMS!Y75","v":15955.026000000002},{"$f":"MMS!Y74","v":540957.04650000005},0.50144367428571424,8.5007535878571439,0.14943021493714284,2.5332245691814288,2.6826547841185717,null,87.844501596530336,2035,{"$f":"W39-5%","v":0.69999999999999973},8014470.0750139328,125.9416726073618,37.530618436993812]
[2040,11449242.964305623,2665224,{"$f":"MMS!Z73","v":4246215.4611080075},179.91667515337406,41.882091428571428,66.726242960268692,{"$f":"E41*$E$10/1000","v":53.615169195705469},12.480863245714286,19.884420402160071,85.980452843579826,null,{"$f":"MMS!Z75","v":17052.8},{"$f":"MMS!Z74","v":566580.04650000005},0.5359451428571429,8.9034007307142851,0.15971165257142858,2.6532134177528568,2.8129250703242854,null,88.793377913904109,2040,{"$f":"W40-5%","v":0.64999999999999969},7442007.926798651,116.94583884969309,34.849859977208546]
[2045,11449242.964305623,2665224,{"$f":"MMS!AA73","v":4433134.0350142941},179.91667515337406,41.882091428571428,69.663534835938904,53.615169195705469,12.480863245714286,20.759733381109793,86.855765822529548,null,{"$f":"MMS!AA75","v":18118.600000000002},{"$f":"MMS!AA74","v":592203.04650000005},0.56944171428571444,9.3060478735714298,0.1696936308571429,2.7732022663242861,2.9428958971814292,null,89.798661719710978,2045,0.59999999999999964,6869545.7785833692,107.95000509202438,32.169101517423265]
[2050,11449242.964305623,2665224,{"$f":"MMS!AB73","v":4620052.6089205807},179.91667515337406,41.882091428571428,72.60082671160913,53.615169195705469,12.480863245714286,21.635046360059523,87.731078801479271,null,{"$f":"MMS!AB75","v":19184.400000000001},{"$f":"MMS!AB74","v":617826.04650000005},0.60293828571428587,9.708695016428571,0.17967560914285718,2.8931911148957141,3.0728667240385712,null,90.803945525517847,2050,0.5499999999999996,6297083.6303680874,98.954171334355664,29.488343057637987]

{"sheet":"MMS","index":30,"n_rows":116,"n_cols":28,"rows_kept":116,"cut":false,"hidden":true,"merged":[[1,2,1,8],[38,2,38,8],[75,2,75,8]]}
["Year 2006 to 2008"]
["Region (temp)","Livestock subcategory","Manure management (fraction)",null,null,null,null,null,null,"Average weight (kg/head)","N excretion"]
[null,null,"Solid storage","Pasture range paddock","Dry lot","Anerobic digester","Aerobic treatment","Poultry with litter","Poultry without litter "]
[22,"Dairy cow",1]
[null,"Local Bull",1]
[null,"Calf",1]
[null,"Heifer",1]
[null,"Boar",1]
[null,"Fattener",1]
[null,"Piglet",1]
[null,"sow/gilt",1]
[24,"Dairy cow",1]
[null,"Local Bull",1]
[null,"Calf",1]
[null,"Heifer",1]
[null,"Boar",0.5,null,null,0.25,0.25]
[null,"Fattener",0.5,null,null,0.25,0.25]
[null,"Piglet",0.5,null,null,0.25,0.25]
[null,"sow/gilt",0.5,null,null,0.25,0.25]
[25,"Dairy cow",1]
[null,"Local Bull",1]
[null,"Calf",1]
[null,"Heifer",1]
[null,"Imported bull",null,null,1]
[null,"Boar",0.5,null,null,0.25,0.25]
[null,"Fattener",0.5,null,null,0.25,0.25]
[null,"Piglet",0.5,null,null,0.25,0.25]
[null,"sow/gilt",0.5,null,null,0.25,0.25]
["Mauritius Average","Sheep",0.99,null,0.01,null,null,null,null,45,1.17]
[null,"Goat",0.97,null,0.03,null,null,null,null,30,1.37]
[null,"Horse",null,1]
[null,"Broiler",null,null,null,null,null,1,null,1.8,1.1000000000000001]
[null,"Broiler parent",null,null,null,null,null,1,null,2.1,0.82]
[null,"Layer/Parent",null,null,null,null,null,0.35,0.65,1.8,0.82]
[null,"Duck",null,null,null,null,null,0.15,0.85,2.5,0.83]
[null,"Deer",null,1]
[]
["Year 2009 "]
["Region (temp)","Livestock subcategory","Manure management (fraction)"]
[null,null,"Solid storage","Pasture range paddock","Dry lot","Anerobic digester","Aerobic treatment","Poultry with litter","Poultry without litter "]
[22,"Dairy cow",0.77,0.15,null,null,0.08]
[null,"Local Bull",1]
[null,"Calf",1]
[null,"Heifer",0.63,0.25,null,null,0.12]
[null,"Boar",1]
[null,"Fattener",1]
[null,"Piglet",1]
[null,"sow/gilt",1]
[24,"Dairy cow",1]
[null,"Local Bull",1]
[null,"Calf",1]
[null,"Heifer",1]
[null,"Boar",0.5,null,null,0.25,0.25]
[null,"Fattener",0.5,null,null,0.25,0.25]
[null,"Piglet",0.5,null,null,0.25,0.25]
[null,"sow/gilt",0.5,null,null,0.25,0.25]
[25,"Dairy cow",1]
[null,"Local Bull",1,null,null,null,null,null,null,null,"projected with policy"]
[null,"Calf",1]
[null,"Heifer",1,null,null,null,null,null,null,null,"Production (heads)",2015,2020,2025,2030,2035,2040,2045,2050,null,2015,2020,2025,2030,2035,2040,2045,2050]
[null,"Imported bull",null,null,1,null,null,null,null,null,"Cow",2900,3000,3200,3400,3700,4000,4250,4500,null,{"$f":"L61*$M$94","v":309082},{"$f":"M61*$M$94","v":319740},341056,362372,394346,426320,452965,479610]
[null,"Boar",0.5,null,null,0.25,0.25,null,null,null,"Other cattle",6100,6300,6720,7140,7570,8000,8500,9000,null,{"$f":"L62*$M$95","v":325069},{"$f":"M62*$M$95","v":335727},358108.8,380490.6,403405.3,426320,452965,479610]
[null,"Fattener",0.5,null,null,0.25,0.25,null,null,null,"Imported beef (annualised figure)",2000,2100,2200,2300,2650,3000,3250,3500,null,{"$f":"L63*$M$98","v":266450},{"$f":"M63*$M$98","v":279772.5},293095,306417.5,353046.25,399675,432981.25,466287.5]
[null,"Piglet",0.5,null,null,0.25,0.25,null,null,null,"Goat",26000,26700,28000,30000,32500,35000,37500,40000,null,{"$f":"L64*$M$104","v":390039.00000000006},{"$f":"M64*$M$104","v":400540.05000000005},420042.00000000006,450045.00000000006,487548.75000000006,525052.50000000012,562556.25000000012,600060.00000000012]
[null,"sow/gilt",0.5,null,null,0.25,0.25,null,null,null,"sheep",2600,3000,3500,4000,5000,6000,7000,8000,null,{"$f":"L65*$M$103","v":49964.85},{"$f":"M65*$M$103","v":57651.75},67260.375,76869,96086.25,115303.5,134520.75,153738]
["Mauritius Average","Sheep",0.99,null,0.01,null,null,null,null,null,"Broiler (annualised figure)",5300000,5500000,5700000,5800000,5950000,6100000,6300000,6500000,null,{"$f":"L66*$M$106","v":3830310},{"$f":"M66*$M$106","v":3974850},4119390,4191660,4300065,4408470,4553010,4697550]
[null,"Goat",0.97,null,0.03,null,null,null,null,null,"layer",650000,675000,685000,690000,710000,725000,737500,750000,null,{"$f":"L67*$M$108","v":350181},{"$f":"M67*$M$108","v":363649.5},369036.9,371730.6,382505.4,390586.5,397320.75,404055]
[null,"Horse",null,1,null,null,null,null,null,null,"Duck",6000,7000,8000,9000,10500,12000,12500,13000,null,{"$f":"L68*$M$109","v":4544.25},{"$f":"M68*$M$109","v":5301.625},6059,6816.375,7952.4375,9088.5,9467.1875,9845.875]
[null,"Broiler",null,null,null,null,null,1,null,null,"LAYER + DUCK",{"$f":"L67+L68","v":656000},{"$f":"M67+M68","v":682000},693000,699000,720500,737000,750000,763000]
[null,"Broiler parent",null,null,null,null,null,1,null,null,"Pig",21000,22000,23000,24000,27000,30000,32500,35000,null,{"$f":"L70*$K$102","v":2625000},{"$f":"M70*$K$102","v":2750000},2875000,3000000,3375000,3750000,4062500,4375000]
[null,"Layer/Parent",null,null,null,null,null,0.35,0.65,null,"Deer (under paddock system)",16000,17000,17500,18000,19000,20000,21000,22000,null,{"$f":"L71*$M$110","v":409968},{"$f":"M71*$M$110","v":435591},448402.5,461214,486837,512460,538083,563706]
[null,"Duck",null,null,null,null,null,0.15,0.85,null,null,null,null,null,null,null,null,null,null,null,{"$f":"SUM(U61:U68)","v":5525640.0999999996},{"$f":"SUM(V61:V68)","v":5737232.4249999998},5974048.0750000002,6146401.0749999993,6424955.3875000002,6700816,6995786.1875,7290756.375]
[null,"Deer",null,1,null,null,null,null,null,null,null,null,null,null,null,null,null,null,null,"fon",{"$f":"U72*$P$116","v":3501522.5645859241},{"$f":"V72*$P$116","v":3635605.7272733925},3785672.566067704,3894890.3051264011,4071406.3635431398,4246215.4611080075,4433134.0350142941,4620052.6089205807]
[null,null,null,null,null,null,null,null,null,null,null,null,null,null,null,null,null,null,null,"PRP-SO",{"$f":"U71+$P$105","v":464088.0465},{"$f":"V71+$P$105","v":489711.0465},502522.5465,515334.0465,540957.04650000005,566580.04650000005,592203.04650000005,617826.04650000005]
["Year 2010 to 2013",null,null,null,null,null,null,null,null,null,"Business as usual",null,null,null,null,null,null,null,null,"PRP-CPP",{"$f":"(U61+U62)*$S$92","v":12683.02},{"$f":"(V61+V62)*$S$92","v":13109.34},13983.296000000002,14857.252,15955.026000000002,17052.8,18118.600000000002,19184.400000000001]
["Region (temp)","Livestock subcategory","Manure management (fraction)",null,null,null,null,null,null,null,"Production (heads)",2015,2020,2025,2030,2035,2040,2045,2050,null,2015,2020,2025,2030,2035,2040,2045,2050]
[null,null,"Solid storage","Pasture range paddock","Dry lot","Anerobic digester","Aerobic treatment","Poultry with litter","Poultry without litter ",null,"Cow",2900,2700,2500,2400,2400,2400,2425,2450,null,{"$f":"L77*$M$94","v":309082},{"$f":"M77*$M$94","v":287766},{"$f":"N77*$M$94","v":266450},255792,255792,255792,258456.5,261121]
[22,"Dairy cow",0.85,0.09,null,null,0.06,null,null,null,"Other cattle",6100,5800,5600,5500,5500,5500,5515,5530,null,{"$f":"L78*$M$95","v":325069},{"$f":"M78*$M$95","v":309082},298424,293095,293095,293095,293894.34999999998,294693.7]
[null,"Local Bull",0.85,0.09,null,null,0.06,null,null,null,"Imported beef (annualised figure)",2000,2100,2200,2300,2650,3000,3250,3500,null,{"$f":"L79*$M$98","v":266450},{"$f":"M79*$M$98","v":279772.5},293095,306417.5,353046.25,399675,432981.25,466287.5]
[null,"Calf",1,null,null,null,null,null,null,null,"Goat",26000,25500,25500,25000,25000,25000,24900,24800,null,{"$f":"L80*$M$104","v":390039.00000000006},{"$f":"M80*$M$104","v":382538.25000000006},382538.25000000006,375037.50000000006,375037.50000000006,375037.50000000006,373537.35000000003,372037.20000000007]
[null,"Heifer",0.85,0.09,null,null,0.06,null,null,null,"sheep",2600,2700,2700,2800,2900,3000,3000,3000,null,{"$f":"L81*$M$103","v":49964.85},{"$f":"M81*$M$103","v":51886.574999999997},51886.574999999997,53808.3,55730.025000000001,57651.75,57651.75,57651.75]
[null,"Boar",1,null,null,null,null,null,null,null,"Broiler (annualised figure)",5300000,5500000,5700000,5800000,5950000,6100000,6300000,6500000,null,{"$f":"L82*$M$106","v":3830310},{"$f":"M82*$M$106","v":3974850},4119390,4191660,4300065,4408470,4553010,4697550]
[null,"Fattener",1,null,null,null,null,null,null,null,"layer",650000,675000,685000,690000,710000,725000,737500,750000,null,{"$f":"L83*$M$108","v":350181},{"$f":"M83*$M$108","v":363649.5},369036.9,371730.6,382505.4,390586.5,397320.75,404055]
[null,"Piglet",1,null,null,null,null,null,null,null,"Duck",6000,7000,8000,9000,10500,12000,12500,13000,null,{"$f":"L84*$M$109","v":4544.25},{"$f":"M84*$M$109","v":5301.625},6059,6816.375,7952.4375,9088.5,9467.1875,9845.875]
[null,"sow/gilt",1,null,null,null,null,null,null,null,"layer + duck",{"$f":"L83+L84","v":656000},{"$f":"M83+M84","v":682000},693000,699000,720500,737000,750000,763000]
[24,"Dairy cow",1,null,null,null,null,null,null,null,"Pig",21000,22000,22000,22500,22750,23000,23000,23000,null,{"$f":"L86*$K$102","v":2625000},{"$f":"M86*$K$102","v":2750000},2750000,2812500,2843750,2875000,2875000,2875000]
[null,"Local Bull",1,null,null,null,null,null,null,null,"Deer (under paddock system)",16000,15000,15000,15250,15350,15500,15750,16000,null,{"$f":"L87*$M$110","v":409968},{"$f":"M87*$M$110","v":384345},384345,390750.75,393313.05,397156.5,403562.25,409968]
[null,"Calf",1]
[null,"Heifer",1,null,null,null,null,null,null,null,null,null,null,null,null,null,null,null,null,null,{"$f":"SUM(U77:U84)","v":5525640.0999999996},{"$f":"SUM(V77:V84)","v":5654846.4500000002},5786879.7250000006,5854357.2749999994,6023223.6125000007,6189396.25,6376319.1375000002,6563242.0250000004]
[null,"Boar",0.5,null,null,0.25,0.25,null,null,null,null,null,null,null,null,null,null,null,null,"fon",{"$f":"U89*$P$116","v":3501522.5645859241},{"$f":"V89*$P$116","v":3583398.8615986062},3667066.5423237192,3709826.1429585796,3816834.4316734448,3922135.7595364386,4040586.2370510357,4159036.7145656329]
[null,"Fattener",0.5,null,null,0.25,0.25,null,null,null,null,null,null,null,null,null,null,null,null,"PRP-SO",{"$f":"U87+$P$105","v":464088.0465},{"$f":"V87+$P$105","v":438465.0465},438465.0465,444870.7965,447433.09649999999,451276.5465,457682.2965,464088.0465]
[null,"Piglet",0.5,null,null,0.25,0.25,null,null,"For 2013",null,null,null,null,null,"PRP - SO","PRP-CPP","Manure",{"$f":"LO!E11","v":0.02},"PRP-CPP",{"$f":"(U77+U78)*$S$92","v":12683.02},{"$f":"(V77+V78)*$S$92","v":11936.960000000001},11297.48,10977.74,10977.74,10977.74,11047.017,11116.294]
[null,"sow/gilt",0.5,null,null,0.25,0.25,null,null,"N","TAM","ER","Nex",null,"kgN/yr"]
[25,"Dairy cow",1,null,null,null,null,null,null,{"$f":"'L13'!C9","v":2874},400,0.73,{"$f":"K94*365*L94/1000","v":106.58},null,{"$f":"J94*M94","v":306310.92},null,null,{"$f":"O94","v":306310.92}]
[null,"Local Bull",1,null,null,null,null,null,null,{"$f":"'L13'!F10","v":2267},200,0.73,{"$f":"K95*365*L95/1000","v":53.29},null,{"$f":"J95*M95","v":120808.43},null,null,{"$f":"O95","v":120808.43}]
[null,"Calf",1,null,null,null,null,null,null,{"$f":"'L13'!D9","v":516},75,0.73,19.983750000000001,null,10311.615,null,null,10311.615]
[null,"Heifer",1,null,null,null,null,null,null,{"$f":"'L13'!E9","v":1583},150,0.73,39.967500000000001,null,63268.552500000005,null,null,63268.552500000005]
[null,"Imported bull",null,null,1,null,null,null,null,{"$f":"'L13'!F7","v":1761},500,0.73,133.22499999999999,null,234609.22499999998,null,null,234609.22499999998]
[null,"Boar",0.5,null,null,0.5,null,null,null,{"$f":"'L13'!C20","v":329},150,0.55000000000000004,30.112500000000004,null,9907.0125000000007,null,null,{"$f":"O99*C99","v":4953.5062500000004}]
[null,"Fattener",0.5,null,null,0.5,null,null,null,{"$f":"'L13'!F20","v":8747},90,1.57,51.5745,null,451122.15149999998,null,null,{"$f":"O100*C100","v":225561.07574999999}]
[null,"Piglet",0.5,null,null,0.5,null,null,null,{"$f":"'L13'!E20","v":3944},13,1.57,7.4496500000000001,null,29381.419600000001,null,null,14690.709800000001]
[null,"sow/gilt",0.5,null,null,0.5,null,null,null,{"$f":"'L13'!D20","v":2941},125,0.55000000000000004,25.093750000000004,null,73800.718750000015,null,null,36900.359375000007]
["Mauritius Average","Sheep",0.99,null,0.01,null,null,null,null,{"$f":"MST!J17","v":2539.5},45,1.17,19.21725,null,48802.206375000002,null,null,48314.184311249999]
[null,"Goat",0.97,null,0.03,null,null,null,null,{"$f":"MST!J12","v":25932.75},30,1.37,{"$f":"K104*365*L104/1000","v":15.001500000000002},null,389030.14912500005,null,null,377359.24465125002]
[null,"Horse",null,1,null,null,null,null,null,{"$f":"MST!J44","v":855},377,0.46,63.298300000000005,null,54120.046500000004,{"$f":"O105","v":54120.046500000004}]
[null,"Broiler",null,null,null,null,null,1,null,{"$f":"MST!J25","v":5200000},1.8,1.1000000000000001,0.72270000000000001,null,3758040]
[null,"Broiler parent",null,null,null,null,null,1,null,{"$f":"MST!J26","v":104000},2.1,0.82,0.62852999999999992,null,65367.119999999995]
[null,"Layer/Parent",null,null,null,null,null,0.35,0.65,{"$f":"MST!J32","v":687283.33333333337},1.8,0.82,0.53874,null,370267.02300000004]
[null,"Duck",null,null,null,null,null,0.15,0.85,{"$f":"MST!J40","v":6648.833333333333},2.5,0.83,0.75737500000000002,null,5035.6601458333334]
[null,"Deer",null,1,null,null,null,null,null,{"$f":"MST!J46","v":16000},60,1.17,25.623000000000001,null,409968,{"$f":"O110","v":409968}]
[]
[null,null,null,null,null,null,null,null,null,null,null,null,null,null,{"$f":"SUM(O94:O110)","v":6400150.2499958333},{"$f":"SUM(P94:P110)","v":464088.0465},{"$f":"SUM(Q94:Q110)","v":0},{"$f":"SUM(R94:R110)","v":1443087.8226375}]
[]
[null,null,null,null,null,null,null,null,null,null,null,null,null,null,{"$f":"O112-P112","v":5936062.2034958331}]
[null,null,null,null,null,null,null,null,null,null,null,null,null,null,{"$f":"O114-O100-O101-O102-O103","v":5332955.7072708337}]
[null,null,null,null,null,null,null,null,null,null,null,null,null,null,3379421.1,{"$f":"O116/O115","v":0.63368632433840999}]

{"sheet":"LE","index":31,"n_rows":23,"n_cols":19,"rows_kept":23,"cut":false,"hidden":true,"merged":[[5,1,5,8],[5,10,5,14]]}
["This worksheet calculates the emissions of CH4 from enteric fermentation."]
["It replicates the calculations in sheet 3.A.1. - Enteric Fermentation of the IPCC tool."]
["Data for animals heads are taken from worksheets Ls2006 to Ls2013, and CH4 emission factors are taken from worksheet CH4 Emission factors."]
["Data for number of goats and sheep are taken from worksheet 'Master Table 2006 2013'. The GWP for CH4 is taken from worksheet CropBurn."]
[]
[null,"BAU - CO2e from enteric fermentation, Gg/yr",null,null,null,null,null,null,null,null,"Policy - CO2e from enteric fermentation, Gg/yr"]
["YEAR","Dairy cows","other cattle","sheep","goats","horses","swine","other (deer)","Total",null,"YEAR","Dairy cows","other cattle","sheep","goats","horses","swine","other (deer)","Total"]
[2006,{"$f":"MST!C$6*'CH4 Ef'!$D$3*'5. TNC Parameters'!$H$9*0.000001","v":2.5725499999999997},{"$f":"MST!C$7*'CH4 Ef'!$D$4*'5. TNC Parameters'!$H$9*0.000001","v":5.4373999999999993},{"$f":"MST!C$17*'CH4 Ef'!$D$9*'5. TNC Parameters'!$H$9*0.000001","v":0.15971874999999999},{"$f":"MST!C$12*'CH4 Ef'!$D$10*'5. TNC Parameters'!$H$9*0.000001","v":3.0683750000000001},{"$f":"MST!C$44*'CH4 Ef'!$D$11*'5. TNC Parameters'!$H$9*0.000001","v":0.29475000000000001},{"$f":"MST!C$19*'CH4 Ef'!$D$14*'5. TNC Parameters'!$H$9*0.000001","v":0.38297500000000001},{"$f":"MST!C$46*'CH4 Ef'!$D$23*'5. TNC Parameters'!$H$9*0.000001","v":8},{"$f":"SUM(B8:H8)","v":19.915768749999998},null,2006,{"$f":"B8","v":2.5725499999999997},5.4373999999999993,0.15971874999999999,3.0683750000000001,0.29475000000000001,0.38297500000000001,8,{"$f":"SUM(L8:R8)","v":19.915768749999998}]
[2007,{"$f":"MST!D$6*'CH4 Ef'!$D$3*'5. TNC Parameters'!$H$9*0.000001","v":2.4874499999999999},{"$f":"MST!D$7*'CH4 Ef'!$D$4*'5. TNC Parameters'!$H$9*0.000001","v":5.2812374999999996},{"$f":"MST!D$17*'CH4 Ef'!$D$9*'5. TNC Parameters'!$H$9*0.000001","v":0.14884375},{"$f":"MST!D$12*'CH4 Ef'!$D$10*'5. TNC Parameters'!$H$9*0.000001","v":3.1624999999999996},{"$f":"MST!D$44*'CH4 Ef'!$D$11*'5. TNC Parameters'!$H$9*0.000001","v":0.315},{"$f":"MST!D$19*'CH4 Ef'!$D$14*'5. TNC Parameters'!$H$9*0.000001","v":0.43532499999999996},{"$f":"MST!D$46*'CH4 Ef'!$D$23*'5. TNC Parameters'!$H$9*0.000001","v":8},{"$f":"SUM(B9:H9)","v":19.830356250000001},null,2007,{"$f":"B9","v":2.4874499999999999},{"$f":"C9","v":5.2812374999999996},{"$f":"D9","v":0.14884375},{"$f":"E9","v":3.1624999999999996},{"$f":"F9","v":0.315},{"$f":"G9","v":0.43532499999999996},{"$f":"H9","v":8},{"$f":"SUM(L9:R9)","v":19.830356250000001}]
[2008,{"$f":"MST!E$6*'CH4 Ef'!$D$3*'5. TNC Parameters'!$H$9*0.000001","v":2.8255499999999998},{"$f":"MST!E$7*'CH4 Ef'!$D$4*'5. TNC Parameters'!$H$9*0.000001","v":5.3996187500000001},{"$f":"MST!E$17*'CH4 Ef'!$D$9*'5. TNC Parameters'!$H$9*0.000001","v":0.20649999999999999},{"$f":"MST!E$12*'CH4 Ef'!$D$10*'5. TNC Parameters'!$H$9*0.000001","v":3.3246875},{"$f":"MST!E$44*'CH4 Ef'!$D$11*'5. TNC Parameters'!$H$9*0.000001","v":0.32624999999999998},{"$f":"MST!E$19*'CH4 Ef'!$D$14*'5. TNC Parameters'!$H$9*0.000001","v":0.16747499999999998},{"$f":"MST!E$46*'CH4 Ef'!$D$23*'5. TNC Parameters'!$H$9*0.000001","v":8},20.250081250000001,null,2008,2.8255499999999998,5.3996187500000001,0.20649999999999999,3.3246875,0.32624999999999998,0.16747499999999998,8,20.250081250000001]
[2009,{"$f":"MST!F$6*'CH4 Ef'!$D$3*'5. TNC Parameters'!$H$9*0.000001","v":2.6633999999999998},{"$f":"MST!F$7*'CH4 Ef'!$D$4*'5. TNC Parameters'!$H$9*0.000001","v":5.4292625000000001},{"$f":"MST!F$17*'CH4 Ef'!$D$9*'5. TNC Parameters'!$H$9*0.000001","v":0.26621875},{"$f":"MST!F$12*'CH4 Ef'!$D$10*'5. TNC Parameters'!$H$9*0.000001","v":3.33696875},{"$f":"MST!F$44*'CH4 Ef'!$D$11*'5. TNC Parameters'!$H$9*0.000001","v":0.33749999999999997},{"$f":"MST!F$19*'CH4 Ef'!$D$14*'5. TNC Parameters'!$H$9*0.000001","v":0.35269999999999996},{"$f":"MST!F$46*'CH4 Ef'!$D$23*'5. TNC Parameters'!$H$9*0.000001","v":8},20.386050000000001,null,2009,2.6633999999999998,5.4292625000000001,0.26621875,3.33696875,0.33749999999999997,0.35269999999999996,8,20.386050000000001]
[2010,{"$f":"MST!G$6*'CH4 Ef'!$D$3*'5. TNC Parameters'!$H$9*0.000001","v":3.0808499999999999},{"$f":"MST!G$7*'CH4 Ef'!$D$4*'5. TNC Parameters'!$H$9*0.000001","v":5.3054562499999998},{"$f":"MST!G$17*'CH4 Ef'!$D$9*'5. TNC Parameters'!$H$9*0.000001","v":0.26200000000000001},{"$f":"MST!G$12*'CH4 Ef'!$D$10*'5. TNC Parameters'!$H$9*0.000001","v":3.5334062499999996},{"$f":"MST!G$44*'CH4 Ef'!$D$11*'5. TNC Parameters'!$H$9*0.000001","v":0.34875},{"$f":"MST!G$19*'CH4 Ef'!$D$14*'5. TNC Parameters'!$H$9*0.000001","v":0.55817499999999998},{"$f":"MST!G$46*'CH4 Ef'!$D$23*'5. TNC Parameters'!$H$9*0.000001","v":8},21.088637500000001,null,2010,3.0808499999999999,5.3054562499999998,0.26200000000000001,3.5334062499999996,0.34875,0.55817499999999998,8,21.088637500000001]
[2011,{"$f":"MST!H$6*'CH4 Ef'!$D$3*'5. TNC Parameters'!$H$9*0.000001","v":2.9037500000000001},{"$f":"MST!H$7*'CH4 Ef'!$D$4*'5. TNC Parameters'!$H$9*0.000001","v":4.6426375000000002},{"$f":"MST!H$17*'CH4 Ef'!$D$9*'5. TNC Parameters'!$H$9*0.000001","v":0.24918749999999998},{"$f":"MST!H$12*'CH4 Ef'!$D$10*'5. TNC Parameters'!$H$9*0.000001","v":3.5354375},{"$f":"MST!H$44*'CH4 Ef'!$D$11*'5. TNC Parameters'!$H$9*0.000001","v":0.36},{"$f":"MST!H$19*'CH4 Ef'!$D$14*'5. TNC Parameters'!$H$9*0.000001","v":0.582125},{"$f":"MST!H$46*'CH4 Ef'!$D$23*'5. TNC Parameters'!$H$9*0.000001","v":8},20.273137499999997,null,2011,2.9037500000000001,4.6426375000000002,0.24918749999999998,3.5354375,0.36,0.582125,8,20.273137499999997]
[2012,{"$f":"MST!I$6*'CH4 Ef'!$D$3*'5. TNC Parameters'!$H$9*0.000001","v":3.4752999999999998},{"$f":"MST!I$7*'CH4 Ef'!$D$4*'5. TNC Parameters'!$H$9*0.000001","v":4.7269187499999994},{"$f":"MST!I$17*'CH4 Ef'!$D$9*'5. TNC Parameters'!$H$9*0.000001","v":0.28275},{"$f":"MST!I$12*'CH4 Ef'!$D$10*'5. TNC Parameters'!$H$9*0.000001","v":3.4410937499999998},{"$f":"MST!I$44*'CH4 Ef'!$D$11*'5. TNC Parameters'!$H$9*0.000001","v":0.37079999999999996},{"$f":"MST!I$19*'CH4 Ef'!$D$14*'5. TNC Parameters'!$H$9*0.000001","v":0.38217499999999999},{"$f":"MST!I$46*'CH4 Ef'!$D$23*'5. TNC Parameters'!$H$9*0.000001","v":8},20.6790375,null,2012,3.4752999999999998,4.7269187499999994,0.28275,3.4410937499999998,0.37079999999999996,0.38217499999999999,8,20.6790375]
[2013,{"$f":"MST!J$6*'CH4 Ef'!$D$3*'5. TNC Parameters'!$H$9*0.000001","v":3.3050999999999999},{"$f":"MST!J$7*'CH4 Ef'!$D$4*'5. TNC Parameters'!$H$9*0.000001","v":4.7486187499999994},{"$f":"MST!J$17*'CH4 Ef'!$D$9*'5. TNC Parameters'!$H$9*0.000001","v":0.31743749999999998},{"$f":"MST!J$12*'CH4 Ef'!$D$10*'5. TNC Parameters'!$H$9*0.000001","v":3.2415937499999998},{"$f":"MST!J$44*'CH4 Ef'!$D$11*'5. TNC Parameters'!$H$9*0.000001","v":0.38474999999999998},{"$f":"MST!J$19*'CH4 Ef'!$D$14*'5. TNC Parameters'!$H$9*0.000001","v":0.39902499999999996},{"$f":"MST!J$46*'CH4 Ef'!$D$23*'5. TNC Parameters'!$H$9*0.000001","v":8},20.396525,null,2013,3.3050999999999999,4.7486187499999994,0.31743749999999998,3.2415937499999998,0.38474999999999998,0.39902499999999996,8,20.396525]
[2015,{"$f":"LH!F$27*'CH4 Ef'!$D$3*'5. TNC Parameters'!$H$9*0.000001","v":3.335},{"$f":"LH!F$28*'CH4 Ef'!$D$4*'5. TNC Parameters'!$H$9*0.000001","v":4.7275},{"$f":"LH!F$31*'CH4 Ef'!$D$9*'5. TNC Parameters'!$H$9*0.000001","v":0.32500000000000001},{"$f":"LH!F$30*'CH4 Ef'!$D$10*'5. TNC Parameters'!$H$9*0.000001","v":3.25},{"$f":"MST!J$44*'CH4 Ef'!$D$11*'5. TNC Parameters'!$H$9*0.000001","v":0.38474999999999998},{"$f":"LH!F$36*'CH4 Ef'!$D$14*'5. TNC Parameters'!$H$9*0.000001","v":0.52500000000000002},{"$f":"LH!F$37*'CH4 Ef'!$D$23*'5. TNC Parameters'!$H$9*0.000001","v":8},20.547249999999998,null,{"$f":"A16","v":2015},{"$f":"LH!F$5*'CH4 Ef'!$D$3*'5. TNC Parameters'!$H$9*0.000001","v":3.335},{"$f":"LH!F$6*'CH4 Ef'!$D$4*'5. TNC Parameters'!$H$9*0.000001","v":4.7275},{"$f":"LH!F$9*'CH4 Ef'!$D$9*'5. TNC Parameters'!$H$9*0.000001","v":0.32500000000000001},{"$f":"LH!F$8*'CH4 Ef'!$D$10*'5. TNC Parameters'!$H$9*0.000001","v":3.25},0.38474999999999998,{"$f":"LH!F$14*'CH4 Ef'!$D$14*'5. TNC Parameters'!$H$9*0.000001","v":0.52500000000000002},{"$f":"LH!F$15*'CH4 Ef'!$D$23*'5. TNC Parameters'!$H$9*0.000001","v":8},{"$f":"SUM(L16:R16)","v":20.547249999999998}]
[2020,{"$f":"LH!G$27*'CH4 Ef'!$D$3*'5. TNC Parameters'!$H$9*0.000001","v":3.105},{"$f":"LH!G$28*'CH4 Ef'!$D$4*'5. TNC Parameters'!$H$9*0.000001","v":4.4950000000000001},{"$f":"LH!G$31*'CH4 Ef'!$D$9*'5. TNC Parameters'!$H$9*0.000001","v":0.33749999999999997},{"$f":"LH!G$30*'CH4 Ef'!$D$10*'5. TNC Parameters'!$H$9*0.000001","v":3.1875},{"$f":"MST!J$44*'CH4 Ef'!$D$11*'5. TNC Parameters'!$H$9*0.000001","v":0.38474999999999998},{"$f":"LH!G$36*'CH4 Ef'!$D$14*'5. TNC Parameters'!$H$9*0.000001","v":0.54999999999999993},{"$f":"LH!G$37*'CH4 Ef'!$D$23*'5. TNC Parameters'!$H$9*0.000001","v":7.5},19.559750000000001,null,{"$f":"A17","v":2020},{"$f":"LH!G$5*'CH4 Ef'!$D$3*'5. TNC Parameters'!$H$9*0.000001","v":3.4499999999999997},{"$f":"LH!G$6*'CH4 Ef'!$D$4*'5. TNC Parameters'!$H$9*0.000001","v":4.8824999999999994},{"$f":"LH!G$9*'CH4 Ef'!$D$9*'5. TNC Parameters'!$H$9*0.000001","v":0.375},{"$f":"LH!G$8*'CH4 Ef'!$D$10*'5. TNC Parameters'!$H$9*0.000001","v":3.3374999999999999},0.38474999999999998,{"$f":"LH!G$14*'CH4 Ef'!$D$14*'5. TNC Parameters'!$H$9*0.000001","v":0.54999999999999993},{"$f":"LH!G$15*'CH4 Ef'!$D$23*'5. TNC Parameters'!$H$9*0.000001","v":8.5},{"$f":"SUM(L17:R17)","v":21.479750000000003}]
[2025,{"$f":"LH!H$27*'CH4 Ef'!$D$3*'5. TNC Parameters'!$H$9*0.000001","v":2.875},{"$f":"LH!H$28*'CH4 Ef'!$D$4*'5. TNC Parameters'!$H$9*0.000001","v":4.34},{"$f":"LH!H$31*'CH4 Ef'!$D$9*'5. TNC Parameters'!$H$9*0.000001","v":0.33749999999999997},{"$f":"LH!H$30*'CH4 Ef'!$D$10*'5. TNC Parameters'!$H$9*0.000001","v":3.1875},{"$f":"MST!J$44*'CH4 Ef'!$D$11*'5. TNC Parameters'!$H$9*0.000001","v":0.38474999999999998},{"$f":"LH!H$36*'CH4 Ef'!$D$14*'5. TNC Parameters'!$H$9*0.000001","v":0.54999999999999993},{"$f":"LH!H$37*'CH4 Ef'!$D$23*'5. TNC Parameters'!$H$9*0.000001","v":7.5},19.174750000000003,null,2025,{"$f":"LH!H$5*'CH4 Ef'!$D$3*'5. TNC Parameters'!$H$9*0.000001","v":3.6799999999999997},{"$f":"LH!H$6*'CH4 Ef'!$D$4*'5. TNC Parameters'!$H$9*0.000001","v":5.2080000000000002},{"$f":"LH!H$9*'CH4 Ef'!$D$9*'5. TNC Parameters'!$H$9*0.000001","v":0.4375},{"$f":"LH!H$8*'CH4 Ef'!$D$10*'5. TNC Parameters'!$H$9*0.000001","v":3.5},0.38474999999999998,{"$f":"LH!H$14*'CH4 Ef'!$D$14*'5. TNC Parameters'!$H$9*0.000001","v":0.57499999999999996},{"$f":"LH!H$15*'CH4 Ef'!$D$23*'5. TNC Parameters'!$H$9*0.000001","v":8.75},22.535249999999998]
[2030,{"$f":"LH!I$27*'CH4 Ef'!$D$3*'5. TNC Parameters'!$H$9*0.000001","v":2.76},{"$f":"LH!I$28*'CH4 Ef'!$D$4*'5. TNC Parameters'!$H$9*0.000001","v":4.2625000000000002},{"$f":"LH!I$31*'CH4 Ef'!$D$9*'5. TNC Parameters'!$H$9*0.000001","v":0.35},{"$f":"LH!I$30*'CH4 Ef'!$D$10*'5. TNC Parameters'!$H$9*0.000001","v":3.125},{"$f":"MST!J$44*'CH4 Ef'!$D$11*'5. TNC Parameters'!$H$9*0.000001","v":0.38474999999999998},{"$f":"LH!I$36*'CH4 Ef'!$D$14*'5. TNC Parameters'!$H$9*0.000001","v":0.5625},{"$f":"LH!I$37*'CH4 Ef'!$D$23*'5. TNC Parameters'!$H$9*0.000001","v":7.625},19.069749999999999,null,2030,{"$f":"LH!I$5*'CH4 Ef'!$D$3*'5. TNC Parameters'!$H$9*0.000001","v":3.9099999999999997},{"$f":"LH!I$6*'CH4 Ef'!$D$4*'5. TNC Parameters'!$H$9*0.000001","v":5.5335000000000001},{"$f":"LH!I$9*'CH4 Ef'!$D$9*'5. TNC Parameters'!$H$9*0.000001","v":0.5},{"$f":"LH!I$8*'CH4 Ef'!$D$10*'5. TNC Parameters'!$H$9*0.000001","v":3.75},0.38474999999999998,{"$f":"LH!I$14*'CH4 Ef'!$D$14*'5. TNC Parameters'!$H$9*0.000001","v":0.6},{"$f":"LH!I$15*'CH4 Ef'!$D$23*'5. TNC Parameters'!$H$9*0.000001","v":9},23.678249999999998]
[2035,{"$f":"LH!J$27*'CH4 Ef'!$D$3*'5. TNC Parameters'!$H$9*0.000001","v":2.76},{"$f":"LH!J$28*'CH4 Ef'!$D$4*'5. TNC Parameters'!$H$9*0.000001","v":4.2625000000000002},{"$f":"LH!J$31*'CH4 Ef'!$D$9*'5. TNC Parameters'!$H$9*0.000001","v":0.36249999999999999},{"$f":"LH!J$30*'CH4 Ef'!$D$10*'5. TNC Parameters'!$H$9*0.000001","v":3.125},{"$f":"MST!J$44*'CH4 Ef'!$D$11*'5. TNC Parameters'!$H$9*0.000001","v":0.38474999999999998},{"$f":"LH!J$36*'CH4 Ef'!$D$14*'5. TNC Parameters'!$H$9*0.000001","v":0.56874999999999998},{"$f":"LH!J$37*'CH4 Ef'!$D$23*'5. TNC Parameters'!$H$9*0.000001","v":7.6749999999999998},19.138500000000001,null,2035,{"$f":"LH!J$5*'CH4 Ef'!$D$3*'5. TNC Parameters'!$H$9*0.000001","v":4.2549999999999999},{"$f":"LH!J$6*'CH4 Ef'!$D$4*'5. TNC Parameters'!$H$9*0.000001","v":5.8667499999999997},{"$f":"LH!J$9*'CH4 Ef'!$D$9*'5. TNC Parameters'!$H$9*0.000001","v":0.625},{"$f":"LH!J$8*'CH4 Ef'!$D$10*'5. TNC Parameters'!$H$9*0.000001","v":4.0625},0.38474999999999998,{"$f":"LH!J$14*'CH4 Ef'!$D$14*'5. TNC Parameters'!$H$9*0.000001","v":0.67499999999999993},{"$f":"LH!J$15*'CH4 Ef'!$D$23*'5. TNC Parameters'!$H$9*0.000001","v":9.5},25.369]
[2040,{"$f":"LH!K$27*'CH4 Ef'!$D$3*'5. TNC Parameters'!$H$9*0.000001","v":2.76},{"$f":"LH!K$28*'CH4 Ef'!$D$4*'5. TNC Parameters'!$H$9*0.000001","v":4.2625000000000002},{"$f":"LH!K$31*'CH4 Ef'!$D$9*'5. TNC Parameters'!$H$9*0.000001","v":0.375},{"$f":"LH!K$30*'CH4 Ef'!$D$10*'5. TNC Parameters'!$H$9*0.000001","v":3.125},{"$f":"MST!J$44*'CH4 Ef'!$D$11*'5. TNC Parameters'!$H$9*0.000001","v":0.38474999999999998},{"$f":"LH!K$36*'CH4 Ef'!$D$14*'5. TNC Parameters'!$H$9*0.000001","v":0.57499999999999996},{"$f":"LH!K$37*'CH4 Ef'!$D$23*'5. TNC Parameters'!$H$9*0.000001","v":7.75},19.232250000000001,null,2040,{"$f":"LH!K$5*'CH4 Ef'!$D$3*'5. TNC Parameters'!$H$9*0.000001","v":4.5999999999999996},{"$f":"LH!K$6*'CH4 Ef'!$D$4*'5. TNC Parameters'!$H$9*0.000001","v":6.1999999999999993},{"$f":"LH!K$9*'CH4 Ef'!$D$9*'5. TNC Parameters'!$H$9*0.000001","v":0.75},{"$f":"LH!K$8*'CH4 Ef'!$D$10*'5. TNC Parameters'!$H$9*0.000001","v":4.375},0.38474999999999998,{"$f":"LH!K$14*'CH4 Ef'!$D$14*'5. TNC Parameters'!$H$9*0.000001","v":0.75},{"$f":"LH!K$15*'CH4 Ef'!$D$23*'5. TNC Parameters'!$H$9*0.000001","v":10},27.059749999999998]
[2045,{"$f":"LH!L$27*'CH4 Ef'!$D$3*'5. TNC Parameters'!$H$9*0.000001","v":2.7887499999999998},{"$f":"LH!L$28*'CH4 Ef'!$D$4*'5. TNC Parameters'!$H$9*0.000001","v":4.2741249999999997},{"$f":"LH!L$31*'CH4 Ef'!$D$9*'5. TNC Parameters'!$H$9*0.000001","v":0.375},{"$f":"LH!L$30*'CH4 Ef'!$D$10*'5. TNC Parameters'!$H$9*0.000001","v":3.1124999999999998},{"$f":"MST!J$44*'CH4 Ef'!$D$11*'5. TNC Parameters'!$H$9*0.000001","v":0.38474999999999998},{"$f":"LH!L$36*'CH4 Ef'!$D$14*'5. TNC Parameters'!$H$9*0.000001","v":0.57499999999999996},{"$f":"LH!L$37*'CH4 Ef'!$D$23*'5. TNC Parameters'!$H$9*0.000001","v":7.875},19.385124999999999,null,2045,{"$f":"LH!L$5*'CH4 Ef'!$D$3*'5. TNC Parameters'!$H$9*0.000001","v":4.8875000000000002},{"$f":"LH!L$6*'CH4 Ef'!$D$4*'5. TNC Parameters'!$H$9*0.000001","v":6.5874999999999995},{"$f":"LH!L$9*'CH4 Ef'!$D$9*'5. TNC Parameters'!$H$9*0.000001","v":0.875},{"$f":"LH!L$8*'CH4 Ef'!$D$10*'5. TNC Parameters'!$H$9*0.000001","v":4.6875},0.38474999999999998,{"$f":"LH!L$14*'CH4 Ef'!$D$14*'5. TNC Parameters'!$H$9*0.000001","v":0.8125},{"$f":"LH!L$15*'CH4 Ef'!$D$23*'5. TNC Parameters'!$H$9*0.000001","v":10.5},28.734750000000002]
[2050,{"$f":"LH!M$27*'CH4 Ef'!$D$3*'5. TNC Parameters'!$H$9*0.000001","v":2.8174999999999999},{"$f":"LH!M$28*'CH4 Ef'!$D$4*'5. TNC Parameters'!$H$9*0.000001","v":4.2857500000000002},{"$f":"LH!M$31*'CH4 Ef'!$D$9*'5. TNC Parameters'!$H$9*0.000001","v":0.375},{"$f":"LH!M$30*'CH4 Ef'!$D$10*'5. TNC Parameters'!$H$9*0.000001","v":3.0999999999999996},{"$f":"MST!J$44*'CH4 Ef'!$D$11*'5. TNC Parameters'!$H$9*0.000001","v":0.38474999999999998},{"$f":"LH!M$36*'CH4 Ef'!$D$14*'5. TNC Parameters'!$H$9*0.000001","v":0.57499999999999996},{"$f":"LH!M$37*'CH4 Ef'!$D$23*'5. TNC Parameters'!$H$9*0.000001","v":8},19.538,null,2050,{"$f":"LH!M$5*'CH4 Ef'!$D$3*'5. TNC Parameters'!$H$9*0.000001","v":5.1749999999999998},{"$f":"LH!M$6*'CH4 Ef'!$D$4*'5. TNC Parameters'!$H$9*0.000001","v":6.9749999999999996},{"$f":"LH!M$9*'CH4 Ef'!$D$9*'5. TNC Parameters'!$H$9*0.000001","v":1},{"$f":"LH!M$8*'CH4 Ef'!$D$10*'5. TNC Parameters'!$H$9*0.000001","v":5},0.38474999999999998,{"$f":"LH!M$14*'CH4 Ef'!$D$14*'5. TNC Parameters'!$H$9*0.000001","v":0.875},{"$f":"LH!M$15*'CH4 Ef'!$D$23*'5. TNC Parameters'!$H$9*0.000001","v":11},30.409749999999999]

{"sheet":"LCH4","index":32,"n_rows":24,"n_cols":22,"rows_kept":24,"cut":false,"hidden":true,"merged":[[6,1,6,8],[6,13,6,20]]}
["This worksheet calculates CH4 and N2O emissions from livestock manure management as per sheets at 3.A.2. - Manaure management in the IPCC tool."]
["Emission factors for CH4 and N2O are taken from worksheets 'CH4 Emission factors' and 'N2O Emission facrors', respectively. "]
["GWP for CH4 and N2O are taken from worksheets 'CropBurn' and 'DirN2OManSoil', respectively. For CH4 emissions, data of head counts are obtained from worksheet 'Master Table 2006 2013'."]
[]
["CALCULATING DIRECT CH4 EMISSIONS FROM MANURE MANAGEMENT SYSTEM"]
[]
[null,"BAU - CO2e emissions from livestock manure management, Gg/yr",null,null,null,null,null,null,null,null,null,null,null,"Policy scenario - CO2e emissions from livestock manure management, Gg/yr"]
["YEAR","Dairy cows","other cattle","sheep","goats","horses","swine","Poultry","other (deer)","Total",null,null,"YEAR","Dairy cows","other cattle","sheep","goats","horses","swine","Poultry","other (deer)","Total"]
[2006,{"$f":"MST!C$6*'CH4 Ef'!$E$3*'5. TNC Parameters'!$H$9*0.000001","v":5.5924999999999996E-2},{"$f":"MST!C$7*'CH4 Ef'!$E$4*'5. TNC Parameters'!$H$9*0.000001","v":0.1754},{"$f":"MST!C$17*'CH4 Ef'!$E$9*'5. TNC Parameters'!$H$9*0.000001","v":4.7915624999999998E-3},{"$f":"MST!C$12*'CH4 Ef'!$E$10*'5. TNC Parameters'!$H$9*0.000001","v":0.10432475000000001},{"$f":"MST!C$44*'CH4 Ef'!$E$11*'5. TNC Parameters'!$H$9*0.000001","v":2.6855E-2},{"$f":"MST!C$19*'CH4 Ef'!$E$14*'5. TNC Parameters'!$H$9*0.000001","v":0.38297500000000001},{"$f":"((MST!C$25*'CH4 Ef'!$E$18)+((MST!C$26+MST!C$40+MST!C$32)*'CH4 Ef'!$E$20))*'5. TNC Parameters'!$H$9*0.000001","v":2.6355604166666664},{"$f":"MST!C$46*'CH4 Ef'!$E$23*'5. TNC Parameters'!$H$9*0.000001","v":8.7999999999999995E-2},{"$f":"SUM(B9:I9)","v":3.4738317291666663},null,null,{"$f":"A9","v":2006},5.5924999999999996E-2,0.1754,4.7915624999999998E-3,0.10432475000000001,2.6855E-2,0.38297500000000001,2.6355604166666664,8.7999999999999995E-2,{"$f":"SUM(N9:U9)","v":3.4738317291666663}]
[2007,{"$f":"MST!D$6*'CH4 Ef'!$E$3*'5. TNC Parameters'!$H$9*0.000001","v":5.4074999999999998E-2},{"$f":"MST!D$7*'CH4 Ef'!$E$4*'5. TNC Parameters'!$H$9*0.000001","v":0.1703625},{"$f":"MST!D$17*'CH4 Ef'!$E$9*'5. TNC Parameters'!$H$9*0.000001","v":4.4653124999999997E-3},{"$f":"MST!D$12*'CH4 Ef'!$E$10*'5. TNC Parameters'!$H$9*0.000001","v":0.107525},{"$f":"MST!D$44*'CH4 Ef'!$E$11*'5. TNC Parameters'!$H$9*0.000001","v":2.87E-2},{"$f":"MST!D$19*'CH4 Ef'!$E$14*'5. TNC Parameters'!$H$9*0.000001","v":0.43532499999999996},{"$f":"((MST!D$25*'CH4 Ef'!$E$18)+((MST!D$26+MST!D$40+MST!D$32)*'CH4 Ef'!$E$20))*'5. TNC Parameters'!$H$9*0.000001","v":2.8318285694444443},{"$f":"MST!D$46*'CH4 Ef'!$E$23*'5. TNC Parameters'!$H$9*0.000001","v":8.7999999999999995E-2},{"$f":"SUM(B10:I10)","v":3.7202813819444445},null,null,{"$f":"A10","v":2007},{"$f":"B10","v":5.4074999999999998E-2},{"$f":"C10","v":0.1703625},{"$f":"D10","v":4.4653124999999997E-3},{"$f":"E10","v":0.107525},{"$f":"F10","v":2.87E-2},{"$f":"G10","v":0.43532499999999996},{"$f":"H10","v":2.8318285694444443},{"$f":"I10","v":8.7999999999999995E-2},{"$f":"SUM(N10:U10)","v":3.7202813819444445}]
[2008,{"$f":"MST!E$6*'CH4 Ef'!$E$3*'5. TNC Parameters'!$H$9*0.000001","v":6.1425E-2},{"$f":"MST!E$7*'CH4 Ef'!$E$4*'5. TNC Parameters'!$H$9*0.000001","v":0.17418124999999998},{"$f":"MST!E$17*'CH4 Ef'!$E$9*'5. TNC Parameters'!$H$9*0.000001","v":6.195E-3},{"$f":"MST!E$12*'CH4 Ef'!$E$10*'5. TNC Parameters'!$H$9*0.000001","v":0.11303937500000001},{"$f":"MST!E$44*'CH4 Ef'!$E$11*'5. TNC Parameters'!$H$9*0.000001","v":2.9724999999999998E-2},{"$f":"MST!E$19*'CH4 Ef'!$E$14*'5. TNC Parameters'!$H$9*0.000001","v":0.16747499999999998},{"$f":"((MST!E$25*'CH4 Ef'!$E$18)+((MST!E$26+MST!E$40+MST!E$32)*'CH4 Ef'!$E$20))*'5. TNC Parameters'!$H$9*0.000001","v":2.9487229027777779},{"$f":"MST!E$46*'CH4 Ef'!$E$23*'5. TNC Parameters'!$H$9*0.000001","v":8.7999999999999995E-2},3.5887635277777781,null,null,2008,6.1425E-2,0.17418124999999998,6.195E-3,0.11303937500000001,2.9724999999999998E-2,0.16747499999999998,2.9487229027777779,8.7999999999999995E-2,3.5887635277777781]
[2009,{"$f":"MST!F$6*'CH4 Ef'!$E$3*'5. TNC Parameters'!$H$9*0.000001","v":5.79E-2},{"$f":"MST!F$7*'CH4 Ef'!$E$4*'5. TNC Parameters'!$H$9*0.000001","v":0.1751375},{"$f":"MST!F$17*'CH4 Ef'!$E$9*'5. TNC Parameters'!$H$9*0.000001","v":7.9865624999999989E-3},{"$f":"MST!F$12*'CH4 Ef'!$E$10*'5. TNC Parameters'!$H$9*0.000001","v":0.11345693749999999},{"$f":"MST!F$44*'CH4 Ef'!$E$11*'5. TNC Parameters'!$H$9*0.000001","v":3.075E-2},{"$f":"MST!F$19*'CH4 Ef'!$E$14*'5. TNC Parameters'!$H$9*0.000001","v":0.35269999999999996},{"$f":"((MST!F$25*'CH4 Ef'!$E$18)+((MST!F$26+MST!F$40+MST!F$32)*'CH4 Ef'!$E$20))*'5. TNC Parameters'!$H$9*0.000001","v":2.9622712638888884},{"$f":"MST!F$46*'CH4 Ef'!$E$23*'5. TNC Parameters'!$H$9*0.000001","v":8.7999999999999995E-2},3.7882022638888886,null,null,2009,5.79E-2,0.1751375,7.9865624999999989E-3,0.11345693749999999,3.075E-2,0.35269999999999996,2.9622712638888884,8.7999999999999995E-2,3.7882022638888886]
[2010,{"$f":"MST!G$6*'CH4 Ef'!$E$3*'5. TNC Parameters'!$H$9*0.000001","v":6.6974999999999993E-2},{"$f":"MST!G$7*'CH4 Ef'!$E$4*'5. TNC Parameters'!$H$9*0.000001","v":0.17114374999999998},{"$f":"MST!G$17*'CH4 Ef'!$E$9*'5. TNC Parameters'!$H$9*0.000001","v":7.8599999999999989E-3},{"$f":"MST!G$12*'CH4 Ef'!$E$10*'5. TNC Parameters'!$H$9*0.000001","v":0.12013581249999999},{"$f":"MST!G$44*'CH4 Ef'!$E$11*'5. TNC Parameters'!$H$9*0.000001","v":3.1774999999999998E-2},{"$f":"MST!G$19*'CH4 Ef'!$E$14*'5. TNC Parameters'!$H$9*0.000001","v":0.55817499999999998},{"$f":"((MST!G$25*'CH4 Ef'!$E$18)+((MST!G$26+MST!G$40+MST!G$32)*'CH4 Ef'!$E$20))*'5. TNC Parameters'!$H$9*0.000001","v":3.113983666666666},{"$f":"MST!G$46*'CH4 Ef'!$E$23*'5. TNC Parameters'!$H$9*0.000001","v":8.7999999999999995E-2},4.1580482291666661,null,null,2010,6.6974999999999993E-2,0.17114374999999998,7.8599999999999989E-3,0.12013581249999999,3.1774999999999998E-2,0.55817499999999998,3.113983666666666,8.7999999999999995E-2,4.1580482291666661]
[2011,{"$f":"MST!H$6*'CH4 Ef'!$E$3*'5. TNC Parameters'!$H$9*0.000001","v":6.3125000000000001E-2},{"$f":"MST!H$7*'CH4 Ef'!$E$4*'5. TNC Parameters'!$H$9*0.000001","v":0.14976249999999999},{"$f":"MST!H$17*'CH4 Ef'!$E$9*'5. TNC Parameters'!$H$9*0.000001","v":7.4756249999999988E-3},{"$f":"MST!H$12*'CH4 Ef'!$E$10*'5. TNC Parameters'!$H$9*0.000001","v":0.120204875},{"$f":"MST!H$44*'CH4 Ef'!$E$11*'5. TNC Parameters'!$H$9*0.000001","v":3.2799999999999996E-2},{"$f":"MST!H$19*'CH4 Ef'!$E$14*'5. TNC Parameters'!$H$9*0.000001","v":0.582125},{"$f":"((MST!H$25*'CH4 Ef'!$E$18)+((MST!H$26+MST!H$40+MST!H$32)*'CH4 Ef'!$E$20))*'5. TNC Parameters'!$H$9*0.000001","v":3.1724041388888895},{"$f":"MST!H$46*'CH4 Ef'!$E$23*'5. TNC Parameters'!$H$9*0.000001","v":8.7999999999999995E-2},4.2158971388888897,null,null,2011,6.3125000000000001E-2,0.14976249999999999,7.4756249999999988E-3,0.120204875,3.2799999999999996E-2,0.582125,3.1724041388888895,8.7999999999999995E-2,4.2158971388888897]
[2012,{"$f":"MST!I$6*'CH4 Ef'!$E$3*'5. TNC Parameters'!$H$9*0.000001","v":7.5549999999999992E-2},{"$f":"MST!I$7*'CH4 Ef'!$E$4*'5. TNC Parameters'!$H$9*0.000001","v":0.15248124999999998},{"$f":"MST!I$17*'CH4 Ef'!$E$9*'5. TNC Parameters'!$H$9*0.000001","v":8.4825000000000005E-3},{"$f":"MST!I$12*'CH4 Ef'!$E$10*'5. TNC Parameters'!$H$9*0.000001","v":0.11699718750000002},{"$f":"MST!I$44*'CH4 Ef'!$E$11*'5. TNC Parameters'!$H$9*0.000001","v":3.3784000000000002E-2},{"$f":"MST!I$19*'CH4 Ef'!$E$14*'5. TNC Parameters'!$H$9*0.000001","v":0.38217499999999999},{"$f":"((MST!I$25*'CH4 Ef'!$E$18)+((MST!I$26+MST!I$40+MST!I$32)*'CH4 Ef'!$E$20))*'5. TNC Parameters'!$H$9*0.000001","v":3.2283002499999998},{"$f":"MST!I$46*'CH4 Ef'!$E$23*'5. TNC Parameters'!$H$9*0.000001","v":8.7999999999999995E-2},4.0857701874999997,null,null,2012,7.5549999999999992E-2,0.15248124999999998,8.4825000000000005E-3,0.11699718750000002,3.3784000000000002E-2,0.38217499999999999,3.2283002499999998,8.7999999999999995E-2,4.0857701874999997]
[2013,{"$f":"MST!J$6*'CH4 Ef'!$E$3*'5. TNC Parameters'!$H$9*0.000001","v":7.1849999999999997E-2},{"$f":"MST!J$7*'CH4 Ef'!$E$4*'5. TNC Parameters'!$H$9*0.000001","v":0.15318124999999999},{"$f":"MST!J$17*'CH4 Ef'!$E$9*'5. TNC Parameters'!$H$9*0.000001","v":9.5231250000000003E-3},{"$f":"MST!J$12*'CH4 Ef'!$E$10*'5. TNC Parameters'!$H$9*0.000001","v":0.11021418749999999},{"$f":"MST!J$44*'CH4 Ef'!$E$11*'5. TNC Parameters'!$H$9*0.000001","v":3.5054999999999989E-2},{"$f":"MST!J$19*'CH4 Ef'!$E$14*'5. TNC Parameters'!$H$9*0.000001","v":0.39902499999999996},{"$f":"((MST!J$25*'CH4 Ef'!$E$18)+((MST!J$26+MST!J$40+MST!J$32)*'CH4 Ef'!$E$20))*'5. TNC Parameters'!$H$9*0.000001","v":3.1984491249999998},{"$f":"MST!J$46*'CH4 Ef'!$E$23*'5. TNC Parameters'!$H$9*0.000001","v":8.7999999999999995E-2},4.0652976874999993,null,null,2013,7.1849999999999997E-2,0.15318124999999999,9.5231250000000003E-3,0.11021418749999999,3.5054999999999989E-2,0.39902499999999996,3.1984491249999998,8.7999999999999995E-2,4.0652976874999993]
[2015,{"$f":"LH!F$27*'CH4 Ef'!$E$3*'5. TNC Parameters'!$H$9*0.000001","v":7.2499999999999995E-2},{"$f":"LH!F$28*'CH4 Ef'!$E$4*'5. TNC Parameters'!$H$9*0.000001","v":0.1525},{"$f":"LH!F$31*'CH4 Ef'!$E$9*'5. TNC Parameters'!$H$9*0.000001","v":9.75E-3},{"$f":"LH!F$30*'CH4 Ef'!$E$10*'5. TNC Parameters'!$H$9*0.000001","v":0.1105},{"$f":"MST!J$44*'CH4 Ef'!$E$11*'5. TNC Parameters'!$H$9*0.000001","v":3.5054999999999989E-2},{"$f":"LH!F$36*'CH4 Ef'!$E$14*'5. TNC Parameters'!$H$9*0.000001","v":0.52500000000000002},{"$f":"((LH!F$32*'CH4 Ef'!$E$18)+(LH!F$35*'CH4 Ef'!$E$20))*'5. TNC Parameters'!$H$9*0.000001","v":3.1419999999999999},{"$f":"LH!F$37*'CH4 Ef'!$E$23*'5. TNC Parameters'!$H$9*0.000001","v":8.7999999999999995E-2},4.1353049999999998,null,null,2015,{"$f":"LH!F$5*'CH4 Ef'!$E$3*'5. TNC Parameters'!$H$9*0.000001","v":7.2499999999999995E-2},{"$f":"LH!F$6*'CH4 Ef'!$E$4*'5. TNC Parameters'!$H$9*0.000001","v":0.1525},{"$f":"LH!F$9*'CH4 Ef'!$E$9*'5. TNC Parameters'!$H$9*0.000001","v":9.75E-3},{"$f":"LH!F$8*'CH4 Ef'!$E$10*'5. TNC Parameters'!$H$9*0.000001","v":0.1105},3.5054999999999989E-2,{"$f":"LH!F$14*'CH4 Ef'!$E$14*'5. TNC Parameters'!$H$9*0.000001","v":0.52500000000000002},{"$f":"((LH!F$10*'CH4 Ef'!$E$18)+(LH!F$13*'CH4 Ef'!$E$20))*'5. TNC Parameters'!$H$9*0.000001","v":3.1419999999999999},{"$f":"LH!F$15*'CH4 Ef'!$E$23*'5. TNC Parameters'!$H$9*0.000001","v":8.7999999999999995E-2},4.1353049999999998]
[2020,{"$f":"LH!G$27*'CH4 Ef'!$E$3*'5. TNC Parameters'!$H$9*0.000001","v":6.7499999999999991E-2},{"$f":"LH!G$28*'CH4 Ef'!$E$4*'5. TNC Parameters'!$H$9*0.000001","v":0.14499999999999999},{"$f":"LH!G$31*'CH4 Ef'!$E$9*'5. TNC Parameters'!$H$9*0.000001","v":1.0125E-2},{"$f":"LH!G$30*'CH4 Ef'!$E$10*'5. TNC Parameters'!$H$9*0.000001","v":0.108375},{"$f":"MST!J$44*'CH4 Ef'!$E$11*'5. TNC Parameters'!$H$9*0.000001","v":3.5054999999999989E-2},{"$f":"LH!G$36*'CH4 Ef'!$E$14*'5. TNC Parameters'!$H$9*0.000001","v":0.54999999999999993},{"$f":"((LH!G$32*'CH4 Ef'!$E$18)+(LH!G$35*'CH4 Ef'!$E$20))*'5. TNC Parameters'!$H$9*0.000001","v":3.2614999999999998},{"$f":"LH!G$37*'CH4 Ef'!$E$23*'5. TNC Parameters'!$H$9*0.000001","v":8.249999999999999E-2},4.2600549999999995,null,null,2020,{"$f":"LH!G$5*'CH4 Ef'!$E$3*'5. TNC Parameters'!$H$9*0.000001","v":7.4999999999999997E-2},{"$f":"LH!G$6*'CH4 Ef'!$E$4*'5. TNC Parameters'!$H$9*0.000001","v":0.1575},{"$f":"LH!G$9*'CH4 Ef'!$E$9*'5. TNC Parameters'!$H$9*0.000001","v":1.125E-2},{"$f":"LH!G$8*'CH4 Ef'!$E$10*'5. TNC Parameters'!$H$9*0.000001","v":0.11347499999999999},3.5054999999999989E-2,{"$f":"LH!G$14*'CH4 Ef'!$E$14*'5. TNC Parameters'!$H$9*0.000001","v":0.54999999999999993},{"$f":"((LH!G$10*'CH4 Ef'!$E$18)+(LH!G$13*'CH4 Ef'!$E$20))*'5. TNC Parameters'!$H$9*0.000001","v":3.2614999999999998},{"$f":"LH!G$15*'CH4 Ef'!$E$23*'5. TNC Parameters'!$H$9*0.000001","v":9.35E-2},4.2972799999999998]
[2025,{"$f":"LH!H$27*'CH4 Ef'!$E$3*'5. TNC Parameters'!$H$9*0.000001","v":6.25E-2},{"$f":"LH!H$28*'CH4 Ef'!$E$4*'5. TNC Parameters'!$H$9*0.000001","v":0.13999999999999999},{"$f":"LH!H$31*'CH4 Ef'!$E$9*'5. TNC Parameters'!$H$9*0.000001","v":1.0125E-2},{"$f":"LH!H$30*'CH4 Ef'!$E$10*'5. TNC Parameters'!$H$9*0.000001","v":0.108375},{"$f":"MST!J$44*'CH4 Ef'!$E$11*'5. TNC Parameters'!$H$9*0.000001","v":3.5054999999999989E-2},{"$f":"LH!H$36*'CH4 Ef'!$E$14*'5. TNC Parameters'!$H$9*0.000001","v":0.54999999999999993},{"$f":"((LH!H$32*'CH4 Ef'!$E$18)+(LH!H$35*'CH4 Ef'!$E$20))*'5. TNC Parameters'!$H$9*0.000001","v":3.3697499999999998},{"$f":"LH!H$37*'CH4 Ef'!$E$23*'5. TNC Parameters'!$H$9*0.000001","v":8.249999999999999E-2},4.3583049999999997,null,null,2025,{"$f":"LH!H$5*'CH4 Ef'!$E$3*'5. TNC Parameters'!$H$9*0.000001","v":0.08},{"$f":"LH!H$6*'CH4 Ef'!$E$4*'5. TNC Parameters'!$H$9*0.000001","v":0.16799999999999998},{"$f":"LH!H$9*'CH4 Ef'!$E$9*'5. TNC Parameters'!$H$9*0.000001","v":1.3125E-2},{"$f":"LH!H$8*'CH4 Ef'!$E$10*'5. TNC Parameters'!$H$9*0.000001","v":0.11899999999999999},3.5054999999999989E-2,{"$f":"LH!H$14*'CH4 Ef'!$E$14*'5. TNC Parameters'!$H$9*0.000001","v":0.57499999999999996},{"$f":"((LH!H$10*'CH4 Ef'!$E$18)+(LH!H$13*'CH4 Ef'!$E$20))*'5. TNC Parameters'!$H$9*0.000001","v":3.3697499999999998},{"$f":"LH!H$15*'CH4 Ef'!$E$23*'5. TNC Parameters'!$H$9*0.000001","v":9.6250000000000002E-2},4.4561799999999998]
[2030,{"$f":"LH!I$27*'CH4 Ef'!$E$3*'5. TNC Parameters'!$H$9*0.000001","v":0.06},{"$f":"LH!I$28*'CH4 Ef'!$E$4*'5. TNC Parameters'!$H$9*0.000001","v":0.13749999999999998},{"$f":"LH!I$31*'CH4 Ef'!$E$9*'5. TNC Parameters'!$H$9*0.000001","v":1.0499999999999999E-2},{"$f":"LH!I$30*'CH4 Ef'!$E$10*'5. TNC Parameters'!$H$9*0.000001","v":0.10625},{"$f":"MST!J$44*'CH4 Ef'!$E$11*'5. TNC Parameters'!$H$9*0.000001","v":3.5054999999999989E-2},{"$f":"LH!I$36*'CH4 Ef'!$E$14*'5. TNC Parameters'!$H$9*0.000001","v":0.5625},{"$f":"((LH!I$32*'CH4 Ef'!$E$18)+(LH!I$35*'CH4 Ef'!$E$20))*'5. TNC Parameters'!$H$9*0.000001","v":3.4242499999999998},{"$f":"LH!I$37*'CH4 Ef'!$E$23*'5. TNC Parameters'!$H$9*0.000001","v":8.3874999999999991E-2},4.4199299999999999,null,null,2030,{"$f":"LH!I$5*'CH4 Ef'!$E$3*'5. TNC Parameters'!$H$9*0.000001","v":8.4999999999999992E-2},{"$f":"LH!I$6*'CH4 Ef'!$E$4*'5. TNC Parameters'!$H$9*0.000001","v":0.17849999999999999},{"$f":"LH!I$9*'CH4 Ef'!$E$9*'5. TNC Parameters'!$H$9*0.000001","v":1.4999999999999999E-2},{"$f":"LH!I$8*'CH4 Ef'!$E$10*'5. TNC Parameters'!$H$9*0.000001","v":0.1275},3.5054999999999989E-2,{"$f":"LH!I$14*'CH4 Ef'!$E$14*'5. TNC Parameters'!$H$9*0.000001","v":0.6},{"$f":"((LH!I$10*'CH4 Ef'!$E$18)+(LH!I$13*'CH4 Ef'!$E$20))*'5. TNC Parameters'!$H$9*0.000001","v":3.4242499999999998},{"$f":"LH!I$15*'CH4 Ef'!$E$23*'5. TNC Parameters'!$H$9*0.000001","v":9.8999999999999991E-2},4.5643050000000001]
[2035,{"$f":"LH!J$27*'CH4 Ef'!$E$3*'5. TNC Parameters'!$H$9*0.000001","v":0.06},{"$f":"LH!J$28*'CH4 Ef'!$E$4*'5. TNC Parameters'!$H$9*0.000001","v":0.13749999999999998},{"$f":"LH!J$31*'CH4 Ef'!$E$9*'5. TNC Parameters'!$H$9*0.000001","v":1.0874999999999999E-2},{"$f":"LH!J$30*'CH4 Ef'!$E$10*'5. TNC Parameters'!$H$9*0.000001","v":0.10625},{"$f":"MST!J$44*'CH4 Ef'!$E$11*'5. TNC Parameters'!$H$9*0.000001","v":3.5054999999999989E-2},{"$f":"LH!J$36*'CH4 Ef'!$E$14*'5. TNC Parameters'!$H$9*0.000001","v":0.56874999999999998},{"$f":"((LH!J$32*'CH4 Ef'!$E$18)+(LH!J$35*'CH4 Ef'!$E$20))*'5. TNC Parameters'!$H$9*0.000001","v":3.5153749999999997},{"$f":"LH!J$37*'CH4 Ef'!$E$23*'5. TNC Parameters'!$H$9*0.000001","v":8.4425E-2},4.51823,null,null,2035,{"$f":"LH!J$5*'CH4 Ef'!$E$3*'5. TNC Parameters'!$H$9*0.000001","v":9.2499999999999999E-2},{"$f":"LH!J$6*'CH4 Ef'!$E$4*'5. TNC Parameters'!$H$9*0.000001","v":0.18925},{"$f":"LH!J$9*'CH4 Ef'!$E$9*'5. TNC Parameters'!$H$9*0.000001","v":1.8749999999999999E-2},{"$f":"LH!J$8*'CH4 Ef'!$E$10*'5. TNC Parameters'!$H$9*0.000001","v":0.138125},3.5054999999999989E-2,{"$f":"LH!J$14*'CH4 Ef'!$E$14*'5. TNC Parameters'!$H$9*0.000001","v":0.67499999999999993},{"$f":"((LH!J$10*'CH4 Ef'!$E$18)+(LH!J$13*'CH4 Ef'!$E$20))*'5. TNC Parameters'!$H$9*0.000001","v":3.5153749999999997},{"$f":"LH!J$15*'CH4 Ef'!$E$23*'5. TNC Parameters'!$H$9*0.000001","v":0.1045},4.7685549999999992]
[2040,{"$f":"LH!K$27*'CH4 Ef'!$E$3*'5. TNC Parameters'!$H$9*0.000001","v":0.06},{"$f":"LH!K$28*'CH4 Ef'!$E$4*'5. TNC Parameters'!$H$9*0.000001","v":0.13749999999999998},{"$f":"LH!K$31*'CH4 Ef'!$E$9*'5. TNC Parameters'!$H$9*0.000001","v":1.125E-2},{"$f":"LH!K$30*'CH4 Ef'!$E$10*'5. TNC Parameters'!$H$9*0.000001","v":0.10625},{"$f":"MST!J$44*'CH4 Ef'!$E$11*'5. TNC Parameters'!$H$9*0.000001","v":3.5054999999999989E-2},{"$f":"LH!K$36*'CH4 Ef'!$E$14*'5. TNC Parameters'!$H$9*0.000001","v":0.57499999999999996},{"$f":"((LH!K$32*'CH4 Ef'!$E$18)+(LH!K$35*'CH4 Ef'!$E$20))*'5. TNC Parameters'!$H$9*0.000001","v":3.6027499999999999},{"$f":"LH!K$37*'CH4 Ef'!$E$23*'5. TNC Parameters'!$H$9*0.000001","v":8.5249999999999992E-2},4.6130550000000001,null,null,2040,{"$f":"LH!K$5*'CH4 Ef'!$E$3*'5. TNC Parameters'!$H$9*0.000001","v":9.9999999999999992E-2},{"$f":"LH!K$6*'CH4 Ef'!$E$4*'5. TNC Parameters'!$H$9*0.000001","v":0.19999999999999998},{"$f":"LH!K$9*'CH4 Ef'!$E$9*'5. TNC Parameters'!$H$9*0.000001","v":2.2499999999999999E-2},{"$f":"LH!K$8*'CH4 Ef'!$E$10*'5. TNC Parameters'!$H$9*0.000001","v":0.14874999999999999},3.5054999999999989E-2,{"$f":"LH!K$14*'CH4 Ef'!$E$14*'5. TNC Parameters'!$H$9*0.000001","v":0.75},{"$f":"((LH!K$10*'CH4 Ef'!$E$18)+(LH!K$13*'CH4 Ef'!$E$20))*'5. TNC Parameters'!$H$9*0.000001","v":3.6027499999999999},{"$f":"LH!K$15*'CH4 Ef'!$E$23*'5. TNC Parameters'!$H$9*0.000001","v":0.11},4.969055]
[2045,{"$f":"LH!L$27*'CH4 Ef'!$E$3*'5. TNC Parameters'!$H$9*0.000001","v":6.0624999999999998E-2},{"$f":"LH!L$28*'CH4 Ef'!$E$4*'5. TNC Parameters'!$H$9*0.000001","v":0.137875},{"$f":"LH!L$31*'CH4 Ef'!$E$9*'5. TNC Parameters'!$H$9*0.000001","v":1.125E-2},{"$f":"LH!L$30*'CH4 Ef'!$E$10*'5. TNC Parameters'!$H$9*0.000001","v":0.10582499999999999},{"$f":"MST!J$44*'CH4 Ef'!$E$11*'5. TNC Parameters'!$H$9*0.000001","v":3.5054999999999989E-2},{"$f":"LH!L$36*'CH4 Ef'!$E$14*'5. TNC Parameters'!$H$9*0.000001","v":0.57499999999999996},{"$f":"((LH!L$32*'CH4 Ef'!$E$18)+(LH!L$35*'CH4 Ef'!$E$20))*'5. TNC Parameters'!$H$9*0.000001","v":3.7124999999999999},{"$f":"LH!L$37*'CH4 Ef'!$E$23*'5. TNC Parameters'!$H$9*0.000001","v":8.6624999999999994E-2},4.724755,null,null,2045,{"$f":"LH!L$5*'CH4 Ef'!$E$3*'5. TNC Parameters'!$H$9*0.000001","v":0.10625},{"$f":"LH!L$6*'CH4 Ef'!$E$4*'5. TNC Parameters'!$H$9*0.000001","v":0.21249999999999999},{"$f":"LH!L$9*'CH4 Ef'!$E$9*'5. TNC Parameters'!$H$9*0.000001","v":2.6249999999999999E-2},{"$f":"LH!L$8*'CH4 Ef'!$E$10*'5. TNC Parameters'!$H$9*0.000001","v":0.15937500000000002},3.5054999999999989E-2,{"$f":"LH!L$14*'CH4 Ef'!$E$14*'5. TNC Parameters'!$H$9*0.000001","v":0.8125},{"$f":"((LH!L$10*'CH4 Ef'!$E$18)+(LH!L$13*'CH4 Ef'!$E$20))*'5. TNC Parameters'!$H$9*0.000001","v":3.7124999999999999},{"$f":"LH!L$15*'CH4 Ef'!$E$23*'5. TNC Parameters'!$H$9*0.000001","v":0.11549999999999999},5.1799299999999997]
[2050,{"$f":"LH!M$27*'CH4 Ef'!$E$3*'5. TNC Parameters'!$H$9*0.000001","v":6.1249999999999999E-2},{"$f":"LH!M$28*'CH4 Ef'!$E$4*'5. TNC Parameters'!$H$9*0.000001","v":0.13824999999999998},{"$f":"LH!M$31*'CH4 Ef'!$E$9*'5. TNC Parameters'!$H$9*0.000001","v":1.125E-2},{"$f":"LH!M$30*'CH4 Ef'!$E$10*'5. TNC Parameters'!$H$9*0.000001","v":0.10539999999999999},{"$f":"MST!J$44*'CH4 Ef'!$E$11*'5. TNC Parameters'!$H$9*0.000001","v":3.5054999999999989E-2},{"$f":"LH!M$36*'CH4 Ef'!$E$14*'5. TNC Parameters'!$H$9*0.000001","v":0.57499999999999996},{"$f":"((LH!M$32*'CH4 Ef'!$E$18)+(LH!M$35*'CH4 Ef'!$E$20))*'5. TNC Parameters'!$H$9*0.000001","v":3.8222499999999999},{"$f":"LH!M$37*'CH4 Ef'!$E$23*'5. TNC Parameters'!$H$9*0.000001","v":8.7999999999999995E-2},4.8364549999999999,null,null,2050,{"$f":"LH!M$5*'CH4 Ef'!$E$3*'5. TNC Parameters'!$H$9*0.000001","v":0.11249999999999999},{"$f":"LH!M$6*'CH4 Ef'!$E$4*'5. TNC Parameters'!$H$9*0.000001","v":0.22499999999999998},{"$f":"LH!M$9*'CH4 Ef'!$E$9*'5. TNC Parameters'!$H$9*0.000001","v":0.03},{"$f":"LH!M$8*'CH4 Ef'!$E$10*'5. TNC Parameters'!$H$9*0.000001","v":0.17},3.5054999999999989E-2,{"$f":"LH!M$14*'CH4 Ef'!$E$14*'5. TNC Parameters'!$H$9*0.000001","v":0.875},{"$f":"((LH!M$10*'CH4 Ef'!$E$18)+(LH!M$13*'CH4 Ef'!$E$20))*'5. TNC Parameters'!$H$9*0.000001","v":3.8222499999999999},{"$f":"LH!M$15*'CH4 Ef'!$E$23*'5. TNC Parameters'!$H$9*0.000001","v":0.121},5.3908050000000003]

{"sheet":"LN2O","index":33,"n_rows":24,"n_cols":33,"rows_kept":24,"cut":false,"hidden":true,"merged":[[6,2,6,6],[6,13,6,19],[6,24,6,32]]}
["This worksheet calculates direct N2O emissions from livestock manure management as per sheets at 3.A.2. - Manaure management in the IPCC tool."]
["Emission factors for N2O are taken from worksheet 'N2O Emission facrors'. "]
["Data of head counts are obtained from worksheet 'Master Table 2006 2013', and Ls2006 to Ls2013."]
[]
["CALCULATING N20 EMISSIONS FROM MANURE MANAGEMENT"]
["GWP N20",298,"kgCO2e/kgN2O"]
[null,null,"BAU - CO2e emissions from livestock manure, Gg/yr",null,null,null,null,null,null,null,null,null,null,"Policy scenario - CO2e emissions from livestock manure, Gg/yr",null,null,null,null,null,null,null,null,null,null,"Policy scenario without technological change - CO2e emissions from livestock manure, Gg/yr"]
["YEAR","Dairy cows","other cattle","sheep","goats","horses","swine","Poultry","other (deer)","Total",null,null,"YEAR","Dairy cows","other cattle","sheep","goats","horses","swine","Poultry","other (deer)","Total",null,"YEAR","Dairy cows","other cattle","sheep","goats","horses","swine","Poultry","other (deer)","Total"]
[2006,{"$f":"'L6'!H$4","v":0.5582421356285715},{"$f":"'L6'!H$9","v":3.7866166721625003},{"$f":"MST!C$17*MMS!$J$29*MMS!$K$29*$B$6*365*0.001*(44/28)*0.000001*((MMS!$C$29*N2OEf!$C$28)+(MMS!$E$29*N2OEf!$E$28))","v":5.9218208925002666E-2},{"$f":"MST!C$12*MMS!$J$30*MMS!$K$30*$B$6*365*0.001*(44/28)*0.000001*((MMS!$C$30*N2OEf!$C$29)+(MMS!$E$30*N2OEf!$E$29))","v":0.93981099248779287},null,{"$f":"'L6'!$C$34","v":1.2645469637153572},{"$f":"((MST!C$25*MMS!$J$32*MMS!$K$32*N2OEf!$H$31)+((MST!C$26*MMS!$J$33*MMS!$K$33)+(MST!C$40*MMS!$J$35*MMS!$K$35)+(MST!C$32*MMS!$J$34*MMS!$K$34))*N2OEf!$H$32)*$B$6*365*0.001*0.000001*44/28","v":3.5285347886263096},null,{"$f":"SUM(B9:I9)","v":10.136969761545535},0.5582421356285715,{"$f":"B9-K9","v":0},{"$f":"A9","v":2006},{"$f":"B9","v":0.5582421356285715},{"$f":"C9","v":3.7866166721625003},{"$f":"D9","v":5.9218208925002666E-2},{"$f":"E9","v":0.93981099248779287},null,{"$f":"G9","v":1.2645469637153572},{"$f":"H9","v":3.5285347886263096},null,{"$f":"SUM(N9:U9)","v":10.136969761545535},null,{"$f":"M9","v":2006},{"$f":"N9","v":0.5582421356285715},{"$f":"O9","v":3.7866166721625003},{"$f":"P9","v":5.9218208925002666E-2},{"$f":"Q9","v":0.93981099248779287},null,{"$f":"S9","v":1.2645469637153572},{"$f":"T9","v":3.5285347886263096},null,{"$f":"SUM(Y9:AF9)","v":10.136969761545535}]
[2007,{"$f":"'L7'!H$4","v":0.53977547579999996},{"$f":"'L7'!H$9","v":2.8724546232839288},{"$f":"MST!D$17*MMS!$J$29*MMS!$K$29*$B$6*365*0.001*(44/28)*0.000001*((MMS!$C$29*N2OEf!$C$28)+(MMS!$E$29*N2OEf!$E$28))","v":5.5186133654820523E-2},{"$f":"MST!D$12*MMS!$J$30*MMS!$K$30*$B$6*365*0.001*(44/28)*0.000001*((MMS!$C$30*N2OEf!$C$29)+(MMS!$E$30*N2OEf!$E$29))","v":0.96864049007785724},null,{"$f":"'L7'!$C$34","v":1.4163775624051427},{"$f":"((MST!D$25*MMS!$J$32*MMS!$K$32)*N2OEf!$H$31+((MST!D$26*MMS!$J$33*MMS!$K$33)+(MST!D$40*MMS!$J$35*MMS!$K$35)+(MST!D$32*MMS!$J$34*MMS!$K$34))*N2OEf!$H$32)*$B$6*365*0.001*0.000001*44/28","v":3.5718014356361074},null,{"$f":"SUM(B10:I10)","v":9.4242357208578564},0.53977547579999996,{"$f":"B10-K10","v":0},{"$f":"A10","v":2007},{"$f":"B10","v":0.53977547579999996},{"$f":"C10","v":2.8724546232839288},{"$f":"D10","v":5.5186133654820523E-2},{"$f":"E10","v":0.96864049007785724},null,{"$f":"G10","v":1.4163775624051427},{"$f":"H10","v":3.5718014356361074},null,{"$f":"SUM(N10:U10)","v":9.4242357208578564},null,{"$f":"M10","v":2007},{"$f":"N10","v":0.53977547579999996},{"$f":"O10","v":2.8724546232839288},{"$f":"P10","v":5.5186133654820523E-2},{"$f":"Q10","v":0.96864049007785724},null,{"$f":"S10","v":1.4163775624051427},{"$f":"T10","v":3.5718014356361074},null,{"$f":"SUM(Y10:AF10)","v":9.4242357208578564}]
[2008,{"$f":"'L8'!H$4","v":0.6131430162},{"$f":"'L8'!H$9","v":3.1152194545607141},{"$f":"MST!E$17*MMS!$J$29*MMS!$K$29*$B$6*365*0.001*(44/28)*0.000001*((MMS!$C$29*N2OEf!$C$28)+(MMS!$E$29*N2OEf!$E$28))","v":7.656308444069998E-2},{"$f":"MST!E$12*MMS!$J$30*MMS!$K$30*$B$6*365*0.001*(44/28)*0.000001*((MMS!$C$30*N2OEf!$C$29)+(MMS!$E$30*N2OEf!$E$29))","v":1.0183168156065534},null,{"$f":"'L8'!$C$35","v":0.60253015637571439},{"$f":"((MST!E$25*MMS!$J$32*MMS!$K$32)*N2OEf!$H$31+((MST!E$26*MMS!$J$33*MMS!$K$33)+(MST!E$40*MMS!$J$35*MMS!$K$35)+(MST!E$32*MMS!$J$34*MMS!$K$34))*N2OEf!$H$32)*$B$6*365*0.001*0.000001*44/28","v":3.662616642248012},null,9.0883891694316929,0.6131430162,0,2008,0.6131430162,3.1152194545607141,7.656308444069998E-2,1.0183168156065534,null,0.60253015637571439,3.662616642248012,null,9.0883891694316929,null,2008,0.6131430162,3.1152194545607141,7.656308444069998E-2,1.0183168156065534,null,0.60253015637571439,3.662616642248012,null,9.0883891694316929]
[2009,{"$f":"'L9'!H$4","v":0.53927637688571428},{"$f":"'L9'!H$9","v":3.0538224896830362},{"$f":"MST!F$17*MMS!$J$29*MMS!$K$29*$B$6*365*0.001*(44/28)*0.000001*((MMS!$C$29*N2OEf!$C$28)+(MMS!$E$29*N2OEf!$E$28))","v":9.8704739157131238E-2},{"$f":"MST!F$12*MMS!$J$30*MMS!$K$30*$B$6*365*0.001*(44/28)*0.000001*((MMS!$C$30*N2OEf!$C$29)+(MMS!$E$30*N2OEf!$E$29))","v":1.0220784333199984},null,{"$f":"'L9'!$C$35","v":1.1055432880815714},{"$f":"((MST!F$25*MMS!$J$32*MMS!$K$32)*N2OEf!$H$31+((MST!F$26*MMS!$J$33*MMS!$K$33)+(MST!F$40*MMS!$J$35*MMS!$K$35)+(MST!F$32*MMS!$J$34*MMS!$K$34))*N2OEf!$H$32)*$B$6*365*0.001*0.000001*44/28","v":3.4138250320518924},null,9.233250359179344,0.57795654274285724,-3.8680165857142956E-2,2009,0.53927637688571428,3.0538224896830362,9.8704739157131238E-2,1.0220784333199984,null,1.1055432880815714,3.4138250320518924,null,9.233250359179344,null,2009,0.53927637688571428,3.0538224896830362,9.8704739157131238E-2,1.0220784333199984,null,1.1055432880815714,3.4138250320518924,null,9.233250359179344]
[2010,{"$f":"'L10'!H$4","v":0.66241905200742845},{"$f":"'L10'!H$9","v":3.0296080819828219},{"$f":"MST!G$17*MMS!$J$29*MMS!$K$29*$B$6*365*0.001*(44/28)*0.000001*((MMS!$C$29*N2OEf!$C$28)+(MMS!$E$29*N2OEf!$E$28))","v":9.7140572026457137E-2},{"$f":"MST!G$12*MMS!$J$30*MMS!$K$30*$B$6*365*0.001*(44/28)*0.000001*((MMS!$C$30*N2OEf!$C$29)+(MMS!$E$30*N2OEf!$E$29))","v":1.082245173642423},null,{"$f":"'L10'!$C$38","v":1.1018857519343928},{"$f":"((MST!G$25*MMS!$J$32*MMS!$K$32)*N2OEf!$H$31+((MST!G$26*MMS!$J$33*MMS!$K$33)+(MST!G$40*MMS!$J$35*MMS!$K$35)+(MST!G$32*MMS!$J$34*MMS!$K$34))*N2OEf!$H$32)*$B$6*365*0.001*0.000001*44/28","v":3.6286993855912377},null,9.6019980171847621,0.66854299568571429,-6.123943678285837E-3,2010,0.66241905200742845,3.0296080819828219,9.7140572026457137E-2,1.082245173642423,null,1.1018857519343928,3.6286993855912377,null,9.6019980171847621,null,2010,0.66241905200742845,3.0296080819828219,9.7140572026457137E-2,1.082245173642423,null,1.1018857519343928,3.6286993855912377,null,9.6019980171847621]
[2011,{"$f":"'L11'!H$4","v":0.62378630054714279},{"$f":"'L11'!H$9","v":2.7979301092132496},{"$f":"MST!H$17*MMS!$J$29*MMS!$K$29*$B$6*365*0.001*(44/28)*0.000001*((MMS!$C$29*N2OEf!$C$28)+(MMS!$E$29*N2OEf!$E$28))","v":9.2390138518483933E-2},{"$f":"MST!H$12*MMS!$J$30*MMS!$K$30*$B$6*365*0.001*(44/28)*0.000001*((MMS!$C$30*N2OEf!$C$29)+(MMS!$E$30*N2OEf!$E$29))","v":1.082867324154825},null,{"$f":"'L11'!$C$39","v":1.23275202548575},{"$f":"((MST!H$25*MMS!$J$32*MMS!$K$32)*N2OEf!$H$31+((MST!H$26*MMS!$J$33*MMS!$K$33)+(MST!H$40*MMS!$J$35*MMS!$K$35)+(MST!H$32*MMS!$J$34*MMS!$K$34))*N2OEf!$H$32)*$B$6*365*0.001*0.000001*44/28","v":3.6785098418165956},null,9.5082357397360457,0.63011237928571429,-6.3260787385714945E-3,2011,0.62378630054714279,2.7979301092132496,9.2390138518483933E-2,1.082867324154825,null,1.23275202548575,3.6785098418165956,null,9.5082357397360457,null,2011,0.62378630054714279,2.7979301092132496,9.2390138518483933E-2,1.082867324154825,null,1.23275202548575,3.6785098418165956,null,9.5082357397360457]
[2012,{"$f":"'L12'!H$4","v":0.74618781378114274},{"$f":"'L12'!H$9","v":2.7108878824354639},{"$f":"MST!I$17*MMS!$J$29*MMS!$K$29*$B$6*365*0.001*(44/28)*0.000001*((MMS!$C$29*N2OEf!$C$28)+(MMS!$E$29*N2OEf!$E$28))","v":0.1048339570247357},{"$f":"MST!I$12*MMS!$J$30*MMS!$K$30*$B$6*365*0.001*(44/28)*0.000001*((MMS!$C$30*N2OEf!$C$29)+(MMS!$E$30*N2OEf!$E$29))","v":1.0539708257403482},null,{"$f":"'L12'!$C$39","v":0.8366865825654286},{"$f":"((MST!I$25*MMS!$J$32*MMS!$K$32)*N2OEf!$H$31+((MST!I$26*MMS!$J$33*MMS!$K$33)+(MST!I$40*MMS!$J$35*MMS!$K$35)+(MST!I$32*MMS!$J$34*MMS!$K$34))*N2OEf!$H$32)*$B$6*365*0.001*0.000001*44/28","v":3.8352265818436426},null,9.2877936433907617,0.75413845948571434,-7.9506457045716017E-3,2012,0.74618781378114274,2.7108878824354639,0.1048339570247357,1.0539708257403482,null,0.8366865825654286,3.8352265818436426,null,9.2877936433907617,null,2012,0.74618781378114274,2.7108878824354639,0.1048339570247357,1.0539708257403482,null,0.8366865825654286,3.8352265818436426,null,9.2877936433907617]
[2013,{"$f":"'L13'!H$4","v":0.70822884585514267},{"$f":"'L13'!H$9","v":2.6500717439192858},{"$f":"MST!J$17*MMS!$J$29*MMS!$K$29*$B$6*365*0.001*(44/28)*0.000001*((MMS!$C$29*N2OEf!$C$28)+(MMS!$E$29*N2OEf!$E$28))","v":0.11769488676583391},{"$f":"MST!J$12*MMS!$J$30*MMS!$K$30*$B$6*365*0.001*(44/28)*0.000001*((MMS!$C$30*N2OEf!$C$29)+(MMS!$E$30*N2OEf!$E$29))","v":0.99286607387614845},null,{"$f":"'L13'!$C$39","v":0.84819100482953569},{"$f":"((MST!J$25*MMS!$J$32*MMS!$K$32)*N2OEf!$H$31+((MST!J$26*MMS!$J$33*MMS!$K$33)+(MST!J$40*MMS!$J$35*MMS!$K$35)+(MST!J$32*MMS!$J$34*MMS!$K$34))*N2OEf!$H$32)*$B$6*365*0.001*0.000001*44/28","v":3.8234301810172027},null,9.1404827362631487,0.71720513982857148,-8.9762939734288061E-3,2013,0.70822884585514267,2.6500717439192858,0.11769488676583391,0.99286607387614845,null,0.84819100482953569,3.8234301810172027,null,9.1404827362631487,null,2013,0.70822884585514267,2.6500717439192858,0.11769488676583391,0.99286607387614845,null,0.84819100482953569,3.8234301810172027,null,9.1404827362631487]
[2015,{"$f":"LH!$F$39","v":0.71645649145714263},{"$f":"LH!$F$42","v":3.2490091572714284},{"$f":"LH!F$31*MMS!$J$29*MMS!$K$29*$B$6*365*0.001*(44/28)*0.000001*((MMS!$C$29*N2OEf!$C$28)+(MMS!$E$29*N2OEf!$E$28))","v":0.12049880117785715},{"$f":"LH!F$30*MMS!$J$30*MMS!$K$30*$B$6*365*0.001*(44/28)*0.000001*((MMS!$C$30*N2OEf!$C$29)+(MMS!$E$30*N2OEf!$E$29))","v":0.99544081984285704},null,{"$f":"LH!$F$44","v":1.738037189625},{"$f":"((LH!F$32*MMS!$J$32*MMS!$K$32)*N2OEf!$H$31+((LH!F$38*MMS!$J$33*MMS!$K$33)+(LH!F$34*MMS!$J$35*MMS!$K$35)+(LH!F$33*MMS!$J$34*MMS!$K$34))*N2OEf!$H$32)*$B$6*365*0.001*0.000001*44/28","v":3.4548071249999999},null,10.274249584374285,null,null,2015,{"$f":"LH!$F$17","v":0.71645649145714263},{"$f":"LH!$F$20","v":3.2490091572714284},{"$f":"LH!F9*MMS!$J$29*MMS!$K$29*$B$6*365*0.001*(44/28)*0.000001*((MMS!$C$29*N2OEf!$C$28)+(MMS!$E$29*N2OEf!$E$28))","v":0.12049880117785715},{"$f":"LH!F$8*MMS!$J$30*MMS!$K$30*$B$6*365*0.001*(44/28)*0.000001*((MMS!$C$30*N2OEf!$C$29)+(MMS!$E$30*N2OEf!$E$29))","v":0.99544081984285704},null,{"$f":"LH!$F$22","v":1.738037189625},{"$f":"((LH!F$10*MMS!$J$32*MMS!$K$32)*N2OEf!$H$31+((LH!F$38*MMS!$J$33*MMS!$K$33)+(LH!F$12*MMS!$J$35*MMS!$K$35)+(LH!F$11*MMS!$J$34*MMS!$K$34))*N2OEf!$H$32)*$B$6*365*0.001*0.000001*44/28","v":3.4548071249999999},null,10.274249584374285,null,2015,{"$f":"LH!$O$17","v":0.71645649145714263},{"$f":"LH!$O$20","v":3.2490091572714284},0.12049880117785715,0.99544081984285704,null,{"$f":"LH!$O$22","v":1.738037189625},3.4548071249999999,null,10.274249584374285]
[2020,{"$f":"LH!$G$39","v":0.66704569894285703},{"$f":"LH!$G$42","v":3.3367257914571424},{"$f":"LH!G$31*MMS!$J$29*MMS!$K$29*$B$6*365*0.001*(44/28)*0.000001*((MMS!$C$29*N2OEf!$C$28)+(MMS!$E$29*N2OEf!$E$28))","v":0.12513337045392856},{"$f":"LH!G$30*MMS!$J$30*MMS!$K$30*$B$6*365*0.001*(44/28)*0.000001*((MMS!$C$30*N2OEf!$C$29)+(MMS!$E$30*N2OEf!$E$29))","v":0.97629772715357155},null,{"$f":"LH!$G$44","v":1.8208008653214287},{"$f":"((LH!G$32*MMS!$J$32*MMS!$K$32*N2OEf!$H$31)+((LH!G$38*MMS!$J$33*MMS!$K$33)+(LH!G$34*MMS!$J$35*MMS!$K$35)+(LH!G$33*MMS!$J$34*MMS!$K$34))*N2OEf!$H$32)*$B$6*365*0.001*0.000001*44/28","v":3.5891108824999995},null,10.515114335828928,null,null,2020,{"$f":"LH!$G$17","v":0.71870243657142852},{"$f":"LH!$G$20","v":3.3749068584000002},{"$f":"LH!G9*MMS!$J$29*MMS!$K$29*$B$6*365*0.001*(44/28)*0.000001*((MMS!$C$29*N2OEf!$C$28)+(MMS!$E$29*N2OEf!$E$28))","v":0.13903707828214285},{"$f":"LH!G$8*MMS!$J$30*MMS!$K$30*$B$6*365*0.001*(44/28)*0.000001*((MMS!$C$30*N2OEf!$C$29)+(MMS!$E$30*N2OEf!$E$29))","v":1.0222411496078572},null,{"$f":"LH!$G$22","v":1.8208008653214287},{"$f":"((LH!G$10*MMS!$J$32*MMS!$K$32)*N2OEf!$H$31+((LH!G$38*MMS!$J$33*MMS!$K$33)+(LH!G$12*MMS!$J$35*MMS!$K$35)+(LH!G$11*MMS!$J$34*MMS!$K$34))*N2OEf!$H$32)*$B$6*365*0.001*0.000001*44/28","v":3.5891108824999995},null,10.664799270682856,null,2020,{"$f":"LH!$P$17","v":0.74116188771428582},{"$f":"LH!$P$20","v":3.3984892820999999},0.13903707828214285,1.0222411496078572,null,{"$f":"LH!$P$22","v":1.8208008653214287},3.5891108824999995,null,10.710841145525714]
[2025,{"$f":"LH!$H$39","v":0.61763490642857144},{"$f":"LH!$H$42","v":3.4367951237714278},{"$f":"LH!H$31*MMS!$J$29*MMS!$K$29*$B$6*365*0.001*(44/28)*0.000001*((MMS!$C$29*N2OEf!$C$28)+(MMS!$E$29*N2OEf!$E$28))","v":0.12513337045392856},{"$f":"LH!H$30*MMS!$J$30*MMS!$K$30*$B$6*365*0.001*(44/28)*0.000001*((MMS!$C$30*N2OEf!$C$29)+(MMS!$E$30*N2OEf!$E$29))","v":0.97629772715357155},null,{"$f":"LH!$H$44","v":1.8208008653214287},{"$f":"((LH!H$32*MMS!$J$32*MMS!$K$32*N2OEf!$H$31)+((LH!H$38*MMS!$J$33*MMS!$K$33)+(LH!H$34*MMS!$J$35*MMS!$K$35)+(LH!H$33*MMS!$J$34*MMS!$K$34))*N2OEf!$H$32)*$B$6*365*0.001*0.000001*44/28","v":3.6855720031428567},null,10.662233996271786,null,null,2025,{"$f":"LH!$H$17","v":0.7666159323428573},{"$f":"LH!$H$20","v":3.549990757531428},{"$f":"LH!H9*MMS!$J$29*MMS!$K$29*$B$6*365*0.001*(44/28)*0.000001*((MMS!$C$29*N2OEf!$C$28)+(MMS!$E$29*N2OEf!$E$28))","v":0.16220992466249998},{"$f":"LH!H$8*MMS!$J$30*MMS!$K$30*$B$6*365*0.001*(44/28)*0.000001*((MMS!$C$30*N2OEf!$C$29)+(MMS!$E$30*N2OEf!$E$29))","v":1.0720131906000001},null,{"$f":"LH!$H$22","v":1.9035645410178572},{"$f":"((LH!H$10*MMS!$J$32*MMS!$K$32)*N2OEf!$H$31+((LH!H$38*MMS!$J$33*MMS!$K$33)+(LH!H$12*MMS!$J$35*MMS!$K$35)+(LH!H$11*MMS!$J$34*MMS!$K$34))*N2OEf!$H$32)*$B$6*365*0.001*0.000001*44/28","v":3.6855720031428567},null,11.139966349297499,null,2025,{"$f":"LH!$Q$17","v":0.79057268022857141},{"$f":"LH!$Q$20","v":3.5751453428114277},0.16220992466249998,1.0720131906000001,null,{"$f":"LH!$Q$22","v":1.9035645410178572},3.6855720031428567,null,11.189077682463214]
[2030,{"$f":"LH!$I$39","v":0.59292951017142859},{"$f":"LH!$I$42","v":3.5492171542142859},{"$f":"LH!I$31*MMS!$J$29*MMS!$K$29*$B$6*365*0.001*(44/28)*0.000001*((MMS!$C$29*N2OEf!$C$28)+(MMS!$E$29*N2OEf!$E$28))","v":0.12976793973},{"$f":"LH!I$30*MMS!$J$30*MMS!$K$30*$B$6*365*0.001*(44/28)*0.000001*((MMS!$C$30*N2OEf!$C$29)+(MMS!$E$30*N2OEf!$E$29))","v":0.95715463446428584},null,{"$f":"LH!$I$44","v":1.8621827031696434},{"$f":"((LH!I$32*MMS!$J$32*MMS!$K$32*N2OEf!$H$31)+((LH!I$38*MMS!$J$33*MMS!$K$33)+(LH!I$34*MMS!$J$35*MMS!$K$35)+(LH!I$33*MMS!$J$34*MMS!$K$34))*N2OEf!$H$32)*$B$6*365*0.001*0.000001*44/28","v":3.7355759029285713},null,10.826827844678215,null,null,2030,{"$f":"LH!$I$17","v":0.82301410965714261},{"$f":"LH!$I$20","v":3.7339835722828574},{"$f":"LH!I9*MMS!$J$29*MMS!$K$29*$B$6*365*0.001*(44/28)*0.000001*((MMS!$C$29*N2OEf!$C$28)+(MMS!$E$29*N2OEf!$E$28))","v":0.18538277104285711},{"$f":"LH!I$8*MMS!$J$30*MMS!$K$30*$B$6*365*0.001*(44/28)*0.000001*((MMS!$C$30*N2OEf!$C$29)+(MMS!$E$30*N2OEf!$E$29))","v":1.1485855613571427},null,{"$f":"LH!$I$22","v":1.9863282167142859},{"$f":"((LH!I$10*MMS!$J$32*MMS!$K$32)*N2OEf!$H$31+((LH!I$38*MMS!$J$33*MMS!$K$33)+(LH!I$12*MMS!$J$35*MMS!$K$35)+(LH!I$11*MMS!$J$34*MMS!$K$34))*N2OEf!$H$32)*$B$6*365*0.001*0.000001*44/28","v":3.7355759029285713},null,11.612870133982858,null,2030,{"$f":"LH!$R$17","v":0.83998347274285723},{"$f":"LH!$R$20","v":3.7518014035228573},0.18538277104285711,1.1485855613571427,null,{"$f":"LH!$R$22","v":1.9863282167142859},3.7355759029285713,null,11.647657328308572]
[2035,{"$f":"LH!$J$39","v":0.59292951017142859},{"$f":"LH!$J$42","v":3.9859287042142859},{"$f":"LH!J$31*MMS!$J$29*MMS!$K$29*$B$6*365*0.001*(44/28)*0.000001*((MMS!$C$29*N2OEf!$C$28)+(MMS!$E$29*N2OEf!$E$28))","v":0.13440250900607142},{"$f":"LH!J$30*MMS!$J$30*MMS!$K$30*$B$6*365*0.001*(44/28)*0.000001*((MMS!$C$30*N2OEf!$C$29)+(MMS!$E$30*N2OEf!$E$29))","v":0.95715463446428584},null,{"$f":"LH!$J$44","v":1.8828736220937503},{"$f":"((LH!J$32*MMS!$J$32*MMS!$K$32*N2OEf!$H$31)+((LH!J$38*MMS!$J$33*MMS!$K$33)+(LH!J$34*MMS!$J$35*MMS!$K$35)+(LH!J$33*MMS!$J$34*MMS!$K$34))*N2OEf!$H$32)*$B$6*365*0.001*0.000001*44/28","v":3.8421172833214294},null,11.395406263271251,null,null,2035,{"$f":"LH!$J$17","v":0.88639967177142864},{"$f":"LH!$J$20","v":4.2132932146171429},{"$f":"LH!J9*MMS!$J$29*MMS!$K$29*$B$6*365*0.001*(44/28)*0.000001*((MMS!$C$29*N2OEf!$C$28)+(MMS!$E$29*N2OEf!$E$28))","v":0.23172846380357143},{"$f":"LH!J$8*MMS!$J$30*MMS!$K$30*$B$6*365*0.001*(44/28)*0.000001*((MMS!$C$30*N2OEf!$C$29)+(MMS!$E$30*N2OEf!$E$29))","v":1.2443010248035713},null,{"$f":"LH!$J$22","v":2.0111573194232149},{"$f":"((LH!J$10*MMS!$J$32*MMS!$K$32)*N2OEf!$H$31+((LH!J$38*MMS!$J$33*MMS!$K$33)+(LH!J$12*MMS!$J$35*MMS!$K$35)+(LH!J$11*MMS!$J$34*MMS!$K$34))*N2OEf!$H$32)*$B$6*365*0.001*0.000001*44/28","v":3.8421172833214294},null,12.428996977740358,null,2035,{"$f":"LH!$S$17","v":0.91409966151428568},{"$f":"LH!$S$20","v":4.2416295554757149},0.23172846380357143,1.2443010248035713,null,{"$f":"LH!$S$22","v":2.2346192438035715},3.8421172833214294,null,12.708495232722143]
[2040,{"$f":"LH!$K$39","v":0.59292951017142859},{"$f":"LH!$K$42","v":4.4226402542142855},{"$f":"LH!K$31*MMS!$J$29*MMS!$K$29*$B$6*365*0.001*(44/28)*0.000001*((MMS!$C$29*N2OEf!$C$28)+(MMS!$E$29*N2OEf!$E$28))","v":0.13903707828214285},{"$f":"LH!K$30*MMS!$J$30*MMS!$K$30*$B$6*365*0.001*(44/28)*0.000001*((MMS!$C$30*N2OEf!$C$29)+(MMS!$E$30*N2OEf!$E$29))","v":0.95715463446428584},null,{"$f":"LH!$K$44","v":1.9035645410178572},{"$f":"((LH!K$32*MMS!$J$32*MMS!$K$32*N2OEf!$H$31)+((LH!K$38*MMS!$J$33*MMS!$K$33)+(LH!K$34*MMS!$J$35*MMS!$K$35)+(LH!K$33*MMS!$J$34*MMS!$K$34))*N2OEf!$H$32)*$B$6*365*0.001*0.000001*44/28","v":3.9360444514285713},null,11.951370469578571,null,null,2040,{"$f":"LH!$K$17","v":0.95826991542857121},{"$f":"LH!$K$20","v":4.7015117725714282},{"$f":"LH!K9*MMS!$J$29*MMS!$K$29*$B$6*365*0.001*(44/28)*0.000001*((MMS!$C$29*N2OEf!$C$28)+(MMS!$E$29*N2OEf!$E$28))","v":0.27807415656428569},{"$f":"LH!K$8*MMS!$J$30*MMS!$K$30*$B$6*365*0.001*(44/28)*0.000001*((MMS!$C$30*N2OEf!$C$29)+(MMS!$E$30*N2OEf!$E$29))","v":1.3400164882500001},null,{"$f":"LH!$K$22","v":1.9863282167142859},{"$f":"((LH!K$10*MMS!$J$32*MMS!$K$32)*N2OEf!$H$31+((LH!K$38*MMS!$J$33*MMS!$K$33)+(LH!K$12*MMS!$J$35*MMS!$K$35)+(LH!K$11*MMS!$J$34*MMS!$K$34))*N2OEf!$H$32)*$B$6*365*0.001*0.000001*44/28","v":3.9360444514285713},null,13.200245000957143,null,2040,{"$f":"LH!$T$17","v":0.98821585028571424},{"$f":"LH!$T$20","v":4.7314577074285715},0.27807415656428569,1.3400164882500001,null,{"$f":"LH!$T$22","v":2.4829102708928574},3.9360444514285713,null,13.75671892485]
[2045,{"$f":"LH!$L$39","v":0.59910585923571424},{"$f":"LH!$L$42","v":4.7364299803621428},{"$f":"LH!L$31*MMS!$J$29*MMS!$K$29*$B$6*365*0.001*(44/28)*0.000001*((MMS!$C$29*N2OEf!$C$28)+(MMS!$E$29*N2OEf!$E$28))","v":0.13903707828214285},{"$f":"LH!L$30*MMS!$J$30*MMS!$K$30*$B$6*365*0.001*(44/28)*0.000001*((MMS!$C$30*N2OEf!$C$29)+(MMS!$E$30*N2OEf!$E$29))","v":0.95332601592642852},null,{"$f":"LH!$L$44","v":1.9035645410178572},{"$f":"((LH!L$32*MMS!$J$32*MMS!$K$32*N2OEf!$H$31)+((LH!L$38*MMS!$J$33*MMS!$K$33)+(LH!L$34*MMS!$J$35*MMS!$K$35)+(LH!L$33*MMS!$J$34*MMS!$K$34))*N2OEf!$H$32)*$B$6*365*0.001*0.000001*44/28","v":4.0370393387499997},null,12.368502813574285,null,null,2045,{"$f":"LH!$L$17","v":1.018161785142857},{"$f":"LH!$L$20","v":5.0733404637142847},{"$f":"LH!L9*MMS!$J$29*MMS!$K$29*$B$6*365*0.001*(44/28)*0.000001*((MMS!$C$29*N2OEf!$C$28)+(MMS!$E$29*N2OEf!$E$28))","v":0.32441984932499995},{"$f":"LH!L$8*MMS!$J$30*MMS!$K$30*$B$6*365*0.001*(44/28)*0.000001*((MMS!$C$30*N2OEf!$C$29)+(MMS!$E$30*N2OEf!$E$29))","v":1.4357319516964286},null,{"$f":"LH!$L$22","v":1.7214844544857144},{"$f":"((LH!L$10*MMS!$J$32*MMS!$K$32)*N2OEf!$H$31+((LH!L$38*MMS!$J$33*MMS!$K$33)+(LH!L$12*MMS!$J$35*MMS!$K$35)+(LH!L$11*MMS!$J$34*MMS!$K$34))*N2OEf!$H$32)*$B$6*365*0.001*0.000001*44/28","v":4.0370393387499997},null,13.610177843114286,null,2045,{"$f":"LH!$U$17","v":1.0499793409285714},{"$f":"LH!$U$20","v":5.1051580194999993},0.32441984932499995,1.4357319516964286,null,{"$f":"LH!$U$22","v":2.6898194601339291},4.0370393387499997,null,14.642147960333929]
[2050,{"$f":"LH!$M$39","v":0.60528220830000001},{"$f":"LH!$M$42","v":5.0502197065099992},{"$f":"LH!M$31*MMS!$J$29*MMS!$K$29*$B$6*365*0.001*(44/28)*0.000001*((MMS!$C$29*N2OEf!$C$28)+(MMS!$E$29*N2OEf!$E$28))","v":0.13903707828214285},{"$f":"LH!M$30*MMS!$J$30*MMS!$K$30*$B$6*365*0.001*(44/28)*0.000001*((MMS!$C$30*N2OEf!$C$29)+(MMS!$E$30*N2OEf!$E$29))","v":0.94949739738857153},null,{"$f":"LH!$M$44","v":1.9035645410178572},{"$f":"((LH!M$32*MMS!$J$32*MMS!$K$32*N2OEf!$H$31)+((LH!M$38*MMS!$J$33*MMS!$K$33)+(LH!M$34*MMS!$J$35*MMS!$K$35)+(LH!M$33*MMS!$J$34*MMS!$K$34))*N2OEf!$H$32)*$B$6*365*0.001*0.000001*44/28","v":4.1380342260714276},null,12.785635157569999,null,null,2050,{"$f":"LH!$M$17","v":1.0892833804285718},{"$f":"LH!$M$20","v":5.456398880428571},{"$f":"LH!M9*MMS!$J$29*MMS!$K$29*$B$6*365*0.001*(44/28)*0.000001*((MMS!$C$29*N2OEf!$C$28)+(MMS!$E$29*N2OEf!$E$28))","v":0.37076554208571422},{"$f":"LH!M$8*MMS!$J$30*MMS!$K$30*$B$6*365*0.001*(44/28)*0.000001*((MMS!$C$30*N2OEf!$C$29)+(MMS!$E$30*N2OEf!$E$29))","v":1.5314474151428572},null,{"$f":"LH!$M$22","v":1.4483643246875002},{"$f":"((LH!M$10*MMS!$J$32*MMS!$K$32)*N2OEf!$H$31+((LH!M$38*MMS!$J$33*MMS!$K$33)+(LH!M$12*MMS!$J$35*MMS!$K$35)+(LH!M$11*MMS!$J$34*MMS!$K$34))*N2OEf!$H$32)*$B$6*365*0.001*0.000001*44/28","v":4.1380342260714276},null,14.034293768844643,null,2050,{"$f":"LH!$V$17","v":1.1117428315714286},{"$f":"LH!$V$20","v":5.4788583315714288},0.37076554208571422,1.5314474151428572,null,{"$f":"LH!$V$22","v":2.8967286493750004},4.1380342260714276,null,15.527576995817858]

{"sheet":"LSc","index":34,"n_rows":20,"n_cols":19,"rows_kept":20,"cut":false,"hidden":true,"merged":[[2,1,2,4],[2,7,2,10],[2,12,2,16]]}
[]
["LMM - Livestock Manure Management"]
[null,"BAU - Livestock Management, Gg CO2e",null,null,null,null,null,"Policy - Livestock management, Gg CO2e",null,null,null,null,"Policy with MMS unchanged, Gg CO2e"]
["YEAR","Enteric","LMMCH4","LMMN2O","Total",null,"YEAR","Enteric","LMMCH4","LMMN2O","Total",null,"YEAR","Enteric","LMMCH4","LMMN2O","Total"]
[2006,{"$f":"INDEX((LE!$I$8:$I$23),MATCH(A5,LE!$A$8:A$23,0))","v":19.915768749999998},{"$f":"INDEX(('LCH4'!$J$9:$J$24),MATCH(A5,'LCH4'!$A$9:A$24,0))","v":3.4738317291666663},{"$f":"INDEX((LN2O!$J$9:$J$24),MATCH(A5,LN2O!$A$9:A$24,0))","v":10.136969761545535},{"$f":"SUM(B5:D5)","v":33.526570240712196},null,{"$f":"A5","v":2006},{"$f":"INDEX((LE!$S$8:$S$23),MATCH(G5,LE!$K$8:K$23,0))","v":19.915768749999998},{"$f":"INDEX(('LCH4'!$V$9:$V$24),MATCH(G5,'LCH4'!$M$9:$M$24,0))","v":3.4738317291666663},{"$f":"INDEX((LN2O!$V$9:$V$24),MATCH(G5,LN2O!$M$9:M$24,0))","v":10.136969761545535},{"$f":"SUM(H5:J5)","v":33.526570240712196},null,{"$f":"G5","v":2006},{"$f":"H5","v":19.915768749999998},{"$f":"I5","v":3.4738317291666663},{"$f":"INDEX((LN2O!$AG$9:$AG$24),MATCH(M5,LN2O!$M$9:M$24,0))","v":10.136969761545535},{"$f":"SUM(N5:P5)","v":33.526570240712196},null,{"$f":"Q5-K5","v":0}]
[2007,{"$f":"INDEX((LE!$I$8:$I$23),MATCH(A6,LE!$A$8:A$23,0))","v":19.830356250000001},{"$f":"INDEX(('LCH4'!$J$9:$J$24),MATCH(A6,'LCH4'!$A$9:A$24,0))","v":3.7202813819444445},{"$f":"INDEX((LN2O!$J$9:$J$24),MATCH(A6,LN2O!$A$9:A$24,0))","v":9.4242357208578564},{"$f":"SUM(B6:D6)","v":32.974873352802305},null,{"$f":"A6","v":2007},{"$f":"INDEX((LE!$S$8:$S$23),MATCH(G6,LE!$K$8:K$23,0))","v":19.830356250000001},{"$f":"INDEX(('LCH4'!$V$9:$V$24),MATCH(G6,'LCH4'!$M$9:$M$24,0))","v":3.7202813819444445},{"$f":"INDEX((LN2O!$V$9:$V$24),MATCH(G6,LN2O!$M$9:M$24,0))","v":9.4242357208578564},{"$f":"SUM(H6:J6)","v":32.974873352802305},null,{"$f":"G6","v":2007},{"$f":"H6","v":19.830356250000001},{"$f":"I6","v":3.7202813819444445},{"$f":"INDEX((LN2O!$AG$9:$AG$24),MATCH(M6,LN2O!$M$9:M$24,0))","v":9.4242357208578564},{"$f":"SUM(N6:P6)","v":32.974873352802305},null,{"$f":"Q6-K6","v":0}]
[2008,{"$f":"INDEX((LE!$I$8:$I$23),MATCH(A7,LE!$A$8:A$23,0))","v":20.250081250000001},{"$f":"INDEX(('LCH4'!$J$9:$J$24),MATCH(A7,'LCH4'!$A$9:A$24,0))","v":3.5887635277777781},{"$f":"INDEX((LN2O!$J$9:$J$24),MATCH(A7,LN2O!$A$9:A$24,0))","v":9.0883891694316929},32.927233947209473,null,2008,{"$f":"INDEX((LE!$S$8:$S$23),MATCH(G7,LE!$K$8:K$23,0))","v":20.250081250000001},{"$f":"INDEX(('LCH4'!$V$9:$V$24),MATCH(G7,'LCH4'!$M$9:$M$24,0))","v":3.5887635277777781},{"$f":"INDEX((LN2O!$V$9:$V$24),MATCH(G7,LN2O!$M$9:M$24,0))","v":9.0883891694316929},32.927233947209473,null,2008,20.250081250000001,3.5887635277777781,{"$f":"INDEX((LN2O!$AG$9:$AG$24),MATCH(M7,LN2O!$M$9:M$24,0))","v":9.0883891694316929},32.927233947209473,null,0]
[2009,{"$f":"INDEX((LE!$I$8:$I$23),MATCH(A8,LE!$A$8:A$23,0))","v":20.386050000000001},{"$f":"INDEX(('LCH4'!$J$9:$J$24),MATCH(A8,'LCH4'!$A$9:A$24,0))","v":3.7882022638888886},{"$f":"INDEX((LN2O!$J$9:$J$24),MATCH(A8,LN2O!$A$9:A$24,0))","v":9.233250359179344},33.407502623068233,null,2009,{"$f":"INDEX((LE!$S$8:$S$23),MATCH(G8,LE!$K$8:K$23,0))","v":20.386050000000001},{"$f":"INDEX(('LCH4'!$V$9:$V$24),MATCH(G8,'LCH4'!$M$9:$M$24,0))","v":3.7882022638888886},{"$f":"INDEX((LN2O!$V$9:$V$24),MATCH(G8,LN2O!$M$9:M$24,0))","v":9.233250359179344},33.407502623068233,null,2009,20.386050000000001,3.7882022638888886,{"$f":"INDEX((LN2O!$AG$9:$AG$24),MATCH(M8,LN2O!$M$9:M$24,0))","v":9.233250359179344},33.407502623068233,null,0]
[2010,{"$f":"INDEX((LE!$I$8:$I$23),MATCH(A9,LE!$A$8:A$23,0))","v":21.088637500000001},{"$f":"INDEX(('LCH4'!$J$9:$J$24),MATCH(A9,'LCH4'!$A$9:A$24,0))","v":4.1580482291666661},{"$f":"INDEX((LN2O!$J$9:$J$24),MATCH(A9,LN2O!$A$9:A$24,0))","v":9.6019980171847621},34.848683746351426,null,2010,{"$f":"INDEX((LE!$S$8:$S$23),MATCH(G9,LE!$K$8:K$23,0))","v":21.088637500000001},{"$f":"INDEX(('LCH4'!$V$9:$V$24),MATCH(G9,'LCH4'!$M$9:$M$24,0))","v":4.1580482291666661},{"$f":"INDEX((LN2O!$V$9:$V$24),MATCH(G9,LN2O!$M$9:M$24,0))","v":9.6019980171847621},34.848683746351426,null,2010,21.088637500000001,4.1580482291666661,{"$f":"INDEX((LN2O!$AG$9:$AG$24),MATCH(M9,LN2O!$M$9:M$24,0))","v":9.6019980171847621},34.848683746351426,null,0]
[2011,{"$f":"INDEX((LE!$I$8:$I$23),MATCH(A10,LE!$A$8:A$23,0))","v":20.273137499999997},{"$f":"INDEX(('LCH4'!$J$9:$J$24),MATCH(A10,'LCH4'!$A$9:A$24,0))","v":4.2158971388888897},{"$f":"INDEX((LN2O!$J$9:$J$24),MATCH(A10,LN2O!$A$9:A$24,0))","v":9.5082357397360457},33.997270378624933,null,2011,{"$f":"INDEX((LE!$S$8:$S$23),MATCH(G10,LE!$K$8:K$23,0))","v":20.273137499999997},{"$f":"INDEX(('LCH4'!$V$9:$V$24),MATCH(G10,'LCH4'!$M$9:$M$24,0))","v":4.2158971388888897},{"$f":"INDEX((LN2O!$V$9:$V$24),MATCH(G10,LN2O!$M$9:M$24,0))","v":9.5082357397360457},33.997270378624933,null,2011,20.273137499999997,4.2158971388888897,{"$f":"INDEX((LN2O!$AG$9:$AG$24),MATCH(M10,LN2O!$M$9:M$24,0))","v":9.5082357397360457},33.997270378624933,null,0]
[2012,{"$f":"INDEX((LE!$I$8:$I$23),MATCH(A11,LE!$A$8:A$23,0))","v":20.6790375},{"$f":"INDEX(('LCH4'!$J$9:$J$24),MATCH(A11,'LCH4'!$A$9:A$24,0))","v":4.0857701874999997},{"$f":"INDEX((LN2O!$J$9:$J$24),MATCH(A11,LN2O!$A$9:A$24,0))","v":9.2877936433907617},34.052601330890759,null,2012,{"$f":"INDEX((LE!$S$8:$S$23),MATCH(G11,LE!$K$8:K$23,0))","v":20.6790375},{"$f":"INDEX(('LCH4'!$V$9:$V$24),MATCH(G11,'LCH4'!$M$9:$M$24,0))","v":4.0857701874999997},{"$f":"INDEX((LN2O!$V$9:$V$24),MATCH(G11,LN2O!$M$9:M$24,0))","v":9.2877936433907617},34.052601330890759,null,2012,20.6790375,4.0857701874999997,{"$f":"INDEX((LN2O!$AG$9:$AG$24),MATCH(M11,LN2O!$M$9:M$24,0))","v":9.2877936433907617},34.052601330890759,null,0]
[2013,{"$f":"INDEX((LE!$I$8:$I$23),MATCH(A12,LE!$A$8:A$23,0))","v":20.396525},{"$f":"INDEX(('LCH4'!$J$9:$J$24),MATCH(A12,'LCH4'!$A$9:A$24,0))","v":4.0652976874999993},{"$f":"INDEX((LN2O!$J$9:$J$24),MATCH(A12,LN2O!$A$9:A$24,0))","v":9.1404827362631487},33.602305423763148,null,2013,{"$f":"INDEX((LE!$S$8:$S$23),MATCH(G12,LE!$K$8:K$23,0))","v":20.396525},{"$f":"INDEX(('LCH4'!$V$9:$V$24),MATCH(G12,'LCH4'!$M$9:$M$24,0))","v":4.0652976874999993},{"$f":"INDEX((LN2O!$V$9:$V$24),MATCH(G12,LN2O!$M$9:M$24,0))","v":9.1404827362631487},33.602305423763148,null,2013,20.396525,4.0652976874999993,{"$f":"INDEX((LN2O!$AG$9:$AG$24),MATCH(M12,LN2O!$M$9:M$24,0))","v":9.1404827362631487},33.602305423763148,null,0]
[2015,{"$f":"INDEX((LE!$I$8:$I$23),MATCH(A13,LE!$A$8:A$23,0))","v":20.547249999999998},{"$f":"INDEX(('LCH4'!$J$9:$J$24),MATCH(A13,'LCH4'!$A$9:A$24,0))","v":4.1353049999999998},{"$f":"INDEX((LN2O!$J$9:$J$24),MATCH(A13,LN2O!$A$9:A$24,0))","v":10.274249584374285},34.956804584374282,null,2015,{"$f":"INDEX((LE!$S$8:$S$23),MATCH(G13,LE!$K$8:K$23,0))","v":20.547249999999998},{"$f":"INDEX(('LCH4'!$V$9:$V$24),MATCH(G13,'LCH4'!$M$9:$M$24,0))","v":4.1353049999999998},{"$f":"INDEX((LN2O!$V$9:$V$24),MATCH(G13,LN2O!$M$9:M$24,0))","v":10.274249584374285},34.956804584374282,null,2015,20.547249999999998,4.1353049999999998,{"$f":"INDEX((LN2O!$AG$9:$AG$24),MATCH(M13,LN2O!$M$9:M$24,0))","v":10.274249584374285},34.956804584374282,null,0]
[2020,{"$f":"INDEX((LE!$I$8:$I$23),MATCH(A14,LE!$A$8:A$23,0))","v":19.559750000000001},{"$f":"INDEX(('LCH4'!$J$9:$J$24),MATCH(A14,'LCH4'!$A$9:A$24,0))","v":4.2600549999999995},{"$f":"INDEX((LN2O!$J$9:$J$24),MATCH(A14,LN2O!$A$9:A$24,0))","v":10.515114335828928},34.334919335828928,{"$f":"B14/E14%","v":56.967514059627192},2020,{"$f":"INDEX((LE!$S$8:$S$23),MATCH(G14,LE!$K$8:K$23,0))","v":21.479750000000003},{"$f":"INDEX(('LCH4'!$V$9:$V$24),MATCH(G14,'LCH4'!$M$9:$M$24,0))","v":4.2972799999999998},{"$f":"INDEX((LN2O!$V$9:$V$24),MATCH(G14,LN2O!$M$9:M$24,0))","v":10.664799270682856},36.441829270682859,{"$f":"H14/K14%","v":58.942568004620668},2020,21.479750000000003,4.2972799999999998,{"$f":"INDEX((LN2O!$AG$9:$AG$24),MATCH(M14,LN2O!$M$9:M$24,0))","v":10.710841145525714},36.487871145525716,null,4.60418748428566E-2]
[2025,{"$f":"INDEX((LE!$I$8:$I$23),MATCH(A15,LE!$A$8:A$23,0))","v":19.174750000000003},{"$f":"INDEX(('LCH4'!$J$9:$J$24),MATCH(A15,'LCH4'!$A$9:A$24,0))","v":4.3583049999999997},{"$f":"INDEX((LN2O!$J$9:$J$24),MATCH(A15,LN2O!$A$9:A$24,0))","v":10.662233996271786},34.195288996271792,{"$f":"B15/E15%","v":56.074244619165427},2025,{"$f":"INDEX((LE!$S$8:$S$23),MATCH(G15,LE!$K$8:K$23,0))","v":22.535249999999998},{"$f":"INDEX(('LCH4'!$V$9:$V$24),MATCH(G15,'LCH4'!$M$9:$M$24,0))","v":4.4561799999999998},{"$f":"INDEX((LN2O!$V$9:$V$24),MATCH(G15,LN2O!$M$9:M$24,0))","v":11.139966349297499},38.131396349297496,{"$f":"H15/K15%","v":59.09893724732472},2025,22.535249999999998,4.4561799999999998,{"$f":"INDEX((LN2O!$AG$9:$AG$24),MATCH(M15,LN2O!$M$9:M$24,0))","v":11.189077682463214},38.180507682463215,null,4.9111333165718918E-2]
[2030,{"$f":"INDEX((LE!$I$8:$I$23),MATCH(A16,LE!$A$8:A$23,0))","v":19.069749999999999},{"$f":"INDEX(('LCH4'!$J$9:$J$24),MATCH(A16,'LCH4'!$A$9:A$24,0))","v":4.4199299999999999},{"$f":"INDEX((LN2O!$J$9:$J$24),MATCH(A16,LN2O!$A$9:A$24,0))","v":10.826827844678215},34.316507844678213,55.57019404862703,2030,{"$f":"INDEX((LE!$S$8:$S$23),MATCH(G16,LE!$K$8:K$23,0))","v":23.678249999999998},{"$f":"INDEX(('LCH4'!$V$9:$V$24),MATCH(G16,'LCH4'!$M$9:$M$24,0))","v":4.5643050000000001},{"$f":"INDEX((LN2O!$V$9:$V$24),MATCH(G16,LN2O!$M$9:M$24,0))","v":11.612870133982858},39.855425133982855,59.410356106854472,2030,23.678249999999998,4.5643050000000001,{"$f":"INDEX((LN2O!$AG$9:$AG$24),MATCH(M16,LN2O!$M$9:M$24,0))","v":11.647657328308572},39.890212328308571,null,3.4787194325716086E-2]
[2035,{"$f":"INDEX((LE!$I$8:$I$23),MATCH(A17,LE!$A$8:A$23,0))","v":19.138500000000001},{"$f":"INDEX(('LCH4'!$J$9:$J$24),MATCH(A17,'LCH4'!$A$9:A$24,0))","v":4.51823},{"$f":"INDEX((LN2O!$J$9:$J$24),MATCH(A17,LN2O!$A$9:A$24,0))","v":11.395406263271251},35.052136263271251,54.600095857934726,2035,{"$f":"INDEX((LE!$S$8:$S$23),MATCH(G17,LE!$K$8:K$23,0))","v":25.369},{"$f":"INDEX(('LCH4'!$V$9:$V$24),MATCH(G17,'LCH4'!$M$9:$M$24,0))","v":4.7685549999999992},{"$f":"INDEX((LN2O!$V$9:$V$24),MATCH(G17,LN2O!$M$9:M$24,0))","v":12.428996977740358},42.56655197774036,59.598437790466086,2035,25.369,4.7685549999999992,{"$f":"INDEX((LN2O!$AG$9:$AG$24),MATCH(M17,LN2O!$M$9:M$24,0))","v":12.708495232722143},42.846050232722142,null,0.27949825498178171]
[2040,{"$f":"INDEX((LE!$I$8:$I$23),MATCH(A18,LE!$A$8:A$23,0))","v":19.232250000000001},{"$f":"INDEX(('LCH4'!$J$9:$J$24),MATCH(A18,'LCH4'!$A$9:A$24,0))","v":4.6130550000000001},{"$f":"INDEX((LN2O!$J$9:$J$24),MATCH(A18,LN2O!$A$9:A$24,0))","v":11.951370469578571},35.796675469578574,53.726357958420813,2040,{"$f":"INDEX((LE!$S$8:$S$23),MATCH(G18,LE!$K$8:K$23,0))","v":27.059749999999998},{"$f":"INDEX(('LCH4'!$V$9:$V$24),MATCH(G18,'LCH4'!$M$9:$M$24,0))","v":4.969055},{"$f":"INDEX((LN2O!$V$9:$V$24),MATCH(G18,LN2O!$M$9:M$24,0))","v":13.200245000957143},45.229050000957145,59.828251973957791,2040,27.059749999999998,4.969055,{"$f":"INDEX((LN2O!$AG$9:$AG$24),MATCH(M18,LN2O!$M$9:M$24,0))","v":13.75671892485},45.785523924849997,null,0.55647392389285244]
[2045,{"$f":"INDEX((LE!$I$8:$I$23),MATCH(A19,LE!$A$8:A$23,0))","v":19.385124999999999},{"$f":"INDEX(('LCH4'!$J$9:$J$24),MATCH(A19,'LCH4'!$A$9:A$24,0))","v":4.724755},{"$f":"INDEX((LN2O!$J$9:$J$24),MATCH(A19,LN2O!$A$9:A$24,0))","v":12.368502813574285},36.478382813574285,53.14140459315108,2045,{"$f":"INDEX((LE!$S$8:$S$23),MATCH(G19,LE!$K$8:K$23,0))","v":28.734750000000002},{"$f":"INDEX(('LCH4'!$V$9:$V$24),MATCH(G19,'LCH4'!$M$9:$M$24,0))","v":5.1799299999999997},{"$f":"INDEX((LN2O!$V$9:$V$24),MATCH(G19,LN2O!$M$9:M$24,0))","v":13.610177843114286},47.52485784311429,60.462569072499143,2045,28.734750000000002,5.1799299999999997,{"$f":"INDEX((LN2O!$AG$9:$AG$24),MATCH(M19,LN2O!$M$9:M$24,0))","v":14.642147960333929},48.556827960333933,null,1.0319701172196432]
[2050,{"$f":"INDEX((LE!$I$8:$I$23),MATCH(A20,LE!$A$8:A$23,0))","v":19.538},{"$f":"INDEX(('LCH4'!$J$9:$J$24),MATCH(A20,'LCH4'!$A$9:A$24,0))","v":4.8364549999999999},{"$f":"INDEX((LN2O!$J$9:$J$24),MATCH(A20,LN2O!$A$9:A$24,0))","v":12.785635157569999},37.160090157569996,52.577913339695847,2050,{"$f":"INDEX((LE!$S$8:$S$23),MATCH(G20,LE!$K$8:K$23,0))","v":30.409749999999999},{"$f":"INDEX(('LCH4'!$V$9:$V$24),MATCH(G20,'LCH4'!$M$9:$M$24,0))","v":5.3908050000000003},{"$f":"INDEX((LN2O!$V$9:$V$24),MATCH(G20,LN2O!$M$9:M$24,0))","v":14.034293768844643},49.834848768844644,61.021054044035402,2050,30.409749999999999,5.3908050000000003,{"$f":"INDEX((LN2O!$AG$9:$AG$24),MATCH(M20,LN2O!$M$9:M$24,0))","v":15.527576995817858},51.328131995817863,null,1.4932832269732188]

{"sheet":"MST","index":35,"n_rows":48,"n_cols":11,"rows_kept":48,"cut":false,"hidden":true,"merged":[]}
["Species","Year",2006,2007,2008,2009,2010,2011,2012,2013]
["Cattle","Local (heads)",6560,7081,7327,7237,7491,6596,7302,7240,"Source: FAREI for year 2006 2007 - DIGEST OF AGRICULTURAL STATISTICS Table 5.1 Pg 97"]
[null,"Imported (heads)",{"$f":"357+66+79+3208+7062","v":10772},{"$f":"276+121+53+5202+601+1242+91","v":7586},{"$f":"79+3660+2671+1979","v":8389},{"$f":"72+4943+3323","v":8338},{"$f":"90+3621+3631+793","v":8135},{"$f":"214+1204+2947+3313","v":7678},{"$f":"69+2249+4892+67","v":7277},7045,"Source: MMA Annual Report Importation"]
[null,"Annualised figure for Imported cattle",{"$f":"C3/4","v":2693},1896.5,2097.25,2084.5,2033.75,1919.5,1819.25,1761.25,"Transit period for slaughter 3 months "]
[null,"Total local and imported ",{"$f":"C2+C4","v":9253},8977.5,9424.25,9321.5,9524.75,8515.5,9121.25,{"$f":"J2+J4","v":9001.25}]
[null,"Dairy cattle (heads)",2237,2163,2457,2316,2679,2525,3022,2874,"Source: FAREI"]
[null,"Non Dairy cattle (heads)",{"$f":"C5-C6","v":7016},{"$f":"D5-D6","v":6814.5},6967.25,7005.5,6845.75,5990.5,6099.25,{"$f":"J5-J6","v":6127.25}]
[]
["Goat","Local (heads)",23734,24805,25994,26014,27819,28176,27430,25702,"Source: DIGEST OF AGRICULTURAL STATISTICS Table 5.1 Pg 97"]
[null,"Imported (heads)",{"$f":"500+2752","v":3252},{"$f":"740+200+1040","v":1980},{"$f":"2382+32","v":2414},{"$f":"1981+746","v":2727},1793,430,{"$f":"207+188","v":395},{"$f":"357+566","v":923},"Source: MMA Annual Report Importation"]
[null,"Annualised figure for Imported goat",{"$f":"C10/4","v":813},495,603.5,681.75,448.25,107.5,98.75,230.75,"Transit period for slaughter 3 months "]
[null,"Total local and imported",{"$f":"C9+C11","v":24547},{"$f":"D9+D11","v":25300},26597.5,26695.75,28267.25,28283.5,27528.75,25932.75]
[]
["Sheep","Local (heads)",1264,1110,1548,2023,2022,1931,2211,2510,"Source: DIGEST OF AGRICULTURAL STATISTICS Table 5.1 Pg 97"]
[null,"Imported (heads)",55,{"$f":"316+3+4","v":323},{"$f":"225+191","v":416},427,{"$f":"111+185","v":296},{"$f":"38+212","v":250},{"$f":"56+148","v":204},{"$f":"60+58","v":118},"Source: MMA Annual Report Importation"]
[null,"Annualised figure for Imported goat",{"$f":"C15/4","v":13.75},80.75,104,106.75,74,62.5,51,29.5,"Transit period for slaughter 3 months "]
[null,"Total local and imported ",{"$f":"C14+C16","v":1277.75},1190.75,1652,2129.75,2096,1993.5,2262,2539.5]
[]
["Pig",null,15319,17413,6699,14108,22327,23285,15287,15961,"Source: FAREI for 2006 & 2010- DIGEST OF AGRICULTURAL STATISTICS Table 5.1 Pg 97"]
[null,null,null,null,null,null,null,null,null,null,"Year 2007/2008: African Swine Fever"]
["Chicken meat (T)","Local production",36000,40160,42200,44200,46200,47200,47400,46800,"Source: FOOD BALANCE SHEETS Table 6.4 Pg 127/128"]
[null,"Convertion to number of broilers (Assumption: 1.5kg/carcass LWT)",1.5,1.5,1.5,1.5,1.5,1.5,1.5,1.5]
[null,"Total broilers ",{"$f":"C21*1000/C22","v":24000000},{"$f":"D21*1000/D22","v":26773333.333333332},28133333.333333332,29466666.666666668,30800000,31466666.666666668,31600000,31200000]
[null,"No of cycle/year (Cycle 2 months)",6,6,6,6,6,6,6,6]
[null,"Total broiler per year",{"$f":"C23/C24","v":4000000},4462222.222222222,4688888.888888889,4911111.111111111,5133333.333333333,5244444.444444445,5266666.666666667,5200000]
[null,"Conversion to number of parents stock (300 eggs/year)- Broiler parent stock",{"$f":"C23/300","v":80000},89244.444444444438,93777.777777777766,98222.222222222234,102666.66666666667,104888.88888888889,105333.33333333333,104000]
[null,"Total broilers and parent stock",{"$f":"C25+C26","v":4080000},4551466.666666666,4782666.666666667,5009333.333333333,5236000,5349333.333333334,5372000,5304000]
[]
["Eggs (million)","Local production",228.5,211.8,211.8,170.9,185.4,185.4,203.6,205.5,"Source: FOOD BALANCE SHEETS Table 6.4 Pg 127/128"]
[null,"Convertion to number of layers (Assumption: 300 eggs/layer)",{"$f":"C29*1000000/300","v":761666.66666666663},706000,706000,569666.66666666663,618000,618000,678666.66666666663,685000]
[null,"Conversion to number of parents stock (300 eggs/year)",{"$f":"C30/300","v":2538.8888888888887},2353.3333333333335,2353.3333333333335,1898.8888888888887,2060,2060,2262.2222222222222,2283.3333333333335]
[null,"Total layers and parent stock",{"$f":"C30+C31","v":764205.5555555555},708353.33333333337,708353.33333333337,571565.5555555555,620060,620060,680928.88888888888,687283.33333333337]
[]
["Duck",null,5500,5758,6126,7653,7653,8077,7194,8497,"Source: FAREI"]
[null,"Assumption ratio Muskovy: Pekin 1:1",2,2,2,2,2,2,2,2]
[null,"No of Muskovy ducks",{"$f":"C34/C35","v":2750},2879,3063,3826.5,3826.5,4038.5,3597,4248.5]
[null,"Parent stock of Pekin ducks","n/a","n/a","n/a",400,513,699,1060,1121,"Source: APD, MAIFS"]
[null,"Number of Pekin ducklings sold/year","n/a","n/a","n/a",9640,16139,23337,14220,7676,"Source: APD, MAIFS"]
[null,"Number of Pekin ducks (Cycle: 2 months)",{"$f":"C36/6","v":458.33333333333331},{"$f":"D36/6","v":479.83333333333331},{"$f":"E36/6","v":510.5},{"$f":"F38/6","v":1606.6666666666667},{"$f":"G38/6","v":2689.8333333333335},{"$f":"H38/6","v":3889.5},{"$f":"I38/6","v":2370},{"$f":"J38/6","v":1279.3333333333333}]
[null,"Total number of ducks",{"$f":"C36+C39","v":3208.3333333333335},{"$f":"D36+D39","v":3358.8333333333335},{"$f":"E36+E39","v":3573.5},{"$f":"F36+F37+F39","v":5833.166666666667},{"$f":"G37+G36+G39","v":7029.3333333333339},{"$f":"H36+H37+H39","v":8627},{"$f":"I36+I37+I39","v":7027},{"$f":"J36+J37+J39","v":6648.833333333333}]
[]
["Total poultry","Broiler + Layer + Duck (birds)",{"$f":"C27+C32+C40","v":4847413.888888889},5263178.8333333321,5494593.5,5586732.055555555,5863089.333333333,5978020.333333334,6059955.888888889,5997932.166666666]
[]
["Horse",null,655,700,725,750,775,800,824,855,"Source: Mauritius Turf Club"]
[]
["Deer",null,16000,16000,16000,16000,16000,16000,16000,16000,"FAREI Estimate"]
[]
["N/A: not available"]

{"sheet":"LH","index":36,"n_rows":46,"n_cols":24,"rows_kept":46,"cut":false,"hidden":true,"merged":[]}
[null,null,null,null,null,null,null,null,null,null,null,null,null,"Parameters for dairy cow and other cattle"]
[null,null,null,null,"projected with policy",null,null,null,null,null,null,null,null,null,null,null,2015,2020,2025,2030,2035,2040,2045,2050]
[null,null,null,null,null,null,null,null,null,null,null,null,null,null,"solid storage",null,0.97,0.9,0.86,0.83,0.76,0.7,0.6,0.49]
[null,null,null,null,"Production (heads)",2015,2020,2025,2030,2035,2040,2045,2050,null,"aerobic treatment",null,0.01,0.03,0.05,7.0000000000000007E-2,0.1,0.13,0.18,0.24]
[null,null,null,null,"Cow",2900,3000,3200,3400,3700,4000,4250,4500,null,"anaerobic disgest",null,0,0.05,7.0000000000000007E-2,0.08,0.12,0.15,0.2,0.25]
[null,null,null,null,"Other cattle",6100,6300,6720,7140,7570,8000,8500,9000,null,"pasture",null,0.02,0.02,0.02,0.02,0.02,0.02,0.02,0.02]
[null,null,null,null,"Imported beef (annualised figure)",2000,2100,2200,2300,2650,3000,3250,3500,null,"dry lot - imp beef",null,1,1,1,1,1,1,1,1]
[null,null,null,null,"Goat",26000,26700,28000,30000,32500,35000,37500,40000]
[null,null,null,null,"sheep",2600,3000,3500,4000,5000,6000,7000,8000,"Parameters for swine",null,null,2015,2020,2025,2030,2035,2040,2045,2050]
[null,null,null,null,"Broiler (annualised figure)",5300000,5500000,5700000,5800000,5950000,6100000,6300000,6500000,null,"solid storage",null,0.5,0.4,0.4,0.4,0.2]
[null,null,null,null,"layer",650000,675000,685000,690000,710000,725000,737500,750000,null,"aerobic treatment",null,0.25,0.3,0.3,0.3,0.35,0.4,0.32,0.25]
[null,null,null,null,"Duck",6000,7000,8000,9000,10500,12000,12500,13000,null,"anaerobic disgest",null,0.25,0.3,0.3,0.3,0.45,0.6,0.68,0.75]
[null,null,null,null,"LAYER + DUCK",{"$f":"F11+F12","v":656000},{"$f":"G11+G12","v":682000},693000,699000,720500,737000,750000,763000,null,null,null,{"$f":"SUM(Q10:Q12)","v":1},{"$f":"SUM(R10:R12)","v":1},1,1,1,1,1,1]
[null,null,null,null,"Pig",21000,22000,23000,24000,27000,30000,32500,35000]
[null,null,null,null,"Deer (under paddock system)",16000,17000,17500,18000,19000,20000,21000,22000,null,2015,2020,2025,2030,2035,2040,2045,2050]
[null,null,null,null,"Full policy scenario (i.e. change in number of heads & technological change)",null,null,null,null,null,null,null,null,null,"Partial policy scenario (i.e. change in number of heads with no technological change)"]
[null,null,null,null,"ManMgtN2O - dairy cow",{"$f":"((F5*Q3*$Q$34)+(F5*Q4*$Q$35))*$U$26*$V$26*365*$P$30*$P$31*0.000001*0.001","v":0.71645649145714263},{"$f":"((G5*R3*$Q$34)+(G5*R4*$Q$35))*$U$26*$V$26*365*$P$30*$P$31*0.000001*0.001","v":0.71870243657142852},{"$f":"((H5*S3*$Q$34)+(H5*S4*$Q$35))*$U$26*$V$26*365*$P$30*$P$31*0.000001*0.001","v":0.7666159323428573},0.82301410965714261,0.88639967177142864,0.95826991542857121,1.018161785142857,{"$f":"((M5*X3*$Q$34)+(M5*X4*$Q$35))*$U$26*$V$26*365*$P$30*$P$31*0.000001*0.001","v":1.0892833804285718},null,{"$f":"((F5*$Q$3*$Q$34)+(F5*$Q$4*$Q$35))*$U$26*$V$26*365*$P$30*$P$31*0.000001*0.001","v":0.71645649145714263},{"$f":"((G5*$Q$3*$Q$34)+(G5*$Q$4*$Q$35))*$U$26*$V$26*365*$P$30*$P$31*0.000001*0.001","v":0.74116188771428582},0.79057268022857141,0.83998347274285723,0.91409966151428568,0.98821585028571424,1.0499793409285714,1.1117428315714286]
[null,null,null,null,"ManMgtN2O - other cattle",{"$f":"((F6*Q3*$Q$34)+(F6*Q4*$Q$35))*$U$28*$V$26*365*$P$30*$P$31*0.000001*0.001","v":0.75351458584285724},{"$f":"((G6*R3*$Q$34)+(G6*R4*$Q$35))*$U$28*$V$26*365*$P$30*$P$31*0.000001*0.001","v":0.75463755840000002},0.80494672895999986,0.8641648151400001,0.90676290747428578,0.95826991542857121,{"$f":"((L6*W3*$Q$34)+(L6*W4*$Q$35))*$U$28*$V$26*365*$P$30*$P$31*0.000001*0.001","v":1.018161785142857},1.0892833804285718,null,{"$f":"((F6*$Q$3*$Q$34)+(F6*$Q$4*$Q$35))*$U$28*$V$26*365*$P$30*$P$31*0.000001*0.001","v":0.75351458584285724},{"$f":"((G6*$Q$3*$Q$34)+(G6*$Q$4*$Q$35))*$U$28*$V$26*365*$P$30*$P$31*0.000001*0.001","v":0.7782199821000001},0.83010131423999978,0.88198264638000012,0.93509924833285707,0.98821585028571424,1.0499793409285714,1.1117428315714286]
[null,null,null,null,"ManMgtN2O - imported beef",{"$f":"F7*Q7*$Q$37*$U$27*$V$26*365*$P$30*$P$31*0.000001*0.001","v":2.495494571428571},{"$f":"G7*R7*$Q$37*$U$27*$V$26*365*$P$30*$P$31*0.000001*0.001","v":2.6202692999999999},2.7450440285714279,2.8698187571428573,3.3065303071428573,3.743241857142857,4.0551786785714281,4.3671154999999997,null,{"$f":"F7*$Q$7*$Q$37*$U$27*$V$26*365*$P$30*$P$31*0.000001*0.001","v":2.495494571428571},{"$f":"G7*$Q$7*$Q$37*$U$27*$V$26*365*$P$30*$P$31*0.000001*0.001","v":2.6202692999999999},2.7450440285714279,2.8698187571428573,3.3065303071428573,3.743241857142857,4.0551786785714281,4.3671154999999997]
[null,null,null,null,"MMN - other + imported cattle",{"$f":"F18+F19","v":3.2490091572714284},{"$f":"G18+G19","v":3.3749068584000002},3.549990757531428,3.7339835722828574,4.2132932146171429,4.7015117725714282,5.0733404637142847,5.456398880428571,null,{"$f":"O18+O19","v":3.2490091572714284},{"$f":"P18+P19","v":3.3984892820999999},3.5751453428114277,3.7518014035228573,4.2416295554757149,4.7314577074285715,5.1051580194999993,5.4788583315714288]
[]
[null,null,null,null,"ManMgtN2O - pig",{"$f":"((F23*$Q$35)+(F24*$Q$34))*$P$30*$P$31/1000000","v":1.738037189625},{"$f":"((G23*$Q$35)+(G24*$Q$34))*$P$30*$P$31/1000000","v":1.8208008653214287},1.9035645410178572,1.9863282167142859,2.0111573194232149,1.9863282167142859,1.7214844544857144,1.4483643246875002,null,{"$f":"((O23*$Q$35)+(O24*$Q$34))*$P$30*$P$31/1000000","v":1.738037189625},{"$f":"((P23*$Q$35)+(P24*$Q$34))*$P$30*$P$31/1000000","v":1.8208008653214287},1.9035645410178572,1.9863282167142859,2.2346192438035715,2.4829102708928574,2.6898194601339291,2.8967286493750004]
[null,null,null,null,"aerobic treatment",{"$f":"F14*(($T$34*$U$34*$V$34)+($T$35*$U$35*$V$35)+($T$36*$U$36*$V$36)+($T$37*$U$37*$V$37))*Q11*365/1000","v":185574.44062500002},{"$f":"G14*(($T$34*$U$34*$V$34)+($T$35*$U$35*$V$35)+($T$36*$U$36*$V$36)+($T$37*$U$37*$V$37))*R11*365/1000","v":233293.58250000002},243897.83625000002,254502.09000000003,334033.99312500004,424170.15000000008,367614.13000000006,309290.73437500006,null,{"$f":"F14*(($T$34*$U$34*$V$34)+($T$35*$U$35*$V$35)+($T$36*$U$36*$V$36)+($T$37*$U$37*$V$37))*$Q$11*365/1000","v":185574.44062500002},{"$f":"G14*(($T$34*$U$34*$V$34)+($T$35*$U$35*$V$35)+($T$36*$U$36*$V$36)+($T$37*$U$37*$V$37))*$Q$11*365/1000","v":194411.31875000003},203248.19687500002,212085.07500000004,238595.70937500003,265106.34375000006,287198.53906250006,309290.73437500006]
[null,null,null,null,"solid storage",{"$f":"F14*(($T$34*$U$34*$V$34)+($T$35*$U$35*$V$35)+($T$36*$U$36*$V$36)+($T$37*$U$37*$V$37))*Q10*365/1000","v":371148.88125000003},{"$f":"G14*(($T$34*$U$34*$V$34)+($T$35*$U$35*$V$35)+($T$36*$U$36*$V$36)+($T$37*$U$37*$V$37))*R10*365/1000","v":311058.11000000004},325197.11500000005,339336.12000000005,190876.56750000003,0,0,0,null,{"$f":"F14*(($T$34*$U$34*$V$34)+($T$35*$U$35*$V$35)+($T$36*$U$36*$V$36)+($T$37*$U$37*$V$37))*$Q$10*365/1000","v":371148.88125000003},{"$f":"G14*(($T$34*$U$34*$V$34)+($T$35*$U$35*$V$35)+($T$36*$U$36*$V$36)+($T$37*$U$37*$V$37))*$Q$10*365/1000","v":388822.63750000007},406496.39375000005,424170.15000000008,477191.41875000007,530212.68750000012,574397.07812500012,618581.46875000012]
[null,null,null,null,"Business as usual",null,null,null,null,null,null,null,null,null,"Parameters for dairy cow and other cattle",null,null,null,null,null,"TAM","Nrate"]
[null,null,null,null,"Production (heads)",2015,2020,2025,2030,2035,2040,2045,2050,null,"solid storage",null,0.97,null,null,"Cow Dairy",400,0.73]
[null,null,null,null,"Cow",2900,2700,2500,2400,2400,2400,2425,2450,null,"aerobic treatment",null,0.01,null,null,"Imp bull",500]
[null,null,null,null,"Other cattle",6100,5800,5600,5500,5500,5500,5515,5530,null,"pasture",null,0.02,null,null,"Local bull",200]
[null,null,null,null,"Imported beef (annualised figure)",2000,2100,2200,2300,2650,3000,3250,3500,null,"dry lot - imp beef",null,1,null,null,"heifer",150]
[null,null,null,null,"Goat",26000,25500,25500,25000,25000,25000,24900,24800,null,"GWP",298,null,null,null,"calves",75]
[null,null,null,null,"sheep",2600,2700,2700,2800,2900,3000,3000,3000,null,null,{"$f":"44/28","v":1.5714285714285714}]
[null,null,null,null,"Broiler (annualised figure)",5300000,5500000,5700000,5800000,5950000,6100000,6300000,6500000,null,null,null,null,null,"Parameters for pigs",null,"- used breakdown from 2013"]
[null,null,null,null,"layer",650000,675000,685000,690000,710000,725000,737500,750000,null,"Emission factors, kgN2O",null,null,null,null,"heads","TAM","Nrate"]
[null,null,null,null,"Duck",6000,7000,8000,9000,10500,12000,12500,13000,null,"solid storage",null,5.0000000000000001E-3,null,"boars",0.02,150,0.55000000000000004]
[null,null,null,null,"layer + duck",{"$f":"F33+F34","v":656000},{"$f":"G33+G34","v":682000},693000,699000,720500,737000,750000,763000,null,"aerobic treatment",null,0.01,null,"sows/gilts",0.18,125,0.55000000000000004]
[null,null,null,null,"Pig",21000,22000,22000,22500,22750,23000,23000,23000,null,"pasture",null,0,null,"piglets",0.25,13,1.57]
[null,null,null,null,"Deer (under paddock system)",16000,15000,15000,15250,15350,15500,15750,16000,null,"dry lot",null,0.02,null,"fatteners",0.55000000000000004,90,1.57]
[null,null,null,null,null,null,null,null,null,null,null,null,null,null,"anaerobic treatment",null,0,null,null,{"$f":"SUM(T34:T37)","v":1}]
[null,null,null,null,"ManMgtN2O - dairy cow",{"$f":"((F27*$Q$26*$Q$34)+(F27*$Q$27*$Q$35))*$U$26*$V$26*365*$P$30*$P$31*0.000001*0.001","v":0.71645649145714263},{"$f":"((G27*$Q$26*$Q$34)+(G27*$Q$27*$Q$35))*$U$26*$V$26*365*$P$30*$P$31*0.000001*0.001","v":0.66704569894285703},0.61763490642857144,0.59292951017142859,0.59292951017142859,0.59292951017142859,0.59910585923571424,0.60528220830000001]
[null,null,null,null,"ManMgtN2O - other cattle",{"$f":"((F28*$Q$26*$Q$34)+(F28*$Q$27*$Q$35))*$U$28*$V$26*365*$P$30*$P$31*0.000001*0.001","v":0.75351458584285724},{"$f":"((G28*$Q$26*$Q$34)+(G28*$Q$27*$Q$35))*$U$28*$V$26*365*$P$30*$P$31*0.000001*0.001","v":0.71645649145714263},0.6917510952,0.67939839707142846,0.67939839707142846,0.67939839707142846,0.68125130179071425,0.68310420650999992,null,null,null,null,null,"Anaerobic digester",null,0.25,"- not calculated since emission factor is zero"]
[null,null,null,null,"ManMgtN2O - imported beef",{"$f":"F29*$Q$29*$Q$37*$U$27*$V$26*365*$P$30*$P$31*0.000001*0.001","v":2.495494571428571},{"$f":"G29*$Q$29*$Q$37*$U$27*$V$26*365*$P$30*$P$31*0.000001*0.001","v":2.6202692999999999},2.7450440285714279,2.8698187571428573,3.3065303071428573,3.743241857142857,4.0551786785714281,4.3671154999999997,null,null,null,null,null,"aerobic treatment",null,0.25]
[null,null,null,null,"MMN - other + imported cattle",{"$f":"F40+F41","v":3.2490091572714284},{"$f":"G40+G41","v":3.3367257914571424},3.4367951237714278,3.5492171542142859,3.9859287042142859,4.4226402542142855,4.7364299803621428,5.0502197065099992,null,null,null,null,null,"solid storage",null,0.5]
[]
[null,null,null,null,"ManMgtN2O - pig",{"$f":"((F45*$Q$35)+(F46*$Q$34))*$P$30*$P$31/1000000","v":1.738037189625},{"$f":"((G45*$Q$35)+(G46*$Q$34))*$P$30*$P$31/1000000","v":1.8208008653214287},1.8208008653214287,1.8621827031696434,1.8828736220937503,1.9035645410178572,1.9035645410178572,{"$f":"((M45*$Q$35)+(M46*$Q$34))*$P$30*$P$31/1000000","v":1.9035645410178572}]
[null,null,null,null,"aerobic treatment",{"$f":"F36*(($T$34*$U$34*$V$34)+($T$35*$U$35*$V$35)+($T$36*$U$36*$V$36)+($T$37*$U$37*$V$37))*$U$41*365/1000","v":185574.44062500002},{"$f":"G36*(($T$34*$U$34*$V$34)+($T$35*$U$35*$V$35)+($T$36*$U$36*$V$36)+($T$37*$U$37*$V$37))*$U$41*365/1000","v":194411.31875000003},194411.31875000003,198829.75781250003,201038.97734375004,203248.19687500002,203248.19687500002,203248.19687500002]
[null,null,null,null,"solid storage",{"$f":"F36*(($T$34*$U$34*$V$34)+($T$35*$U$35*$V$35)+($T$36*$U$36*$V$36)+($T$37*$U$37*$V$37))*$U$42*365/1000","v":371148.88125000003},{"$f":"G36*(($T$34*$U$34*$V$34)+($T$35*$U$35*$V$35)+($T$36*$U$36*$V$36)+($T$37*$U$37*$V$37))*$U$42*365/1000","v":388822.63750000007},388822.63750000007,397659.51562500006,402077.95468750008,406496.39375000005,406496.39375000005,406496.39375000005]

{"sheet":"LO","index":37,"n_rows":68,"n_cols":14,"rows_kept":68,"cut":false,"hidden":true,"merged":[]}
[]
[null,null,"Business as usual up to 2050"]
[null,null,null,null,"species"]
[null,null,"technology","manure management system","Dairy","other cattle","imported beef","goat","sheep ","broilers","layers","duck","pig ","deer"]
[null,null,"biogas","Anaerobic digester ",null,null,null,null,null,null,null,null,0.25]
[null,null,"fertigation","Aerobic treatment",0.01,0.01,null,null,null,null,null,null,0.25]
[null,null,"Composting","poultry with litter",null,null,null,null,null,1,0.35,0.15]
[null,null,"Composting","Poultry without litter",null,null,null,null,null,null,0.65,0.85]
[null,null,"Composting","solid storage",0.97,0.97,null,0.97,0.99,null,null,null,0.5]
[null,null,"Composting","Dry lot",null,null,1,0.03,0.01]
[null,null,"Not available","pasture /range /paddock",0.02,0.02,null,null,null,null,null,null,null,1]
[null,null,null,null,{"$f":"SUM(E5:E11)","v":1},{"$f":"SUM(F5:F11)","v":1},1,1,1,1,1,1,1,1]
[]
[]
[null,null,"with policy 2050"]
[null,null,null,null,"species"]
[null,null,"technology","manure management system","Dairy","other cattle","imported beef","goat","sheep ","broilers","layers","duck","pig ","deer"]
[null,null,"biogas","Anaerobic digester ",0.25,0.25,null,null,null,null,null,null,0.75]
[null,null,"fertigation","Aerobic treatment",0.24,0.24,null,null,null,null,null,null,0.25]
[null,null,"Composting","poultry with litter",null,null,null,null,null,1,0.35,0.15]
[null,null,"Composting","Poultry without litter",null,null,null,null,null,null,0.65,0.85]
[null,null,"Composting","solid storage",0.49,0.49,null,0.97,0.99]
[null,null,"Composting","Dry lot",null,null,1,0.03,0.01]
[null,null,"Not available","pasture /range /paddock",0.02,0.02,null,null,null,null,null,null,null,1]
[null,null,null,null,{"$f":"SUM(E18:E24)","v":1},1,1,1,1,1,1,1,1,1]
[]
[]
[]
[null,null,"with policy 2040"]
[null,null,null,null,"species"]
[null,null,"technology","manure management system","Dairy","other cattle","imported beef","goat","sheep ","broilers","layers","duck","pig ","deer"]
[null,null,"biogas","Anaerobic digester ",0.15,0.15,null,null,null,null,null,null,0.6]
[null,null,"fertigation","Aerobic treatment",0.13,0.13,null,null,null,null,null,null,0.4]
[null,null,"Composting","poultry with litter",null,null,null,null,null,1,0.35,0.15]
[null,null,"Composting","Poultry without litter",null,null,null,null,null,null,0.65,0.85]
[null,null,"Composting","solid storage",0.7,0.7,null,0.97,0.99]
[null,null,"Composting","Dry lot",null,null,1,0.03,0.01]
[null,null,"Not available","pasture /range /paddock",0.02,0.02,null,null,null,null,null,null,null,1]
[null,null,null,null,{"$f":"SUM(E32:E38)","v":1},1,1,1,1,1,1,1,1,1]
[]
[]
[]
[]
[null,null,"with policy 2030"]
[null,null,null,null,"species"]
[null,null,"technology","manure management system","Dairy","other cattle","imported beef","goat","sheep ","broilers","layers","duck","pig ","deer"]
[null,null,"biogas","Anaerobic digester ",0.08,0.08,null,null,null,null,null,null,0.3]
[null,null,"fertigation","Aerobic treatment",7.0000000000000007E-2,7.0000000000000007E-2,null,null,null,null,null,null,0.3]
[null,null,"Composting","poultry with litter",null,null,null,null,null,1,0.35,0.15]
[null,null,"Composting","Poultry without litter",null,null,null,null,null,null,0.65,0.85]
[null,null,"Composting","solid storage",0.83,0.83,null,0.97,0.99,null,null,null,0.4]
[null,null,"Composting","Dry lot",null,null,1,0.03,0.01]
[null,null,"Not available","pasture /range /paddock",0.02,0.02,null,null,null,null,null,null,null,1]
[null,null,null,null,{"$f":"SUM(E47:E53)","v":1},1,1,1,1,1,1,1,1,1]
[]
[]
[]
[null,null,"with policy 2020"]
[null,null,null,null,"species"]
[null,null,"technology","manure management system","Dairy","other cattle","imported beef","goat","sheep ","broilers","layers","duck","pig ","deer"]
[null,null,"biogas","Anaerobic digester ",0.05,0.05,null,null,null,null,null,null,0.3]
[null,null,"fertigation","Aerobic treatment",0.03,0.03,null,null,null,null,null,null,0.3]
[null,null,"Composting","poultry with litter",null,null,null,null,null,1,0.35,0.15]
[null,null,"Composting","Poultry without litter",null,null,null,null,null,null,0.65,0.85]
[null,null,"Composting","solid storage",0.9,0.9,null,0.97,0.99,null,null,null,0.4]
[null,null,"Composting","Dry lot",null,null,1,0.03,0.01]
[null,null,"Not available","pasture /range /paddock",0.02,0.02,null,null,null,null,null,null,null,1]
[null,null,null,null,{"$f":"SUM(E61:E67)","v":1},1,1,1,1,1,1,1,1,1]

{"sheet":"L6","index":38,"n_rows":34,"n_cols":15,"rows_kept":34,"cut":false,"hidden":true,"merged":[[1,2,1,6],[17,2,17,6],[17,11,17,16]]}
[null,null,"TAM(cows)",400,"Nrate",0.73]
["Year 2006",null,"Cattle (No of heads)",null,null,null,null,"Calculations for dairy cows",null,null,"MS(T,S) - solid storage","MS(T,S)-aerobic treatment"]
["Temp (ºC)","District","Cows","Calves","Heifers","Bulls","Total",null,null,"P.Wilhems - 22",1,0]
[22,"Plaines Wilhems/ Moka",365,148,314,280,1107,{"$f":"C15*D1*F1*365*$E$31*$I$32*$J$32*0.000001*0.001","v":0.5582421356285715},"Gg/yr","Flacq - 24",1,0]
[null,"Curepipe LRS",45,10,45,24,124,null,null,"Pampl - 25",1,0]
[null,"Total 22",410,158,359,304,1231]
[24,"Flacq",451,192,261,185,1089,"calculations for other cattle"]
[null,"Palmar LPU",183,62,89,61,395,null,null,null,"solid storage","dry lot",null,null,"TAM"]
[null,"Palmar LPU (Boran Beef type)",18,15,43,47,123,{"$f":"H11+H12","v":3.7866166721625003},"Gg/yr","P.Wilhems - 22",1,0,null,"calves",75]
[null,"Total 24",652,269,393,293,1607,null,null,"Flacq - 24",1,0,null,"heifer",150]
[25,"Pamplemousses/Grand Port/ Savanne/ Black River/ Port Louis",1166,357,888,1289,3700,{"$f":"F13*O12*F1*$K$14*$I$32*J32*365*0.001*0.000001","v":3.3601834404285715},"dry lot","Pampl - 25",1,0,null,"local bulls",200]
[null,"Mauritius Prisons ",9,7,4,2,22,{"$f":"((D15*O9)+(E15*O10)+((F11+F12+F10+F6)*O11))*F1*$E$31*$I$32*J32*365*0.001*0.000001","v":0.42643323173392855},"solid storage","Imported bull",1,null,null,"imported bulls",500]
[null,"Imported for slaughter",null,null,null,2693,2693]
[null,"Total 25",1175,364,892,3984,6415,null,null,"dry lot N2O EF",0.02]
["Grand Total",null,2237,791,1644,4581,9253]
[]
[]
["Year 2006",null,"Pig (No of heads)"]
["Temp (ºC)","District","Boars","Sows & gilts","Piglets","Fatteners","Total","MS(T,S) - solid storage","MS(T,S) - aerobic treatment","MS(T,S) - anaerobic digester","MS(T,S)-total"]
[22,"Plaines Wilhems/ Moka",13,84,179,305,581,1,0,0,{"$f":"SUM(H20:J20)","v":1}]
[24,"Flacq",37,212,489,1816,2554]
[null,"Palmar LPU",6,52,54,119,231]
[null,"Total 24",43,264,543,1935,2785,0.5,0.25,0.25,{"$f":"SUM(H23:J23)","v":1}]
[25,"Pamplemousses/Grand Port/ Savanne/ Black River/ Port Louis",249,1722,3553,6429,11953,0.5,0.25,0.25,1]
["Grand Total",null,305,2070,4275,8669,15319]
[null,null,"Calculations for swine"]
[null,"TAM",150,125,13,90]
[null,"Nrate",0.55000000000000004,0.55000000000000004,1.57,1.57]
[]
[null,"kgN2O/yr - aerobic treatment",{"$f":"((((C23*$C$27*$C$28)+(D23*$D$27*$D$28)+(E23*$E$27*$E$28)+(F23*$F$27*$F$28))*I23)+(((C24*$C$27*$C$28)+(D24*$D$27*$D$28)+(E24*$E$27*$E$28)+(F24*$F$27*$F$28))*I24))*365/1000","v":130127.980475},null,0.01,null,{"$f":"C30*E30","v":1301.27980475}]
[null,"kgN2O/yr - solid storage",{"$f":"((((C20*$C$27*$C$28)+(D20*$D$27*$D$28)+(E20*$E$27*$E$28)+(F20*$F$27*$F$28))*H20)+(((C23*$C$27*$C$28)+(D23*$D$27*$D$28)+(E23*$E$27*$E$28)+(F23*$F$27*$F$28))*H23)+(((C24*$C$27*$C$28)+(D24*$D$27*$D$28)+(E24*$E$27*$E$28)+(F24*$F$27*$F$28))*H24))*365/1000","v":279819.00830000004},null,5.0000000000000001E-3,null,{"$f":"C31*E31","v":1399.0950415000002}]
[null,"kgN2O/yr - TOTAL",{"$f":"C30+C31","v":409946.98877500003},null,null,null,null,null,298,{"$f":"44/28","v":1.5714285714285714}]
[]
[null,null,{"$f":"(G30+G31)*I32*J32/1000000","v":1.2645469637153572}]

{"sheet":"L7","index":39,"n_rows":34,"n_cols":15,"rows_kept":34,"cut":false,"hidden":true,"merged":[[1,2,1,6],[17,2,17,6]]}
[null,null,"TAM",400,"Nrate",0.73]
["Year 2007",null,"Cattle (No of heads)",null,null,null,null,"Calculations for dairy cows",null,null,"MS(T,S) - solid storage","MS(T,S)-aerobic treatment"]
["Temp (ºC)","District","Cows","Calves","Heifers","Bulls","Total",null,null,"P.Wilhems - 22",1,0]
[22,"Plaines Wilhems/ Moka",381,58,315,335,1089,{"$f":"C15*D1*F1*365*$E$31*$I$32*$J$32*0.000001*0.001","v":0.53977547579999996},"Gg/yr","Flacq - 24",1,0]
[null,"Curepipe LRS",42,13,34,22,111,null,null,"Pampl - 25",1,0]
[null,"Total 22",423,71,349,357,1200]
[24,"Flacq",513,201,353,260,1327,"calculations for other cattle"]
[null,"Palmar LPU",95,37,78,70,280,null,null,null,"solid storage","dry lot",null,null,"TAM"]
[null,"Palmar LPU (Boran Beef type)",21,15,32,17,85,{"$f":"H11+H12","v":2.8724546232839288},"Gg/yr","P.Wilhems - 22",1,0,null,"calves",75]
[null,"Total 24",629,253,463,347,1692,null,null,"Flacq - 24",1,0,null,"heifer",150]
[25,"Pamplemousses/Grand Port/ Savanne/ Black River/ Port Louis",1077,355,922,1770,4124,{"$f":"F13*O12*F1*$K$14*$I$32*J32*365*0.001*0.000001","v":2.3669766010000002},"dry lot","Pampl - 25",1,0,null,"local bulls",200]
[null,"Mauritius Prisons ",34,6,21,4,65,{"$f":"((D15*O9)+(E15*O10)+((F11+F12+F10+F6)*O11))*F1*$E$31*$I$32*J32*365*0.001*0.000001","v":0.50547802228392857},"solid storage","Imported bull",1,null,null,"imported bulls",500]
[null,"Imported for slaughter",null,null,null,1897,1897]
[null,"Total 25",1111,361,943,3671,6086,null,null,"dry lot N2O EF",0.02]
["Grand Total",null,2163,685,1755,4375,8978]
[]
[]
["Year 2007",null,"Pig (No of heads)"]
["Temp (ºC)","District","Boars","Sows & gilts","Piglets","Fatteners","Total","MS(T,S) - solid storage","MS(T,S) - aerobic treatment","MS(T,S) - anaerobic digester","MS(T,S)-total"]
[22,"Plaines Wilhems/ Moka",33,127,258,241,659,1,0,0,{"$f":"SUM(H20:J20)","v":1}]
[24,"Flacq",46,271,517,1967,2801]
[null,"Palmar LPU",6,48,51,85,190]
[null,"Total 24",52,319,568,2052,2991,0.5,0.25,0.25,{"$f":"SUM(H23:J23)","v":1}]
[25,"Pamplemousses/Grand Port/ Savanne/ Black River/ Port Louis",286,1957,4195,7325,13763,0.5,0.25,0.25,1]
["Grand Total",null,371,2403,5021,9618,17413]
[]
[null,"TAM",150,125,13,90]
[null,"Nrate",0.55000000000000004,0.55000000000000004,1.57,1.57]
[]
[null,"kgN2O/yr - aerobic treatment",{"$f":"((((C23*$C$27*$C$28)+(D23*$D$27*$D$28)+(E23*$E$27*$E$28)+(F23*$F$27*$F$28))*I23)+(((C24*$C$27*$C$28)+(D24*$D$27*$D$28)+(E24*$E$27*$E$28)+(F24*$F$27*$F$28))*I24))*365/1000","v":146597.04236249998},null,0.01,null,{"$f":"C30*E30","v":1465.9704236249997}]
[null,"kgN2O/yr - solid storage",{"$f":"((((C20*$C$27*$C$28)+(D20*$D$27*$D$28)+(E20*$E$27*$E$28)+(F20*$F$27*$F$28))*H20)+(((C23*$C$27*$C$28)+(D23*$D$27*$D$28)+(E23*$E$27*$E$28)+(F23*$F$27*$F$28))*H23)+(((C24*$C$27*$C$28)+(D24*$D$27*$D$28)+(E24*$E$27*$E$28)+(F24*$F$27*$F$28))*H24))*365/1000","v":311726.16767499998},null,5.0000000000000001E-3,null,{"$f":"C31*E31","v":1558.6308383749999}]
[null,"kgN2O/yr - TOTAL",{"$f":"C30+C31","v":458323.21003749996},null,null,null,null,null,298,{"$f":"44/28","v":1.5714285714285714}]
[]
[null,null,{"$f":"(G30+G31)*I32*J32/1000000","v":1.4163775624051427}]

{"sheet":"L8","index":40,"n_rows":35,"n_cols":15,"rows_kept":35,"cut":false,"hidden":true,"merged":[[1,2,1,6],[15,2,15,6]]}
[null,null,"TAM",400,"Nrate",0.73]
["Year 2008",null,"Cattle (No of heads)",null,null,null,null,"Calculations for dairy cows",null,null,"MS(T,S) - solid storage","MS(T,S)-aerobic treatment"]
["Temp (ºC)","District","Cows","Calves","Heifers","Bulls","Total",null,null,"P.Wilhems - 22",1,0]
[22,"Plaines Wilhems/ Moka",428,98,407,425,1358,{"$f":"C13*D1*F1*365*$E$32*$I$33*$J$33*0.000001*0.001","v":0.6131430162},null,"Flacq - 24",1,0]
[null,"Curepipe LRS",42,29,34,12,117,null,null,"Pampl - 25",1,0]
[null,"Total 22",470,127,441,437,1475]
[24,"Flacq",525,176,363,265,1329,"calculations for other cattle"]
[25,"Pamplemousses/Grand Port/ Savanne/ Black River/ Port Louis",1429,377,946,1711,4463,null,null,null,"solid storage","dry lot",null,null,"TAM"]
[null,"Mauritius Prisons ",33,14,8,5,60,{"$f":"H11+H12","v":3.1152194545607141},"Gg/yr","P.Wilhems - 22",1,1,null,"calves",75]
[null,"Imported for slaughter",null,null,null,2097,2097,null,null,"Flacq - 24",1,0,null,"heifer",150]
[null,"Total 25",1462,391,954,3813,6620,{"$f":"F10*O12*F1*$K$14*$I$33*$J$33*365*0.001*0.000001","v":2.6165260581428571},"dry lot","Pampl - 25",1,0,null,"local bulls",200]
[null,null,null,null,null,null,null,{"$f":"((D13*O9)+(E13*O10)+((F9+F8+F7+F6)*O11))*F1*$E$32*$I$33*$J$33*365*0.001*0.000001","v":0.49869339641785715},"solid storage","Imported bull",1,null,null,"imported bulls",500]
["Grand Total",null,2457,694,1758,4515,9424]
[null,null,null,null,null,null,null,null,null,"dry lot N2O EF",0.02]
[]
["Year 2008",null,"Pig (No of heads)"]
["Temp (ºC)","District","Boars","Sows & gilts","Piglets","Fatteners","Total","MS(T,S) - solid storage","MS(T,S) - aerobic treatment","MS(T,S) - anaerobic digester","MS(T,S)-total"]
[22,"Plaines Wilhems/ Moka",30,179,152,392,753,1,0,0,{"$f":"SUM(H18:J18)","v":1}]
[24,"Flacq",26,185,187,968,1366,0.5,0.25,0.25,{"$f":"SUM(H19:J19)","v":1}]
[25,"Pamplemousses/Grand Port/ Savanne/ Black River/ Port Louis",202,765,856,2757,4580,0.5,0.25,0.25,{"$f":"SUM(H20:J20)","v":1}]
["Grand Total",null,258,1129,1195,4117,6699]
[]
[]
[]
[]
[]
[]
[null,"TAM",150,125,13,90]
[null,"Nrate",0.55000000000000004,0.55000000000000004,1.57,1.57]
[]
[null,"kgN2O/yr - aerobic treatment",{"$f":"((((C19*$C$28*$C$29)+(D19*$D$28*$D$29)+(E19*$E$28*$E$29)+(F19*$F$28*$F$29))*I19)+(((C20*$C$28*$C$29)+(D20*$D$28*$D$29)+(E20*$E$28*$E$29)+(F20*$F$28*$F$29))*I20))*365/1000","v":57647.427487500012},null,0.01,null,{"$f":"C31*E31","v":576.47427487500011}]
[null,"kgN2O/yr - solid storage",{"$f":"((((C18*$C$28*$C$29)+(D18*$D$28*$D$29)+(E18*$E$28*$E$29)+(F18*$F$28*$F$29))*H18)+(((C19*$C$28*$C$29)+(D19*$D$28*$D$29)+(E19*$E$28*$E$29)+(F19*$F$28*$F$29))*H19)+(((C20*$C$28*$C$29)+(D20*$D$28*$D$29)+(E20*$E$28*$E$29)+(F20*$F$28*$F$29))*H20))*365/1000","v":142039.56202499999},null,5.0000000000000001E-3,null,{"$f":"C32*E32","v":710.19781012499993}]
[null,"kgN2O/yr - TOTAL",{"$f":"C31+C32","v":199686.9895125},null,null,null,null,null,298,{"$f":"44/28","v":1.5714285714285714}]
[]
[null,null,{"$f":"(G31+G32)*I33*J33/1000000","v":0.60253015637571439}]

{"sheet":"L9","index":41,"n_rows":35,"n_cols":15,"rows_kept":35,"cut":false,"hidden":true,"merged":[[1,2,1,6],[16,2,16,6]]}
[null,null,"TAM",400,"Nrate",0.73]
["Year 2009",null,"Cattle (No of heads)",null,null,null,null,"Calculations for dairy cows",null,null,"MS(T,S) - solid storage","MS(T,S)-aerobic treatment"]
["Temp (ºC)","District","Cows","Calves","Heifers","Bulls","Total",null,null,"P.Wilhems - 22",0.25,0.25]
[22,"Plaines Wilhems/ Moka",559,175,633,220,1587,{"$f":"((C9+C14+(K3*C8))*$E$32+(C8*L3*$E$31))*D1*F1*365*$I$33*$J$33*0.000001*0.001","v":0.53927637688571428},null,"Flacq - 24",1,0]
[null,"Curepipe LRS",55,5,38,28,126,null,null,"Pampl - 25",1,0]
[null,"Golden Dairy Cream/Agreenculture Holdings Ltd",6,6,494,null,506]
[null,"SKC Dairy Fresh Co Ltd",null,null,246,null,246,"calculations for other cattle"]
[null,"Total 22",620,{"$f":"SUM(D4:D7)","v":186},1411,248,2465,null,null,null,"solid storage","dry lot","aerobic",null,"TAM"]
[24,"Flacq",281,81,221,140,723,{"$f":"H11+H12+H13","v":3.0538224896830362},"Gg/yr","P.Wilhems - 22",1,1,0.25,"calves",75]
[25,"Pamplemousses/Grand Port/ Savanne/ Black River/ Port Louis",1389,255,900,1343,3887,null,null,"Flacq - 24",1,0,null,"heifer",150]
[null,"Sugar Estate",null,null,null,105,105,{"$f":"F13*O12*F1*$K$14*$I$33*$J$33*365*0.001*0.000001","v":2.6015530907142859},"dry lot","Pampl - 25",1,0,null,"local bulls",200]
[null,"Mauritius Prisons ",26,8,22,1,57,{"$f":"((D15*O9)+((E14+E9+(E8*K3))*O10)+((F9+F10+F11+F12+(F8*K3))*O11))*F1*$E$32*$I$33*$J$33*365*0.001*0.000001","v":0.37077590437053565},"solid storage","Imported bull",1,null,null,"imported bulls",500]
[null,"Imported for slaughter",null,null,null,2085,2085,{"$f":"(E8*O10+F8*O11)*F1*M9*365*0.001*$E$31*$I$33*$J$33*0.000001","v":8.1493494598214297E-2},"aerobic"]
[null,"Total 25",1415,263,922,3534,6134,null,null,"dry lot N2O EF",0.02]
["Grand Total",null,{"$f":"C8+C9+C14","v":2316},{"$f":"D8+D9+D14","v":530},{"$f":"E8+E9+E14","v":2554},{"$f":"F8+F9+F14","v":3922},{"$f":"G8+G9+G14","v":9322}]
[]
["Year 2009",null,"Pig (No of heads)"]
["Temp (ºC)","District","Boars","Sows & gilts","Piglets","Fatteners","Total","MS(T,S) - solid storage","MS(T,S) - aerobic treatment","MS(T,S) - anaerobic digester","MS(T,S)-total"]
[22,"Plaines Wilhems/ Moka",33,223,123,341,720,1,0,0,{"$f":"SUM(H19:J19)","v":1}]
[24,"Flacq",71,493,498,2498,3560,0.5,0.25,0.25,{"$f":"SUM(H20:J20)","v":1}]
[25,"Pamplemousses/Grand Port/ Savanne/ Black River/ Port Louis",239,1944,3405,4240,9828,0.5,0.25,0.25,{"$f":"SUM(H21:J21)","v":1}]
["Grand Total",null,343,2660,4026,7079,14108]
[]
[]
[]
[]
[]
[null,"TAM",150,125,13,90]
[null,"Nrate",0.55000000000000004,0.55000000000000004,1.57,1.57]
[]
[null,"kgN2O/yr - aerobic treatment",{"$f":"((((C21*$C$28*$C$29)+(D21*$D$28*$D$29)+(E21*$E$28*$E$29)+(F21*$F$28*$F$29))*I21)+(((C20*$C$28*$C$29)+(D20*$D$28*$D$29)+(E20*$E$28*$E$29)+(F20*$F$28*$F$29))*I20))*365/1000","v":111768.32717500001},null,0.01,null,{"$f":"C31*E31","v":1117.6832717500001}]
[null,"kgN2O/yr - solid storage",{"$f":"((((C21*$C$28*$C$29)+(D21*$D$28*$D$29)+(E21*$E$28*$E$29)+(F21*$F$28*$F$29))*H21)+(((C19*$C$28*$C$29)+(D19*$D$28*$D$29)+(E19*$E$28*$E$29)+(F19*$F$28*$F$29))*H19)+(((C20*$C$28*$C$29)+(D20*$D$28*$D$29)+(E20*$E$28*$E$29)+(F20*$F$28*$F$29))*H20))*365/1000","v":248629.48455000002},null,5.0000000000000001E-3,null,{"$f":"C32*E32","v":1243.14742275}]
[null,"kgN2O/yr - TOTAL",{"$f":"C31+C32","v":360397.81172500004},null,null,null,null,null,298,{"$f":"44/28","v":1.5714285714285714}]
[]
[null,null,{"$f":"(G31+G32)*I33*J33/1000000","v":1.1055432880815714}]

{"sheet":"L10","index":42,"n_rows":38,"n_cols":16,"rows_kept":38,"cut":false,"hidden":true,"merged":[[1,2,1,6],[14,2,14,6]]}
[null,null,"TAM",400,"Nrate",0.73]
["Year 2010",null,"Cattle (No of heads)",null,null,null,null,"Calculations for dairy cows",null,null,"MS(T,S) - solid storage","MS(T,S)-aerobic treatment"]
["Temp (ºC)","District","Cows","Calves","Heifers","Bulls","Total",null,null,"P.Wilhems - 22",0.85,0.06]
[22,"Plaines Wilhems/ Moka",818,281,547,302,{"$f":"SUM(C4:F4)","v":1948},{"$f":"((C5+C8+(K3*C4))*$E$35+(C4*L3*$E$34))*D1*F1*365*$I$36*$J$36*0.000001*0.001","v":0.66241905200742845},"Gg/yr","Flacq - 24",1,0]
[24,"Flacq",314,51,226,187,{"$f":"SUM(C5:F5)","v":778},null,null,"Pampl - 25",1,0]
[25,"Pamplemousses/Grand Port/ Savanne/ Black River/ Port Louis",1547,333,1063,1822,{"$f":"SUM(C6:F6)","v":4765}]
[null,"Imported for slaughter",null,null,null,2034,{"$f":"SUM(C7:F7)","v":2034},"calculations for other cattle"]
[null,"Sub total",{"$f":"SUM(C6:C7)","v":1547},{"$f":"SUM(D6:D7)","v":333},{"$f":"SUM(E6:E7)","v":1063},{"$f":"SUM(F6:F7)","v":3856},{"$f":"SUM(C8:F8)","v":6799},null,null,null,"solid storage","dry lot","aerobic","aerobic",null,"TAM"]
["Grand Total",null,{"$f":"C4+C5+C8","v":2679},{"$f":"D4+D5+D8","v":665},{"$f":"E4+E5+E8","v":1836},{"$f":"F4+F5+F8","v":4345},{"$f":"G4+G5+G8","v":9525},{"$f":"H11+H12+H13","v":3.0296080819828219},"Gg/yr","P.Wilhems - 22",1,1,0.09,0.06,"calves",75]
[null,null,null,null,null,null,null,null,null,"Flacq - 24",1,0,null,null,"heifer",150]
[null,null,null,null,null,null,null,{"$f":"G7*P12*F1*$K$14*$I$36*$J$36*365*0.001*0.000001","v":2.5379179791428577},"dry lot","Pampl - 25",1,0,null,null,"local bulls",200]
[null,null,null,null,null,null,null,{"$f":"((D9*P9)+((E8+E5+(E4*K3))*P10)+((F5+F6+(F4*K3))*P11))*F1*$E$35*$I$36*$J$36*365*0.001*0.000001","v":0.47795427684517861},"solid storage","Imported bull",1,null,null,null,"imported bulls",500]
[null,null,null,null,null,null,null,{"$f":"(E4*P10*M9+F4*P11*N9)*F1*365*0.001*$E$34*$I$36*$J$36*0.000001","v":1.3735825994785716E-2},"aerobic"]
[null,null,null,null,null,null,null,null,null,"dry lot N2O EF",0.02]
["Year 2010",null,"Pig (No of heads)"]
["Temp (ºC)","District","Boars","Sows & gilt ","Piglets","Fatteners","Total","MS(T,S) - solid storage","MS(T,S) - aerobic treatment","MS(T,S) - anaerobic digester","MS(T,S)-total"]
[22,"Plaines Wilhems/ Moka",41,239,385,601,1266,1,0,0,{"$f":"SUM(H17:J17)","v":1}]
[24,"Flacq",111,484,867,2071,3533,0.5,0.25,0.25,{"$f":"SUM(H18:J18)","v":1}]
[25,"Pamplemousses/Grand Port/ Savanne/ Black River/ Port Louis",376,3087,4820,9245,17528,0.5,0,0.5,{"$f":"SUM(H19:J19)","v":1}]
["Grand Total",null,528,3810,6072,11917,22327]
[]
[]
[]
[]
[]
[]
[]
[]
[]
[]
[null,"TAM",150,125,13,90]
[null,"Nrate",0.55000000000000004,0.55000000000000004,1.57,1.57]
[]
[null,"kgN2O/yr - aerobic treatment",{"$f":"(((C18*$C$31*$C$32)+(D18*$D$31*$D$32)+(E18*$E$31*$E$32)+(F18*$F$31*$F$32))*I18)*365/1000","v":32189.374637500005},null,0.01,null,{"$f":"C34*E34","v":321.89374637500003}]
[null,"kgN2O/yr - solid storage",{"$f":"((((C17*$C$31*$C$32)+(D17*$D$31*$D$32)+(E17*$E$31*$E$32)+(F17*$F$31*$F$32))*H17)+(((C18*$C$31*$C$32)+(D18*$D$31*$D$32)+(E18*$E$31*$E$32)+(F18*$F$31*$F$32))*H18)+(((C19*$C$31*$C$32)+(D19*$D$31*$D$32)+(E19*$E$31*$E$32)+(F19*$F$31*$F$32))*H19))*365/1000","v":406225.29364999995},null,5.0000000000000001E-3,null,{"$f":"C35*E35","v":2031.1264682499998}]
[null,"kgN2O/yr - TOTAL",{"$f":"C34+C35","v":438414.66828749992},null,null,null,null,null,298,{"$f":"44/28","v":1.5714285714285714}]
[]
[null,null,{"$f":"(G34+G35)*I36*J36/1000000","v":1.1018857519343928}]

{"sheet":"L11","index":43,"n_rows":39,"n_cols":16,"rows_kept":39,"cut":false,"hidden":true,"merged":[[1,2,1,6],[14,2,14,6]]}
[null,null,"TAM",400,"Nrate",0.73]
["Year 2011",null,"Cattle (No of heads)",null,null,null,null,"Calculations for dairy cows",null,null,"MS(T,S) - solid storage","MS(T,S)-aerobic treatment"]
["Temp (ºC)","District","Cows","Calves","Heifers","Bulls","Total",null,null,"P.Wilhems - 22",0.85,0.06]
[22,"Plaines Wilhems/ Moka",845,236,579,229,1889,{"$f":"((C5+C8+(K3*C4))*$E$36+(C4*L3*$E$35))*D1*F1*365*$I$37*$J$37*0.000001*0.001","v":0.62378630054714279},null,"Flacq - 24",1,0]
[24,"Flacq",251,48,203,157,659,null,null,"Pampl - 25",1,0]
[25,"Pamplemousses/Grand Port/ Savanne/ Black River/ Port Louis",1429,348,947,1324,4048]
[null,"Imported for slaughter",null,null,null,1920,1920,"calculations for other cattle"]
[null,"Sub total",1429,348,947,3244,5968,null,null,null,"solid storage","dry lot","aerobic","aerobic",null,"TAM"]
["Grand Total",null,2525,632,1729,3630,8516,{"$f":"H11+H12+H13","v":2.7979301092132496},"Gg/yr","P.Wilhems - 22",1,1,0.06,0.06,"calves",75]
[null,null,null,null,null,null,null,null,null,"Flacq - 24",1,0,null,null,"heifer",150]
[null,null,null,null,null,null,null,{"$f":"F7*P12*F1*$K$14*$I$37*$J$37*365*0.001*0.000001","v":2.3956747885714282},"dry lot","Pampl - 25",1,0,null,null,"local bulls",200]
[null,null,null,null,null,null,null,{"$f":"((D9*P9)+((E8+E5+(E4*K3))*P10)+((F5+F6+(F4*K3))*P11))*F1*$E$36*$I$37*$J$37*365*0.001*0.000001","v":0.3923244999948215},"solid storage","Imported bull",1,null,null,null,"imported bulls",500]
[null,null,null,null,null,null,null,{"$f":"(E4*P10*M9+F4*P11*N9)*F1*365*0.001*$E$35*$I$37*$J$37*0.000001","v":9.9308206470000004E-3},"aerobic"]
[null,null,null,null,null,null,null,null,null,"dry lot N2O EF",0.02]
["Year 2011",null,"Pig (No of heads)"]
["Temp (ºC)","District","Boars","Sows & gilts","Piglets","Fatteners","Total","MS(T,S) - solid storage","MS(T,S) - aerobic treatment","MS(T,S) - anaerobic digester","MS(T,S)-total"]
[22,"Plaines Wilhems/ Moka",36,256,411,640,1343,1,0,0,{"$f":"SUM(H17:J17)","v":1}]
[24,"Flacq",75,394,675,2211,3355,0.5,0.25,0.25,{"$f":"SUM(H18:J18)","v":1}]
[25,"Pamplemousses/Grand Port/ Savanne/ Black River/ Port Louis",398,2714,3961,11514,18587,0.5,0,0.5,{"$f":"SUM(H19:J19)","v":1}]
["Grand Total",null,509,3364,5047,14365,23285]
[]
[]
[]
[]
[]
[]
[]
[]
[]
[]
[]
[null,"TAM",150,125,13,90]
[null,"Nrate",0.55000000000000004,0.55000000000000004,1.57,1.57]
[]
[null,"kgN2O/yr - aerobic treatment",{"$f":"(((C18*$C$32*$C$33)+(D18*$D$32*$D$33)+(E18*$E$32*$E$33)+(F18*$F$32*$F$33))*I18)*365/1000","v":32801.277062499998},null,0.01,null,{"$f":"C35*E35","v":328.01277062499997}]
[null,"kgN2O/yr - solid storage",{"$f":"((((C18*$C$32*$C$33)+(D18*$D$32*$D$33)+(E18*$E$32*$E$33)+(F18*$F$32*$F$33))*H18)+(((C19*$C$32*$C$33)+(D19*$D$32*$D$33)+(E19*$E$32*$E$33)+(F19*$F$32*$F$33))*H19)+(((C17*$C$32*$C$33)+(D17*$D$32*$D$33)+(E17*$E$32*$E$33)+(F17*$F$32*$F$33))*H17))*365/1000","v":460893.12484999996},null,5.0000000000000001E-3,null,{"$f":"C36*E36","v":2304.46562425}]
[null,"kgN2O/yr - TOTAL",{"$f":"C35+C36","v":493694.40191249998},null,null,null,null,null,298,{"$f":"44/28","v":1.5714285714285714}]
[]
[null,null,{"$f":"(G35+G36)*I37*J37/1000000","v":1.23275202548575}]

{"sheet":"L12","index":44,"n_rows":39,"n_cols":16,"rows_kept":39,"cut":false,"hidden":true,"merged":[[1,2,1,6],[14,2,14,6]]}
[null,null,"TAM",400,"Nrate",0.73]
["Year 2012",null,"Cattle (No of heads)",null,null,null,null,"Calculations for dairy cows",null,null,"MS(T,S) - solid storage","MS(T,S)-aerobic treatment"]
["Temp (ºC)","District","Cows","Calves","Heifers","Bulls","Total",null,null,"P.Wilhems - 22",0.85,0.06]
[22,"Plaines Wilhems/ Moka",1062,98,487,522,2169,{"$f":"((C5+C8+(K3*C4))*$E$36+(C4*L3*$E$35))*D1*F1*365*$I$37*$J$37*0.000001*0.001","v":0.74618781378114274},"Gg/yr","Flacq - 24",1,0]
[24,"Flacq",213,33,183,149,578,null,null,"Pampl - 25",1,0]
[25,"Pamplemousses/Grand Port/ Savanne/ Black River/ Port Louis",1747,402,866,1540,4555]
[null,"Imported for slaughter",null,null,null,1819,1819,"calculations for other cattle"]
[null,"Sub total",1747,402,866,3359,6374,null,null,null,"solid storage","dry lot","aerobic","aerobic",null,"TAM"]
["Grand Total",null,3022,533,1536,4030,9121,{"$f":"H11+H12+H13","v":2.7108878824354639},"Gg/yr","P.Wilhems - 22",1,1,0.06,0.06,"calves",75]
[null,null,null,null,null,null,null,null,null,"Flacq - 24",1,0,null,null,"heifer",150]
[null,null,null,null,null,null,null,{"$f":"F7*P12*F1*$K$14*$I$37*$J$37*365*0.001*0.000001","v":2.2696523127142854},"dry lot","Pampl - 25",1,0,null,null,"local bulls",200]
[null,null,null,null,null,null,null,{"$f":"((D9*P9)+((E8+E5+(E4*K3))*P10)+((F5+F6+(F4*K3))*P11))*F1*$E$36*$I$37*$J$37*365*0.001*0.000001","v":0.42795080437017852},"solid storage","Imported bull",1,null,null,null,"imported bulls",500]
[null,null,null,null,null,null,null,{"$f":"(E4*P10*M9+F4*P11*N9)*F1*365*0.001*$E$35*$I$37*$J$37*0.000001","v":1.3284765350999997E-2},"aerobic"]
[null,null,null,null,null,null,null,null,null,"dry lot N2O EF",0.02]
["Year 2012",null,"Pig (No of heads)"]
["Temp (ºC)","District","Boars","Sows & gilts","Piglets","Fatteners","Total","MS(T,S) - solid storage","MS(T,S) - aerobic treatment","MS(T,S) - anaerobic digester","MS(T,S)-total"]
[22,"Plaines Wilhems/ Moka",53,440,356,570,1419,1,0,0,{"$f":"SUM(H17:J17)","v":1}]
[24,"Flacq",59,454,713,2128,3354,0.5,0.25,0.25,{"$f":"SUM(H18:J18)","v":1}]
[25,"Pamplemousses/Grand Port/ Savanne/ Black River/ Port Louis",233,1939,2653,5689,10514,0.5,0,0.5,{"$f":"SUM(H19:J19)","v":1}]
["Grand Total",null,345,2833,3722,8387,15287]
[]
[]
[]
[]
[]
[]
[]
[]
[]
[]
[]
[null,"TAM",150,125,13,90]
[null,"Nrate",0.55000000000000004,0.55000000000000004,1.57,1.57]
[]
[null,"kgN2O/yr - aerobic treatment",{"$f":"(((C18*$C$32*$C$33)+(D18*$D$32*$D$33)+(E18*$E$32*$E$33)+(F18*$F$32*$F$33))*I18)*365/1000","v":32057.834112500004},null,0.01,null,{"$f":"C35*E35","v":320.57834112500007}]
[null,"kgN2O/yr - solid storage",{"$f":"((((C18*$C$32*$C$33)+(D18*$D$32*$D$33)+(E18*$E$32*$E$33)+(F18*$F$32*$F$33))*H18)+(((C19*$C$32*$C$33)+(D19*$D$32*$D$33)+(E19*$E$32*$E$33)+(F19*$F$32*$F$33))*H19)+(((C17*$C$32*$C$33)+(D17*$D$32*$D$33)+(E17*$E$32*$E$33)+(F17*$F$32*$F$33))*H17))*365/1000","v":293224.54397500004},null,5.0000000000000001E-3,null,{"$f":"C36*E36","v":1466.1227198750003}]
[null,"kgN2O/yr - TOTAL",{"$f":"C35+C36","v":325282.37808750005},null,null,null,null,null,298,{"$f":"44/28","v":1.5714285714285714}]
[]
[null,null,{"$f":"(G35+G36)*I37*J37/1000000","v":0.8366865825654286}]

{"sheet":"L13","index":45,"n_rows":39,"n_cols":16,"rows_kept":39,"cut":false,"hidden":true,"merged":[[1,2,1,6],[14,2,14,6]]}
[null,null,"TAM",400,"Nrate",0.73]
["Year 2013",null,"Cattle (No of heads)",null,null,null,null,"Calculations for dairy cows",null,null,"MS(T,S) - solid storage","MS(T,S)-aerobic treatment"]
["Temp (ºC)","District","Cows","Calves","Heifers","Bulls","Total",null,null,"P.Wilhems - 22",0.85,0.06]
[22,"Plaines Wilhems/ Moka",1199,62,376,348,1985,{"$f":"((C5+C8+(K3*C4))*$E$36+(C4*L3*$E$35))*D1*F1*365*$I$37*$J$37*0.000001*0.001","v":0.70822884585514267},null,"Flacq - 24",1,0]
[24,"Flacq",206,44,188,119,557,null,null,"Pampl - 25",1,0]
[25,"Pamplemousses/Grand Port/ Savanne/ Black River/ Port Louis",1469,410,1019,1800,4698]
[null,"Imported for slaughter",null,null,null,1761,1761,"calculations for other cattle"]
[null,"Sub total",1469,410,1019,3561,6459,null,null,null,"solid storage","dry lot","aerobic","aerobic",null,"TAM"]
["Grand Total",null,2874,516,1583,4028,9001,{"$f":"H11+H12+H13","v":2.6500717439192858},"Gg/yr","P.Wilhems - 22",1,1,0.06,0.06,"calves",75]
[null,null,null,null,null,{"$f":"SUM(F4:F6)","v":2267},null,null,null,"Flacq - 24",1,0,null,null,"heifer",150]
[null,null,null,null,null,null,null,{"$f":"F7*P12*F1*$K$14*$I$37*$J$37*365*0.001*0.000001","v":2.1972829701428571},"dry lot","Pampl - 25",1,0,null,null,"local bulls",200]
[null,null,null,null,null,null,null,{"$f":"((D9*P9)+((E8+E5+(E4*K3))*P10)+((F5+F6+(F4*K3))*P11))*F1*$E$36*$I$37*$J$37*365*0.001*0.000001","v":0.44335580429642857},"solid storage","Imported bull",1,null,null,null,"imported bulls",500]
[null,null,null,null,null,null,null,{"$f":"(E4*P10*M9+F4*P11*N9)*F1*365*0.001*$E$35*$I$37*$J$37*0.000001","v":9.4329694800000009E-3},"aerobic"]
[null,null,null,null,null,null,null,null,null,"dry lot N2O EF",0.02]
["Year 2013",null,"Pig (No of heads)"]
["Temp (ºC)","District","Boars","Sows & gilts","Piglets","Fatteners","Total","MS(T,S) - solid storage","MS(T,S) - aerobic treatment","MS(T,S) - anaerobic digester","MS(T,S)-total"]
[22,"Plaines Wilhems/ Moka",41,405,364,579,1389,1,0,0,{"$f":"SUM(H17:J17)","v":1}]
[24,"Flacq",66,458,603,1907,3034,0.5,0.25,0.25,{"$f":"SUM(H18:J18)","v":1}]
[25,"Pamplemousses/Grand Port/ Savanne/ Black River/ Port Louis",222,2078,2977,6261,11538,0.5,0,0.5,{"$f":"SUM(H19:J19)","v":1}]
["Grand Total",null,329,2941,3944,8747,15961]
[null,null,{"$f":"C20/G20%","v":2.0612743562433429},{"$f":"D20/G20%","v":18.426163774199608},{"$f":"E20/G20%","v":24.71023118852202},{"$f":"F20/G20%","v":54.802330681035016},{"$f":"SUM(C21:F21)","v":99.999999999999986}]
[]
[]
[]
[]
[]
[]
[]
[]
[]
[]
[null,"TAM",150,125,13,90]
[null,"Nrate",0.55000000000000004,0.55000000000000004,1.57,1.57]
[]
[null,"kgN2O/yr - aerobic treatment",{"$f":"(((C18*$C$32*$C$33)+(D18*$D$32*$D$33)+(E18*$E$32*$E$33)+(F18*$F$32*$F$33))*I18)*365/1000","v":29081.2682375},null,0.01,null,{"$f":"C35*E35","v":290.81268237500001}]
[null,"kgN2O/yr - solid storage",{"$f":"((((C18*$C$32*$C$33)+(D18*$D$32*$D$33)+(E18*$E$32*$E$33)+(F18*$F$32*$F$33))*H18)+(((C19*$C$32*$C$33)+(D19*$D$32*$D$33)+(E19*$E$32*$E$33)+(F19*$F$32*$F$33))*H19)+(((C17*$C$32*$C$33)+(D17*$D$32*$D$33)+(E17*$E$32*$E$33)+(F17*$F$32*$F$33))*H17))*365/1000","v":304091.09585000004},null,5.0000000000000001E-3,null,{"$f":"C36*E36","v":1520.4554792500003}]
[null,"kgN2O/yr - TOTAL",{"$f":"C35+C36","v":333172.36408750003},null,null,null,null,null,298,{"$f":"44/28","v":1.5714285714285714}]
[]
[null,null,{"$f":"(G35+G36)*I37*J37/1000000","v":0.84819100482953569}]

{"sheet":"CH4 Ef","index":46,"n_rows":24,"n_cols":8,"rows_kept":24,"cut":false,"hidden":true,"merged":[]}
["Livestock sub category","Typical animal mass (kg)",null,"CH4 Emission factor from enteric fermentation (kgCH4/(head year)","CH4 Emission factor from manure management (kgCH4/(head year)","Excretion rate/mass/day"]
[]
["Dairy cow",400,null,46,1,0.73,null,"Source: FAREI"]
["Bull",200,null,31,1,0.73]
["Calf",75,null,31,1,0.73]
["Heifer",150,null,31,1,0.73]
["Imported bull",500,null,31,1,0.73]
[]
["Sheep",45,null,5,0.15,1.17]
["Goat",30,null,5,0.17,1.37]
["Horse",377,"Default value for (Developed countries )",18,1.64,0.46]
["Mule & Asses",null,null,10,0.9,0.46]
["Boar",150,null,1,1,0.55000000000000004]
["Fattener",90,null,1,1,1.57]
["Piglet",13,null,1,1,1.57]
["sow/gilt",125,null,1,1,0.55000000000000004]
[]
["Broiler",1.8,null,null,0.02,1.1000000000000001]
["Broiler parent",2.1,null,null,0.03,0.82]
["Layer/Parent",1.8,null,null,0.03,0.82]
["Duck",2.5,null,null,0.03,0.83]
[]
["Deer",60,null,20,0.22,1.17]
[null,null,null," IPPCC 2006 pg 10.28 Table 10.10"]

{"sheet":"N2OEf","index":47,"n_rows":35,"n_cols":9,"rows_kept":35,"cut":false,"hidden":true,"merged":[[0,2,0,8]]}
["Region (temp)","Livestock subcategory","Emission factor for direct N2O from Manure Management system"]
[null,null,"Solid storage","Pasture range paddock","Dry lot","Anerobic digester","Aerobic treatment","Poultry with litter","Poultry without litter "]
[22,"Dairy cow",5.0000000000000001E-3]
[null,"Bull",5.0000000000000001E-3]
[null,"Calf",5.0000000000000001E-3]
[null,"Heifer",5.0000000000000001E-3]
[null,"Boar",5.0000000000000001E-3]
[null,"Fattener",5.0000000000000001E-3]
[null,"Piglet",5.0000000000000001E-3]
[null,"sow/gilt",5.0000000000000001E-3]
[24,"Dairy cow",5.0000000000000001E-3]
[null,"Bull",5.0000000000000001E-3]
[null,"Calf",5.0000000000000001E-3]
[null,"Heifer",5.0000000000000001E-3]
[null,"Boar",5.0000000000000001E-3,null,null,0,0.01]
[null,"Fattener",5.0000000000000001E-3,null,null,0,0.01]
[null,"Piglet",5.0000000000000001E-3,null,null,0,0.01]
[null,"sow/gilt",5.0000000000000001E-3,null,null,0,0.01]
[25,"Dairy cow",5.0000000000000001E-3]
[null,"Bull",5.0000000000000001E-3]
[null,"Calf",5.0000000000000001E-3]
[null,"Heifer",5.0000000000000001E-3]
[null,"Imported bull",5.0000000000000001E-3,null,0.02]
[null,"Boar",5.0000000000000001E-3,null,null,0,0.01]
[null,"Fattener",5.0000000000000001E-3,null,null,0,0.01]
[null,"Piglet",5.0000000000000001E-3,null,null,0,0.01]
[null,"sow/gilt",5.0000000000000001E-3,null,null,0,0.01]
["Mauritius Average","Sheep",5.0000000000000001E-3,null,0.02]
[null,"Goat",5.0000000000000001E-3,null,0.02]
[null,"Horse"]
[null,"Broiler",null,null,null,null,null,1E-3,1E-3]
[null,"Broiler parent",null,null,null,null,null,0.01,0.01]
[null,"Layer/Parent",null,null,null,null,null,0.01,0.01]
[null,"Duck",null,null,null,null,null,0.01,0.01]
[null,"Deer",null,"N/A"]